{"text_format":"1","workbook":"xlsx","n_sheets":7,"sheets":["Ext","RI1","RI2","Data","Data2","Spectre","Abaque"],"not_rendered":{"charts":9,"images":0,"macros":1,"external_links":0,"defined_names":8,"comments":1,"pivot_tables":0},"unopened":[],"bounds":{"document_bytes":16777216,"sheet_cells":100000,"rows_first":2000,"rows_last":500,"rows_between":2000,"halvings":0,"cell_chars":16384,"cell_head_chars":4096},"cells_cut":0,"cells_raw":0,"read":"whole","date_system":"1900"}

{"sheet":"Ext","index":0,"n_rows":11,"n_cols":14,"rows_kept":11,"cut":false,"hidden":false,"merged":[[0,12,0,13]]}
[null,"Extinction atmosphérique",null,null,null,null,null,null,null,null,null,null,"François Teyssier"]
[null,"Visualisation de l'extinction atmophèrique à partir du modèle présenté par C. Buil",null,null,null,null,null,"http://www.astrosurf.com/buil/extinction/calcul.htm",null,null,null,null,null,"2012-12-15"]
[]
[null,"Site",null,null,null,null,null,null,null,null,"Hauteur étoile"]
[]
[null,"Altitude",600,"m",600,null,null,null,null,null,"H",30,"°",90]
[null,null,null,null,null,null,null,null,null,null,"z",{"$f":"90-L6","v":60},"°"]
[null,"AOD",0.13,null,2,null,null,null,null,null,"Masse air",{"$f":"1/((COS(RADIANS(z))+0.025*(EXP(-11*COS(RADIANS(z))))))","v":1.9995914063475966}]
[]
[]
[null,"Extinction atmosphérique au zénith",null,null,null,null,null,null,"Transmission atmosphérique en fonction de la hauteur de l'étoile"]

{"sheet":"RI1","index":1,"n_rows":49,"n_cols":16,"rows_kept":49,"cut":false,"hidden":false,"merged":[]}
[null,null,null,"Influence de l'extinction atmophérique sur la réponse sur le domaine visible"]
[null,null,null,"Lisa eShel"]
[]
[null,null,null,"Référence",null,null,null,null,null,null,"Target"]
[]
[null,"Hauteur",null,61,"°",null,null,null,null,null,56,"°"]
[null,"Distance zénith",null,{"$f":"90-D6","v":29},"°",null,null,null,null,null,{"$f":"90-K6","v":34},"°"]
[null,"Masse d'air",null,{"$f":"1/((COS(RADIANS(Z_REF))+0.025*(EXP(-11*COS(RADIANS(Z_REF))))))","v":1.1433519000043486},null,null,null,null,null,null,{"$f":"1/((COS(RADIANS(Z_TARGET))+0.025*(EXP(-11*COS(RADIANS(Z_TARGET))))))","v":1.2062139648713419}]
[]
[null,null,null,"l normalisation",null,5500,"Å",null,"D H",{"$f":"+K6-D6","v":-5},null,null,null,"D4000",{"$f":"+Data!P7","v":-1.8404580851354213},"%"]
[null,null,null,null,null,null,null,null,"AOD",{"$f":"+AOD","v":0.13},null,null,null,"D3800",{"$f":"+Data!P5","v":-2.3907523483783444},"%"]
[]
[null,null,null,"Transmission atmosphérique ",null,null,null,null,null,null,"Erreur relative [%]"]
[]
[]
[]
[]
[]
[]
[]
[]
[]
[]
[]
[]
[]
[]
[]
[]
[null,null,null,"Longueur d'onde [Å]",null,null,null,null,null,null,"Longueur d'onde [Å]"]
[]
[]
[]
[]
[]
[]
[]
[]
[]
[]
[]
[]
[]
[]
[]
[]
[]
[]
[null,null,null,"Longueur d'onde [Å]"]

{"sheet":"RI2","index":2,"n_rows":50,"n_cols":16,"rows_kept":50,"cut":false,"hidden":false,"merged":[]}
[null,null,null,"Influence de l'extinction atmophérique sur la réponse sur un domaine étroit (6500-6620 Å)"]
[]
[]
[null,null,null,"Référence",null,null,null,null,null,null,"Target"]
[]
[null,"Hauteur",null,{"$f":"+'RI1'!D6","v":61},"°",null,null,null,null,null,{"$f":"+'RI1'!K6","v":56},"°"]
[null,"Distance zénith",null,{"$f":"90-D6","v":29},"°",null,null,null,null,null,{"$f":"90-K6","v":34},"°"]
[null,"Masse d'air",null,{"$f":"1/((COS(RADIANS(Z_REF))+0.025*(EXP(-11*COS(RADIANS(Z_REF))))))","v":1.1433519000043486},null,null,null,null,null,null,{"$f":"1/((COS(RADIANS(Z_TARGET))+0.025*(EXP(-11*COS(RADIANS(Z_TARGET))))))","v":1.2062139648713419}]
[]
[null,null,null,"l normalisation",null,6500,"Å",null,"D H",{"$f":"+K6-D6","v":-5}]
[null,null,null,null,null,null,null,null,"AOD",{"$f":"+AOD","v":0.13},null,null,null,"D6600",{"$f":"+Data!P33","v":0.488759185490939},"%"]
[]
[null,null,null,"Transmission atmosphérique ",null,null,null,null,null,null,"Erreur relative [%]"]
[]
[]
[]
[]
[]
[]
[]
[]
[]
[]
[]
[]
[]
[]
[]
[]
[null,null,null,"Longueur d'onde [Å]",null,null,null,null,null,null,"Longueur d'onde [Å]"]
[]
[]
[]
[]
[]
[]
[]
[]
[]
[]
[]
[]
[]
[]
[]
[]
[]
[]
[null,null,null,"Longueur d'onde [Å]"]
[null,null,null,{"$f":"+CONCATENATE(\"H Réf. = \",D6,\"°\",\"    H Target = \",K6,\"°\")","v":"H Réf. = 61°    H Target = 56°"}]

{"sheet":"Data","index":3,"n_rows":42,"n_cols":16,"rows_kept":42,"cut":false,"hidden":false,"merged":[]}
[null,"l  [A]","l [mm]","1.1 Rayleigh",1.2,"2.1 Ozone","2.2 Ozone","3. Aérosols","Total","Transmission","Transmission","Trans_Ref",{"$f":"+VLOOKUP('RI1'!F10,Data!A2:L42,12,)","v":0.76955868918456638},"Trans_Target",{"$f":"VLOOKUP('RI1'!F10,Data!A2:N42,14,)","v":0.75855532248849289}]
[3500,0.35,{"$f":"+(1/B2)^2","v":8.1632653061224492},{"$f":"0.23465+1.076*100/(146-C2)+0.93161/(41-C2)","v":1.04365466809531},{"$f":"9.4977*0.001*C2^2*D2*EXP(-h/7.996/1000)","v":0.6127942898918799},{"$f":"+EXP(-0.0168*EXP(-15*ABS(B2-0.59)))","v":0.99954106680495547},{"$f":"-2.5*LOG(F2)","v":4.9839475912442368E-4},{"$f":"2.5*LOG(EXP(AOD*(B2/0.55)^(-1.3)))","v":0.25400993945049055},{"$f":"+E2+G2+H2","v":0.86730262410149483},{"$f":"10^(-0.4*I2*ma)","v":0.2024415484239544},{"$f":"10^(-0.4*I2)","v":0.44986162776993416},{"$f":"10^(-0.4*I2*ma_ref)","v":0.40118728357366434},{"$f":"+L2/M$1","v":0.52132123152136345},{"$f":"10^(-0.4*I2*ma_target)","v":0.38153904227217822},{"$f":"+N2/O$1","v":0.50298116822977812},{"$f":"(O2/M2-1)*100","v":-3.5179966175679867}]
[3600,0.36,7.716049382716049,1.0407488637224924,0.54596651755479353,0.99946681550224858,5.7905209754707061E-4,0.24487582807715166,0.79142139772949227,0.23280496044564286,{"$f":"10^(-0.4*I3)","v":0.48242681663474313},0.43456098882166494,{"$f":"+L3/M$1","v":0.56468856102727005},0.41509794484282397,{"$f":"+N3/O$1","v":0.54722171545915288},{"$f":"(O3/M3-1)*100","v":-3.0931821137552107}]
[3700,0.37,7.3046018991964932,1.0380987833283728,0.48804723092190122,0.99938055472315113,6.727625552538373E-4,0.23630718534327785,0.72502717882043288,0.26308540368780814,0.51284854588857476,0.46603176451647094,0.60558313623913962,0.44687374224622695,0.58911160333069301,-2.7199457717300368]
[3800,{"$f":"+A5/10000","v":0.38},{"$f":"+(1/B5)^2","v":6.9252077562326884},{"$f":"0.23465+1.076*100/(146-C5)+0.93161/(41-C5)","v":1.0356745722089831},0.43764200033097678,{"$f":"+EXP(-0.0168*EXP(-15*ABS(B5-0.59)))","v":0.99928034334578886},{"$f":"-2.5*LOG(F5)","v":7.8163857391932772E-4},0.22825510161903556,{"$f":"+E5+G5+H5","v":0.66667874052393161},0.29293142741582606,0.54116350854019224,0.49556501372156825,0.64396000030442757,0.47680095570638586,0.62856451147453229,-2.3907523483783444]
[3900,{"$f":"+A6/10000","v":0.39},{"$f":"+(1/B6)^2","v":6.5746219592373425},{"$f":"0.23465+1.076*100/(146-SQRT(C6))+0.93161/(41-C6)","v":1.0118726083655496},0.38538737088214581,{"$f":"+EXP(-0.0168*EXP(-15*ABS(B6-0.59)))","v":0.99916392695542011},{"$f":"-2.5*LOG(F6)","v":9.0813446061676077E-4},0.22067603872169037,{"$f":"+E6+G6+H6","v":0.60697154406445297},0.32698058511029127,0.57175685783103225,0.52772439750449995,0.68574938457739076,0.50950092746631703,0.67167273415848461,-2.0527397815429671]
[4000,0.4,6.25,{"$f":"0.23465+1.076*100/(146-C7)+0.93161/(41-C7)","v":1.0314052536003397},0.35499271532356014,0.99902868743903195,1.0551017133461074E-3,0.21353112093210516,0.56957893796901138,0.35029177511464527,0.59179109364017701,0.54891909118088655,0.71329074558631489,0.53111231593833907,0.7001629283886488,-1.8404580851354213]
[4100,0.41,5.9488399762046402,1.0295192513435534,0.32101779875254527,0.99887158452606406,1.2258533001267597E-3,0.20678553454280185,0.52902918659547393,0.37745320199411958,0.61431104723244667,0.57286645166093952,0.74440904860414958,0.55558567933396241,0.7324260510246311,-1.6097329286885897]
[4200,0.42,5.6689342403628116,1.0277762458443194,0.29102579322274597,0.99868908800797496,1.42423834064876E-3,0.20040801714330458,0.4928580487066993,0.40345408074226285,0.63512145010739007,0.5951081876383838,0.77331098459685721,0.57836645427061595,0.76245784206383926,-1.4034641624385946]
[4300,0.43,5.408328826392645,1.0261618882332137,0.26446738790575225,0.99847709917686034,1.6547288739722082E-3,0.19437042146311048,0.46049253824283498,0.42823408443759819,0.65433926932608588,0.6157408864458056,0.80012206359238436,0.59954113791253083,0.79037233032087217,-1.2185307361401665]
[4400,0.44,5.1652892561983483,1.0246636155130584,0.24087996341463405,0.99823085980404824,1.9225206682121768E-3,0.18864734144595777,0.43144982552880395,0.45176299574017431,0.67207860427311583,0.63486357287042239,0.82497096295947414,0.61920104144421406,0.81628989091116322,-1.0522881941406381]
[4500,0.45,4.9382716049382722,1.0232703859777215,0.21987224851252019,{"$f":"+EXP(-0.0168*EXP(-15*ABS(B12-0.59)))","v":0.99794484673071659},2.2336503446817916E-3,0.18321579049474812,0.40532168935195012,0.47403334595454355,0.68844828795377078,0.65257415628380977,0.84798491064441772,0.63743826042483975,0.84033193298766884,-0.90248983922757153]
[4600,0.46,4.7258979206049148,1.0219724599805826,0.20111197600761141,0.99761264986134546,2.5951314567331028E-3,0.17805492363565212,0.38176203109999662,0.49505422274604766,0.7035503566964787,0.66896695057812539,0.86928646246197383,0.65434279197796308,0.86261709934530095,-0.76722270559511641]
[4700,0.47,4.5269352648257124,1.0207612172461602,0.18431589805074469,0.9972268310347383,3.0151125908138522E-3,0.17314579680229902,0.36047680744385757,0.5148461500080469,0.71747913689015896,0.68413098878741807,0.88899131203668358,0.67000051471540267,0.88325860336385209,-0.64485542155612308]
[4800,0.48,4.3402777777777786,1.0196290038250075,0.16924166856804276,0.99677876089444761,3.5030610536887063E-3,0.16847115761283543,0.34121588723456686,0.53343690412940148,0.73032075847400435,0.69814891402288093,0.90720684963306419,0.68449180461016046,0.90236240431961912,-0.53399567203493703]
[4900,0.49,4.1649312786339028,1.0185690032442389,0.15568121160071249,0.99625843048968665,4.0699762865434403E-3,0.16401526296281468,0.32376645085007061,0.55085811910403015,0.74215295270588766,0.71109627772299844,0.92403125026953381,0.6978906087861525,0.920025986366656,-0.43345545961887]
[5000,0.5,4,1.0175751275218883,0.14345527849700082,0.99565423390967012,4.7286378167982158E-3,0.15976371953086071,0.30794763584465978,0.56714253687896843,0.75304502840803134,0.72304111578235952,0.93955292292067105,0.71026383911905366,0.93633755912355121,-0.34222274431594535]
[5100,0.51,3.8446751249519413,1.016641924577621,0.13240896113496953,0.99495271779155847,5.4938933370160918E-3,0.15570334392733426,0.2936061983993199,0.58232177146891595,0.76305794857093534,0.73404370412299391,0.95385019289535333,0.72167097938221225,0.95137553977568967,-0.25943834137643895]
[5200,0.52,3.698224852071005,1.0157644992468449,0.12240797768347732,0.99413829305096568,6.3829934048419638E-3,0.15182203973658343,0.2806130108249027,0.59642447097876772,0.77224444980761386,0.74415641914593911,0.96699112050109681,0.73216382456448637,0.96520820941915297,-0.18437719273161068]
[5300,0.53,3.5599857600569589,1.0149384456354156,0.11333558551958049,0.99319290367539637,7.4159803088542572E-3,0.14810868913267544,0.26886025496111021,0.60947477803623173,0.78064916230507164,0.7534236466320009,0.97903338266550877,0.74178629015319741,0.97789346163931257,-0.11643331538835344]
[5400,0.54,3.4293552812071324,1.0141597889715446,0.10509000553359903,0.9920956469130835,8.6161398662255844E-3,0.14455305710409924,0.25825920250392387,0.62149100479730812,0.7883086989311241,0.76188169627643276,0.99002416187871489,0.75057424376083837,0.98947858054509186,-5.5107880658966657E-2]
[5500,0.55000000000000004,3.3057851239669418,1.0134249354453917,9.7582265189094519E-2,0.99082233871027381,1.0010526336717132E-2,0.1411457066185568,0.24873849814436844,0.63248445302590783,0.7952516900674963,0.76955868918456638,1,0.75855532248849289,1,0]
[5600,0.56000000000000005,3.1887755102040813,1.0127306287941669,9.0734385875107543E-2,0.98934501784029472,1.1630572285731281E-2,0.13787792330563553,0.24024288146647435,0.64245832266246972,0.80149874638082053,0.77647439319110889,1.0089865842641195,0.7657487077256937,1.0094830067418186,4.9200106863778181E-2]
[5700,0.56999999999999995,3.0778701138811946,1.0120739126057949,8.4477854429377858E-2,0.98763138188723776,1.3512797144089178E-2,0.13474164844168657,0.2327323000151536,0.65140666401008396,0.8070623357676584,0.7826399865141177,1.0169984401623902,0.77216483541849745,1.0179413584303352,9.2715802769016697E-2]
[5800,0.57999999999999996,2.9726516052318672,1.0114520974884162,7.8752330084836869E-2,0.98564414818001567,1.5699630437043689E-2,0.13172941919474135,0.22618137971662189,0.65931333962002481,0.81194656364951379,0.78805773462172923,1.0240385115484365,0.77780502482448755,1.0253767942367666,0.13068675379273031]
[5900,0.59,2.8727377190462517,1.0108627323946666,7.3504547152905594E-2,0.9833403330360212,1.8240368239936619E-2,0.1288343152335216,0.22057923062636381,0.6661509727469056,0.81614684809709814,0.79272056880496633,1.0300976130162893,0.78266101297446322,1.0317784211267413,0.16316978985422281]
[6000,0.6,2.7777777777777781,1.0103035795054758,6.8687381007910581E-2,0.98564414818001567,1.5699630437043689E-2,0.12604991092822765,0.2104369223731819,0.67871094910752328,0.82380653176420293,0.80123261242310739,1.0411585544854325,0.79152970543083423,1.0434699776862242,0.22200491854327264]
[6100,0.61,2.6874496103198067,1.0097725921731429,6.4259050763472408E-2,0.98763138188723776,1.3512797144089178E-2,0.12337023247560178,0.20114208038316336,0.69042929432902023,0.83088930303364761,0.80911365031917193,1.0513995380605974,0.79974557441108896,1.0543009200534887,0.27595427692912455]
[6200,0.62,2.6014568158168578,1.0092678955018051,6.0182436732784422E-2,0.98934501784029472,1.1630572285731281E-2,0.12078971936990793,0.19260272838842363,0.7013734077628635,0.83745004191838635,0.81642241874565746,1.0608968883331673,0.80736879486382518,1.0643505765870791,0.32554419679164948]
[6300,0.63,2.5195263290501382,1.0087877692082348,5.6424494572491948E-2,0.99082233871027381,1.0010526336717132E-2,0.11830318971747658,0.18473821062668566,0.71160603834842351,0.84353812456306621,0.82321198828390263,1.0697195676605094,0.81445384175962632,1.0736907613906848,0.37123689705522711]
[6400,0.64,2.44140625,1.0083306324597843,5.295575110573493E-2,0.9920956469130835,8.6161398662255844E-3,0.1159058089574547,0.1774776999294152,0.72118526793924265,0.84919791663854038,0.82953022328967552,1.0779297731907305,0.82104992915560604,1.0823863531299145,0.41343880186111015]
[6500,0.65,2.3668639053254434,1.0078950304312184,4.9749869346054604E-2,0.99319290367539637,7.4159803088542572E-3,0.11359306160712329,0.17075891126203216,0.73016460980064091,0.85446924453444051,0.83542023402717669,1.085583524386422,0.82720144927472528,1.0904958738685453,0.45250774093128499]
[6600,0.66,2.2956841138659319,1.007479622359772,4.6783272312334472E-2,0.99413829305096568,6.3829934048419638E-3,0.11136072569801538,0.16452699141519181,0.73859318609475999,0.85938783829565935,0.84092081144242348,1.0927312279892172,0.83294839970156043,1.0980720522387424,0.488759185490939]
[6700,0.67,2.227667631989307,1.0070831709093471,4.4034816924369731E-2,0.99495271779155847,5.4938933370160918E-3,0.109204849610334,0.15873355987171983,0.74651595662010939,0.86398574298637876,0.84606683817396333,1.0994182121060394,0.83832679084617867,1.1051623605988157,0.52247165178143096]
[6800,0.68,2.1626297577854667,1.0067045326813622,4.1485510669431992E-2,0.99565423390967012,4.7286378167982158E-3,0.10712173104877806,0.15333587953500827,0.75397397788055909,0.86829169712947918,0.85088967208840749,1.1056852245928384,0.84336902884301945,1.1118095198070581,0.55389138590280496]
[6900,0.69,2.1003990758244071,1.0063426497322474,3.911826488842924E-2,0.99625843048968665,4.0699762865434403E-3,0.10510789793372841,0.1482961391087011,0.76100467696797158,0.87233147824519153,0.85541750057737997,1.1115688934443591,0.8481042712611494,1.1180519681529424,0.58323642797295516]
[7000,0.7,2.0408163265306123,1.0059965419766368,3.6917679490868355E-2,0.99677876089444761,3.5030610536887063E-3,0.10316009100848152,0.14358083155303858,0.76764212898742468,0.8761282164466595,0.85967566523517946,1.1171021486952504,0.85255875459116659,1.1239242930816027,0.61070014002930773]
[7100,0.71,1.9837333862328907,1.0056653003715108,3.4869854706871858E-2,0.9972268310347383,3.0151125908138522E-3,0.10127524798647447,0.13916021528416017,0.7739173300456621,0.87970267765521093,0.86368695749039237,1.122314606577395,0.8567560935899392,1.1294576258186311,0.63645427043130809]
[7200,0.72,1.9290123456790123,1.0053480807903499,3.2962226151049802E-2,0.99761264986134546,2.5951314567331028E-3,9.9450489082691954E-2,0.13500784669047486,0.77985846034620299,0.88307351836224579,0.86747188639778117,1.1272329175010223,0.86071755332366873,1.1346800000031976,0.66065161747448364]
[7300,0.73,1.8765246762994932,1.005044098508173,3.1183420030590422E-2,0.99794484673071659,2.2336503446817916E-3,9.7683103791128559E-2,0.13110017416640077,0.78549113384439895,0.88625751405462905,0.87104892019255964,1.1318810799414578,0.86446229524321949,1.1396166760880293,0.68342834628629667]
[7400,0.74,1.8261504747991233,1.0047526232284472,2.9523125797572006E-2,0.99823085980404824,1.9225206682121768E-3,9.5970538785637313E-2,0.12741618525142151,0.79083863234225871,0.88926976348708331,0.87443470343198837,1.1362807226029115,0.86800759892348667,1.1442904336574002,0.704906005633954]
[7500,0.75,1.7777777777777777,1.0044729745915486,2.7971983938740896E-2,0.99847709917686034,1.6547288739722082E-3,9.4310386835043586E-2,0.12393709964775669,0.79592212295192855,0.89212387096636159,0.87764425164805038,1.1404513573591284,0.87136906125455038,1.1487218340199159,0.7251932848709064]

{"sheet":"Data2","index":4,"n_rows":3752,"n_cols":18,"rows_kept":3752,"cut":false,"hidden":false,"merged":[]}
[null,"l  [A]","l [mm]","1.1 Rayleigh",1.2,"2.1 Ozone","2.2 Ozone","3. Aérosols","Total","Transmission","Transmission","Trans_Ref",{"$f":"+VLOOKUP('RI1'!F10,Data!A2:L42,12,)","v":0.76955868918456638},"Trans_Target",{"$f":"VLOOKUP('RI1'!F10,Data!A2:N42,14,)","v":0.75855532248849289},null,null,{"$f":"+VLOOKUP('RI1'!F10,Data2!A2:Q3752,17,1)","v":0.97792810759106163}]
[3800,{"$f":"+A2/10000","v":0.38},{"$f":"+(1/B2)^2","v":6.9252077562326884},{"$f":"0.23465+1.076*100/(146-C2)+0.93161/(41-C2)","v":1.0356745722089831},{"$f":"9.4977*0.001*C2^2*D2*EXP(-h/7.996/1000)","v":0.43764200033097678},{"$f":"+EXP(-0.0168*EXP(-15*ABS(B2-0.59)))","v":0.99928034334578886},{"$f":"-2.5*LOG(F2)","v":7.8163857391932772E-4},{"$f":"2.5*LOG(EXP(AOD*(B2/0.55)^(-1.3)))","v":0.22825510161903556},{"$f":"+E2+G2+H2","v":0.66667874052393161},{"$f":"10^(-0.4*I2*ma)","v":0.29293142741582606},{"$f":"10^(-0.4*I2)","v":0.54116350854019224},{"$f":"10^(-0.4*I2*ma_ref)","v":0.49556501372156825},{"$f":"+L2/M$1","v":0.64396000030442757},{"$f":"10^(-0.4*I2*ma_target)","v":0.47680095570638586},{"$f":"+N2/O$1","v":0.62856451147453229},{"$f":"(O2/M2-1)*100","v":-2.3907523483783444},{"$f":"+Spectre!C1*N2/L2","v":1.609685739038393},{"$f":"+Q2/R$1","v":1.6460164367333148}]
[3801,{"$f":"+A3/10000","v":0.38009999999999999},{"$f":"+(1/B3)^2","v":6.9215643482956102},{"$f":"0.23465+1.076*100/(146-SQRT(C3))+0.93161/(41-C3)","v":1.0124975548121646},0.42739808496582371,{"$f":"+EXP(-0.0168*EXP(-15*ABS(B3-0.59)))","v":0.99927926344018647},{"$f":"-2.5*LOG(F3)","v":7.8281191156334945E-4},0.22817703797226471,{"$f":"+E3+G3+H3","v":0.65635793484965177},0.298552646696151,0.54633223538207742,0.50098043238102863,0.6509970446982718,0.48229943950153714,0.635813137424599,-2.332408018950427,{"$f":"+Spectre!C2*N3/L3","v":1.6444379623166128},{"$f":"+Q3/R$1","v":1.6815530196461683}]
[3802,0.38019999999999998,6.9179238148420472,{"$f":"0.23465+1.076*100/(146-C4)+0.93161/(41-C4)","v":1.0356282100975154},0.43670230986833802,0.99927818191467976,7.8398701053459109E-4,0.22809902154782472,0.66558531842669733,0.29352191138114614,0.54170877744654344,0.4961359585448748,0.64470191230065432,0.47738050289413708,0.62932852587212429,-2.3845727979414977,{"$f":"+Spectre!C3*N4/L4","v":1.6718836338662924},1.7096181415468843]
[3803,0.38030000000000003,6.9142861528490052,1.0356050589905486,0.43623341492427264,0.99927709876684057,7.851638734770283E-4,0.22802105230474129,0.66503963110249098,0.29381704561139166,0.5419811068660656,0.49642114241384894,0.64507249335312256,0.47766999733291166,0.62971016506203181,-2.3814886620318498,{"$f":"+Spectre!C4*N5/L5","v":1.6882593908787251},1.7263635003164275]
[3804,0.38040000000000002,6.9106513592974803,1.0355819278181146,0.43576515213166078,0.99927601399423727,7.8634250303839586E-4,0.22794313020208534,0.66449462483678445,0.29411210769204837,0.54225323304816675,0.49670613397178986,0.64544282450777812,0.47795930568849554,0.63009155893932323,-2.3784082780937132,{"$f":"+Spectre!C5*N6/L6","v":1.7043638556566316},1.7428314437704477]
[3805,0.3805,6.9070194311724142,1.0355588165567735,0.43529752046291781,0.99927492759443426,7.8752290187079183E-4,0.22786525519897505,0.66395029856376364,0.29440709738798909,0.54252515608188956,0.49699093325719346,0.64581290581464423,0.47824842797653716,0.63047270752462758,-2.3753316404642177,{"$f":"+Spectre!C6*N7/L7","v":1.7172090660646413},1.7559665713000687]
[3806,0.38059999999999999,6.9033903654627249,1.0355357251831208,0.43483051889242025,0.99927383956499261,7.8870507262995262E-4,0.22778742725457379,0.66340665121962394,0.29470201446477051,0.54279687605649973,0.49727554030889815,0.6461827373241894,0.47853736421307586,0.63085361083908964,-2.3722587434905629,{"$f":"+Spectre!C7*N8/L8","v":1.7289510766787286},1.76797359975435]
[3807,0.38069999999999998,6.8997641591612764,1.0355126536737871,0.43436414639649812,0.99927274990346937,7.8988901797597791E-4,0.22770964632809171,0.66286368174256582,0.29499685868863162,0.54306839306148547,0.49755995516608353,0.64655231908732524,0.4788261144145402,0.63123426890436707,-2.3691895815301067,{"$f":"+Spectre!C8*N9/L9","v":1.7405751835118217},1.7798600633326667]
[3808,0.38080000000000003,6.8961408092648826,1.0354896020054387,0.43389840195343177,0.9992716586074184,7.9107474057248583E-4,0.22763191237878505,0.66232138907278926,0.29529162982649398,0.54333970718655578,0.49784417786826957,0.64692165115540601,0.47911467859774748,0.63161468174263002,-2.3661241489502882,{"$f":"+Spectre!C9*N10/L10","v":1.7518625602748537},1.7914021968242952]
[3809,0.38090000000000002,6.8925203127743,1.0354665701547763,0.43343328454344732,0.99927056567438943,7.9226224308757813E-4,0.22755422536595557,0.66177977215249051,0.29558632764596005,0.54361081852164017,0.49812820845531519,0.64729073358022615,0.47940305677990136,0.63199484937655792,-2.3630624401287603,{"$f":"+Spectre!C10*N11/L11","v":1.76264293342584},1.8024258836038294]
[3810,0.38100000000000001,6.8889026666942224,1.0354435580985364,0.43296879314871323,0.99926947110192876,7.9345152819311634E-4,0.2274765852489512,0.66123882992585759,0.29588095191531188,0.54388172715688654,0.49841204696741642,0.64765956641401812,0.47969124897859083,0.63237477182933832,-2.3600044494531458,{"$f":"+Spectre!C11*N12/L12","v":1.7675196267782358},1.8074126441995635]
[3811,0.38109999999999999,6.8852878680332665,1.0354205658134896,0.4325049267533343,0.99926837488757914,7.9464259856484268E-4,0.2273989919871659,0.66069856133906502,0.29617550240351082,0.54415243318266115,0.49869569344510567,0.64802814970945177,0.47997925521178914,0.63275444912466527,-2.3569501713211927,{"$f":"+Spectre!C12*N13/L13","v":1.7725021217160171},1.8125075943284177]
[3812,0.38119999999999998,6.8816759138039822,1.0353975932764423,0.43204168434334955,0.99926727702887941,7.9583545688274187E-4,0.22732144554003941,0.66015896534027174,0.29646997888019583,0.544422936689546,0.4989791479292498,0.64839648351963131,0.48026707549785164,0.63313388128673653,-2.3538996001406742,{"$f":"+Spectre!C13*N14/L14","v":1.7529812150345119},1.7925460996848173]
[3813,0.38129999999999997,6.8780668010228254,1.0353746404642354,0.43157906490672604,0.99926617752336477,7.9703010583080018E-4,0.22724394586705693,0.65962004087961379,0.29676438111568337,0.54469323776833933,0.49926241046104991,0.64876456789809545,0.48055470985551546,0.63351306834025323,-2.3508527303294113,{"$f":"+Spectre!C14*N15/L15","v":1.7093426023266352},1.7479225610329094]
[3814,0.38140000000000002,6.8744605267101653,1.0353517073537444,0.43111706743335559,0.99926507636856687,7.9822654809688447E-4,0.22716649292774951,0.65908178690920194,0.29705870888096575,0.54496333651005402,0.49954548108203889,0.64913240289881369,0.48084215830389782,0.63389201031041753,-2.3478095563150947,{"$f":"+Spectre!C15*N16/L16","v":1.6743232158606525},1.712112785044114]
[3815,0.38150000000000001,6.8708570878902853,1.0353287939218798,0.43065569091505185,0.99926397356201346,7.9942478637310441E-4,0.22708908668169386,0.65854420238311884,0.29735296194770922,0.54523323300591509,0.49982835983407981,0.64949998857618507,0.481129420862493,0.63427070722292855,-2.3447700725355958,{"$f":"+Spectre!C16*N17/L17","v":1.677775878686816},1.7156433746645192]
[3816,0.38159999999999999,6.8672564815913582,1.0353059001455871,0.4301949343455434,0.99926286910122886,8.0062482335532988E-4,0.22701172708851206,0.65800728625741078,0.29764714008825538,0.54550292734736072,0.50011104675936635,0.64986732498503785,0.48141649755117372,0.63464915910398445,-2.3417342734386226,{"$f":"+Spectre!C17*N18/L18","v":1.6848337893149816},1.7228605827326577]
[3817,0.38169999999999998,6.8636587048454478,1.0352830260018455,0.42973479672047121,0.99926176298373337,8.0182666174379458E-4,0.22693441410787213,0.65747103749008717,0.2979412430756177,0.54577241962603973,0.50039354190042007,0.65023441218062661,0.481703388390188,0.63502736598027798,-2.3387021534818864,{"$f":"+Spectre!C18*N19/L19","v":1.6896813328373632},1.727817535585074]
[3818,0.38179999999999997,6.860063754688511,1.0352601714676692,0.4292752770373845,0.99926065520704377,8.0303030424261292E-4,0.2268571476994867,0.65693545504111384,0.29823527068348232,0.54604170993381118,0.50067584530008935,0.65060125021863047,0.48199009340015841,0.63540532787899606,-2.3356737071328904,{"$f":"+Spectre!C19*N20/L20","v":1.6931991529030337},1.7314147530475477]
[3819,0.38190000000000002,6.8564716281603788,1.0352373365201073,0.42881637429573605,0.99925954576867304,8.0423575356002193E-4,0.22677992782311451,0.65640053787241059,0.29852922268620569,0.54631079836274243,0.50095795700154844,0.65096783915515199,0.4822766126020801,0.63578304482781622,-2.3326489288692187,{"$f":"+Spectre!C20*N21/L21","v":1.6923921427148747},1.7305895285940376]
[3820,0.38200000000000001,6.8528823223047608,1.0352145211362427,0.42835808749687848,0.99925843466613062,8.054430124081396E-4,0.22670275443855958,0.65586628494784627,0.29882309885881442,0.54657968500510923,0.50123987704829565,0.65133417904671498,0.48256294601732014,0.63616051685490682,-2.3296278131782033,{"$f":"+Spectre!C21*N22/L22","v":1.679862963441805},1.7177775650398528]
[3821,0.3821,6.8492958341692338,1.0351917252931928,0.42790041564406017,0.99925732189692207,8.0665208350332745E-4,0.22662562750567045,0.6553326952332339,0.29911689897700394,0.54684836995339337,0.5015216054841527,0.65170026995026331,0.48284909366761586,0.63653774398892382,-2.3266103545571126,{"$f":"+Spectre!C22*N23/L23","v":1.6674693547746078},1.7051042319277423]
[3822,0.38219999999999998,6.8457121608052312,1.0351689489681095,0.42744335774241965,0.99925620745854915,8.0786296956606926E-4,0.2265485469843414,0.65479976769632708,0.29941062281713782,0.54711685330028281,0.50180314235326307,0.65206611192315911,0.48313505557507369,0.63691472625901024,-2.3235965475130183,{"$f":"+Spectre!C23*N24/L24","v":1.6807434535245425},1.7186779278332962]
[3823,0.38229999999999997,6.8421312992680514,1.035146192138179,0.42698691279898465,0.99925509134850998,8.0907567332085093E-4,0.22647151283451181,0.65426750130681732,0.29970427015624568,0.54738513513866915,0.50208448770009007,0.65243170502318004,0.48342083176216699,0.6372914636947925,-2.3205863865628062,{"$f":"+Spectre!C24*N25/L25","v":1.703693465044777},1.7421459224047657]
[3824,0.38240000000000002,6.8385532466168293,1.035123454780621,0.42653107982266342,0.9992539735642989,8.1029019749628123E-4,0.22639452501616603,0.65373589503632568,0.29999784077202424,0.54765321556164859,0.50236564156941765,0.65279704930852034,0.48370642225173666,0.63766795632638174,-2.3175798662331881,{"$f":"+Spectre!C25*N26/L26","v":1.7231527056920284},1.7620443592082495]
[3825,0.38250000000000001,6.834977999914563,1.0351007368726899,0.42607585782424628,0.99925285410340658,8.1150654482497076E-4,0.22631758348933334,0.65320494785840455,0.30029133444283351,0.54792109466251815,0.50264660400634598,0.65316214483778534,0.48399182706698685,0.63804420418436769,-2.3145769810606898,{"$f":"+Spectre!C26*N27/L27","v":1.7370794708080386},1.7762854521964817]
[3826,0.3826,6.8314055562280691,1.035078038391674,0.42562124581639599,0.99925173296331993,8.1272471804365353E-4,0.22624068821408783,0.65267465874852748,0.30058475094769865,0.54818877253477727,0.50292737505629292,0.65352699166999306,0.48427704623148665,0.63842020729982163,-2.3115777255914516,{"$f":"+Spectre!C27*N28/L28","v":1.7470688349523895},1.7865002768515965]
[3827,0.38269999999999998,6.8278359126280073,1.0350553593148959,0.42516724281364743,0.99925061014152183,8.1394471989342724E-4,0.22616383915054877,0.65214502668408958,0.30087809006630661,0.54845624927212488,0.5032079547649918,0.65389158986457163,0.48456207976916671,0.63879596570429098,-2.3085820943815949,{"$f":"+Spectre!C28*N29/L29","v":1.7096316343410758},1.7482181165161776]
[3828,0.38279999999999997,6.8242690661888599,1.035032699619711,0.42471384783240174,0.99924948563549187,8.1516655311903038E-4,0.22608703625888002,0.65161605064440076,0.30117135157900665,0.54872352496845911,0.50348834317848934,0.65425593948135607,0.48484692770431864,0.63917147942979946,-2.3055900819967223,{"$f":"+Spectre!C29*N30/L30","v":1.6610764957395889},1.6985670857046253]
[3829,0.38290000000000002,6.8207050139889249,1.0350100592835099,0.42426105989092272,0.9992483594427054,8.1639022046980675E-4,0.22601027949929006,0.65108772961068262,0.30146453526680894,0.54899059971787634,0.50376854034314589,0.6546200405805892,0.48513159006159406,0.63954674850884508,-2.3026016830122509,{"$f":"+Spectre!C30*N31/L31","v":1.6418880152906123},1.6789455201723249]
[3830,0.38300000000000001,6.8171437531103223,1.0349874382837163,0.42380887800933348,0.99924723156063433,8.1761572469886174E-4,0.22593356883203239,0.65056006256606469,0.30175764091138252,0.54925747361466937,0.50404854630563278,0.65498389322291806,0.48541606686600192,0.63992177297439712,-2.2996168920133564,{"$f":"+Spectre!C31*N32/L32","v":1.6527312426965592},1.6900334798308905]
[3831,0.3831,6.8135852806389723,1.0349648365977875,0.42335730120961068,0.99924610198674657,8.1884306856366492E-4,0.22585690421740467,0.65003304849557897,0.30205066829505622,0.54952414675332761,0.50432836111293222,0.65534749746939325,0.48570035814290918,0.64029655285989662,-2.2966357035947293,{"$f":"+Spectre!C32*N33/L33","v":1.664090200201586},1.7016488096458882]
[3832,0.38319999999999999,6.810029593664602,1.0349422542032152,0.42290632851558285,0.99924497071850626,8.2007225482580936E-4,0.22578028561574959,0.64950668638615827,0.30234361720081526,0.54979061922853412,0.50460798481233482,0.65571085338146662,0.48598446391803718,0.64067108819925189,-2.2936581123608746,{"$f":"+Spectre!C33*N34/L34","v":1.6853436476000421},1.7233819485478978]
[3833,0.38329999999999997,6.806476689280732,1.0349196910775234,0.42245595895292382,0.999243837753374,8.2130328625077006E-4,0.22570371298745379,0.64898097522662845,0.30263648741230292,0.55005689113516709,0.50488741745143972,0.65607396102099047,0.48626838421746299,0.64104537902684033,-2.2906841129256894,{"$f":"+Spectre!C34*N35/L35","v":1.7079398228260501},1.7464881207200724]
[3834,0.38340000000000002,6.8029265645846708,1.0348971471982709,0.42200619154915053,0.99924270308880625,8.2253616560850772E-4,0.22562718629294889,0.64845591400770797,0.30292927871381703,0.55032296256829649,0.50516665907815228,0.65643682045021534,0.48655211906761575,0.64141942537750318,-2.2877136999128855,{"$f":"+Spectre!C35*N36/L36","v":1.7164789585406857},1.75521998520822]
[3835,0.38350000000000001,6.7993792166775169,1.0348746225430492,0.42155702533361861,0.99924156672225584,8.2377089567298514E-4,0.22555070549271058,0.6479315017220022,0.30322199089031043,0.55058883362318412,0.50544570974068292,0.65679943173178812,0.48683566849527599,0.64179322728654531,-2.2847468679556893,{"$f":"+Spectre!C36*N37/L37","v":1.7159765095379267},1.7547061959031995]
[3836,0.3836,6.7958346426641407,1.0348521170894835,0.42110845933751795,0.9992404286511718,8.2500747922228934E-4,0.22547427054725888,0.64740773736399904,0.30351462372738963,0.5508545043952825,0.50572456948754685,0.65716179492875149,0.48711903252757544,0.64216678478973421,-2.2817836116968748,{"$f":"+Spectre!C37*N38/L38","v":1.7153143708022645},1.75402911265902]
[3837,0.38369999999999999,6.7922928396531876,1.0348296308152327,0.42066049259386912,0.99923928887299929,8.2624591903875154E-4,0.22539788141715808,0.64688461993006596,0.30380717701131321,0.55111997498023335,0.50600323836756111,0.65752391010454081,0.48740221119199423,0.6425400979232968,-2.2788239257887533,{"$f":"+Spectre!C38*N39/L39","v":1.7126531561667275},1.7513078342594326]
[3838,{"$f":"+A40/10000","v":0.38379999999999997},{"$f":"+(1/B40)^2","v":6.7887538047570715},{"$f":"0.23465+1.076*100/(146-C40)+0.93161/(41-C40)","v":1.0348071636979883},{"$f":"9.4977*0.001*C40^2*D40*EXP(-h/7.996/1000)","v":0.42021312413751943},{"$f":"+EXP(-0.0168*EXP(-15*ABS(B40-0.59)))","v":0.99923814738517958},{"$f":"-2.5*LOG(F40)","v":8.2748621790894718E-4},{"$f":"2.5*LOG(EXP(AOD*(B40/0.55)^(-1.3)))","v":0.22532153806301647},{"$f":"+E40+G40+H40","v":0.64636214841844486},{"$f":"10^(-0.4*I40*ma)","v":0.30409965052899157},{"$f":"10^(-0.4*I40)","v":0.55138524547386736},{"$f":"10^(-0.4*I40*ma_ref)","v":0.50628171642984532},{"$f":"+L40/M$1","v":0.65788577732298426},{"$f":"10^(-0.4*I40*ma_target)","v":0.48768520451636044},{"$f":"+N40/O$1","v":0.64291316672391885},{"$f":"(O40/M40-1)*100","v":-2.275867804893239},{"$f":"+Spectre!C39*N40/L40","v":1.7098745698828397},1.7484665351267874]
[3839,0.38390000000000002,6.7852175350919559,1.0347847157154755,0.41976635300513759,0.99923700418515027,8.2872837862345468E-4,0.22524524044548672,0.64584032182924778,0.30439204406798648,0.55165031597220293,0.5065600037238196,0.65824739664830068,0.48796801252884936,0.64328599122874353,-2.2729152436816946,{"$f":"+Spectre!C40*N41/L41","v":1.7012313207521104},1.7396282073768874]
[3840,0.38400000000000001,6.7816840277777768,1.0347622868454525,0.41932017823521334,0.99923585927034508,8.2997240397709722E-4,0.2251689885252656,0.64531913916445605,0.30468435741650729,0.55191518657144389,0.50683810029920173,0.6586087681450955,0.48825063525797963,0.64365857147536698,-2.2699662368349971,{"$f":"+Spectre!C41*N42/L42","v":1.6894465220071651},1.7275774250612272]
[3841,0.3841,6.7781532799382047,1.0347398770657106,0.41887459886804923,0.99923471263819374,8.3121829676906299E-4,0.22509278226309365,0.64479859942791196,0.30497659036341307,0.55217985736798014,0.50711600620600872,0.6589698918783633,0.48853307273261548,0.64403090750184067,-2.2670207790434493,{"$f":"+Spectre!C42*N43/L43","v":1.6958735871489923},1.7341495494249077]
[3842,0.38419999999999999,6.7746252887006575,1.0347174863540742,0.41842961394575906,0.99923356428612231,8.3246605980254358E-4,0.2250166216197555,0.64427870162531709,0.30526874269820997,0.55244432845838598,0.50739372149455408,0.65933076791348366,0.4888153249819629,0.64440299934666678,-2.2640788650069021,{"$f":"+Spectre!C43*N44/L44","v":1.734361353080623},1.7735059863990306]
[3843,0.38429999999999997,6.7711000511962895,1.0346951146884007,0.41798522251226361,0.99923241421155296,8.3371569588497536E-4,0.22494050655607939,0.64375944476422797,0.30556081421105075,0.55270859993941901,0.50767124621544668,0.6596913963162202,0.48909739203556962,0.64477484704879795,-2.2611404894345544,{"$f":"+Spectre!C44*N45/L45","v":1.7710192320168798},1.8109912357253399]
[3844,0.38440000000000002,6.7675775645599829,1.0346727620465803,0.41754142361328617,0.99923126241190385,8.3496720782816011E-4,0.22486443703293776,0.64324082785405212,0.30585280469273324,0.55297267190801913,0.50794858041958935,0.66005177715271823,0.48937927392332309,0.64514645064763465,-2.2582056470450085,{"$f":"+Spectre!C45*N46/L46","v":1.7951852207952428},1.8357026522300677]
[3845,0.38450000000000001,6.7640578259303528,1.0346504284065365,0.41709821629635002,0.99923010888458963,8.3622059844778258E-4,0.22478841301124655,0.64272284990604434,0.30614471393469972,0.55323654446130766,0.50822572415817857,0.66041191048950487,0.48966097067544956,0.64551781018302401,-2.2552743325663482,{"$f":"+Spectre!C46*N47/L47","v":1.8171722001427446},1.8581858789384833]
[3846,0.3846,6.7605408324497303,1.0346281137462248,0.41665559961077286,0.99922895362702058,8.3747587056425454E-4,0.2247124344519657,0.64220550993330283,0.30643654172903506,0.55350021769658564,0.50850267748270184,0.66077179639348549,0.48994248232251247,0.6458889256952578,-2.2523465407359833,{"$f":"+Spectre!C47*N48/L48","v":1.8263822520168258},1.8676038022015424]
[3847,0.38469999999999999,6.7570265812641583,1.0346058180436344,0.4162135726076639,0.99922779663660366,8.3873302700163035E-4,0.22463650131609825,0.6416888069507638,0.30672828786846734,0.55376369171133411,0.50877944044493784,0.66113143493194348,0.49022380889541195,0.64625979722507121,-2.2494222663006713,{"$f":"+Spectre!C48*N49/L49","v":1.8212394912648526},1.8623449690500531]
[3848,0.38479999999999998,6.7535150695233854,1.0345835412767861,0.41577213433991894,0.9992266379107414,8.3999207058881194E-4,0.22456061356469126,0.64117273997519897,0.30701995214636563,0.55402696660321238,0.50905601309695503,0.66149082617253907,0.49050495042538295,0.64663042481364141,-2.2465015040165626,{"$f":"+Spectre!C49*N50/L50","v":1.8172195173530694},1.8582342641009073]
[3849,0.38490000000000002,6.7500062943808681,1.0345612834237341,0.41533128386221829,0.99922547744683288,8.4125300415846408E-4,0.22448477115883508,0.64065730802521181,0.30731153435673891,0.55429004247005653,0.50933239549110931,0.66184997018330605,0.4907859069439941,0.64700080850258512,-2.2435842486490221,{"$f":"+Spectre!C50*N51/L51","v":1.815170611012765},1.8561391138292258]
[3850,0.38500000000000001,6.7465002529937594,1.0345390444625657,0.4148910202310222,0.99922431524227318,8.425158305476175E-4,0.22440897405966376,0.64014251012123358,0.3076030342942348,0.55455291940987905,0.50960858768004347,0.66220886703265069,0.49106667848314561,0.64737094833395625,-2.2406704949728296,{"$f":"+Spectre!C51*N52/L52","v":1.8132759881231773},1.8542017291944239]
[3851,0.3851,6.7429969425228977,1.0345168243713991,0.41445134250456533,0.99922315129445316,8.4378055259791017E-4,0.22433322222835461,0.63962834528551782,0.30789445175413999,0.55481559752086795,0.50988458971668715,0.66256751678935233,0.49134726507507004,0.6477408443502467,-2.237760237772024,{"$f":"+Spectre!C52*N53/L53","v":1.8135616864215369},1.8544938757194518]
[3852,0.38519999999999999,6.7394963601328062,1.0344946231283862,0.41401224974285472,0.99922198560076025,8.4504717315474253E-4,0.22425751562612811,0.63911481254213753,0.30818578653237799,0.55507807690138555,0.51016040165425403,0.66292591952255919,0.49162766675232955,0.64811049659438313,-2.2348534718398372,{"$f":"+Spectre!C53*N54/L54","v":1.8151223100577447},1.8560897227189332]
[3853,0.38529999999999998,6.735998502991694,1.034472440711711,0.41357374100766664,0.99922081815857777,8.4631569506800179E-4,0.2241818542142483,0.63860191091698293,0.30847703842550761,0.5553403576499667,0.51043602354624074,0.66328407530178746,0.49190788354781412,0.6484799051097242,-2.2319501919788265,{"$f":"+Spectre!C54*N55/L55","v":1.8256874044359426},1.8668932718716649]
[3854,0.38540000000000002,6.7325033682714333,1.0344502770995898,0.41313581536253996,0.99921964896528492,8.4758612119206235E-4,0.22410623795402232,0.63808963943775432,0.30876820723072351,0.55560243986531976,0.51071145544642715,0.66364198419692089,0.49218791549474195,0.64884906994006142,-2.2290503930007532,{"$f":"+Spectre!C55*N56/L56","v":1.8655656549119524},1.9076715767045653]
[3855,0.38550000000000001,6.7290109531475792,1.0344281322702709,0.41269847187277614,0.99921847801825736,8.488584543851819E-4,0.22403066680680037,0.63757799713396168,0.30905929274585353,0.55586432364632299,0.51098669740887326,0.66399964627820773,0.49246776262665681,0.6492179911296152,-2.2261540697265936,{"$f":"+Spectre!C56*N57/L57","v":1.905145758234942},1.9481450051864275]
[3856,0.3856,6.7255212547993324,1.0344060062020353,0.41226170960543113,0.99921730531486663,8.501326975101052E-4,0.22395514073397568,0.63706698303691689,0.30935029476935927,0.55612600909202636,0.5112617494879198,0.66435706161626074,0.49274742497742796,0.6495866687230355,-2.2232612169864718,{"$f":"+Spectre!C57*N58/L58","v":1.8750557007432367},1.9173758134041947]
[3857,0.38569999999999999,6.7220342704095595,1.0343838988731959,0.41182552762931518,0.99921613085248018,8.5140885343406387E-4,0.22387965969698498,0.63655659617973415,0.30964121310033327,0.55638749630164819,0.51153661173818565,0.66471423028205423,0.49302690258124776,0.6499551027653977,-2.2203718296197605,{"$f":"+Spectre!C58*N59/L59","v":1.8139036025242845},1.8548435088878754]
[3858,0.38579999999999998,6.7185499971647733,1.0343618102620977,0.411389925014987,0.99921495462846177,8.5268692502829448E-4,0.22380422365730748,0.63604683559732278,0.30993204753849957,0.55664878537457541,0.51181128421456734,0.66507115234692327,0.49330619547263116,0.65032329330220273,-2.2174859024749249,{"$f":"+Spectre!C59*N60/L60","v":1.7810381186390096},1.821236249182218]
[3859,0.38590000000000002,6.7150684322551317,1.0343397403471173,0.41095490083475045,0.99921377664017119,8.5396691516839956E-4,0.22372883257646556,0.63553770032638446,0.31022279788421225,0.55690987641036283,0.51208576697223829,0.66542782788256283,0.49358530368641462,0.65069124037937554,-2.2146034304095896,{"$f":"+Spectre!C60*N61/L61","v":1.8029280084801349},1.8436201950686357]
[3860,0.38600000000000001,6.7115895728744386,1.0343176891066643,0.41052045416265237,0.99921259688496411,8.5524882673446926E-4,0.22365348641602448,0.63502918940541131,0.31051346393845264,0.55717076950873057,0.51236006006664614,0.66578425696102395,0.49386422725775392,0.65105894404326159,-2.2117244082904719,{"$f":"+Spectre!C61*N62/L62","v":1.8214377769256656},1.8625477300293865]
[3861,0.3861,6.7081134162201241,1.0342956565191794,0.41008658407447596,0.99921141536019231,8.565326626108397E-4,0.22357818513759214,0.63452130187467892,0.31080404550283125,0.55743146476956507,0.51263416355351321,0.66614043965471503,0.49414296622212361,0.65142640434062693,-2.2088488309934928,{"$f":"+Spectre!C62*N63/L63","v":1.815217263158686},1.856186818916705]
[3862,0.38619999999999999,6.7046399594932478,1.0342736425631354,0.40965328964773873,0.99921023206320381,8.5781842568597236E-4,0.22350292870281924,0.63401403677624391,0.31109454237958484,0.55769196229291718,0.51290807748883505,0.666496376036399,0.49442152061531658,0.65179362131865715,-2.2059766934034886,{"$f":"+Spectre!C63*N64/L64","v":1.8026526455306555},1.8433386171618942]
[3863,0.38629999999999998,6.7011691998984917,1.0342516472170367,0.40922056996168887,0.99920904699134239,8.5910611885293671E-4,0.2234277170733992,0.633507393153941,0.31138495437157565,0.55795226217900107,0.51318180192887808,0.66685206617919124,0.49469989047344104,0.65216059502495349,-2.2031079904144657,{"$f":"+Spectre!C64*N65/L65","v":1.8027094512202797},1.8433967049591291]
[3864,0.38640000000000002,6.697701134644154,1.03422967045942,0.40878842409730076,0.99920786014194796,8.6039574500904915E-4,0.22335255021106806,0.63300137005337787,0.31167528128229049,0.55821236452819334,0.5134553369301802,0.66720751015655955,0.49497807583292064,0.65252732550753323,-2.2002427169294902,{"$f":"+Spectre!C65*N66/L66","v":1.8190014978317122},1.8600564639792116]
[3865,0.38650000000000001,6.6942357609421457,1.0342077122688531,0.4083568511372721,0.99920667151235654,8.6168730705587159E-4,0.22327742807760453,0.63249596652193252,0.31196552291584001,0.55847226944103245,0.51372868254954784,0.66756270804232087,0.49525607673049277,0.65289381281482695,-2.1973808678605766,{"$f":"+Spectre!C66*N67/L67","v":1.8324728422838192},{"$f":"+Q67/R$1","v":1.8738318574335333}]
[3866,0.3866,6.6907730760079849,1.0341857726239359,0.40792585016602001,0.99920548109989993,8.6298080789957467E-4,0.22320235063482974,0.63199118160874934,0.31225567907695634,0.55873197701821697,0.51400183884405592,0.667917659910641,0.49553389320320729,0.65326005699567735,-2.1945224381287765,{"$f":"+Spectre!C67*N68/L68","v":1.8322115554703431},1.8735646733619764]
[3867,0.38669999999999999,6.687313077060784,1.0341638515032996,0.40749542026967611,0.99920428890190616,8.6427625045045495E-4,0.22312731784460693,0.63148701436473353,0.31254574957099451,0.558991487360606,0.51427480587104724,0.66827236583603389,0.4958115252884257,0.65362605809933794,-2.1916674226642452,{"$f":"+Spectre!C68*N69/L69","v":1.8309935667303558},1.8723191945476005]
[3868,0.38679999999999998,6.6838557613232554,1.0341419488856065,0.4070655605360845,0.99920309491569925,8.6557363762317606E-4,0.22305232966884264,0.63098346384255033,0.31283573420392891,0.55925080056921661,0.51454758368812969,0.66862682589335776,0.49608897302381977,0.65399181617547131,-2.1888158164058868,{"$f":"+Spectre!C69*N70/L70","v":1.8099626973709084},1.8508136572834628]
[3869,0.38690000000000002,6.6804011260216916,1.0341200647495512,0.40663627005479669,0.99920189913859903,8.6687297233701026E-4,0.22297738606948475,0.63048052909661845,0.31312563278235372,0.55950991674522421,0.51482017235317656,0.6689810401578159,0.49636623644737021,0.65435733127414708,-2.1859676143017426,{"$f":"+Spectre!C70*N71/L71","v":1.773004367750648},1.8130211760843078]
[3870,0.38700000000000001,6.6769491683859812,1.0340981990738594,0.40620754791706992,0.9992007015679214,8.6817425751547659E-4,0.22290248700852391,0.62997820918310932,0.31341544511348113,0.55976883598996063,0.51509257192432456,0.66933500870495377,0.49664331559736491,0.6547226034458401,-2.183122811308813,{"$f":"+Spectre!C71*N72/L72","v":1.7441755887356178},1.7835417299049312]
[3871,0.3871,6.67349988564958,1.0340763518372882,0.40577939321586104,0.99919950220097842,8.6947749608634064E-4,0.22282763244799306,0.62947650315994041,0.31370517100514078,0.56002755840491369,0.51536478245997286,0.66968873161065801,0.49692021051239915,0.65508763274143045,-2.1802814023928252,{"$f":"+Spectre!C72*N73/L73","v":1.7445063583172666},1.7838799649746477]
[3872,0.38719999999999999,6.6700532750495194,1.0340545230186251,0.40535180504582402,0.99919830103507801,8.7078269098185665E-4,0.22275282234996713,0.62897541008677305,0.31399481026577847,0.56028608409172653,0.51563680401878254,0.67004220895115552,0.49719692123137327,0.6554524192122001,-2.1774433825285988,{"$f":"+Spectre!C73*N74/L74","v":1.7452404905539318},1.7846306666171985]
[3873,0.38729999999999998,6.6666093338263952,1.0340327125966902,0.40492478250330655,0.99919709806752388,8.720898451388873E-4,0.22267805667656318,0.62847492902500857,0.31428436270445548,0.56054441315219605,0.51590863665967479,0.67039544080301106,0.49747344779349212,0.65581696290983271,-2.1746087466997133,{"$f":"+Spectre!C74*N75/L75","v":1.7458630868498626},1.7852673149465572]
[3874,0.38740000000000002,6.6631680592243683,1.0340109205503343,0.40449832468634656,0.99919589329561598,8.7339896149842184E-4,0.22260333538994015,0.62797505903778505,0.31457382813084656,0.56080254568827204,0.51618028044182973,0.67074842724312622,0.49774979023826288,0.6561812638864104,-2.1717774898987074,{"$f":"+Spectre!C75*N76/L76","v":1.7462725786179802},1.7856860489669204]
[3875,0.38750000000000001,6.6597294484911549,1.0339891468584386,0.40407243069466775,0.99919468671665013,8.747100430059379E-4,0.22252865845229922,0.62747579918997287,0.31486320635523996,0.56106048180205692,0.5164517354246857,0.67110116834873779,0.49802594860549498,0.65654532219441375,-2.1689496071269132,{"$f":"+Spectre!C76*N77/L77","v":1.7437166771464283},1.7830724606553543]
[3876,0.3876,6.656293498878016,1.0339673914999166,0.4036470996296761,0.99919347832791794,8.7602309261152259E-4,0.22245402582588369,0.62697714854817133,0.31515249718853555,0.5613182215958038,0.51672300166793816,0.67145366419741692,0.49830192293529851,0.65690913788671967,-2.166125093394522,{"$f":"+Spectre!C77*N78/L78","v":1.733783229679148},1.7729148147198577]
[3877,0.38769999999999999,6.6528602076397592,1.0339456544537113,0.4032223305944565,0.99919226812670736,8.7733811326926839E-4,0.22237943747297845,0.62647910618070424,0.31544170044224518,0.5615757651719171,0.51699407923153862,0.6718059148670672,0.4985777132680832,0.65727271101660023,-2.1633039437205182,{"$f":"+Spectre!C78*N79/L79","v":1.7250631893472252},1.7639979625870328]
[3878,0.38779999999999998,6.6494295720347347,1.0339239356987981,0.40279812269376997,0.99919105611030179,8.7865510793823918E-4,0.22230489335590981,0.62598167115761805,0.31573081592848962,0.56183311263294955,0.51726496817569256,0.67215792043592248,0.49885331964455659,0.65763604163771994,-2.1604861531326569,{"$f":"+Spectre!C79*N80/L80","v":1.7411923196233221},1.780491128240925]
[3879,0.38790000000000002,6.6460015893248192,1.0339022352141829,0.40237447503404827,0.99918984227598084,8.7997407958162607E-4,0.22223039343704659,0.62548484255067649,0.31601984345999901,0.56209026408160312,0.5175356685608602,0.6725096809825476,0.49912874210572394,0.65799912980413577,-2.1576717166675863,{"$f":"+Spectre!C80*N81/L81","v":1.764166325935647},1.8039836591682925]
[3880,0.38800000000000001,6.6425762567754267,1.0338805529789017,0.40195138672339215,0.99918862662102015,8.8129503116698797E-4,0.22215593767879888,0.62498861943335804,0.31630878285011105,0.56234721962072698,0.51780618044775295,0.67286119658583365,0.49940398069288561,0.65836197557029397,-2.1548606293705475,{"$f":"+Spectre!C81*N82/L82","v":1.7711778070381023},1.8111533897937131]
[3881,0.3881,6.6391535716554877,1.0338588889720222,0.4015288568715667,0.999187409142691,8.8261796566661388E-4,0.22208152604361872,0.62449300088085202,0.31659763391277013,0.56260397935331696,0.51807650389733439,0.67321246732499962,0.49967903544763742,0.65872457899102999,-2.152052886295619,{"$f":"+Spectre!C82*N83/L83","v":1.7534457834445469},1.7930211534300045]
[3882,0.38819999999999999,6.6357335312374506,1.0338372431726419,0.40110688458999766,0.99918618983826091,8.8394288605692019E-4,0.22200715849399924,0.62399798597005385,0.31688639646252698,0.56286054338251501,0.51834663897081878,0.67356349327958998,0.4999539064118686,0.6590869401215661,-2.1492484825056835,{"$f":"+Spectre!C83*N84/L84","v":1.7388018205969615},1.7780466755170443]
[3883,0.38829999999999998,6.6323161327972739,1.0338156155598901,0.40068546899176832,0.99918496870499296,8.8526979531917385E-4,0.22193283499247574,0.62350357377956322,0.31717507031453657,0.56311691181160761,0.51861658572966884,0.6739142745294725,0.50022859362776084,0.6594490590175105,-2.1464474130721833,{"$f":"+Spectre!C84*N85/L85","v":1.7402763140960811},1.7795544484173975]
[3884,0.38840000000000002,6.6289013736144256,1.0337940061129256,0.40026460919161599,0.99918374574014646,8.8659869643876934E-4,0.22185855550162425,0.62300976338967895,0.31746365528455778,0.56337308474402581,0.5188863442355961,0.67426481115483772,0.50050309713778718,0.65981093573485494,-2.1436496730753429,{"$f":"+Spectre!C85*N86/L86","v":1.7431911642768834},1.782535086930777]
[3885,0.38850000000000001,6.625489250971877,1.0337724148109386,0.3998443043059291,0.99918252094097626,8.8792959240595218E-4,0.22178431998406289,0.62251655388239802,0.317752151188951,0.5636290622833422,0.51915591455055798,0.67461510323619611,0.50077741698471001,0.66017257032997312,-2.1408552576040352,{"$f":"+Spectre!C86*N87/L87","v":1.756952083394687},1.7966065907672923]
[3886,0.3886,6.6220797621560852,1.0337508416331498,0.39942455345274114,0.99918129430473357,8.8926248621497457E-4,0.22171012840245091,0.62202394434140706,0.31804055784468016,0.56388484453327348,0.51942529673675941,0.67496515085437958,0.50105155321158223,0.66053396285962129,-2.1380641617557705,{"$f":"+Spectre!C87*N88/L88","v":1.7804437290410653},1.8206284441776062]
[3887,0.38869999999999999,6.6186729044570081,1.0337292865588095,0.39900535575173057,0.99918006582866514,8.9059738086494009E-4,0.22163598071948876,0.62153193385208427,0.31832887506930807,0.56414043159767646,0.51969449085664898,0.67531495409053666,0.50132550586174318,0.66089511338093365,-2.1352763806367303,{"$f":"+Spectre!C88*N89/L89","v":1.7937796353191771},1.8342653426107254]
[3888,0.38879999999999998,6.6152686751680818,1.0337077495671991,0.39858671032421467,0.99917883551001363,8.9193427935944176E-4,0.22156187689791834,0.62104052150149247,0.31861710268099741,0.56439582358054829,0.51996349697291955,0.67566451302613328,0.50159927497881929,0.66125602195142252,-2.1324919093617556,{"$f":"+Spectre!C89*N90/L90","v":1.7508822029147131},1.7903997127433791]
[3889,0.38890000000000002,6.6118670715862216,1.0336862306376302,0.39816861629314709,0.99917760334601768,8.9327318470644131E-4,0.22148781690052258,0.62054970637837614,0.31890524049850955,0.56465102058602623,0.52023231514850665,0.67601382774295105,0.50187286060672287,0.6616166886289776,-2.1297107430541806,{"$f":"+Spectre!C90*N91/L91","v":1.706392132210335},1.7449054986400838]
[3890,0.38900000000000001,6.6084680910118232,1.0336647297494448,0.39775107278311483,0.99917636933391174,8.9461409991851125E-4,0.22141380069012531,0.62005948757315865,0.31919328834120297,0.56490602271838597,0.52050094544658743,0.67636289832308494,0.50214626278965035,0.66197711347186261,-2.1269328768460216,{"$f":"+Spectre!C91*N92/L92","v":1.7138882184420634},1.7525707719598105]
[3891,0.3891,6.6050717307487412,1.0336432468820147,0.39733407892033329,0.99917513347092612,8.959570280127132E-4,0.221339828229592,0.61956986417793802,0.31948124602903244,0.56516083008204054,0.52076938793057947,0.67671172484894293,0.50241948157208127,0.66233729653871465,-2.1241583058778768,{"$f":"+Spectre!C92*N93/L93","v":1.7499867206277124},1.7894840193707788]
[3892,0.38919999999999999,6.6016779881043046,1.0336217820147424,0.39691763383264472,0.99917389575428717,8.9730197201047827E-4,0.22126589948182898,0.61908083528648417,0.31976911338254793,0.56541544278153988,0.52103764266413988,0.67706030740324386,0.50269251699877715,0.66269723788854296,-2.1213870252988487,{"$f":"+Spectre!C93*N94/L94","v":1.7713030526102551},1.811281462165476]
[3893,0.38929999999999998,6.5982868603892912,1.0336003351270604,0.39650173664951271,0.99917265618121665,8.9864893493820991E-4,0.22119201440978337,0.61859239999423421,0.32005689022289358,0.56566986092157046,0.52130570971116408,0.6774086460690163,0.50296536911478096,0.66305693758072715,-2.1186190302665442,{"$f":"+Spectre!C94*N95/L95","v":1.7470835131971061},1.7865152863851221]
[3894,0.38940000000000002,6.5948983449179304,1.0335789061984311,0.39608638650201972,0.99917141474893267,8.9999791982631921E-4,0.22111817297644304,0.61810455739828907,0.32034457637180713,0.56592408460695354,0.52157358913578544,0.67775674092959837,0.50323803796541555,0.6634163956750162,-2.1158543159472298,{"$f":"+Spectre!C95*N96/L96","v":1.7248464605182361},1.7637763421761796]
[3895,0.38950000000000001,6.5915124390079116,1.0335574952083468,0.39567158252286488,0.99917017145464881,9.0134892971018932E-4,0.22104437514483696,0.61761730659741199,0.32063217165161784,0.56617811394264417,0.5218412810023727,0.67810459206863349,0.50351052359628168,0.66377561223152559,-2.11309287751551,{"$f":"+Spectre!C96*N97/L97","v":1.7277490382420626},1.7667444312425389]
[3896,0.3896,6.5881291399803521,1.0335361021363298,0.39525732384635748,0.99916892629557474,9.027019676294528E-4,0.22097062087803537,0.61713064669202233,0.32091967588524617,0.56643194903373151,0.52210878537553029,0.67845219957007186,0.50378282605325853,0.66413458731073738,-2.1103347101545822,{"$f":"+Spectre!C97*N98/L98","v":1.7377077600178015},1.7769279219290581]
[3897,0.38969999999999999,6.5847484451598124,1.0335147269619331,0.39484360960841658,0.9991676792689157,9.0405703662859414E-4,0.22089691013914831,0.61664457678419349,0.32120708889620275,0.56668558998543661,0.52237610232009701,0.67879956351816784,0.5040549453825014,0.664493320973498,-2.1075798090561038,{"$f":"+Spectre!C98*N99/L99","v":1.7512572841533058},1.79078325958663]
[3898,0.38979999999999998,6.5813703518742832,1.0334933696647381,0.39443043894656571,0.99916643037187292,9.0541413975646725E-4,0.22082324289132704,0.61615909597764928,0.32149441050858713,0.56693903690311276,0.52264323190114459,0.67914668399747868,0.50432688163044104,0.66485181328101695,-2.1048281694201476,{"$f":"+Spectre!C99*N100/L100","v":1.7716505836020788},1.8116368369513383]
[3899,0.38990000000000002,6.577994857455181,1.0334720302243576,0.39401781099993022,0.99916517960164353,9.0677328006641704E-4,0.22074961909776353,0.61567420337776024,0.32178164054708669,0.56719228989224346,0.52291017418397667,0.67949356109286296,0.50459863484378231,0.66521006429486484,-2.1020797864552687,{"$f":"+Spectre!C100*N101/L101","v":1.7912503059547369},1.8316789261402238]
[3900,0.39,6.5746219592373425,1.033450708620433,0.39360572490923362,0.99916392695542011,9.0813446061676077E-4,0.22067603872169037,0.61518989809154079,0.32206877883697543,0.56744534905844224,0.52317692923412817,0.67984019488947978,0.50487020506950331,0.66556807407697294,-2.0993346553783931,{"$f":"+Spectre!C101*N102/L102","v":1.7986795366771502},1.8392758350180285]
[3901,0.3901,6.5712516545590249,1.0334294048326358,0.39319417981679472,0.99916267243039147,9.0949768446994491E-4,0.22060250172638032,0.61470617922764503,0.32235582520411332,0.56769821450745184,0.52344349711736349,0.68018658547278632,0.5051415923548539,0.66592584268963029,-2.0965927714148624,{"$f":"+Spectre!C102*N103/L103","v":1.8048044057778896},1.8455389427589715]
[3902,{"$f":"+A104/10000","v":0.39019999999999999},{"$f":"+(1/B104)^2","v":6.5678839407618899},{"$f":"0.23465+1.076*100/(146-C104)+0.93161/(41-C104)","v":1.0334081188406667},{"$f":"9.4977*0.001*C104^2*D104*EXP(-h/7.996/1000)","v":0.39278317486652298},{"$f":"+EXP(-0.0168*EXP(-15*ABS(B104-0.59)))","v":0.99916141602374187},{"$f":"-2.5*LOG(F104)","v":9.1086295469338849E-4},{"$f":"2.5*LOG(EXP(AOD*(B104/0.55)^(-1.3)))","v":0.22052900807514678},{"$f":"+E104+G104+H104","v":0.61422304589636312},{"$f":"10^(-0.4*I104*ma)","v":0.32264277947494524},{"$f":"10^(-0.4*I104)","v":0.56795088634514335},{"$f":"10^(-0.4*I104*ma_ref)","v":0.52370987789967671},{"$f":"+L104/M$1","v":0.68053273292853855},{"$f":"10^(-0.4*I104*ma_target)","v":0.50541279674735529},{"$f":"+N104/O$1","v":0.666283370195484},{"$f":"(O104/M104-1)*100","v":-2.093854129798467},{"$f":"+Spectre!C103*N104/L104","v":1.8118810947742765},1.8527753530241586]
[3903,0.39029999999999998,6.5645188151910068,1.0333868506242567,0.39237270920391626,0.99916015773265165,9.1223027435876074E-4,0.22045555773134351,0.61374049720961854,0.32292964147649966,0.56820336467751498,0.52397607164728954,0.68087863734278786,0.50568381829479814,0.66664065665753636,-2.0911187257713015,{"$f":"+Spectre!C104*N105/L105","v":1.8205161694836107},1.8616053218555126]
[3904,0.39040000000000002,6.561156275194838,1.0333656001631659,0.39196278197605627,0.99915889755429665,9.1359964654270378E-4,0.22038215065836472,0.61325853228096372,0.32321641103638815,0.56845564961069195,0.5242420784266506,0.68122429880188062,0.50595465704524234,0.66699770213914433,-2.0883865545838098,{"$f":"+Spectre!C105*N106/L106","v":1.8305921092832496},1.8719086761833261]
[3905,0.39050000000000001,6.5577963181252565,1.0333443674371845,0.39155339233160835,0.99915763548584868,9.1497107432622995E-4,0.22030878681964527,0.61277715022557988,0.32350308798280214,0.5687077412509236,0.52450789830443334,0.68156971739245542,0.50622531304701379,0.66735450670401575,-2.0856576114948511,{"$f":"+Spectre!C106*N107/L107","v":1.8586483679587005},1.9005981661955953]
[3906,0.3906,6.5544389413375095,1.033323152426131,0.39114453942081306,0.99915637152447534,9.1634456079496378E-4,0.22023546617865969,0.61229635016026773,0.32378967214451576,0.56895963970458618,0.52477353134753757,0.68191489320144494,0.50649578634870696,0.66771107041621258,-2.082931891771489,{"$f":"+Spectre!C107*N108/L108","v":1.887980275092072},1.9305920961232512]
[3907,0.39069999999999999,6.5510841421902342,1.0333019551098543,0.39073622239548678,0.99915510566733967,9.1772010903950281E-4,0.2201621886989229,0.61181613120344913,0.3240761633508813,0.56921134507817872,0.52503897762308593,0.68225982631607152,0.50676607699918041,0.66806739334014487,-2.0802093906891805,{"$f":"+Spectre!C108*N109/L109","v":1.8962717960415045},1.9390707571670136]
[3908,0.39079999999999998,6.5477319180454447,1.033280775468232,0.39032844040901649,0.99915383791160095,9.1909772215457411E-4,0.22008895434399012,0.6113364924751612,0.32436256143183023,0.56946285747832392,0.52530423719842445,0.6826045168238476,0.50703618504755776,0.66842347554057191,-2.0774901035316762,{"$f":"+Spectre!C109*N110/L110","v":1.8916502092202321},1.9343448608711633]
[3909,0.39090000000000003,6.5443822662685314,1.0332596134811711,0.38992119261635749,0.9991525682544139,9.2047740323987861E-4,0.22001576307745616,0.61085743309705354,0.32464886621787131,0.56971417701176663,0.5255693101411204,0.68294896481257328,0.5073061105432255,0.66877931708259974,-2.074774025590953,{"$f":"+Spectre!C110*N111/L111","v":1.8895325819280784},1.9321794386118827]
[3910,0.39100000000000001,6.5410351842282566,1.0332384691286083,0.38951447817403012,0.9991512966929289,9.2185915539984959E-4,0.21994261486295691,0.6103789521923868,0.32493507754008855,0.5699653037853728,0.52583419651896124,0.68329317037033455,0.50757585353583168,0.66913491803167924,-2.0720611521671928,{"$f":"+Spectre!C111*N112/L112","v":1.8972489287616703},1.9400699438276492]
[3911,0.3911,6.5376906692967367,1.0332173423905084,0.38910829624011445,0.99915002322429247,9.2324298174317103E-4,0.21986950966416707,0.6099010488860247,0.32522119523014287,0.57021623790612963,0.52609889639995555,0.68363713358550504,0.50784541407528638,0.66949027845360654,-2.0693514785690148,{"$f":"+Spectre!C112*N113/L113","v":1.9050361296342777},1.9480329022620781]
[3912,0.39119999999999999,6.5343487188494533,1.0331962332468667,0.38870264597424958,0.99914874784564645,9.2462888538362095E-4,0.21979644744480187,0.60942372230443509,0.32550721912026837,0.570466979481144,0.52636340985232921,0.68398085454674051,0.50811479221175948,0.66984539841452029,-2.0666450001129766,{"$f":"+Spectre!C113*N114/L114","v":1.9029905406366152},1.9459411442056487]
[3913,0.39129999999999998,6.531009330265241,1.0331751416777066,0.38829752653762883,0.99914747055412845,9.2601686943959009E-4,0.2197234281686164,0.60894697157568478,0.32579314904327256,0.57071752861764169,0.52662773694452669,0.68432433334298093,0.50838398799567908,0.67020027798089987,-2.0639417121241177,{"$f":"+Spectre!C114*N115/L115","v":1.8980040420876167},1.9408421001038469]
[3914,0.39140000000000003,6.5276725009262755,1.0331540676630804,0.38789293709299588,0.99914619134687221,9.2740693703371969E-4,0.21965045179940551,0.60847079582943508,0.32607898483253583,0.57096788542296739,0.52689187774520896,0.68466757006344758,0.50865300147773229,0.67055491721956573,-2.0612416099354713,{"$f":"+Spectre!C115*N116/L116","v":1.8932129677343643},1.935942890932884]
[3915,0.39150000000000001,6.5243382282180891,1.0331330111830701,0.38748887680464444,0.9991449102210066,9.2879909129398692E-4,0.21957751830100375,0.60799519419694215,0.32636472632200797,0.57121805000458148,0.52715583232325181,0.68501056479764066,0.50892183270886149,0.6709093161976748,-2.0585446888883419,{"$f":"+Spectre!C116*N117/L117","v":1.8893737286530881},1.9320170000095385]
[3916,0.3916,6.5210065095295366,1.0331119722177864,0.38708534483841078,0.99914362717365668,9.3019333535249897E-4,0.21950462763728518,0.60752016581104851,0.32665037334621078,0.57146802247006312,0.52741960074774719,0.68535331763534157,0.50919048174026615,0.67126347498272343,-2.0558509443321826,{"$f":"+Spectre!C117*N118/L118","v":1.8840962389056453},1.9266203970215714]
[3917,0.39169999999999999,6.517677342252818,1.0330909507473682,0.38668234036167398,0.99914234220194287,9.3158967234645859E-4,0.2194317797721641,0.60704570980618455,0.3269359257402335,0.5717178029271055,0.52768318308799922,0.68569582866660717,0.50945894862339935,0.6716173936425418,-2.0531603716245517,{"$f":"+Spectre!C118*N119/L119","v":1.9111827848546172},1.9543182878365666]
[3918,0.39179999999999998,6.5143507237834513,1.0330699467519844,0.38627986254335028,0.99914105530298136,9.329881054176806E-4,0.219358974669594,0.60657182531836196,0.32722138333973411,0.5719673914835175,0.52794657941352541,0.68603809798177173,0.50972723340996806,0.67197107224529495,-2.0504729661311782,{"$f":"+Spectre!C119*N120/L120","v":1.9429594925686742},1.9868121976315645]
[3919,0.39190000000000003,6.5110266515202806,1.0330489602118309,0.38587791055389098,0.99913976647388436,9.3438863771235186E-4,0.21928621229356787,0.60609851148517113,0.32750674598093771,0.57221678824722244,0.52820978979405542,0.68638012567144535,0.50999533615193249,0.67232451085948186,-2.0477887232258851,{"$f":"+Spectre!C120*N121/L121","v":1.955209636834605},1.9993388283428002]
[3920,0.39200000000000002,6.5077051228654721,1.0330279911071343,0.3854764835652798,0.99913847571175918,9.3579127238199581E-4,0.21921349260811848,0.60562576744578023,0.32779201350063414,0.57246599332625625,0.52847281429952819,0.68672191182650977,0.51026325690150276,0.6726777095539308,-2.0451076382905664,{"$f":"+Spectre!C121*N122/L122","v":1.9404114357595088},1.9842066310368565]
[3921,0.3921,6.5043861352244967,1.0330070394181481,0.38507558075102749,0.99913718301370935,9.3719601258226623E-4,0.21914081557731763,0.60515359234092736,0.32807718573617928,0.57271500682876797,0.52873565300009417,0.68706345653812162,0.51053099571114091,0.67303066839780235,-2.0424297067152541,{"$f":"+Spectre!C122*N123/L123","v":1.9278133714374068},1.9713242276942069]
[3922,0.39219999999999999,6.5010696860061357,1.0329861051251559,0.38467520128617083,0.99913588837683365,9.3860286147403325E-4,0.21906818116527693,0.60468198531292172,0.32836226252549205,0.57296382886301833,0.52899830596611086,0.68740475989770689,0.51079855263355756,0.67338338746058468,-2.0397549238979296,{"$f":"+Spectre!C123*N124/L124","v":1.9267942706041683},1.9702821256978251]
[3923,0.39229999999999998,6.4977557726224742,1.0329651882084687,0.38427534434726818,0.99913459179822672,9.4001182222265946E-4,0.21899558933614713,0.60421094550563792,0.32864724370705428,0.57321245953737876,0.52926077326814436,0.68774582199696221,0.51106592772171144,0.67373586681209297,-2.0370832852447562,{"$f":"+Spectre!C124*N125/L125","v":1.9249682018623153},1.9684148424817294]
[3924,0.39240000000000003,6.4944443924888882,1.0329442886484266,0.38387600911239611,0.99913329327497891,9.4142289799824144E-4,0.21892304005411808,0.60374047206451242,0.32893212911990977,0.57346089896033148,0.52952305497696772,0.68808664292785349,0.51133312102880957,0.67408810652246975,-2.0344147861698136,{"$f":"+Spectre!C125*N126/L126","v":1.9353378640941017},1.9790185485735095]
[3925,0.39250000000000002,6.4911355430240567,1.032923406425398,0.38347719476114778,0.99913199280417608,9.4283609197573027E-4,0.2188505332834193,0.60327056413654279,0.32921691860366198,0.57370914724046718,0.52978515116355895,0.68842722278261281,0.51160013260830373,0.67444010666218035,-2.031749422095297,{"$f":"+Spectre!C126*N127/L127","v":1.9537107771859603},1.9978061393475561]
[3926,0.3926,6.4878292216499389,1.0329025415197797,0.38307890047462778,0.99913069038289981,9.4425140733481118E-4,0.21877806898831925,0.60280122087028176,0.32950161199847466,0.57395720448648546,0.53004706189910133,0.68876756165373898,0.51186696251389141,0.67479186730201379,-2.0290871884514061,{"$f":"+Spectre!C127*N128/L128","v":1.967986279339873},2.0124038403882571]
[3927,0.39269999999999999,6.484525425791773,1.0328816939119967,0.3826811254354493,0.9991293860082272,9.4566884726002439E-4,0.21870564713312557,0.60233244141583486,0.32978620914507001,0.5742050708071943,0.53030878725498198,0.68910765963399556,0.5121336107995148,0.67514338851308209,-2.0264280806761459,{"$f":"+Spectre!C128*N129/L129","v":1.9535151390429377},1.9976060856406384]
[3928,0.39279999999999998,6.4812241528780792,1.0328608635825023,0.38228386882773191,0.99912807967723116,9.4708841494052325E-4,0.21863326768218475,0.60186422492485714,0.33007070988472786,0.574452746311508,0.53057032730279108,0.68944751681641037,0.5124000775193589,0.67549467036681676,-2.0237720942157034,{"$f":"+Spectre!C129*N130/L130","v":1.9391915027979796},1.982959164119749]
[3929,0.39290000000000003,6.4779254003406477,1.0328400505117785,0.38188712983709799,0.99912677138698014,9.4851011357031684E-4,0.21856093059988255,0.60139657055055085,0.33035511405928386,0.5747002311084477,0.53083168211432008,0.68978713329427244,0.51266636272785038,0.67584571293496842,-2.0211192245240706,{"$f":"+Spectre!C130*N131/L131","v":1.930128405684947},{"$f":"+Q131/R$1","v":1.9736915123949634}]
[3930,0.39300000000000002,6.47462916561454,1.032819254680335,0.38149090765066929,0.99912546113453815,9.4993394634826855E-4,0.21848863585064343,0.60092947744766101,0.33063942151112957,0.57494752530713922,0.53109285176156185,0.69012650916113261,0.51293246647965707,0.67619651628960542,-2.0184694670632886,{"$f":"+Spectre!C131*N132/L132","v":1.923184957667142},1.9665913503647414]
[3931,0.3931,6.4713354461380712,1.0327984760687097,0.3810952014570631,0.99912414891696488,9.5135991647797677E-4,0.21841638339893105,0.60046294477247208,0.33092363208321091,0.57519462901681417,0.5313538363167094,0.69046564451080172,0.51319838882968738,0.67654708050311319,-2.0158228173032255,{"$f":"+Spectre!C132*N133/L133","v":1.9139231282713978},1.9571204809584422]
[3932,0.39319999999999999,6.4680442393528237,1.0327777146574688,0.38070001044639118,0.99912283473131547,9.5278802716801619E-4,0.21834417320924784,0.59999697168280708,0.33120774561902627,0.57544154234680689,0.53161463585215385,0.69080453943734832,0.51346412983308765,0.6768974056481909,-2.0131792707217322,{"$f":"+Spectre!C133*N134/L134","v":1.8977211928340711},1.9405528669267349]
[3933,0.39329999999999998,6.464755542703621,1.0327569704272064,0.38030533381025378,0.99912151857464093,9.54218281631454E-4,0.2182720052461351,0.59953155733802033,0.33149176196262753,0.57568826540655582,0.53187525044048556,0.6911431940350995,0.51372968954524334,0.67724749179785304,-2.0105388228044641,{"$f":"+Spectre!C134*N135/L135","v":1.8813879313762785},1.9238509628388909]
[3934,0.39340000000000003,6.4614693536385435,1.0327362433585447,0.37991117074173925,0.99912020044398775,9.5565068308633419E-4,0.21819987947417274,0.59906670089899827,0.33177568095861648,0.57593479830560124,0.5321356801544912,0.69148160839863759,0.51399506802177586,0.67759733902542496,-2.0079014690450592,{"$f":"+Spectre!C135*N136/L136","v":1.8723579861304593},1.9146172112208271]
[3935,0.39350000000000002,6.4581856696089082,1.0327155334321338,0.37951752043541875,0.99911888033639773,9.5708523475579747E-4,0.21812779585797964,0.59860240152815414,0.33205950245214577,0.57618114115358499,0.5323959250671535,0.69181978262279986,0.51426026531854296,0.67794694740454364,-2.0052672049449161,{"$f":"+Spectre!C136*N137/L137","v":1.8643353967755505},1.9064135515728076]
[3936,0.39360000000000001,6.4549044880692703,1.0326948406286518,0.37912438208734445,0.99911755824890869,9.5852193986735771E-4,0.21805575436221264,0.59813865838942437,0.33234322628891738,0.57642729406025051,0.53265598525165125,0.69215771680267812,0.51452528149163768,0.67829631700915649,-2.0026360260133158,{"$f":"+Spectre!C137*N138/L138","v":1.8657994800143316},1.9079106792526608]
[3937,0.39369999999999999,6.4516258064774199,1.0326741649288043,0.37873175489504568,0.99911623417855366,9.5996080165374636E-4,0.21798375495156813,0.59767547064826754,0.33262685231518041,0.57667325713544026,0.53291586078135655,0.69249541103361534,0.51479011659738616,0.67864544791351777,-2.0000079277673777,{"$f":"+Spectre!C138*N139/L139","v":1.881911776208895},1.9243866308788524]
[3938,0.39379999999999998,6.4483496222943684,1.0326535063133249,0.37833963805752607,0.99911490812236148,9.6140182335230926E-4,0.21791179759078039,0.59721283747165876,0.3329103803777323,0.57691903048909732,0.53317555172983544,0.69283286541120681,0.51505477069234817,0.67899434019219007,-1.9973829057320147,{"$f":"+Spectre!C139*N140/L140","v":1.8973156455631326},1.9401381664310742]
[3939,0.39389999999999997,6.4450759329843592,1.0326328647629752,0.37794803077526107,0.9991135800773564,9.6284500820536937E-4,0.21783988224462245,0.59675075802808886,0.33319381032391476,0.57716461423126186,0.53343505817084591,0.69317008003129699,0.51531924383331462,0.67934299392004049,-1.9947609554400003,{"$f":"+Spectre!C140*N141/L141","v":1.8983988695791452},1.941245838874073]
[3940,0.39400000000000002,6.4418047360148423,1.032612240258544,0.37755693225019299,0.99911225004055826,9.6429035946010515E-4,0.21776800887790565,0.59628923148755875,0.33347714200161621,0.57741000847207336,0.53369438017833803,0.69350705498998,0.51558353607730834,0.67969140917224213,-1.9921420724317573,{"$f":"+Spectre!C141*N142/L142","v":1.8983929638119785},1.9412397998134092]
[3941,0.39410000000000001,6.438536028856487,1.0325916327808482,0.37716634168572999,0.99911091800898244,9.6573788036855165E-4,0.21769617745547989,0.59582825702157849,0.33376037525926777,0.5776552133217675,0.53395351782645162,0.69384379038359656,0.51584764748158096,0.6800395860242695,-1.9895262522556134,{"$f":"+Spectre!C142*N143/L143","v":1.8899705707150101},1.9326273128303779]
[3942,0.39419999999999999,6.4352698089831728,1.0325710423107324,0.37677625828674238,0.99910958397963978,9.6718757418772048E-4,0.21762438794223346,0.5953678338031636,0.33404350994584342,0.57790022889067616,0.53421247118951631,0.69418028630873396,0.51611157810361352,0.68038752455189955,-1.9869134904675345,{"$f":"+Spectre!C143*N144/L144","v":1.8740255533032228},1.9163224154785012]
[3943,0.39429999999999998,6.4320060738719764,1.0325504688290681,0.37638668125955876,0.9991082479495369,9.6863944417923851E-4,0.21755264030309257,0.59490796100683063,0.33432654591085936,0.57814505528922744,0.53447124034205074,0.69451654286222519,0.51637532800111485,0.68073522483120952,-1.9843037826313581,{"$f":"+Spectre!C144*N145/L145","v":1.8597577154611362},1.9017325517335755]
[3944,0.39439999999999997,6.428744821003173,1.0325299123167546,0.37599760981196328,0.99910690991567563,9.7009349360995098E-4,0.21748093450302197,0.59444863780859514,0.33460948300437271,0.57838969262794415,0.53472982535876123,0.69485256014114705,0.51663889723202105,0.68108268693857643,-1.9816971243185044,{"$f":"+Spectre!C145*N146/L146","v":1.8578202570878684},1.8997513648158169]
[3945,0.39450000000000002,6.4254860478602316,1.032509372754719,0.37560904315319293,0.9991055698750535,9.7154972575143892E-4,0.21740927050702438,0.59398986338596871,0.33489232107697986,0.57863414101744326,0.53498822631454068,0.69518833824281889,0.51690228585449383,0.6814299109506744,-1.9790935111081875,{"$f":"+Spectre!C146*N147/L147","v":1.857225460046819},1.8991431431720862]
[3946,0.39460000000000001,6.422229751929815,1.0324888501239158,0.37522098049393521,0.99910422782466357,9.7300814388013993E-4,0.21733764828014124,0.59353163691795663,0.33517505997981556,0.57887840056843409,0.53524644328446735,0.6955238772648008,0.51716549392691924,0.68177689694447374,-1.9764929385872487,{"$f":"+Spectre!C147*N148/L148","v":1.8485308213487865},1.8902522659894578]
[3947,0.3947,6.4189759307017642,1.032468344405326,0.37483342104632311,0.99910288376149414,9.7446875127771065E-4,0.21726606778745122,0.5930739575850521,0.33545769956455274,0.57912247139172013,0.53550447634380549,0.69585917730489466,0.51742852150790797,0.68212364499724043,-1.9738954023503452,{"$f":"+Spectre!C148*N149/L149","v":1.8350555483587221},1.876472855329856]
[3948,0.39479999999999998,6.4157245816690951,1.0324478555799586,0.374446364023933,0.99910153768252941,9.7593155123030227E-4,0.21719452899407177,0.59261682456923515,0.33574023968340128,0.5793663535981961,0.53576232556800296,0.69619423846114081,0.51769136865629395,0.68247015518653509,-1.9713008979995728,{"$f":"+Spectre!C149*N150/L150","v":1.8240632366577476},1.8652324465353365]
[3949,0.39489999999999997,6.4124757023280052,1.0324273836288502,0.37405980864178279,0.99910018958474878,9.7739654702928488E-4,0.21712303186515766,0.5921602370539697,0.33602268018910564,0.57961004729884791,0.53601999103269082,0.69652906083181787,0.5179540354311325,0.68281642759021011,-1.9687094211448541,{"$f":"+Spectre!C150*N151/L151","v":1.8216712328192022},1.8627864550355751]
[3950,0.39500000000000002,6.4092292901778549,1.0324069285330637,0.3736737541163267,0.99909883946512723,9.7886374197088595E-4,0.21705157636590203,0.59170419422419962,0.33630502093494552,0.57985355260475202,0.53627747281368221,0.69686364451544069,0.5182165218917002,0.68316246228640942,-1.9661209674036395,{"$f":"+Spectre!C151*N152/L152","v":1.8197374414729424},1.8608090179098304]
[3951,0.39510000000000001,6.4059853427211761,1.0323864902736903,0.37328819966545473,0.99909748732063508,9.8033313935643102E-4,0.21698016246153584,0.59124869526634694,0.33658726177473336,0.58009686962707396,0.53653477098697144,0.69719798961076007,0.51847882809749313,0.68350825935356663,-1.9635355324011061,{"$f":"+Spectre!C152*N153/L153","v":1.8117681132230796},1.8526598214729946]
[3952,0.3952,6.402743857463653,1.032366068831847,0.37290314450848699,0.99909613314823842,9.8180474249186136E-4,0.21690879011732803,0.59079373936830692,0.33686940256281461,0.58033999847706919,0.53679188562873348,0.69753209621676104,0.51874095410822707,0.68385381887040453,-1.9609531117699142,{"$f":"+Spectre!C153*N154/L154","v":1.8014510915674848},1.8421099440581723]
[3953,0.39529999999999998,6.3995048319141272,1.032345664188679,0.37251858786617276,0.99909477694489846,9.832785546884592E-4,0.21683745929858469,0.59033932571944592,0.33715144315406614,0.58058293926608118,0.53704881681532302,0.69786596443266258,0.51900289998383586,0.6841991409159337,-1.9583737011504065,{"$f":"+Spectre!C154*N155/L155","v":1.7911509009049322},1.831577277512852]
[3954,0.39539999999999997,6.3962682635845871,1.0323252763253579,0.37213452896068605,0.99909341870757218,9.8475457926212157E-4,0.21676616997065037,0.58988545351059851,0.33743338340389517,0.58082569210554102,0.5373055646232735,0.69819959435791557,0.51926466578447039,0.68454422556945083,-1.9557972961904424,{"$f":"+Spectre!C155*N156/L156","v":1.7811228449995604},1.8213228878214933]
[3955,0.39550000000000002,6.3930341499901706,1.0323049052230824,0.37175096701562405,0.99909205843321169,9.8623281953408651E-4,0.21669492209890698,0.58943212193406513,0.33771522316823743,0.58106825710696619,0.53756212912929502,0.69853298609220082,0.51952625157049726,0.68488907291053691,-1.9532238925454304,{"$f":"+Spectre!C156*N157/L157","v":1.7713912681048822},1.8113716686887802]
[3956,0.39560000000000001,6.3898024886491545,1.0322845508630782,0.371367901256003,0.99909069611876489,9.8771327883020836E-4,0.21662371564877411,0.58897933018360726,0.33799696230355797,0.58131063438196073,0.53781851041027551,0.69886613973542999,0.51978765740249877,0.6852336830190574,-1.9506534858783398,{"$f":"+Spectre!C157*N158/L158","v":1.7794961492255597},1.8196594774323516]
[3957,0.3957,6.3865732770829515,1.032264213226598,0.37098533090825569,0.99908933176117476,9.8919596048168117E-4,0.21655255058570877,0.58852707745444621,0.33827860066684834,0.58155282404221387,0.53807470854327843,0.69919905538774285,0.52004888334127131,0.68557805597515975,-1.9480860718596893,{"$f":"+Spectre!C158*N159/L159","v":1.7923590095665491},1.8328126532549329]
[3958,0.39579999999999999,6.3833465128161011,1.0322438922949211,0.37060325520022819,0.99908796535737987,9.9068086782455773E-4,0.21648142687520561,0.58807536294325835,0.33856013811562685,0.58179482619950018,0.53833072360554268,0.69953173314950723,0.52030992944782462,0.68592219185927283,-1.9455216461675029,{"$f":"+Spectre!C159*N160/L160","v":1.8027164462507657},1.8434038578678467]
[3959,0.39589999999999997,6.3801221933762733,1.0322235880493535,0.37022167336117706,0.99908659690431434,9.9216800419974784E-4,0.21641034448279692,0.58762418584817377,0.3388415745079365,0.58203664096567742,0.53858655567448088,0.69986417312131666,0.52057079578338072,0.68626609075210554,-1.9429602044872762,{"$f":"+Spectre!C160*N161/L161","v":1.8098272847517662},1.8506751883938879]
[3960,0.39600000000000002,6.3769003162942548,1.0322033004712285,0.3698405846217665,0.99908522639890751,9.9365737295338237E-4,0.21633930337405183,0.58717354536877164,0.3391229097023451,0.58227826845268738,0.53884220482767931,0.70019637540399027,0.52083148240937338,0.68660975273464553,-1.9404017425119768,{"$f":"+Spectre!C161*N162/L162","v":1.8164291602544969},1.8574260685981527]
[3961,0.39610000000000001,6.373680879103957,1.0321830295419052,0.36945998821406567,0.99908385383808429,9.9514897743644901E-4,0.21626830351457788,0.58672344070607996,0.33940414355794235,0.58251970877255366,0.53909767114289597,0.70052834009857046,0.52109198938744572,0.68695317788815669,-1.9378462559421439,{"$f":"+Spectre!C162*N163/L163","v":1.8169794600272509},1.8579887886677389]
[3962,0.3962,6.3704638793423953,1.0321627752427704,0.36907988337154485,0.99908247921876481,9.9664282100515715E-4,0.2161973448700189,0.5862738710625689,0.33968527593434111,0.58276096203738237,0.53935295469806099,0.70086006730632311,0.52135231677945149,0.68729636629418056,-1.9352937404856108,{"$f":"+Spectre!C163*N164/L164","v":1.817046300541606},1.8580571377762636]
[3963,0.39629999999999999,6.3672493145496931,1.0321425375552364,0.36870026932907307,0.99908110253786464,9.9813890702069399E-4,0.21612642740605681,0.5858248356421506,0.33996630669167477,0.58300202835936066,0.539608055571275,0.70119155712873593,0.52161246464745248,0.68763931803453293,-1.9327441918578159,{"$f":"+Spectre!C164*N165/L165","v":1.8079512943227305},1.848756856755321]
[3964,0.39639999999999997,6.3640371822690804,1.0321223164607429,0.36832114532291554,0.99907972379229493,9.9963723884910569E-4,0.2160555510884099,0.5853763336501745,0.34024723569059689,0.58324290785075639,0.53986297384080861,0.70152280966751723,0.52187243305371844,0.6879820331913038,-1.9301976057814918,{"$f":"+Spectre!C165*N166/L166","v":1.7906430611274822},1.8310579757630527]
[3965,0.39650000000000002,6.36082748004688,1.0321021119407561,0.36794251059072985,0.99907834297896192,1.0011378198617796E-3,0.21598471588283455,0.58492836429342621,0.34052806279227976,0.58348360062391702,0.54011770958510052,0.70185382502459392,0.52213222206072518,0.6883245118468545,-1.9276539779868429,{"$f":"+Spectre!C166*N167/L167","v":1.7787808341794498},1.8189280176854057]
[3966,{"$f":"+A168/10000","v":0.39660000000000001},{"$f":"+(1/B168)^2","v":6.3576202054325091},{"$f":"0.23465+1.076*100/(146-C168)+0.93161/(41-C168)","v":1.0320819239767676},{"$f":"9.4977*0.001*C168^2*D168*EXP(-h/7.996/1000)","v":0.36756436437156348},{"$f":"+EXP(-0.0168*EXP(-15*ABS(B168-0.59)))","v":0.99907696009476732},{"$f":"-2.5*LOG(F168)","v":1.0026406534350823E-3},{"$f":"2.5*LOG(EXP(AOD*(B168/0.55)^(-1.3)))","v":0.21591392175512339},{"$f":"+E168+G168+H168","v":0.58448092678012198},{"$f":"10^(-0.4*I168*ma)","v":0.34080878785841423},{"$f":"10^(-0.4*I168)","v":0.5837241067912694},{"$f":"10^(-0.4*I168*ma_ref)","v":0.54037226288275864},{"$f":"+L168/M$1","v":0.70218460330211274},{"$f":"10^(-0.4*I168*ma_target)","v":0.522391831731155},{"$f":"+N168/O$1","v":0.68866675408381905},{"$f":"(O168/M168-1)*100","v":-1.925113304211501},{"$f":"+Spectre!C167*N168/L168","v":1.7920797401090069},1.8325270806700216]
[3967,0.3967,6.3544153559784773,1.0320617525502966,0.36718670590585173,0.9990755751366085,1.0041457429501182E-3,0.21584316867110703,0.58403402031990881,0.34108941075120702,0.58396442646531832,0.54062663381255693,0.70251514460243625,0.52265126212789448,0.68900875998510047,-1.9225755802003697,{"$f":"+Spectre!C168*N169/L169","v":1.808095305808703},1.8489041185886343]
[3968,0.39679999999999999,6.3512129292403738,1.0320415976428885,0.36680953443541331,0.99907418810137771,1.0056530917935754E-3,0.2157724565966522,0.58358764412385911,0.34136993133338139,0.58420455975864694,0.54088082245343627,0.70284544902814372,0.52291051331403393,0.68935052963387045,-1.9200408017058801,{"$f":"+Spectre!C169*N170/L170","v":1.8087793965061889},1.8496036492516512]
[3969,0.39689999999999998,6.3480129227768671,1.0320214592361143,0.36643284920344821,0.99907279898596291,1.0071627033568793E-3,0.21570178549766336,0.58314179740446848,0.34165034946817524,0.58444450678391502,0.54113482888450271,0.70317551668202938,0.52316958535286728,0.6896920631135689,-1.9175089644876797,{"$f":"+Spectre!C170*N171/L171","v":1.799775946288021},1.8403969906555031]
[3970,0.39700000000000002,6.3448153341496987,1.0320013373115722,0.36605664945453475,0.99907140778724723,1.0086745810366769E-3,0.21563115534008132,0.58269647937565272,0.34193066501934072,0.58468426765385939,0.54138865318502738,0.7035053476671016,0.52342847830789019,0.69003336050790209,-1.9149800643128101,{"$f":"+Spectre!C171*N172/L172","v":1.790948482151457},1.8313702901567224]
[3971,0.39710000000000001,6.3416201609236857,1.0319812318508859,0.36568093443462735,0.99907001450210919,1.0101887282347156E-3,0.2155605660898845,0.58225168925274651,0.34221087785114163,0.58492384248129137,0.54164229543444409,0.70383494208658048,0.52368719224279869,0.6903744219008402,-1.9124540969556625,{"$f":"+Spectre!C172*N173/L173","v":1.7812977245545394},1.8215017144178673]
[3972,0.3972,6.3384274006667018,1.0319611428357054,0.36530570339105167,0.99906861912742262,1.0117051483578433E-3,0.21549001771308721,0.58180742625249671,0.34249098782835491,0.58516323137909909,0.54189575571235071,0.70416430004389918,0.52394572722149035,0.69071524737661893,-1.9099310581979001,{"$f":"+Spectre!C173*N174/L174","v":1.7716082984234522},1.8115935973938508]
[3973,0.39729999999999999,6.3352370509496874,1.0319410702477074,0.36493095557250449,0.99906722166005668,1.0132238448180087E-3,0.21541951017574112,0.58136368959306362,0.34277099481626722,0.58540243446024354,0.54214903409850623,0.70449342164270001,0.52420408330806112,0.69105583701973583,-1.9074109438284248,{"$f":"+Spectre!C174*N175/L175","v":1.7650214237020201},1.8048580565393626]
[3974,0.39739999999999998,6.3320491093466371,1.0319210140685937,0.36455669022904852,0.999065822096876,1.0147448210321411E-3,0.21534904344393449,0.58092047849401518,0.3430508986806754,0.5856414518377604,0.5424021306728315,0.7048223069868359,0.52446226056680545,0.69139619091494997,-1.9048937496435769,{"$f":"+Spectre!C175*N176/L176","v":1.7593053880122278},1.7990130096024535]
[3975,0.39750000000000002,6.3288635734345942,1.0319009742800931,0.36418290661211061,0.9990644204347402,1.0162680804226317E-3,0.21527861748379268,0.580477792176326,0.34333069928788457,0.58588028362475775,0.54265504551540689,0.70515095618036705,0.52472025906221509,0.69173630914728035,-1.90237947144688,{"$f":"+Spectre!C176*N177/L177","v":1.7635368347585854},1.8033399603399478]
[3976,0.39760000000000001,6.3256804407936542,1.0318809508639601,0.36380960397447942,0.99906301667050446,1.017793626416732E-3,0.21520823226147681,0.580035629862373,0.34361039650470782,0.58611892993441617,0.54290777870647289,0.70547936932756161,0.52497807885897874,0.69207619180200597,-1.8998681050490629,{"$f":"+Spectre!C177*N178/L178","v":1.7882002644191513},1.8285600449955772]
[3977,0.3977,6.3224997090069515,1.0318609438019746,0.36343678157030113,0.99906161080101918,1.0193214624469157E-3,0.21513788774318532,0.57959399077593332,0.34388999019846461,0.58635739087998828,0.5431603303264283,0.70580754653289346,0.52523572002198027,0.69241583896466297,-1.8973596462681597,{"$f":"+Spectre!C178*N179/L179","v":1.8120794093528381},1.8529781435739159]
[3978,0.39779999999999999,6.3193213756606532,1.0318409530759434,0.36306443865507748,0.99906020282313013,1.0208515919507572E-3,0.21506758389515318,0.57915287414218142,0.34416948023697996,0.58659566657479745,0.5434127004558299,0.70613548790104175,0.52549318261629863,0.69275525072104449,-1.8948540909294098,{"$f":"+Spectre!C179*N180/L180","v":1.8280591666238823},1.8693185648656276]
[3979,0.39789999999999998,6.3161454383439679,1.0318209786676986,0.36269257448566333,0.99905879273367815,1.0223840183711732E-3,0.21499732068365099,0.57871227918768553,0.34444886648858386,0.5868337571322374,0.54366488917539124,0.70646319353688936,0.52575046670720615,0.69309442715719871,-1.8923514348653137,{"$f":"+Spectre!C180*N181/L181","v":1.8419277231625084},1.8835001355056091]
[3980,0.39800000000000002,6.3129718946491238,1.0318010205590977,0.36232118832026233,0.99905738052949955,1.0239187451560625E-3,0.21492709807498703,0.57827220514040545,0.3447281488221095,0.58707166266577215,0.54391689656598241,0.70679066354552278,0.52600757236016893,0.69343336835942948,-1.8898516739154658,{"$f":"+Spectre!C181*N182/L182","v":1.8559788280681393},1.8978683746395093]
[3981,0.39810000000000001,6.3098007421713831,1.0317810787320247,0.36195027941842672,0.99905596620742587,1.0254557757585448E-3,0.21485691603550505,0.5778326512296903,0.34500732710689219,0.58730938328893389,0.54416872270862804,0.70711789803222902,0.52626449964084399,0.69377207441429201,-1.8873548039267329,{"$f":"+Spectre!C182*N183/L183","v":1.870223889373489},1.9124349477799825]
[3982,0.3982,6.3066319785090172,1.0317611531683892,0.36157984704105151,0.99905454976428387,1.0269951136369629E-3,0.21478677453158557,0.57739361668627409,0.34528640121276938,0.58754691911532375,0.54442036768450774,0.70744489710249658,0.52652124861507998,0.6941105454085944,-1.8848608207531203,{"$f":"+Spectre!C183*N184/L184","v":1.8849471067085375},1.927490468958647]
[3983,0.39829999999999999,6.3034656012633157,1.0317412438501263,0.36120989045037344,0.99905313119689554,1.0285367622548816E-3,0.21471667352964516,0.57695510074227352,0.34556537101007911,0.58778427025861113,0.54467183157495502,0.70777166086201404,0.52677781934891621,0.69444878142939581,-1.8823697202558165,{"$f":"+Spectre!C184*N185/L185","v":1.9035200040595777},1.9464825576478564]
[3984,0.39839999999999998,6.3003016080385805,1.0317213507591969,0.36084040890996844,0.99905171050207831,1.0300807250808476E-3,0.21464661299613685,0.57651710263118616,0.34584423636965789,0.58802143683253139,0.54492311446145536,0.70809818941666736,0.5270342119085808,0.6947867825640045,-1.8798814983030598,{"$f":"+Spectre!C185*N186/L186","v":1.9227753040386009},1.9661724508307559]
[3985,0.39850000000000002,6.2971399964421151,1.0317014738775869,0.36047140168474723,0.9990502876766445,1.0316270055889917E-3,0.21457659289754963,0.57607962158788584,0.34612299716284178,0.58825841895088737,0.54517421642564712,0.70842448287254123,0.52729042636049039,0.69512454889997721,-1.8773961507703718,{"$f":"+Spectre!C186*N187/L187","v":1.9391717167744638},1.9829389315245693]
[3986,0.39860000000000001,6.2939807640842282,1.0316816131873086,0.36010286804095448,0.99904886271740212,1.0331756072581848E-3,0.21450661320040904,0.5756426568486217,0.34640165326146344,0.58849521672754723,0.54542513754931932,0.70875054133591597,0.52754646277124928,0.69546208052511826,-1.8749136735402572,{"$f":"+Spectre!C187*N188/L188","v":1.9526898883466108},1.9967622089896648]
[3987,0.3987,6.2908239085782229,1.0316617686703995,0.35973480724616491,0.99904743562115395,1.0347265335730036E-3,0.2144366738712763,0.57520620765101427,0.34668020453785187,0.58873183027644449,0.54567587791441097,0.70907636491326698,0.52780232120764803,0.69579937752747711,-1.8724340625024039,{"$f":"+Spectre!C188*N189/L189","v":1.9649552929401422},2.0093044444549535]
[3988,0.39879999999999999,6.2876694275403944,1.0316419403089221,0.35936721856928028,0.9990460063846982,1.0362797880230064E-3,0.21436677487674885,0.57477027323405216,0.34695865086483213,0.58896825971157707,0.54592643760301163,0.70940195371126513,0.52805800173666395,0.6961364399953498,-1.8699573135535164,{"$f":"+Spectre!C189*N190/L190","v":1.9684965460067088},2.012925623802472]
[3989,0.39889999999999998,6.2845173185900247,1.0316221280849651,0.35900010128052745,0.99904457500482835,1.0378353741029749E-3,0.21429691618346,0.57433485283809038,0.34723699211572306,0.58920450514700717,0.54617681669735874,0.70972730783677362,0.52831350442545855,0.69647326801727494,-1.8674834225974157,{"$f":"+Spectre!C190*N191/L191","v":1.9717237100546472},2.0162256251245405]
[3990,0.39900000000000002,6.2813675793493751,1.031602331980642,0.35863345465145452,0.99904314147833306,1.0393932953129132E-3,0.21422709775807955,0.57389994570484704,0.34751522816433705,0.58944056669685996,0.54642701527983795,0.71005242739684815,0.52856882934137761,0.69680986168203429,-1.8650123855449618,{"$f":"+Spectre!C191*N192/L192","v":1.9732549435308797},2.0177914186264827]
[3991,0.39910000000000001,6.278220207443697,1.0315825519780917,0.35826727795493002,0.99904170580199614,1.0409535551581706E-3,0.21415731956731249,0.57346555107740071,0.34779335888497886,0.5896764444753233,0.54667703343298224,0.71037731249873581,0.52882397655195024,0.69714622107865098,-1.8625441983140978,{"$f":"+Spectre!C192*N193/L193","v":1.9738048258135448},2.0183537117832051]
[3992,0.3992,6.2750752005012034,1.0315627880594789,0.35790157046513804,0.99904026797259649,1.0425161571494394E-3,0.21408758157789998,0.57303166820018747,0.34807138415244415,0.58991213859664726,0.54692687123947037,0.71070196324987334,0.52907894612488726,0.69748234629638795,-1.8600788568298277,{"$f":"+Spectre!C193*N194/L194","v":1.9751088035822899},2.0196871204035558]
[3993,0.39929999999999999,6.2719325561530832,1.0315430402069927,0.35753633145757657,0.99903882798690835,1.0440811048025155E-3,0.21401788375661923,0.57259829631899839,0.34834930384201906,0.59014764917514284,0.54717652878212686,0.71102637975788652,0.5293337381280816,0.69781823742474824,-1.8576163570240278,{"$f":"+Spectre!C194*N195/L195","v":1.9791141486187183},{"$f":"+Q195/R$1","v":2.0237828663028066}]
[3994,0.39939999999999998,6.2687922720334885,1.0315233084028479,0.35717156020905461,0.99903738584170121,1.0456484016384182E-3,0.21394822607028266,0.57216543468097569,0.34862711782947953,0.59038297632518266,0.54742600614392145,0.71135056213059022,0.52958835262960691,0.69815389455347288,-1.8551566948357467,{"$f":"+Spectre!C195*N196/L196","v":1.9830237985462109},2.0277807572491291]
[3995,0.39950000000000002,6.2656543457795335,1.0315035926292848,0.3568072559976897,0.99903594153373942,1.0472180511837527E-3,0.21387860848573917,0.57173308253461264,0.34890482599108852,0.5906181201611983,0.54767530340796633,0.71167451047598418,0.52984278969771548,0.69848931777253864,-1.8526998662108829,{"$f":"+Spectre!C196*N197/L197","v":1.9905775654471638},2.03550501309403]
[3996,0.39960000000000001,6.2625187750312872,1.0314838928685679,0.35644341810290447,0.99903449505978281,1.0487900569701068E-3,0.21380903096987261,0.57130123912974717,0.34918242820359735,0.59085308079768184,0.54792442065751856,0.7119982249022565,0.53009704940083946,0.69882450717215938,-1.8502458671024957,{"$f":"+Spectre!C197*N198/L198","v":1.9994801808314036},2.0446085610083746]
[3997,0.3997,6.2593855574317727,1.0314642091029875,0.35608004580542479,0.99903304641658619,1.0503644225345332E-3,0.21373949348960275,0.57086990371756208,0.34945992434424306,0.59108785834918365,0.54817335797597622,0.7123217055177784,0.53035113180758875,0.69915946284278307,-1.8477946934703948,{"$f":"+Spectre!C198*N199/L199","v":2.0113220993795444},2.0567177523244022]
[3998,0.39979999999999999,6.2562546906269549,1.0314445413148583,0.35571713838727603,0.99903159560089949,1.0519411514194302E-3,0.21366999601188519,0.5704390755505806,0.34973731429074811,0.59132245293031294,0.54842211544687969,0.71264495243110615,0.53060503698675043,0.69949418487509141,-1.8453463412815063,{"$f":"+Spectre!C199*N200/L200","v":2.0305345465904208},2.076363825549767]
[3999,0.39989999999999998,6.2531261722657465,1.0314248894865208,0.35535469513178186,0.99903014260946799,1.0535202471722992E-3,0.21360053850371058,0.57000875388266481,0.35001459792131884,0.59155686465573609,0.54867069315390948,0.71296796575097809,0.53085876500728746,0.69982867335999799,-1.8429008065096286,{"$f":"+Spectre!C200*N201/L201","v":2.0493547864332444},2.0956088392647154]
[4000,0.4,6.25,1.0314052536003397,0.35499271532356014,0.99902868743903195,1.0551017133461074E-3,0.21353112093210516,0.56957893796901138,0.35029177511464527,0.59179109364017701,0.54891909118088655,0.71329074558631489,0.53111231593833907,0.7001629283886488,-1.8404580851354213,{"$f":"+Spectre!C201*N202/L202","v":2.0351825936882353},2.0811167793320893]
[4001,0.40010000000000001,6.246876171484498,1.0313856336387053,0.35463119824852118,0.99902723008632666,1.0566855534992873E-3,0.21346174326413125,0.5691496270661518,0.35056884574989849,0.59202513999841488,0.54916730961177029,0.71361329204621748,0.5313656898492175,0.70049695005241785,-1.8380181731466605,{"$f":"+Spectre!C202*N203/L203","v":2.0149594940991786},2.0604372432475073]
[4002,0.4002,6.2437546843769516,1.0313660295840319,0.35427014319386374,0.99902577054808273,1.0582717711953766E-3,0.21339240546688548,0.56872082043194461,0.35084580970673268,0.59225900384528685,0.54941534853065987,0.71393560523996813,0.53161888680941116,0.70083073844291122,-1.8355810665378058,{"$f":"+Spectre!C203*N204/L204","v":2.0015281132229852},2.0467027153492561]
[4003,0.40029999999999999,6.2406355363380044,1.0313464414187592,0.35390954944807468,0.99902430882102577,1.0598603700033775E-3,0.21332310750750061,0.56829251732557862,0.35112266686528021,0.592492685295683,0.54966320802179025,0.71425768527702549,0.53187190688857899,0.7011642936519602,-1.8331467613102448,{"$f":"+Spectre!C204*N205/L205","v":1.9993761155281966},2.0445021469454194]
[4004,0.40039999999999998,6.2375187250312134,1.0313268691253514,0.35354941630092379,0.99902284490187643,1.0614513534977596E-3,0.21325384935314454,0.56786471700756613,0.3513994171061533,0.59272618446454928,0.54991088816953437,0.71457953226702764,0.53212475015655303,0.70149761577162384,-1.8307152534723481,{"$f":"+Spectre!C205*N206/L206","v":1.9962260771461695},2.0412810120198812]
[4005,0.40050000000000002,6.2344042481230542,1.0313073126862975,0.35318974304346229,0.99902137878735064,1.0630447252580962E-3,0.21318463097102019,0.56743741873974063,0.35167606031044324,0.5929595014668857,0.55015838905840142,0.71490114631978996,0.53237741668333705,0.70183070489418797,-1.8282865390392478,{"$f":"+Spectre!C206*N207/L207","v":1.9867318643938678},2.0315725143515926]
[4006,0.40060000000000001,6.2312921032829189,1.0312877720841116,0.35283052896802108,0.99901991047415939,1.0646404888694271E-3,0.21311545232836587,0.56701062178525641,0.3519525963597171,0.59319263641774511,0.5504057107730348,0.71522252754530169,0.53262990653910436,0.7021635611121616,-1.8258606140328704,{"$f":"+Spectre!C207*N208/L208","v":1.9762786151374148},2.020883334671296]
[4007,0.4007,6.2281822881831017,1.0312682473013315,0.35247177336820606,0.99901843995900852,1.0662386479223791E-3,0.21304631339245528,0.56658432540858372,0.35222902513601839,0.59342558943223345,0.55065285339821324,0.71554367605372837,0.53288221979419781,0.70249618451827756,-1.823437474482148,{"$f":"+Spectre!C208*N209/L209","v":1.9763168356880196},2.0209224178618785]
[4008,0.40079999999999999,6.2250748004988035,1.0312487383205204,0.35211347553889716,0.99901696723859923,1.0678392060126838E-3,0.21297721413059648,0.56615852887550633,0.35250534652186638,0.59365836062550914,0.55089981701884894,0.71586459195540886,0.53313435651912944,0.70282857520549136,-1.8210171164226963,{"$f":"+Spectre!C209*N210/L210","v":1.9855110410088199},2.0303241369140577]
[4009,0.40089999999999998,6.2219696379081233,1.0312292451242657,0.35175563477624489,0.9990154923096275,1.0694421667417811E-3,0.21290815451013367,0.56573323145312027,0.35278156040025377,0.59389095011278137,0.55114660171998708,0.71618527536085475,0.53338631678457882,0.70316073326697959,-1.8185995358970031,{"$f":"+Spectre!C210*N211/L211","v":1.9929802267554788},2.0379619026032532]
[4010,0.40100000000000002,6.2188667980920496,1.0312097676951792,0.35139825037766725,0.99901401516878474,1.0710475337160949E-3,0.21283913449844488,0.56530843240982831,0.35305766665464722,0.59412335800931182,0.55139320758680532,0.71650572638074972,0.53363810066139317,0.70349265879613987,-1.8161847289542399,{"$f":"+Spectre!C211*N212/L212","v":1.9827698460385934},2.0275210730191269]
[4011,0.40110000000000001,6.2157662787344767,1.0311903060158978,0.35104132164184976,0.99901253581275717,1.072655310547757E-3,0.21277015406294411,0.56488413101534163,0.35333366516898418,0.59435558443041092,0.55163963470461208,0.71682594512594755,0.53388970822058501,0.70382435188658765,-1.8137726916504837,{"$f":"+Spectre!C212*N213/L213","v":1.9728014829120137},2.0173277233759359]
[4012,0.4012,6.2126680775221699,1.0311708600690821,0.35068484786873905,0.99901105423822589,1.0742655008544881E-3,0.21270121317107979,0.56446032654067335,0.35360955582767389,0.59458762949143984,0.55188588315884679,0.7171459317074721,0.53414113953333264,0.70415581263215699,-1.8113634200484952,{"$f":"+Spectre!C213*N214/L214","v":1.9661140009794014},2.0104893045998504]
[4013,0.40129999999999999,6.2095721921447788,1.0311514298374174,0.35032882835954215,0.99900957044186756,1.0758781082588716E-3,0.21263231179033526,0.56403701825813624,0.3538853385155965,0.59481949330780948,0.55213195303507956,0.71746568623651719,0.53439239467097954,0.70448704112689964,-1.8089569102178737,{"$f":"+Spectre!C214*N215/L215","v":1.9613681188099055},2.0056363076027743]
[4014,0.40139999999999998,6.2064786202948374,1.0311320153036128,0.34997326241672461,0.99900808442035327,1.0774931363895621E-3,0.21256344988822862,0.56361420544134277,0.35416101311810022,0.59505117599497837,0.55237784441900872,0.71778520882444319,0.53464347370503218,0.70481803746508231,-1.8065531582348915,{"$f":"+Spectre!C215*N216/L216","v":1.9612347854062278},2.005499964856674]
[4015,0.40150000000000002,6.2033873596677456,1.031112616450403,0.3496181493440067,0.99900659617034948,1.0791105888803198E-3,0.2124946274323132,0.56319188736520021,0.35443657952100133,0.59528267766845366,0.55262355739646118,0.71810449958277744,0.53489437670716011,0.70514880174118655,-1.8041521601825705,{"$f":"+Spectre!C216*N217/L217","v":1.9826616774428507},2.0274104630520924]
[4016,0.40160000000000001,6.2002984079617782,1.0310932332605454,0.34926348844636118,0.99900510568851775,1.0807304693702514E-3,0.21242584439017653,0.56277006330590795,0.35471203761058412,0.59551399844379016,0.55286909205339174,0.71842355862321361,0.53514510374919555,0.70547933404990848,-1.8017539121505721,{"$f":"+Spectre!C217*N218/L218","v":2.0045202823321957},2.049762417883608]
[4017,0.4017,6.1972117628780685,1.0310738657168228,0.34890927903001068,0.99900361297151441,1.0823527815041732E-3,0.21235710072944114,0.56234873254095596,0.35498738727359819,0.59574513843658938,0.5531144484758822,0.71874238605761043,0.53539565490313135,0.70580963448615597,-1.799358410235441,{"$f":"+Spectre!C218*N219/L219","v":2.0075838973188542},2.0528951788328818]
[4018,0.40179999999999999,6.1941274221206166,1.0310545138020417,0.34855552040242554,0.99900211801599081,1.0839775289323687E-3,0.2122883964177642,0.56192789434912216,0.35526262839725814,0.59597609776249894,0.55335962675014005,0.71906098199798973,0.53564603024112101,0.70613970314504859,-1.7969656505402276,{"$f":"+Spectre!C219*N220/L220","v":2.0054744448557362},2.0507381159089886]
[4019,0.40189999999999998,6.1910453833962729,1.0310351774990325,0.34820221187232031,0.99900062081859342,1.0856047153104695E-3,0.2122197314228372,0.56150754801046798,0.35553776086924377,0.59620687653721272,0.5536046269624989,0.71937934655653746,0.53589622983547835,0.70646954012191743,-1.7945756291747328,{"$f":"+Spectre!C220*N221/L221","v":1.9978017694248187},2.0428922677619119]
[4020,0.40200000000000002,6.1879656444147413,1.03101585679065,0.34784935274965179,0.99899912137596369,1.0872343442995744E-3,0.21215110571238655,0.56108769280633797,0.35581278457769705,0.59643747487647003,0.55384944919941681,0.71969747984560128,0.53614625375867575,0.70679914551230238,-1.7921883422554186,{"$f":"+Spectre!C221*N222/L222","v":1.9785309470850192},2.0231865018776798]
[4021,0.40210000000000001,6.184888202888577,1.0309965516597732,0.34749694234561718,0.99899761968473788,1.0888664195664922E-3,0.21208251925417315,0.56066832801935684,0.35608769941122193,0.59666789289605382,0.5540940935474753,0.72001538197768911,0.53639610208334287,0.70712851941195087,-1.7898037859054416,{"$f":"+Spectre!C222*N223/L223","v":1.9589880477777177},2.0032025182334814]
[4022,0.4022,6.1818130565331746,1.0309772620893047,0.34714497997265004,0.99899611574154745,1.0905009447832587E-3,0.21201397201599195,0.56024945293342521,0.35636250525888452,0.59689813071179199,0.55433856009337967,0.7203330530654698,0.53664577488226817,0.70745766191681947,-1.7874219562544647,{"$f":"+Spectre!C223*N224/L224","v":1.9684541334649712},2.0128822540072813]
[4023,0.40229999999999999,6.1787402030667673,1.0309579880621713,0.34679346494441848,0.99899460954301866,1.0921379236276195E-3,0.2119454639656729,0.55983106683371897,0.35663720201020993,0.5971281884395554,0.55458284892395759,0.72065049322177133,0.53689527222839528,0.70778657312306958,-1.7850428494389448,{"$f":"+Spectre!C224*N225/L225","v":1.9838429152866641},2.0286183615005]
[4024,0.40239999999999998,6.175669640210427,1.0309387295613235,0.34644239657582293,0.99899310108577277,1.0937773597827886E-3,0.21187699507107968,0.55941316900668536,0.35691178955518332,0.59735806619525855,0.55482696012615851,0.72096770255957976,0.53714459419482452,0.70811525312706891,-1.7826664616018228,{"$f":"+Spectre!C225*N226/L226","v":1.9888210461624616},2.033708849070246]
[4025,0.40250000000000002,6.1726013656880516,1.030919486569736,0.34609177418299297,0.99899159036642593,1.0954192569375693E-3,0.21180856530011105,0.55899575874004159,0.35718626778424728,0.59758776409485748,0.55507089378705265,0.72128468119203804,0.53739374085481018,0.70844370202538831,-1.7802927888927234,{"$f":"+Spectre!C226*N227/L227","v":1.9799710862346631},2.0246591450489566]
[4026,0.40260000000000001,6.1695353772263681,1.0309002590704073,0.34574159708328522,0.99899007738158951,1.0970636187859928E-3,0.21174017462069944,0.55857883532277064,0.35746063658830235,0.59781728225435082,0.55531464999383096,0.72160142923244619,0.53764271228176186,0.70877191991480326,-1.7779218274677544,{"$f":"+Spectre!C227*N228/L228","v":1.9716356918746281},2.0161356203692464]
[4027,0.4027,6.1664716725549287,1.0308810470463594,0.34539186459528104,0.99898856212786946,1.0987104490280414E-3,0.21167182300081164,0.55816239804512069,0.35773489585870444,0.59804662078977766,0.55555822883380357,0.72191794679425914,0.53789150854924128,0.70909990689228997,-1.7755535734897299,{"$f":"+Spectre!C228*N229/L229","v":1.9668561218178648},2.0112481751473918]
[4028,0.40279999999999999,6.1634102494060947,1.0308618504806384,0.34504257603878269,0.99898704460186671,1.1003597513691669E-3,0.21160351040844894,0.55774644619860081,0.35800904548726531,0.59827577981721847,0.55580163039439956,0.72223423399108599,0.53814012973096348,0.70942766305502647,-1.7731880231279029,{"$f":"+Spectre!C229*N230/L230","v":1.9617909104065603},2.006068641629553]
[4029,0.40289999999999998,6.1603511055150486,1.030842669356314,0.34469373073481263,0.99898552480017744,1.1020115295200486E-3,0.21153523681164649,0.55733097907597917,0.3582830853662507,0.5985047594527938,0.55604485476316634,0.7225502909366901,0.53838857590079525,0.7097551885003911,-1.7708251725581436,{"$f":"+Spectre!C230*N231/L231","v":1.9663366992001725},2.0107170291319942]
[4030,{"$f":"+A232/10000","v":0.40300000000000002},{"$f":"+(1/B232)^2","v":6.1572942386197802},{"$f":"0.23465+1.076*100/(146-C232)+0.93161/(41-C232)","v":1.030823503656479},{"$f":"9.4977*0.001*C232^2*D232*EXP(-h/7.996/1000)","v":0.34434532800560969},{"$f":"+EXP(-0.0168*EXP(-15*ABS(B232-0.59)))","v":0.99898400271939225},{"$f":"-2.5*LOG(F232)","v":1.1036657871974389E-3},{"$f":"2.5*LOG(EXP(AOD*(B232/0.55)^(-1.3)))","v":0.21146700217847372},{"$f":"+E232+G232+H232","v":0.55691599597128083},{"$f":"10^(-0.4*I232*ma)","v":0.35855701538837953},{"$f":"10^(-0.4*I232)","v":0.59873355981266341},{"$f":"10^(-0.4*I232*ma_ref)","v":0.55628790202776857},{"$f":"+L232/M$1","v":0.72286611774498699},{"$f":"10^(-0.4*I232*ma_target)","v":0.53863684713275384},{"$f":"+N232/O$1","v":0.71008248332596047},{"$f":"(O232/M232-1)*100","v":-1.7684650179628947},{"$f":"+Spectre!C231*N232/L232","v":1.9790066323137032},2.0236729233487383]
[4031,0.40310000000000001,6.1542396464610869,1.030804353364251,0.34399736717462759,0.99898247835609699,1.105322528123318E-3,0.2113988064770338,0.55650149617978473,0.3588308354468227,0.59896218101302612,0.55653077227598746,0.72318171453004343,0.53888494350100702,0.71040954762950959,-1.7661075555310157,{"$f":"+Spectre!C232*N233/L233","v":1.9898333065860627},2.0347439562685601]
[4032,0.4032,6.1511873267825656,1.0307852184627706,0.34364984756653166,0.9989809517068724,1.106981756025256E-3,0.21133064967546453,0.55608747899802147,0.35910454543520265,0.59919062317011962,0.55677346559572016,0.72349708140607705,0.53913286507987201,0.71073638150901053,-1.7637527814579168,{"$f":"+Spectre!C233*N234/L234","v":1.9906440427035206},2.0355729907458029]
[4033,0.40329999999999999,6.1481372773306076,1.0307660989352017,0.34330276850719604,0.99897942276829377,1.1086434746367764E-3,0.21126253174193685,0.55567394372376966,0.35937814524759226,0.59941888640021945,0.55701598207497971,0.72381221848745614,0.5393806119438147,0.71106298506263133,-1.7614006919455916,{"$f":"+Spectre!C234*N235/L235","v":1.9904342071679604},2.0353584192103993]
[4034,0.40339999999999998,6.1450894958544007,1.0307469947647316,0.34295612932370223,0.99897789153693184,1.1103076876963886E-3,0.21119445264465642,0.55526088965605502,0.35965163477851342,0.59964697081963847,0.55725832180189316,0.72412712588869699,0.53962818416744884,0.71138935838873485,-1.7590512832024507,{"$f":"+Spectre!C235*N236/L236","v":1.9939389561556546},2.0389422705799314]
[4035,0.40350000000000003,6.1420439801059183,1.030727905934572,0.34260992934433576,0.99897635800935158,1.1119743989489177E-3,0.2111264123518623,0.55484831609514695,0.35992501392293652,0.59987487654472627,0.55750048486470138,0.72444180372446398,0.53987558182553519,0.71171550158587804,-1.7567045514433444,{"$f":"+Spectre!C236*N237/L237","v":1.999748166286528},2.0448825949102987]
[4036,0.40360000000000001,6.1390007278399263,1.0307088324279572,0.34226416789858499,0.99897482218211331,1.1136436121442965E-3,0.21105841083182747,0.55443622234255674,0.36019828257627889,0.60010260369186885,0.55774247135175836,0.72475625210956807,0.54012280499298082,0.71204141475281046,-1.7543604928895951,{"$f":"+Spectre!C237*N238/L238","v":2.0043445372422095},2.0495827062170529]
[4037,0.4037,6.1359597368139607,1.0306897742281453,0.34191884431713648,0.9989732840517721,1.1153153310381691E-3,0.2109904480528588,0.55402460770103346,0.36047144063440456,0.60033015237748832,0.55798428135153111,0.72507047115896772,0.54036985374483859,0.71236709798847386,-1.7520191037691202,{"$f":"+Spectre!C238*N239/L239","v":2.0052131929569814},2.0504709675401802]
[4038,0.40379999999999999,6.13292100478834,1.0306707313184174,0.34157395793187439,0.99897174361487762,1.1169895593921327E-3,0.21092252398329686,0.55361347147456341,0.36074448799362285,0.60055752271804141,0.55822591495259755,0.72538446098776488,0.5406167281563059,0.71269255139200072,-1.7496803803160321,{"$f":"+Spectre!C239*N240/L240","v":2.0058278267372551},2.0510994736394554]
[4039,0.40389999999999998,6.1298845295261524,1.0306517036820779,0.34122950807587732,0.99897020086797472,1.1186663009730142E-3,0.21085463859151612,0.55320281296836649,0.36101742455068714,0.60078471483002005,0.55846737224364718,0.7256982217112069,0.54086342830272427,0.71301777506271347,-1.7473443187710713,{"$f":"+Spectre!C240*N241/L241","v":2.0112423287290988},2.0566361812458878]
[4040,0.40400000000000003,6.1268503087932551,1.0306326913024555,0.34088549408341606,0.99896865580760297,1.1203455595534724E-3,0.21078679184592408,0.55279263148889357,0.36129025020279504,0.60101172882995046,0.55870865331347974,0.72601175344468416,0.54110995425957886,0.71334276910012373,-1.7450109153812288,{"$f":"+Spectre!C241*N242/L242","v":2.0190195602939376},2.064588945364711]
[4041,0.40410000000000001,6.1238183403582704,1.0306136941629005,0.34054191528995059,0.99896710843029657,1.122027338911999E-3,0.21071898371496273,0.55238292634382535,0.36156296484758549,0.60123856483439164,0.55894975825100457,0.72632505630372968,0.54135630610249652,0.71366753360393009,-1.7426801664001124,{"$f":"+Spectre!C242*N243/L243","v":2.0226976269286863},2.0683500261703429]
[4042,0.4042,6.120788621992582,1.0305947122467873,0.34019877103212864,0.99896555873258475,1.123711642832557E-3,0.21065121416710703,0.55197369684206821,0.36183556838313957,0.60146522295993665,0.55919068714523967,0.72663813040401748,0.54160248390724663,0.71399206867401899,-1.7403520680874807,{"$f":"+Spectre!C243*N244/L244","v":2.0176735320218415},2.0632125371587828]
[4043,0.40429999999999999,6.1177611514703223,1.030575745537514,0.33985606064778218,0.99896400671099161,1.1253984751047007E-3,0.2105834831708655,0.5515649422937523,0.36210806070797891,0.60169170332321087,0.55943144008531209,0.72695097586136326,0.54184848774973948,0.71431637441046258,-1.7380266167095981,{"$f":"+Spectre!C244*N245/L245","v":2.0129175507781687},2.0583492131508572]
[4044,0.40439999999999998,6.1147359265683807,1.0305567940185008,0.33951378347592559,0.99896245236203585,1.1270878395239384E-3,0.21051579069478046,0.55115666201022995,0.36238044172106409,0.60191800604087164,0.55967201716045567,0.72726359279172181,0.54209431770602534,0.71464045091351769,-1.7357038085390908,{"$f":"+Spectre!C245*N246/L246","v":2.0184575583322335},2.0640142589871115]
[4045,0.40450000000000003,6.1117129450663947,1.0305378576731909,0.33917193885675312,0.99896089568223112,1.1287797398912489E-3,0.21044813670742721,0.55074885530407158,0.36265271132179511,0.60214413122960797,0.5599124184600115,0.72757598131118684,0.54233997385229427,0.71496429828362507,-1.7333836398548907,{"$f":"+Spectre!C246*N247/L247","v":2.0276170149819248},2.0733804450887199]
[4046,0.40460000000000002,6.1086922047467462,1.030518936485052,0.33883052613163711,0.99895933666808578,1.1304741800134458E-3,0.21038052117741513,0.55034152148906568,0.36292486941000818,0.60237007900613926,0.56015264407342646,0.7278881415359898,0.54258545626487453,0.71528791662140823,-1.7310661069422806,{"$f":"+Spectre!C247*N248/L248","v":2.0308906113485339},2.0767279267095038]
[4047,0.4047,6.1056737033945536,1.0305000304375731,0.33848954464312414,0.99895777531610297,1.1321711637030543E-3,0.21031294407338616,0.54993465988021339,0.36319691588597719,0.60259584948721623,0.56039269409025361,0.72820007358250016,0.5428307650202332,0.7156113060276732,-1.7287512060929155,{"$f":"+Spectre!C248*N249/L249","v":2.0248883405996274},2.070590184372092]
[4048,0.40479999999999999,6.1026574387976691,1.030481139514267,0.3381489937349334,0.99895621162278059,1.1338706947783134E-3,0.21024540536401642,0.54952826979372815,0.36346885065041151,0.60282144278961936,0.56063256860015021,0.72851177756722263,0.54307590019497409,0.71593446660340643,-1.7264389336047015,{"$f":"+Spectre!C249*N250/L250","v":2.0189020767644537},2.0644688102253568]
[4049,0.40489999999999998,6.0996434087466813,1.0304622636986691,0.33780887275195487,0.99895464558461144,1.1355727770630542E-3,0.21017790501801414,0.54912235054703207,0.363740673604455,0.60304685903015864,0.56087226769287846,0.72882325360679823,0.54332086186583806,0.7162573984497751,-1.7241292857818724,{"$f":"+Spectre!C250*N251/L251","v":2.0099404432649406},2.0553049121535563]
[4050,0.40500000000000003,6.0966316110349021,1.0304434029743381,0.33746918104024609,0.99895307719808302,1.1372774143869416E-3,0.21011044300412202,0.54871690145875507,0.36401238464968499,0.60327209832567252,0.56111179145830337,0.72913450181800188,0.54356565010970115,0.71658010166812447,-1.7218222589350352,{"$f":"+Spectre!C251*N252/L252","v":2.0000088037480594},2.0451491149740013]
[4051,0.40510000000000002,6.0936220434583719,1.0304245573248556,0.33712991794703046,0.99895150645967734,1.1389846105855958E-3,0.21004301929111491,0.5483119218487309,0.36428398368811171,0.6034971607930284,0.56135113998639263,0.72944552231774162,0.54381026500357466,0.71690257635997823,-1.7195178493809138,{"$f":"+Spectre!C252*N253/L253","v":1.9991943767282996},2.0443163062905838]
[4052,0.4052,6.0906147038158434,1.0304057267338251,0.33679108282069364,0.99894993336587146,1.1406943695001085E-3,0.2099756338478016,0.54790741103799534,0.36455547062217697,0.60372204654912121,0.56159031336721654,0.72975631522305906,0.54405470662460442,0.71722482262703735,-1.7172160534426162,{"$f":"+Spectre!C253*N254/L254","v":2.0092750283805749},2.054624478817813]
[4053,0.40529999999999999,6.087609589908789,1.0303869111848738,0.33645267501078263,0.99894835791313707,1.1424066949774065E-3,0.20990828664302341,0.54750336834878344,0.36482684535475385,0.60394675571087386,0.56182931169094696,0.73006688065112757,0.54429897505006974,0.71754684057117879,-1.714916867449523,{"$f":"+Spectre!C254*N255/L255","v":2.0157050269568795},2.061199602823752]
[4054,0.40539999999999998,6.084606699541391,1.0303681106616513,0.33611469386800252,0.99894678009794058,1.1441215908702502E-3,0.20984097764565518,0.54709979310452794,0.36509810778914459,0.60417128839523537,0.5620681350478558,0.73037721871925054,0.5445430703573827,0.71786863029445458,-1.7126202877371099,{"$f":"+Spectre!C255*N256/L256","v":2.0003109288514374},2.0454580590579607]
[4055,0.40550000000000003,6.0816060305205379,1.0303493251478295,0.33577713874421411,0.99894519991674313,1.1458390610371149E-3,0.209773706824604,0.54669668462985521,0.36536925782908114,0.60439564471918239,0.56230678352831631,0.73068732954486337,0.54478699262408803,0.71819019189909161,-1.7103263106472699,{"$f":"+Spectre!C256*N257/L257","v":1.9824781383065453},2.0272227814271542]
[4056,0.40560000000000002,6.0786075806558273,1.030330554627104,0.33544000899243281,0.99894361736600046,1.1475591093424303E-3,0.20970647414881069,0.54629404225058598,0.36564029537872189,0.60461982479971565,0.5625452572227998,0.73099721324552847,0.54503074192786061,0.7185115254874882,-1.7080349325280575,{"$f":"+Spectre!C257*N258/L258","v":1.9732472802456638},2.0177835823804879]
[4057,0.40570000000000001,6.0756113477595486,1.0303117990831918,0.33510330396682403,0.99894203244216317,1.1492817396562206E-3,0.20963927958724882,0.54589186529372902,0.36591122034265372,0.60484382875386311,0.56278355622187737,0.73130686993893812,0.54527431834650764,0.71883263116221729,-1.7057461497336113,{"$f":"+Spectre!C258*N259/L259","v":1.9716336246617845},{"$f":"+Q259/R$1","v":2.0161335064992927}]
[4058,0.40579999999999999,6.072617329646687,1.0302930584998329,0.33476702302270228,0.99894044514167657,1.1510069558543445E-3,0.20957212310892467,0.54549015308748128,0.36618203262588872,0.60506765669867646,0.56302168061621805,0.73161629974291187,0.54551772195796533,0.71915350902602193,-1.7034599586243981,{"$f":"+Spectre!C259*N260/L260","v":1.9692102444690713},2.0136554304792846]
[4059,0.40589999999999998,6.0696255241349251,1.0302743328607904,0.33443116551652957,0.99893885546098049,1.1527347618186165E-3,0.209505004682877,0.5450889049612252,0.36645273213386398,0.60529130875123227,0.56325963049658812,0.73192550277539559,0.54576095284029902,0.71947415918181512,-1.70117635556708,{"$f":"+Spectre!C260*N261/L261","v":1.9653488713234029},2.0097069059244683]
[4060,0.40600000000000003,6.0666359290446241,1.0302556221498493,0.33409573080591071,0.99893726339650957,1.1544651614365663E-3,0.20943792427817828,0.5446881202455256,0.3667233187724408,0.60551478502863088,0.56349740595385112,0.73223447915446149,0.54600401107170327,0.71979458173268041,-1.6988953369344029,{"$f":"+Spectre!C261*N262/L262","v":1.9613224912320835},2.0055896502079538]
[4061,0.40610000000000002,6.0636485421988393,1.0302369263508171,0.33376071824959369,0.99893566894469299,1.1561981586016789E-3,0.20937088186393304,0.54428779827212836,0.36699379244790314,0.60573808564799592,0.56373500707896596,0.73254322899830593,0.54624689673049964,0.72011477678186886,-1.6966168991053188,{"$f":"+Spectre!C262*N263/L263","v":1.9648592922802617},2.0092062770547785]
[4062,0.40620000000000001,6.0606633614232956,1.0302182454475237,0.33342612720746506,0.99893407210195473,1.1579337572131547E-3,0.20930387740927847,0.54388793837395677,0.36726415306695775,0.60596121072647413,0.56397243396298813,0.73285175242525047,0.5464896098951374,0.72043474443279976,-1.6943410384649638,{"$f":"+Spectre!C263*N264/L264","v":1.972593127144181},2.0171146650067007]
[4063,0.40629999999999999,6.057680384546396,1.0301995794238215,0.33309195704054861,0.99893247286471343,1.15967196117603E-3,0.20923691088338511,0.54348853988510981,0.36753440053673231,0.60618416038123479,0.56420968669706739,0.73316004955373937,0.54673215064419201,0.72075448478905879,-1.692067751404569,{"$f":"+Spectre!C264*N265/L265","v":1.9766327772095154},2.0212454902012902]
[4064,0.40639999999999998,6.0546996093992194,1.0301809282635856,0.33275820711100418,0.99893087122938229,1.1614127744012967E-3,0.20916998225545522,0.54308960214086066,0.36780453476477448,0.60640693472946849,0.56444676537244765,0.73346812050233912,0.54697451905636463,0.72107399795439719,-1.6897970343214608,{"$f":"+Spectre!C265*N266/L266","v":1.9674398128242729},2.0118450400926542]
[4065,0.40649999999999997,6.0517210338155039,1.0301622919507125,0.33242487678212235,0.99892926719236919,1.1631562008057842E-3,0.20910309149472422,0.54269112447765233,0.36807455565905162,0.60662953388838825,0.56468367008046683,0.73377596538973844,0.54721671521048132,0.72139328403273117,-1.6875288836191715,{"$f":"+Spectre!C266*N267/L267","v":1.9589564319709791},2.0031701888562061]
[4066,0.40660000000000002,6.0487446556316602,1.0301436704691216,0.33209196541832553,0.99892766075007655,1.1649022443122772E-3,0.20903623857045966,0.54229310623309745,0.36834446312794894,0.60685195797522706,0.56492040091255535,0.73408358433474619,0.5474587391854927,0.72171234312814081,-1.6852632957072178,{"$f":"+Spectre!C267*N268/L268","v":1.9401776770323709},1.9839675963620951]
[4067,0.40670000000000001,6.0457704726867503,1.0301250638027546,0.33175947238516307,0.9989260518989016,1.1666509088492771E-3,0.20896942345196221,0.54189554674597451,0.36861425708026935,0.60707420710723914,0.56515695796023635,0.73439097745629178,0.54770059106047253,0.72203117534486883,-1.6830002670013111,{"$f":"+Spectre!C268*N269/L269","v":1.9180774650504402},1.9613685813523207]
[4068,0.40679999999999999,6.0427984828224988,1.0301064719355753,0.33142739704931062,0.99892444063523611,1.1684021983512419E-3,0.20890264610856452,0.54149844535622638,0.3688839374252319,0.60729628140169811,0.5653933413151242,0.73469814487342322,0.54794227091461756,0.72234978078731982,-1.680739793923236,{"$f":"+Spectre!C269*N270/L270","v":1.9056364780086552},1.9486468005330424]
[4069,0.40689999999999998,6.0398286838832789,1.0300878948515695,0.33109573877856724,0.99892282695546619,1.1701561167588282E-3,0.20883590650963157,0.54110180140495756,0.36915350407247111,0.60751818097589727,0.56562955106892421,0.73500508670530651,0.54818377882724656,0.72266815956005948,-1.67848187290075,{"$f":"+Spectre!C270*N271/L271","v":1.9176971314381057},1.9609796635889574]
[4070,0.40699999999999997,6.0368610737161124,1.030069332534745,0.3307644969418525,0.99892121085597307,1.1719126680180465E-3,0.20876920462456111,0.54070561423443164,0.36942295693203625,0.60773990594714922,0.56586558731343251,0.73531180307122579,0.54842511487780021,0.72298631176781403,-1.676226500367739,{"$f":"+Spectre!C271*N272/L272","v":1.9283901652266138},1.9719140397516881]
[4071,0.40710000000000002,6.033895650170658,1.0300507849691318,0.33043367090920434,0.99891959233313221,1.1736718560812274E-3,0.20870254042278269,0.54030988318806827,0.36969229591439073,0.60796145643278543,0.56610145014053548,0.73561829409058244,0.54866627914584043,0.72330423751546946,-1.6739736727641286,{"$f":"+Spectre!C272*N273/L273","v":1.9241202404876958},1.9675477425711765]
[4072,0.40720000000000001,6.0309324110992302,1.0300322521387821,0.33010326005177892,0.99891797138331362,1.1754336849066588E-3,0.20863591387375846,0.53991460761044396,0.36996152093040913,0.60818283255015448,0.56633713964220744,0.73592455988289218,0.5489072717110477,0.72362193690806842,-1.671723386535906,{"$f":"+Spectre!C273*N274/L274","v":1.9178647632213934},1.9611510788310251]
[4073,0.4073,6.0279713543567679,1.0300137340277702,0.32977326374184562,0.99891634800288209,1.1771981584583447E-3,0.20856932494698291,0.53951978684728685,0.3702306318913785,0.60840403441662283,0.56657265591051131,0.73623060056778578,0.54914809265322251,0.72393941005081142,-1.6694756381350206,{"$f":"+Spectre!C274*N275/L275","v":1.9108526511009418},1.9539807029454965]
[4074,0.40739999999999998,6.0250124778008427,1.029995230620192,0.32944368135278546,0.99891472218819688,1.1789652807063684E-3,0.20850277361198266,0.5391254202454745,0.37049962870899672,0.60862506214957468,0.56680799903759882,0.73653641626500943,0.54938874205228483,0.72425665704905651,-1.6672304240194724,{"$f":"+Spectre!C275*N276/L276","v":1.9028275181125611},1.9457744422540546]
[4075,0.40749999999999997,6.022055779291656,1.0299767419001655,0.32911451225908933,0.99891309393561178,1.180735055626771E-3,0.20843625983831621,0.53873150715303231,0.37076851129537169,0.60884591586641057,0.56704316911570851,0.73684200709442216,0.54962921998827208,0.72457367800831673,-1.6649877406532454,{"$f":"+Spectre!C276*N277/L277","v":1.8949168840644137},1.9376852647503691]
[4076,0.40760000000000002,6.0191012566920357,1.0299582678518306,0.32878575583635611,0.99891146324147517,1.1825074872015521E-3,0.20836978359557431,0.53833804691913201,0.37103727956301968,0.60906659568454713,0.56727816623716509,0.73714737317599499,0.5498695265413388,0.72489047303425946,-1.6627475845063078,{"$f":"+Spectre!C277*N278/L278","v":1.8726456433704404},1.9149113609008988]
[4077,0.40770000000000001,6.0161489078674322,1.0299398084593487,0.32845741146128965,0.99890983010212997,1.1842825794186687E-3,0.20830334485338015,0.53794503889408851,0.37130593342486456,0.60928710172141665,0.56751299049437975,0.73745251462981121,0.55010966179175635,0.72520704223270593,-1.6605099520546451,{"$f":"+Spectre!C278*N279/L279","v":1.848688294647379},1.8904132934692595]
[4078,0.4078,6.0131987306859056,1.029921363706904,0.32812947851169649,0.99890819451391355,1.1860603362721584E-3,0.20823694358138853,0.53755248242935716,0.37157447279423789,0.60950743409446684,0.56774764197984873,0.73775743157606466,0.55034962581991231,0.72552338570963093,-1.6582748397800939,{"$f":"+Spectre!C279*N280/L280","v":1.8383222861896618},1.8798133236174346]
[4079,0.40789999999999998,6.0102507230181361,1.0299029335787016,0.32780195636648435,0.99890655647315807,1.1878407617617753E-3,0.20817057974928613,0.53716037687753226,0.37184289758487699,0.6097275929211603,0.56798212078615329,0.73806212413505978,0.55058941870630917,0.72583950357116045,-1.6560422441705858,{"$f":"+Spectre!C280*N281/L281","v":1.8396605056925501},1.8811817468097947]
[4080,0.40799999999999997,6.0073048827374098,1.0298845180589682,0.32747484440565899,0.9989049159761898,1.1896238598937152E-3,0.20810425332679205,0.53676872159234479,0.37211120771092404,0.60994757831897362,0.56821642700595865,0.73836659242720992,0.55082904053156412,0.72615539592357159,-1.6538121617199475,{"$f":"+Spectre!C281*N282/L282","v":1.838314892712809},1.8798057632693934]
[4081,0.40810000000000002,6.0043612077196151,1.0298661171319532,0.32714814201032261,0.9989032730193298,1.1914096346798918E-3,0.20803796428365695,0.53637751592865945,0.37237940308692569,0.6101673904053978,0.56845056073201372,0.73867083657303745,0.55106849137640845,0.72647106287329233,-1.6515845889279013,{"$f":"+Spectre!C282*N283/L283","v":1.8137873486613505},1.8547246311687142]
[4082,0.40820000000000001,6.0014196958432491,1.0298477307819263,0.32682184856267132,0.99890162759889378,1.1931980901380567E-3,0.20797171258966346,0.53598675924247285,0.3726474836278319,0.61038702929793698,0.56868452205715025,0.73897485669317198,0.55130777132168696,0.72678650452689975,-1.6493595223000868,{"$f":"+Spectre!C283*N284/L284","v":1.7874397204913339},1.827782335548519]
[4083,0.4083,5.9984803449894004,1.0298293589931802,0.32649596344599341,0.99889997971119138,1.1949892302926452E-3,0.20790549821462623,0.53559645089091235,0.37291544924899395,0.61060649511410781,0.56891831107428192,0.73927865290835015,0.55154688044835609,0.72710172099111847,-1.6471369583481388,{"$f":"+Spectre!C284*N285/L285","v":1.7770556775818391},1.8171639242063253]
[4084,0.40839999999999999,5.9955431530417549,1.0298110017500284,0.32617048604466653,0.99889832935252743,1.196783059173328E-3,0.20783932112839104,0.53520659023223094,0.37318329986616594,0.6108257879714406,0.5691519278764049,0.73958222533941509,0.55178581883748534,0.72741671237282213,-1.6449168935894654,{"$f":"+Spectre!C285*N286/L286","v":1.7757070655489693},1.8157848739239975]
[4085,0.40849999999999997,5.9926081178865864,1.0297926590368063,0.32584541574415565,0.99889667651920067,1.1985795808164591E-3,0.20777318130083611,0.5348171766258083,0.37345103539550117,0.61104490798747657,0.5693853725565956,0.73988557410731493,0.55202458657025477,0.72773147877902977,-1.6426993245474808,{"$f":"+Spectre!C286*N287/L287","v":1.7774299121060637},1.817546605224817]
[4086,0.40860000000000002,5.9896752374127562,1.0297743308378706,0.32552075193101088,0.99889502120750451,1.2003787992642323E-3,0.20770707870187102,0.53442820943214608,0.37371865575355323,0.61126385527976923,0.56961864520801153,0.74018869933310261,0.55226318372795546,0.72804602031690735,-1.6404842477513615,{"$f":"+Spectre!C287*N288/L288","v":1.7928365806877999},1.8333010031832597]
[4087,0.40870000000000001,5.98674450951171,1.0297560171375995,0.32519649399286593,0.99889336341372703,1.2021807185646797E-3,0.20764101330143728,0.53403968801286794,0.37398616085727321,0.61148262996588254,0.56985174592388954,0.74049160113793433,0.55250161039198742,0.7283603370937638,-1.6382716597363234,{"$f":"+Spectre!C288*N289/L289","v":1.8086562958467682},1.8494777702034213]
[4088,0.4088,5.9838159320774666,1.0297377179203928,0.32487264131843424,0.99889170313415032,1.2039853427723974E-3,0.20757498506950775,0.5336516117307144,0.37425355062401094,0.61170123216339212,0.5700846747975461,0.7407942796430701,0.55273986664386143,0.72867442921705472,-1.6360615570432002,{"$f":"+Spectre!C289*N290/L290","v":1.8214214032303186},1.8625309867788145]
[4089,0.40889999999999999,5.9808895030066234,1.0297194331706714,0.32454919329750842,0.99889004036505147,1.2057926759474584E-3,0.2075089939760868,0.53326397994954267,0.37452082497151279,0.61191966198988346,0.57031743192237661,0.74109673496987194,0.55297795256519611,0.72898829679437738,-1.6338539362188431,{"$f":"+Spectre!C290*N291/L291","v":1.8332904062199697},1.8746678738337208]
[4090,0.40899999999999997,5.9779652201983495,1.0297011628728781,0.32422614932095778,0.99888837510270134,1.2076027221567414E-3,0.20744303999121053,0.53287679203432503,0.37478798381792,0.61213791956295138,0.57055001739185396,0.74139896723980281,0.55321586823771773,0.72930193993347125,-1.6316487938158653,{"$f":"+Spectre!C291*N292/L292","v":1.8378772392747695},1.8793582319686339]
[4091,0.40910000000000002,5.9750430815543787,1.0296829070114766,0.32390350878072527,0.99888670734336593,1.209415485472482E-3,0.20737712308494655,0.53249004735114425,0.37505502708176969,0.61235600500020093,0.57078243129952888,0.74170097657442713,0.55345361374326052,0.72961535874221783,-1.629446126392764,{"$f":"+Spectre!C292*N293/L293","v":1.8251626015402562},1.8663566241450962]
[4092,0.40920000000000001,5.9721230849790121,1.029664665570952,0.32358127106982637,0.99888503708330501,1.2112309699737209E-3,0.2073112432273938,0.53210374526719395,0.37532195468199203,0.61257391841924536,0.5710146737390287,0.74200276309540825,0.55369118916376481,0.72992855332863893,-1.6272459305137099,{"$f":"+Spectre!C293*N294/L294","v":1.8122028977521507},1.8531044191133488]
[4093,0.4093,5.9692052283791055,1.0296464385358111,0.32325943558234627,0.99888336431877323,1.2130491797450976E-3,0.20724540038868267,0.53171788515077401,0.37558876653791085,0.61279165993770679,0.57124674480405746,0.74230432692450965,0.5539285945812773,0.73024152380089624,-1.6250482027488133,{"$f":"+Spectre!C294*N295/L295","v":1.8084738720858515},1.8492912291279573]
[4094,{"$f":"+A296/10000","v":0.40939999999999999},{"$f":"+(1/B296)^2","v":5.9662895096640769},{"$f":"0.23465+1.076*100/(146-C296)+0.93161/(41-C296)","v":1.0296282258905811},{"$f":"9.4977*0.001*C296^2*D296*EXP(-h/7.996/1000)","v":0.32293800171343789},{"$f":"+EXP(-0.0168*EXP(-15*ABS(B296-0.59)))","v":0.99888168904601937},{"$f":"-2.5*LOG(F296)","v":1.2148701188776957E-3},{"$f":"2.5*LOG(EXP(AOD*(B296/0.55)^(-1.3)))","v":0.207179594538975},{"$f":"+E296+G296+H296","v":0.53133246637129061},{"$f":"10^(-0.4*I296*ma)","v":0.37585546256924152},{"$f":"10^(-0.4*I296)","v":0.61300922967321514},{"$f":"10^(-0.4*I296*ma_ref)","v":0.57147864458839459},{"$f":"+L296/M$1","v":0.74260566818359264},{"$f":"10^(-0.4*I296*ma_target)","v":0.55416583007794962},{"$f":"+N296/O$1","v":0.73055427026728981},{"$f":"(O296/M296-1)*100","v":-1.6228529396739577},{"$f":"+Spectre!C295*N296/L296","v":1.807747416429742},1.8485483773268172]
[4095,0.40949999999999998,5.9633759267458908,1.0296100276198115,0.32261696885931962,0.99888001126128689,1.2166937914684386E-3,0.20711382564846376,0.53094748829925176,0.37612204269609117,0.61322662774340864,0.5717103731858949,0.74290678699461643,0.55440289573603863,0.73086679283625855,-1.6206601378707219,{"$f":"+Spectre!C296*N297/L297","v":1.8033850721226281},1.8440875746632557]
[4096,0.40960000000000002,5.9604644775390625,1.0295918437080718,0.32229633641727334,0.99887833096081324,1.2185202016208147E-3,0.20704809368737334,0.53056295030626754,0.37638850683895647,0.61344385426593173,0.57194193069048738,0.74320768347963673,0.55463979163790522,0.7311790916163784,-1.6184697939264359,{"$f":"+Spectre!C297*N298/L298","v":1.7933498546736018},1.8338258617917991]
[4097,0.40970000000000001,5.9575551599606529,1.0295736741399535,0.32197610378564223,0.99887664814083055,1.2203493534441532E-3,0.20698239862595957,0.53017885176504598,0.37665485491872358,0.61366090935843631,0.57217331719617526,0.7435083577608057,0.55487651786601289,0.73149116671636072,-1.6162819044343579,{"$f":"+Spectre!C298*N299/L299","v":1.7837983007172731},1.8240587287252823]
[4098,0.4098,5.9546479719302647,1.0295555189000685,0.32165627036382849,0.99887496279756516,1.2221812510541065E-3,0.20691674043450928,0.52979519204939185,0.37692108685666736,0.61387779313858015,0.57240453279703507,0.74380880996037069,0.55511307450292879,0.73180301824505323,-1.6140964659933421,{"$f":"+Spectre!C299*N300/L300","v":1.7823045872291827},1.8225313020397258]
[4099,0.40989999999999999,5.9517429113700375,1.0295373779730503,0.32133683555229159,0.99887327492723799,1.224015898572289E-3,0.20685111908334025,0.52941197053420419,0.37718720257444971,0.61409450572402713,0.57263557758721584,0.74410904020067314,0.55534946163132182,0.73211464631143808,-1.6119134752079378,{"$f":"+Spectre!C300*N301/L301","v":1.7827484613069369},1.8229851943803883]
[4100,0.41,5.9488399762046402,1.0295192513435534,0.32101779875254527,0.99887158452606406,1.2258533001267597E-3,0.20678553454280185,0.52902918659547393,0.37745320199411958,0.61431104723244667,0.57286645166093952,0.74440904860414958,0.55558567933396241,0.7324260510246311,-1.6097329286885897,{"$f":"+Spectre!C301*N302/L302","v":1.7813926840661085},1.8215988171709552]
[4101,0.41010000000000002,5.9459391643612767,1.0295011389962532,0.32069915936715643,0.99886989159025275,1.2276934598517805E-3,0.20671998678327425,0.52864683961028247,0.37771908503811091,0.61452741778151332,0.57309715511249903,0.74470883529332854,0.55582172769372207,0.73273723249388145,-1.6075548230513048,{"$f":"+Spectre!C302*N303/L303","v":1.7778274287002254},1.8179530937908741]
[4102,0.41020000000000001,5.9430404737696767,1.0294830409158457,0.32038091679974257,0.99886819611600808,1.2295363818874559E-3,0.20665447577516874,0.52826492895679877,0.37798485162924278,0.61474361748890571,0.57332768803625833,0.74500840039083083,0.55605760679357208,0.73304819082856987,-1.6053791549178076,{"$f":"+Spectre!C303*N304/L304","v":1.7725892434093713},1.8125966823632924]
[4103,0.4103,5.9401439023620934,1.0294649570870484,0.32006307045496957,0.99886649809952799,1.2313820703805753E-3,0.2065890014889277,0.52788345401427783,0.37825050169071772,0.61495964647230683,0.57355805052665221,0.74530774401936939,0.55629331671658344,0.7333589261382083,-1.6032059209156069,{"$f":"+Spectre!C304*N305/L305","v":1.7537580270156177},1.7933404443560419]
[4104,0.41039999999999999,5.9372494480732909,1.0294468874945994,0.3197456197385492,0.99886479753700497,1.2332305294838917E-3,0.20652356389502441,0.52750241416305754,0.37851603514612164,0.61517550484940409,0.57378824267818529,0.74560686630174777,0.55652885754592651,0.73366943853243993,-1.6010351176777848,{"$f":"+Spectre!C305*N306/L306","v":1.732310772918644},1.771409124527425]
[4105,0.41049999999999998,5.9343571088405609,1.0294288321232574,0.3194285640572383,0.99886309442462573,1.2350817633564825E-3,0.20645816296396283,0.52712180878455761,0.37878145191942203,0.61539119273788745,0.57401826458543148,0.74590576736085989,0.55676422936486947,0.73397972812103685,-1.5988667418431968,{"$f":"+Spectre!C306*N307/L307","v":1.7238062749062792},1.7627126795164374]
[4106,0.41060000000000002,5.9314668826036963,1.0294107909578021,0.319111902818835,0.99886138875857144,1.2369357761635085E-3,0.20639279866627822,0.52674163726127676,0.37904675193496784,0.61560671025545022,0.57424811634303363,0.74620444731968893,0.55699943225677873,0.73428979501390057,-1.5967007900562491,{"$f":"+Spectre!C307*N308/L308","v":1.7276668820168388},1.7666604207466896]
[4107,0.41070000000000001,5.9285787673050026,1.0293927639830345,0.31879563543217804,0.9988596805350175,1.2387925720764553E-3,0.20632747097253643,0.52636189897679087,0.37931193511748784,0.61582205751978825,0.57447779804570265,0.74650290630130656,0.55723446630511742,0.7345996393210602,-1.5945372589670659,{"$f":"+Spectre!C308*N309/L309","v":1.7343965099050422},1.773541936714955]
[4108,0.4108,5.92569276088929,1.0293747511837754,0.318479761307144,0.9988579697501333,1.2406521552733756E-3,0.20626217985333425,0.52598259331575159,0.37957700139208983,0.61603723464859861,0.57470730978821671,0.74680114442887191,0.55746933159344492,0.73490926115267174,-1.5923761452313667,{"$f":"+Spectre!C309*N310/L310","v":1.760245203905372},1.7999740371931823]
[4109,0.41089999999999999,5.9228088613038672,1.029356752544867,0.31816427985464518,0.99885625640008302,1.2425145299380439E-3,0.20619692527929928,0.52560371966388253,0.37984195068426035,0.61625224175958149,0.57493665166542152,0.74709916182563185,0.55770402820541698,0.73521866061901797,-1.5902174455105,{"$f":"+Spectre!C310*N311/L311","v":1.7877928069892999},1.8281433912286094]
[4110,0.41099999999999998,5.9199270664985413,1.0293387680511721,0.31784919048662763,0.99885454048102462,1.244379700261042E-3,0.20613170722108948,0.5252252774079782,0.38010678291986338,0.61646707897043729,0.57516582377222947,0.74739695861492006,0.55793855622478405,0.7355278378305069,-1.5880611564715319,{"$f":"+Spectre!C311*N312/L312","v":1.8021247646949721},1.8427988220260494]
[4111,0.41110000000000002,5.917047374425608,1.0293207976875738,0.31753449261606881,0.99885282198911074,1.2462476704387959E-3,0.20606652564939418,0.52484726593590181,0.38037149802513937,0.61668174639886764,0.57539482620361881,0.74769453492015547,0.55817291573539185,0.7358367928976719,-1.5859072747870018,{"$f":"+Spectre!C312*N313/L313","v":1.8068242416663229},1.8476043664570476]
[4112,0.41120000000000001,5.9141697830398634,1.0293028414389762,0.31722018565697674,0.99885110092048801,1.2481184446742977E-3,0.20600138053493253,0.52446968463658361,0.38063609592670405,0.61689624416257449,0.57562365905463253,0.7479918908648413,0.55840710682117933,0.73614552593116933,-1.5837557971350447,{"$f":"+Spectre!C313*N314/L314","v":1.8121917894486934},1.8530930600948574]
[4113,0.4113,5.9112942902985788,1.0292848992903039,0.31690626902438579,0.99884937727129719,1.2499920271769871E-3,0.20593627184845514,0.52409253290001789,0.38090057655154819,0.6171105723792597,0.57585232242037931,0.74828902657256635,0.55864112956617906,0.73645403704177892,-1.5816067201995354,{"$f":"+Spectre!C314*N315/L315","v":1.8177647157747008},1.8587917676815893]
[4114,0.41139999999999999,5.9084208941615115,1.0292669712265012,0.31659274213435629,0.9988476510376737,1.2518684221621463E-3,0.20587119956074224,0.52371581011726065,0.38116493982703664,0.61732473116662534,0.57608081639603204,0.74858594216700247,0.55887498405451697,0.7367623263404034,-1.5794600406697668,{"$f":"+Spectre!C315*N316/L316","v":1.8233303597646311},1.8644830285695089]
[4115,0.41149999999999998,5.9055495925908987,1.0292490572325346,0.31627960440397218,0.99884592221574686,1.2537476338517468E-3,0.20580616364260565,0.52333951568042958,0.38142918568090645,0.61753872064237192,0.57630914107682651,0.74888263777190356,0.5591086703704099,0.73707039393806562,-1.5773157552406381,{"$f":"+Spectre!C316*N317/L317","v":1.8279293382378017},1.8691858062455686]
[4116,0.41160000000000002,5.9026803835514485,1.0292311572933897,0.315966855251338,0.99884419080164022,1.2556296664740858E-3,0.20574116406488682,0.52296364898269887,0.38169331404126783,0.61775254092419951,0.57653729655806296,0.749179113511107,0.55934218859816798,0.73737823994591123,-1.5751738606125443,{"$f":"+Spectre!C317*N318/L318","v":1.8320724791211995},1.873422458051808]
[4117,0.41170000000000001,5.8998132650103496,1.0292132713940725,0.31565449409557861,0.99884245679147154,1.2575145242637877E-3,0.20567620079845805,0.52258820941830053,0.38195732483660055,0.61796619212980575,0.57676528293510321,0.74947536950853044,0.55957553882219013,0.73768586447520279,-1.5730343534916535,{"$f":"+Spectre!C318*N319/L319","v":1.8376098686614644},1.8790848267855436]
[4118,0.4118,5.8969482349372475,1.0291953995196104,0.31534252035683502,0.99884072018135295,1.2594022114616817E-3,0.20561127381422215,0.52221319638251884,0.3822212179957562,0.61817967437688714,0.57699310030337203,0.74977140588817315,0.55980872112696767,0.73799326763732498,-1.570897230589352,{"$f":"+Spectre!C319*N320/L320","v":1.8475668551148365},1.8892665429833724]
[4119,0.41189999999999999,5.8940852913042612,1.0291775416550504,0.31503093345626448,0.99883898096739065,1.2612927323150467E-3,0.20554638308311199,0.52183860927169157,0.38248499344795428,0.61839298778313723,0.57722074875835483,0.75006722277411342,0.56004173559708015,0.73830044954377849,-1.5687624886227769,{"$f":"+Spectre!C320*N321/L321","v":1.8574573272012851},1.8993802435812741]
[4120,0.41199999999999998,5.8912244320859664,1.02915969778546,0.31471973281603666,0.99883723914568512,1.263186091077487E-3,0.20548152857609084,0.52146444748320497,0.38274865112278394,0.61860613246624707,0.57744822839559884,0.75036282029050949,0.56027458231719707,0.73860741030618282,-1.5666301243144609,{"$f":"+Spectre!C321*N322/L322","v":1.8590415236870375},1.9010001954708406]
[4121,0.41210000000000002,5.888365655259391,1.029141867895927,0.31440891785933206,0.99883549471233068,1.2650822920092974E-3,0.20541671026415267,0.52109071041549404,0.38301219095020117,0.61881910854390465,0.57767553931071136,0.7506581985615981,0.56050726137207618,0.7389141500362737,-1.564500134392488,{"$f":"+Spectre!C322*N323/L323","v":1.8583418664668718},{"$f":"+Q323/R$1","v":1.9002847469478514}]
[4122,0.41220000000000001,5.885508958804027,1.0291240519715594,0.31409848801034107,0.99883374766341626,1.2669813393767371E-3,0.20535192811832112,0.52071739746803891,0.38327561286052897,0.61903191613379394,0.57790268159935998,0.75095335771169391,0.5607397728465634,0.73922066884590309,-1.5623725155904045,{"$f":"+Spectre!C323*N324/L324","v":1.8583725763536258},1.9003161499584773]
[4123,0.4123,5.8826543407018086,1.0291062499974859,0.31378844269426087,0.99883199799502465,1.2688832374527555E-3,0.20528718210965041,0.52034450804136401,0.38353891678445551,0.61924455535359502,0.57812965535727101,0.75124829786518832,0.56097211682559145,0.73952696684703745,-1.5602472646472854,{"$f":"+Spectre!C324*N325/L325","v":1.8602547269533458},1.9022407808031274]
[4124,0.41239999999999999,5.8798017989371205,1.0290884619588547,0.31347878133729346,0.99883024570323287,1.2707879905166303E-3,0.20522247220922479,0.5199720415370348,0.38380210265303449,0.61945702632098409,0.57835646068023039,0.75154301914654986,0.56120429339418032,0.73983304415175821,-1.5581243783076348,{"$f":"+Spectre!C325*N326/L326","v":1.8616500699180052},1.9036676167370046]
[4125,0.41249999999999998,5.8769513314967865,1.0290706878408349,0.3131695033666439,0.99882849078411218,1.2726956028539659E-3,0.20515779838815867,0.51959999735765661,0.3840651703976834,0.61966932915363215,0.57858309766408167,0.75183752168032203,0.56143630263743582,0.74013890087225997,-1.5560038533214193,{"$f":"+Spectre!C326*N327/L327","v":1.8751849893962491},1.9175080201093797]
[4126,0.41260000000000002,5.874102936370071,1.0290529276286144,0.31286060821051798,0.99882673323372784,1.2746060787569371E-3,0.20509316061759683,0.51922837490687179,0.3843281199501829,0.61988146396920563,0.57880956640472714,0.7521318055911248,0.56166814464054993,0.7404445371208509,-1.5538856864440787,{"$f":"+Spectre!C327*N328/L328","v":1.8907688285522715},1.9334435873919382]
[4127,0.41270000000000001,5.8712566115486782,1.029035181307403,0.31255209529812128,0.99882497304813922,1.2765194225241678E-3,0.20502855886871393,0.51885717358935934,0.38459095124267528,0.62009343088536428,0.57903586699812526,0.75242587100365099,0.56189981948879852,0.74074995300994995,-1.5517698744364927,{"$f":"+Spectre!C328*N329/L329","v":1.8938756835222028},1.9366205642533401]
[4128,0.4128,5.8684123550267406,1.0290174488624295,0.31224396405965593,0.99882321022339993,1.2784356384606091E-3,0.20496399311271413,0.51848639281083064,0.38485366420766487,0.62030523001976312,0.57926199954029167,0.75271971804266757,0.56213132726754278,0.74105514865208821,-1.5496564140648927,{"$f":"+Spectre!C329*N330/L330","v":1.8799013000492244},1.9223307781591439]
[4129,0.41289999999999999,5.8655701648008192,1.0289997302789426,0.31193621392631865,0.99882144475555756,1.2803547308777843E-3,0.20489946332083273,0.51811603197802913,0.38511625877801597,0.62051686149005036,0.57948796412729853,0.75301334683301535,0.56236266806222734,0.74136012415990693,-1.5475453021010721,{"$f":"+Spectre!C330*N331/L331","v":1.8674398933097009},1.9095881167684003]
[4130,0.41299999999999998,5.8627300388699002,1.0289820255422113,0.31162884433029941,0.99881967664065385,1.2822767040936637E-3,0.20483496946433372,0.51774609049872677,0.38537873488695318,0.62072832541386791,0.5797137608552736,0.75330675749960707,0.56259384195838047,0.74166487964615779,-1.5454365353221089,{"$f":"+Spectre!C331*N332/L332","v":1.8846586527556985},1.9271955045838634]
[4131,0.41310000000000002,5.8598919752353931,1.028964334637525,0.31132185470477947,0.99881790587472463,1.2842015624326697E-3,0.20477051151451187,0.51737656778172403,0.38564109246805872,0.62093962190884988,0.57993938982039916,0.75359995016742631,0.56282484904161234,0.74196941522370008,-1.5433301105105324,{"$f":"+Spectre!C332*N333/L333","v":1.9040843994941734},1.9470596915191651]
[4132,0.41320000000000001,5.8570559719011257,1.0289466575501924,0.31101524448392903,0.99881613245379985,1.286129310225672E-3,0.2047060894426917,0.51700746323684643,0.38590333145527306,0.62115075109262352,0.58016485111891281,0.75389292496152882,0.56305568939761574,0.74227373100550242,-1.5412260244542453,{"$f":"+Spectre!C333*N334/L334","v":1.9114936412017356},1.9546361602289288]
[4133,0.4133,5.8542220268733374,1.0289289942655422,0.31070901310290489,0.99881435637390337,1.288059951810234E-3,0.20464170322022693,0.51663877627494204,0.38616545178289413,0.62136171308280852,0.58039014484710638,0.75418568200704061,0.56328636311216496,0.7425778271046406,-1.5391242739465905,{"$f":"+Spectre!C334*N335/L335","v":1.9083941356856573},1.9514666986989671]
[4134,0.41339999999999999,5.8513901381606841,1.0289113447689229,0.3104031599978494,0.99881257763105336,1.2899934915301266E-3,0.20457735281850215,0.51627050630788163,0.38642745338557494,0.62157250799701547,0.58061527110132427,0.75447822142915599,0.56351687027111474,0.7428817036342964,-1.5370248557861732,{"$f":"+Spectre!C335*N336/L336","v":1.9053757734854471},1.9483802118940776]
[4135,0.41349999999999998,5.8485603037742226,1.0288937090457033,0.31009768460588771,0.99881079622126168,1.2919299337360536E-3,0.20451303820893066,0.5159026527485544,0.38668933619832424,0.62178313595284718,0.58084022997796514,0.75477054335313976,0.56374721096040048,0.74318536070775831,-1.5349277667770611,{"$f":"+Spectre!C336*N337/L337","v":1.899810064441998},1.9426888844843777]
[4136,0.41360000000000002,5.8457325217274185,1.0288760870812714,0.30979258636512613,0.99880901214053464,1.2938692827848082E-3,0.20444875936295598,0.51553521501086697,0.38695110015650519,0.62199359706789747,0.58106502157347972,0.75506264790432442,0.56397738526603769,0.74348879843841986,-1.5328330037285953,{"$f":"+Spectre!C337*N338/L338","v":1.8932322976397575},1.9359626571153294]
[4137,0.41370000000000001,5.8429067900361371,1.0288584788610355,0.30948786471465028,0.99880722538487232,1.295811543039996E-3,0.20438451625205134,0.51516819250974155,0.38721274519583398,0.62220389145975052,0.58128964598437094,0.75535453520811058,0.56420739327412051,0.74379201693977881,-1.5307405634555571,{"$f":"+Spectre!C338*N339/L339","v":1.8989862238874431},1.9418464498021553]
[4138,0.4138,5.8400831067186409,1.0288408843704233,0.30918351909452302,0.99880543595026894,1.2977567188716729E-3,0.20432030884771962,0.51480158466111425,0.38747427125237915,0.62241401924598072,0.58151410330719233,0.75564620538996408,0.56443723507082166,0.74409501632543629,-1.5286504427778569,{"$f":"+Spectre!C339*N340/L340","v":1.9118507430032001},1.9550013218381439]
[4139,0.41389999999999999,5.8372614697955871,1.0288233035948824,0.30887954894578235,0.99880364383271258,1.2997048146565879E-3,0.20425613712149326,0.51443539088193213,0.38773567826256122,0.62262398054415258,0.58173839363854962,0.75593765857541884,0.56466691074239206,0.74439779670909623,-1.5265626385209785,{"$f":"+Spectre!C340*N341/L341","v":1.9219248035934176},1.9653027545426736]
[4140,0.41399999999999998,5.8344418772900184,1.0288057365198795,0.30857595371043905,0.99880184902818558,1.3016558347778207E-3,0.20419200104493382,0.51406961059015066,0.38799696616315205,0.62283377547182095,0.58196251707509927,0.75622889489007494,0.56489642037516097,0.74470035820456626,-1.5244771475155683,{"$f":"+Spectre!C341*N342/L342","v":1.9213348943121202},1.9646995309757078]
[4141,0.41410000000000002,5.8316243272273693,1.028788183130902,0.30827273283147621,0.99880005153266405,1.3036097836252635E-3,0.2041279005896332,0.51370424320473473,0.38825813489127237,0.62304340414652837,0.58218647371354637,0.75651991445959521,0.56512576405553305,0.74500270092575338,-1.5223939665975461,{"$f":"+Spectre!C342*N343/L343","v":1.9201682283715957},1.9635065333192661]
[4142,0.41420000000000001,5.8288088176354567,1.028770643413456,0.30796988575284578,0.99879825134211819,1.305566665595261E-3,0.20406383572721229,0.51333928814565333,0.38851918438439265,0.62325286668580759,0.58241026365064663,0.75681071740970862,0.56535494186999058,0.7453048249866665,-1.5203130926082387,{"$f":"+Spectre!C343*N344/L344","v":1.9236831057054535},1.9671007416323045]
[4143,0.4143,5.8259953465444774,1.0287531173530673,0.30766741191946728,0.99879644845251214,1.3075264850908503E-3,0.20399980642932147,0.51297474483387961,0.38878011458033096,0.62346216320717895,0.58263388698320406,0.75710130386620667,0.56558395390509086,0.74560673050141391,-1.518234522394124,{"$f":"+Spectre!C344*N345/L345","v":1.9294213243581408},1.9729684722028291]
[4144,0.41439999999999999,5.8231839119869999,1.0287356049352816,0.30736531077722529,0.99879464285980413,1.3094892465215213E-3,0.20393581266764049,0.5126106126913873,0.38904092541725382,0.62367129382815178,0.5828573438080723,0.75739167395494544,0.56581280024746738,0.74590841758420412,-1.5161582528070428,{"$f":"+Spectre!C345*N346/L346","v":1.9321890017132133},1.9757986161915218]
[4145,0.41449999999999998,5.8203745119979757,1.0287181061456641,0.30706358177296933,0.99879283455994616,1.3114549543035777E-3,0.20387185441387867,0.51224689114115152,0.3893016168336727,0.6238802586662221,0.58308063422215139,0.75768182780184135,0.56604148098382701,0.74620988634934238,-1.5140842807040755,{"$f":"+Spectre!C346*N347/L347","v":1.927718771053202},1.9712274921740081]
[4146,0.41460000000000002,5.8175671446147135,1.0287006209697986,0.30676222435450884,0.99879102354888438,1.3134236128597744E-3,0.20380793163977448,0.51188357960714315,0.38956218876844589,0.62408905783887436,0.58330375832239023,0.75797176553287426,0.56626999620095197,0.74651113691123316,-1.5120126029475434,{"$f":"+Spectre!C347*N348/L348","v":1.923094374947141},1.9664987231876536]
[4147,0.41470000000000001,5.8147618078768968,1.0286831493932895,0.3064612379706142,0.99878920982255859,1.3153952266198032E-3,0.20374404431709611,0.51152067751433017,0.38982264116077575,0.62429769146357916,0.58352671620578389,0.75826148727408405,0.56649834598569726,0.74681216938437722,-1.5099432164050186,{"$f":"+Spectre!C348*N349/L349","v":1.9218201302560922},1.9651957187222358]
[4148,0.4148,5.8119584998265701,1.0286656914017602,0.30616062207101374,0.99878739337690292,1.3173698000195667E-3,0.20368019241764046,0.51115818428867377,0.39008297395020852,0.62450615965779444,0.5837495079693743,0.75855099315157148,0.56672653042499122,0.74711298388337166,-1.5078761179493028,{"$f":"+Spectre!C349*N350/L350","v":1.9216599232681304},1.965031895853542]
[4149,0.41489999999999999,5.8091572185081386,1.0286482469808536,0.30586037610639133,0.99878557420784519,1.3193473375019025E-3,0.20361637591323412,0.51079609935712733,0.39034318707663346,0.62471446253896401,0.58397213371024925,0.75884028329149678,0.5669545496058348,0.74741358052290952,-1.505811304458371,{"$f":"+Spectre!C350*N351/L351","v":1.9232448384033936},1.9666525826125791]
[4150,0.41499999999999998,5.8063579619683567,1.028630816116231,0.30556049952838449,0.99878375231130723,1.3213278435162223E-3,0.2035525947757322,0.5104344221476329,0.39060328048028253,0.62492260022451829,0.58419459352554237,0.75912935782007995,0.56718240361530092,0.74771395941777863,-1.5037487728154608,{"$f":"+Spectre!C351*N352/L352","v":1.9281745861887589},1.9716935950828198]
[4151,0.41510000000000002,5.8035607282563353,1.0286133987935742,0.30526099178958332,0.99878192768320451,1.3233113225188733E-3,0.20348884897701963,0.51007315208912185,0.39086325410172845,0.62513057283187268,0.58441688751243215,0.75941821686359923,0.56741009254053354,0.74801412068286033,-1.5016885199090835,{"$f":"+Spectre!C352*N353/L353","v":1.9331256793636227},1.9767564347092008]
[4152,0.41520000000000001,5.8007655154235378,1.0285959949985839,0.30496185234352841,0.99878010031944675,1.3252977789725362E-3,0.20342513848901028,0.5097122886115113,0.39112310788188431,0.62533838047842816,0.58463901576814126,0.75970686054839009,0.56763761646874777,0.74831406443312998,-1.4996305426327572,{"$f":"+Spectre!C353*N354/L354","v":1.939337487161334},1.9831084433583979]
[4153,0.4153,5.7979723215237726,1.02857860471698,0.30466308064470882,0.99877827021593735,1.3272872173468279E-3,0.20336146328364724,0.50935183114570282,0.39138284176200244,0.62554602328156994,0.58486097838993656,0.75999528900084579,0.56786497548722847,0.74861379078365486,-1.4975748378853737,{"$f":"+Spectre!C354*N355/L355","v":1.9460740788367825},1.9899970802869782]
[4154,0.41539999999999999,5.7951811446131831,1.0285612279345018,0.30436467614855911,0.9987764373685738,1.3292796421178177E-3,0.20329782333290217,0.50899177912357907,0.39164245568367489,0.62575350135866914,0.58508277547512899,0.76028350234741648,0.56809216968333132,0.74891329984959554,-1.4955214025708652,{"$f":"+Spectre!C355*N356/L356","v":1.9484648138548397},1.9924417743289016]
[4155,0.41549999999999998,5.7923919827502575,1.0285438646369067,0.30406663831145886,0.99877460177324717,1.3312750577686345E-3,0.203234218608776,0.5086321319780035,0.39190194958883118,0.62596081482708044,0.58530440712107212,0.76057150071460788,0.56831919914448059,0.74921259174620303,-1.4934702335983374,{"$f":"+Spectre!C356*N357/L357","v":1.9443763024951499},1.9882609850377939]
[4156,0.41560000000000002,5.7896048339958188,1.0285265148099731,0.30376896659073083,0.99877276342584276,1.3332734687887386E-3,0.2031706490832989,0.50827288914281854,0.3921613234197372,0.62616796380414175,0.58552587342516216,0.76085928422898119,0.56854606395816887,0.7495116665888184,-1.4914213278821919,{"$f":"+Spectre!C357*N358/L358","v":1.9408898659239808},1.9846958593970581]
[4157,0.41570000000000001,5.786819696413021,1.0285091784394975,0.30347166044463797,0.99877092232223919,1.3352748796748904E-3,0.20310711472852958,0.5079140500528424,0.39242057711899592,0.62637494840717556,0.5857471744848376,0.76114685301715235,0.56877276421195766,0.74981052449287355,-1.489374682341793,{"$f":"+Spectre!C358*N359/L359","v":1.9411374089794473},1.984948989513214]
[4158,{"$f":"+A360/10000","v":0.4158},{"$f":"+(1/B360)^2","v":5.7840365680673527},{"$f":"0.23465+1.076*100/(146-C360)+0.93161/(41-C360)","v":1.0284918555112947},{"$f":"9.4977*0.001*C360^2*D360*EXP(-h/7.996/1000)","v":0.30317471933238288},{"$f":"+EXP(-0.0168*EXP(-15*ABS(B360-0.59)))","v":0.99876907845830942},{"$f":"-2.5*LOG(F360)","v":1.3372792949300633E-3},{"$f":"2.5*LOG(EXP(AOD*(B360/0.55)^(-1.3)))","v":0.20304361551655573},{"$f":"+E360+G360+H360","v":0.50755561414386863},{"$f":"10^(-0.4*I360*ma)","v":0.3926797106295446},{"$f":"10^(-0.4*I360)","v":0.62658176875348681},{"$f":"10^(-0.4*I360*ma_ref)","v":0.58596831039757824},{"$f":"+L360/M$1","v":0.76143420720579125},{"$f":"10^(-0.4*I360*ma_target)","v":0.56899929999347532},{"$f":"+N360/O$1","v":0.75010916557388851},{"$f":"(O360/M360-1)*100","v":-1.4873302939018007},{"$f":"+Spectre!C359*N360/L360","v":1.9421492533364002},1.985983671254232]
[4159,0.41589999999999999,5.7812554470266173,1.0284745460112006,0.30287814271410446,0.99876723182992022,1.3392867190640471E-3,0.20298015141949424,0.50719758085266275,0.39293872389465584,0.62678842496036369,0.58618928126090519,0.7617213469216213,0.56922567139041791,0.7504075899474727,-1.4852881594918377,{"$f":"+Spectre!C360*N361/L361","v":1.9386080300914523},1.9823625224014079]
[4160,0.41599999999999998,5.7784763313609462,1.0284572499250679,0.30258193005087702,0.99876538243293167,1.3412971565939318E-3,0.20291672240949016,0.50683994961696111,0.39319761685793558,0.6269949171450766,0.58641008717238052,0.76200827229141899,0.5694518784905479,0.750705797729323,-1.4832482760467336,{"$f":"+Spectre!C361*N362/L362","v":1.9296394682276321},1.9731915395917281]
[4161,0.41610000000000003,5.7756992191427923,1.0284399672387703,0.30228608080470876,0.99876353026319831,1.3433106120429002E-3,0.20285332845871776,0.50648271987546944,0.3934563894633224,0.62720124542487854,0.58663072822960627,0.76229498344201296,0.56967792138169349,0.7510037890352228,-1.4812106405064696,{"$f":"+Spectre!C362*N363/L363","v":1.9224322046828124},1.9658216077032038]
[4162,0.41620000000000001,5.7729241084469187,1.0284226979381985,0.30199059443853848,0.99876167531656823,1.3453270899411933E-3,0.20278996953938003,0.50612589106785966,0.39371504165508731,0.62740740991700439,0.58685120453022432,0.76258148050028374,0.56990380015174913,0.75130156398104297,-1.4791752498160227,{"$f":"+Spectre!C363*N364/L364","v":1.9279467582899459},1.9714606250955125]
[4163,0.4163,5.7701509973504033,1.0284054420092643,0.30169547041623573,0.9987598175888831,1.3473465948261117E-3,0.2027266456237089,0.50576946263477074,0.39397357337783084,0.62761341073866916,0.58707151617191511,0.76286776359316155,0.57012951488867269,0.7515991226827381,-1.4771421009255103,{"$f":"+Spectre!C364*N365/L365","v":1.9346817911616012},1.9783476680380103]
[4164,0.41639999999999999,5.7673798839326338,1.0283881994378961,0.3014007082025969,0.99875795707597859,1.3493691312415315E-3,0.20266335668396446,0.50541343401780292,0.39423198457648545,0.6278192480070709,0.58729166325239912,0.76315383284762905,0.5703550656804881,0.75189646525634957,-1.4751111907901682,{"$f":"+Spectre!C365*N366/L366","v":1.9307051194128169},1.9742812425841187]
[4165,0.41649999999999998,5.7646107662752994,1.0283709702100432,0.30110630726334475,0.99875609377368435,1.3513947037379064E-3,0.20260010269243572,0.50505780465951844,0.39449027519631269,0.62802492183938741,0.58751164586943416,0.76343968839071719,0.57058045261528256,0.75219359181800238,-1.4730825163702055,{"$f":"+Spectre!C366*N367/L367","v":1.9173346155227684},1.9606089656690149]
[4166,0.41660000000000003,5.7618436424623898,1.0283537543116725,0.30081226706512559,0.9987542276778234,1.3534233168729895E-3,0.20253688362144051,0.5047025740034391,0.3947484451829022,0.62823043235277742,0.58773146412081645,0.76372533034950685,0.57080567578120678,0.75249050248390525,-1.4710560746309387,{"$f":"+Spectre!C367*N368/L368","v":1.9065332492974421},1.9495638120002718]
[4167,0.41670000000000001,5.7590785105802045,1.0283365517287701,0.3005185870755096,0.99875235878421276,1.3554549752111122E-3,0.20247369944332444,0.50434774149404515,0.39500649448217118,0.62843577966437936,0.58795111810437917,0.76401075885112701,0.57103073526647385,0.75278719737034905,-1.4690318625427801,{"$f":"+Spectre!C368*N369/L369","v":1.910947086447963},1.9540772697036131]
[4168,0.4168,5.7563153687173267,1.0283193624473408,0.30022526676298544,0.9987504870886631,1.3574896833235435E-3,0.20241055013046255,0.50399330657677155,0.39526442304036424,0.62864096389131185,0.58817060791799303,0.7642959740227554,0.57125563115936007,0.75308367659370801,-1.467009877081149,{"$f":"+Spectre!C369*N370/L370","v":1.91539864195473},1.9586292970686232]
[4169,0.41689999999999999,5.7535542149646375,1.0283021864534083,0.29993230559696171,0.998748612586979,1.3595274457882517E-3,0.20234743565525815,0.50363926869800812,0.39552223080405163,0.62884598515067291,0.58838993365956427,0.76458097599161579,0.57148036354820264,0.75337994027043675,-1.4649901152264388,{"$f":"+Spectre!C370*N371/L371","v":1.9167583840405304},1.9600197286098027]
[4170,0.41699999999999998,5.7507950474153064,1.028285023733015,0.29963970304776344,0.9987467352749585,1.3615682671903851E-3,0.20228435599014255,0.50328562730509629,0.39577991772012894,0.62905084355953966,0.58860909542703588,0.76486576488497993,0.57170493252140098,0.75367598851707174,-1.4629725739641275,{"$f":"+Spectre!C371*N372/L372","v":1.9161019129963046},1.959348440977174]
[4171,0.41710000000000003,5.7480378641647825,1.0282678742722218,0.29934745858663014,0.99874485514839362,1.3636121521216705E-3,0.2022213111075758,0.5029323818463276,0.39603748373581643,0.62925553923496846,0.58882809331838648,0.76515034083016564,0.57192933816741487,0.75397182145022901,-1.4609572502847334,{"$f":"+Spectre!C372*N373/L373","v":1.9139030051325425},1.9570999036392109]
[4172,0.41720000000000002,5.7452826633108076,1.0282507380571082,0.29905557168571545,0.99874297220307007,1.3656591051807736E-3,0.20215830098004639,0.50257953177094261,0.39629492879865746,0.6294600722939937,0.58904692743162923,0.76543470395453583,0.57215358057476462,0.75426743918660466,-1.4589441411836601,{"$f":"+Spectre!C373*N374/L374","v":1.9023549134487212},1.9452911708763621]
[4173,0.4173,5.7425294429533968,1.0282336150737728,0.2987640418180838,0.998741086434767,1.3677091309735423E-3,0.20209532558007146,0.50222707652912879,0.39655225285651768,0.62966444285362777,0.58926559786481203,0.76571885438549847,0.57237765983202948,0.75456284184297229,-1.4569332436614846,{"$f":"+Spectre!C374*N375/L375","v":1.889985919475496},1.9326430080132515]
[4174,0.41739999999999999,5.7397782011948379,1.0282165053083323,0.29847286845770915,0.99873919783925758,1.3697622341124023E-3,0.20203238488019548,0.50187501557201708,0.3968094558575857,0.62986865103086187,0.5894841047160172,0.76600279225050605,0.57260157602784933,0.7548580295361853,-1.454924554723569,{"$f":"+Spectre!C375*N376/L376","v":1.8947628875256817},1.9375277925010936]
[4175,0.41749999999999998,5.7370289361396978,1.0281994087469224,0.29818205107947349,0.99873730641230851,1.3718184192168404E-3,0.20196947885299218,0.50152334835168255,0.39706653775037037,0.63007269694266399,0.5897024480833607,0.76628651767705525,0.57282532925092178,0.7551530023831734,-1.452918071380449,{"$f":"+Spectre!C376*N377/L377","v":1.9048098542936462},1.947801519874278]
[4176,0.41760000000000003,5.7342816458948036,1.0281823253756968,0.29789158915916408,0.99873541214968009,1.3738776909134058E-3,0.2019066074710632,0.50117207432114075,0.39732349848370119,0.63027658070597958,0.5899206280649919,0.76657003079268571,0.57304891959000337,0.75544776050094409,-1.4509137906474678,{"$f":"+Spectre!C377*N378/L378","v":1.9161088955711032},1.9593555811490786]
[4177,0.41770000000000002,5.7315363285692609,1.028165255180828,0.2976014821734736,0.9987335150471266,1.3759400538352249E-3,0.2018437707070381,0.5008211929343469,0.3975803380067266,0.63048030243773101,0.5901386447590925,0.76685333172497927,0.57327234713390807,0.75574230400658016,-1.4489117095449866,{"$f":"+Spectre!C378*N379/L379","v":1.9305285045732774},1.974100641537714]
[4178,0.4178,5.7287929822744257,1.0281481981485072,0.29731172959999586,0.99873161510039565,1.3780055126227284E-3,0.20178096853357505,0.50047070364619362,0.39783705626891386,0.63068386225481732,0.59035649826387715,0.76713642060156062,0.57349561197150711,0.75603663301724033,-1.4469118250983626,{"$f":"+Spectre!C379*N380/L380","v":1.9456915429090988},1.9896059105018844]
[4179,0.41789999999999999,5.7260516051239234,1.0281311542649438,0.29702233091722635,0.99872971230522856,1.3800740719232881E-3,0.20171820092336001,0.50012060591250962,0.39809365322004769,0.63088726027411335,0.59057418867759159,0.76741929755009475,0.57371871419172815,0.75633074765015751,-1.4449141343378047,{"$f":"+Spectre!C380*N381/L381","v":1.9399126790777934},1.9836966173887733]
[4180,0.41799999999999998,5.7233121952336257,1.0281141235163656,0.29673328560455814,0.99872780665736038,1.3821457363910961E-3,0.20165546784910737,0.49977089919005663,0.39835012881023008,0.63109049661247074,0.59079171609851411,0.76770196269828894,0.57394165388355611,0.75662464802263996,-1.4429186342985068,{"$f":"+Spectre!C381*N382/L382","v":1.9293050607948692},1.9728495845643932]
[4181,0.41810000000000003,5.7205747507216635,1.0280971058890183,0.296444593142282,0.99872589815251978,1.3842205106874073E-3,0.20159276928355929,0.49942158293652872,0.39860648298987916,0.63129357138671627,0.5910090806249535,0.76798441617389024,0.57416443113603088,0.75691833425206878,-1.4409253220205698,{"$f":"+Spectre!C382*N383/L383","v":1.9223091774088212},1.9656958036967167]
[4182,0.41820000000000002,5.7178392697084197,1.0280801013691674,0.29615625301158455,0.99872398678642904,1.3862983994804184E-3,0.20153010519948589,0.49907265661055084,0.39886271570972781,0.63149648471365205,0.59122628235524899,0.7682666581046852,0.57438704603824753,0.75721180645589747,-1.4389341945490686,{"$f":"+Spectre!C383*N384/L384","v":1.9218105514739237},1.9651859237464147]
[4183,0.41830000000000001,5.7151057503165168,1.0280631099430952,0.2958682646945448,0.99872207255480394,1.3883794074455095E-3,0.20146747556968597,0.49872411967167629,0.39911882692082346,0.63169923671005512,0.59144332138776978,0.76854868861849934,0.57460949867935629,0.75750506475165225,-1.4369452489338741,{"$f":"+Spectre!C384*N385/L385","v":1.9211552693991913},1.9645158519183878]
[4184,0.41839999999999999,5.7123741906708254,1.0280461315971028,0.29558062767413407,0.99872015545335413,1.3904635392647613E-3,0.20140488036698517,0.49837597158038399,0.39937481657452772,0.63190182749267787,0.59166019782091561,0.76883050784319762,0.57483178914856181,0.75779810925693147,-1.4349584822297645,{"$f":"+Spectre!C385*N386/L386","v":1.9203841665459005},1.9637273452303141]
[4185,0.41849999999999998,5.7096445888984535,1.0280291663175098,0.29529334143421349,0.9987182354777826,1.3925507996275601E-3,0.20134231956423804,0.4980282117980791,0.39963068462251444,0.63210425717824648,0.59187691175311474,0.76911211590668238,0.57505391753512192,0.75809094008940314,-1.4329738914965251,{"$f":"+Spectre!C386*N387/L387","v":1.9194944093431525},{"$f":"+Q387/R$1","v":1.9628175061574402}]
[4186,0.41860000000000003,5.7069169431287463,1.0280122140906542,0.29500640545953222,0.99871631262378602,1.3946411932302331E-3,0.20127979313432628,0.49768083978708877,0.39988643101677002,0.63230652588346159,0.59209346328282486,0.76939351293689395,0.57527588392834872,0.75838355736680696,-1.4309914737986706,{"$f":"+Spectre!C387*N388/L388","v":1.9198021205205271},1.9631321623934008]
[4187,0.41870000000000002,5.7041912514932855,1.0279952749028916,0.29471981923572649,0.99871438688705461,1.3967347247761726E-3,0.20121730105016022,0.49733385501066291,0.40014205570959105,0.63250863372499733,0.59230985250853097,0.76967469906180852,0.57549768841760585,0.7586759612069508,-1.4290112262056454,{"$f":"+Spectre!C388*N389/L389","v":1.9215435511777763},1.9649128972385612]
[4188,0.41880000000000001,5.7014675121258804,1.0279783487405958,0.29443358224931648,0.99871245826327215,1.3988313989758343E-3,0.20115484328467712,0.49698725693296941,0.40039755865358539,0.63271058081950149,0.59252607952874736,0.76995567440943991,0.57571933109231033,0.75896815172771248,-1.4270331457917895,{"$f":"+Spectre!C389*N390/L390","v":1.9231600610798252},1.9665658918600482]
[4189,0.41889999999999999,5.6987457231625704,1.0279614355901596,0.29414769398770613,0.998710526748116,1.4009312205467373E-3,0.20109241981084286,0.49664104501909573,0.40065293980166966,0.63291236728359479,0.59274214444201456,0.77023643910783623,0.57594081204193015,0.75926012904703732,-1.4250572296362396,{"$f":"+Spectre!C390*N391/L391","v":1.9239562229488745},1.9673800231472758]
[4190,0.41899999999999998,5.6960258827416128,1.027944535437993,0.29386215393917947,0.99870859233725695,1.4030341942135867E-3,0.20103003060165051,0.49629521873504356,0.40090819910707004,0.63311399323387141,0.59295804734690138,0.7705169932850825,0.5761621313559856,0.75955189328293959,-1.4230834748229837,{"$f":"+Spectre!C391*N392/L392","v":1.9248357684859039},1.9682794200765614]
[4191,0.41909999999999997,5.6933079890034897,1.0279276482705244,0.29357696159290064,0.99870665502635969,1.4051403247077885E-3,0.20096767563012069,0.49594977754772912,0.40116333652332092,0.63331545878689832,0.59317378834200307,0.77079733706929765,0.57638328912404768,0.75984344455350028,-1.4211118784408283,{"$f":"+Spectre!C392*N393/L393","v":1.9215906796672835},1.9649610894207281]
[4192,0.41920000000000002,5.6905920400909027,1.0279107740742,0.29329211643891168,0.99870471481108192,1.4072496167684175E-3,0.20090535486930242,0.49560472092498253,0.40141835200426218,0.63351676405921353,0.59338936752594018,0.77107747058863396,0.57660428543573683,0.76013478297686554,-1.4191424375834538,{"$f":"+Spectre!C393*N394/L394","v":1.9143750677990974},1.9575826207867093]
[4193,0.41930000000000001,5.6878780341487678,1.0278939128354849,0.29300761796813085,0.99870277168707522,1.4093620751412517E-3,0.20084306829227197,0.49526004833554405,0.40167324550404093,0.63371790916732762,0.5936047849973598,0.77135739397127789,0.5768251203807242,0.7604259086712486,-1.4171751493492923,{"$f":"+Spectre!C394*N395/L395","v":1.9085653416077288},1.9516417687483323]
[4194,0.4194,5.685165969324208,1.027877064540861,0.29272346567234969,0.99870082564998452,1.4114777045793748E-3,0.20078081587213287,0.49491575924906195,0.40192801697711034,0.63391889422772363,0.59382004085493478,0.77163710734544966,0.57704579404873046,0.76071682175492761,-1.4152100108416943,{"$f":"+Spectre!C395*N396/L396","v":1.9104167475347995},1.9535349610113415]
[4195,0.41949999999999998,5.6824558437665589,1.0278602291768291,0.29243965904423325,0.99869887669544832,1.4135965098429359E-3,0.2007185975820166,0.49457185313609281,0.40218266637822747,0.63411971935685518,0.59403513519736184,0.77191661083940022,0.57726630652952482,0.76100752234624502,-1.4132470191686064,{"$f":"+Spectre!C396*N397/L397","v":1.912958598093415},1.9561341812800754]
[4196,0.41959999999999997,5.6797476556273576,1.0278434067299076,0.29215619757731692,0.99869692481909855,1.4157184956992703E-3,0.20065641339508225,0.49422832946809847,0.40243719366245345,0.63432038467114704,0.59425006812336312,0.77219590458141352,0.57748665791292519,0.76129801056360724,-1.4112861714429492,{"$f":"+Spectre!C397*N398/L398","v":1.920753496745002},1.9641050112327887]
[4197,0.41970000000000002,5.6770414030603451,1.0278265971866327,0.29187308076600532,0.99869497001656071,1.4178436669227789E-3,0.20059426328451635,0.49388518771744444,0.40269159878515287,0.6345208902869951,0.59446483973168474,0.77247498869980513,0.57770684828879759,0.76158828652548449,-1.4093274647823395,{"$f":"+Spectre!C398*N399/L399","v":1.9327916819414765},1.9764148989464452]
[4198,0.41980000000000001,5.6743370842214604,1.027809800533559,0.29159030810557041,0.99869301228345375,1.4199720282950486E-3,0.20053214722353252,0.49354242735739795,0.40294588170199219,0.63472123632076582,0.59467945012109635,0.77275386332292062,0.57792687774705542,0.76187835035040896,-1.4073708963091902,{"$f":"+Spectre!C399*N400/L400","v":1.942672700170968},1.9865189323133066]
[4199,0.4199,5.671634697268841,1.0277930167572575,0.29130787909215,0.99869105161538985,1.4221035846050958E-3,0.20047006518537233,0.49320004786212746,0.4032000423689393,0.63492142288879538,0.59489389939039083,0.77303252857913607,0.57814674637765917,0.76216820215697523,-1.4054164631506438,{"$f":"+Spectre!C400*N401/L401","v":1.9438438959310316},1.987716562027569]
[4200,0.42,5.6689342403628116,1.0277762458443194,0.29102579322274597,0.99868908800797496,1.42423834064876E-3,0.20040801714330458,0.4928580487066993,0.40345408074226285,0.63512145010739007,0.5951081876383838,0.77331098459685721,0.57836645427061595,0.76245784206383926,-1.4034641624385946,{"$f":"+Spectre!C401*N402/L402","v":1.944653029489996},1.988543957776483]
[4201,0.42009999999999997,5.666235711665891,1.0277594877813514,0.29074404999522235,0.99868712145680827,1.4263763012293108E-3,0.20034600307062503,0.49251642936707674,0.4037079967785317,0.63532131809282621,0.59532231496391386,0.77358923150451919,0.57858600151597883,0.76274727018971755,-1.4015139913097774,{"$f":"+Spectre!C402*N403/L403","v":1.9385628452399863},1.982316317725302]
[4202,0.42020000000000002,5.6635391093427776,1.0277427425549792,0.2904626489083032,0.99868515195748253,1.4285174711570841E-3,0.20028402294065728,0.49217518932011756,0.40396179043461383,0.6355210269613496,0.59553628146584148,0.77386726943058604,0.57880538820384742,0.76303648665338808,-1.3995659469055011,{"$f":"+Spectre!C403*N404/L404","v":1.9281282728975688},1.9716462364980418]
[4203,0.42030000000000001,5.6608444315603634,1.0277260101518459,0.2901815894615728,0.99868317950558372,1.4306618552498438E-3,0.20022207672675213,0.4918343280435748,0.40421546166767452,0.63572057682917404,0.5957500872430479,0.77414509850354862,0.57902461442436493,0.76332549157368623,-1.3976200263719374,{"$f":"+Spectre!C404*N405/L405","v":1.9216122910045583},1.9649831885271012]
[4204,0.4204,5.6581516764877096,1.0277092905586129,0.28990087115547147,0.99868120409669137,1.4328094583324221E-3,0.2001601644022877,0.49149384501609161,0.40446901043517752,0.63591996781248294,0.59596373239443667,0.77442271885192671,0.57924368026772055,0.76361428506950801,-1.3956762268599321,{"$f":"+Spectre!C405*N406/L406","v":1.9295469528800675},1.9730969361675639]
[4205,0.42049999999999998,5.6554608422960611,1.0276925837619582,0.28962049349129559,0.99867922572637857,1.4349602852367182E-3,0.20009828594066875,0.49115373971720105,0.40472243669488339,0.6361192000274285,0.59617721701893178,0.77470013060426657,0.57946258582414789,0.76390286725980783,-1.3937345455249717,{"$f":"+Spectre!C406*N407/L407","v":1.9374106237238908},1.9811380905047615]
[4206,0.42059999999999997,5.6527719271588346,1.0276758897485778,0.28934045597119529,0.99867724439021133,1.4371143408024227E-3,0.20003644131532788,0.49081401162732557,0.40497574040484774,0.63631827359013038,0.59639054121547752,0.77497733388914114,0.5796813311839234,0.76419123826359681,-1.3917949795273943,{"$f":"+Spectre!C407*N408/L408","v":1.935964386781124},1.9796592119128278]
[4207,0.42070000000000002,5.6500849292516131,1.0276592085051861,0.28906075809817261,0.99867526008374952,1.439271629875932E-3,0.19997463049972469,0.49047466022777325,0.40522892152342227,0.63651718861667661,0.59660370508303795,0.77525432883514889,0.57989991643736771,0.76447939819994426,-1.3898575260320567,{"$f":"+Spectre!C408*N409/L409","v":1.9303504046213598},1.9739185218598612]
[4208,0.42080000000000001,5.6473998467521573,1.0276425400185143,0.28878139937608077,0.99867327280254614,1.4414321573111937E-3,0.19991285346734583,0.49013568500073779,0.40548198000925195,0.63671594522312258,0.59681670872059711,0.77553111557091414,0.58011834167484377,0.76476734718797523,-1.3879221822086452,{"$f":"+Spectre!C409*N410/L410","v":1.9256720772934541},1.9691346044209508]
[4209,0.4209,5.6447166778403837,1.0276258842753112,0.28850237930962125,0.99867128254214754,1.4435959279694645E-3,0.19985111019170496,0.48979708542929568,0.40573491582127608,0.63691454352549137,0.59702955222715792,0.77580769422508578,0.58033660698675715,0.76505508534687094,-1.3859889452314644,{"$f":"+Spectre!C410*N411/L411","v":1.9236276921404043},1.9670440773799744]
[4210,0.42099999999999999,5.6420354206983712,1.0276092412623434,0.28822369740434267,0.99866928929809351,1.4457629467191902E-3,0.19978940064634276,0.4894588609974046,0.4059877289187267,0.63711298363977331,0.59724223570174229,0.77608406492633764,0.58055471246355617,0.76534261279586902,-1.3840578122794156,{"$f":"+Spectre!C411*N412/L412","v":1.9216980046099468},1.9650708366933858]
[4211,0.42109999999999997,5.6393560735103598,1.0275926109663951,0.28794535316663949,0.99866729306591717,1.4479332184361268E-3,0.19972772480482734,0.48912101118990292,0.40624041926112719,0.63731126568192487,0.59745475924339031,0.77636022780336678,0.58077265819572954,0.76562992965426024,-1.3821287805361737,{"$f":"+Spectre!C412*N413/L413","v":1.9116532742461783},1.954799396200166]
[4212,0.42120000000000002,5.6366786344627435,1.0275759933742676,0.28766734610374967,0.99866529384114489,1.4501067480034613E-3,0.19966608264075314,0.48878353549250625,0.40649298680829288,0.63750938976786964,0.59766712295116009,0.77663618298489401,0.58099044427380764,0.7659170360413905,-1.3802018471900102,{"$f":"+Spectre!C413*N414/L414","v":1.8995100119788966},1.9423820598203023]
[4213,0.42130000000000001,5.6340031017440664,1.0275593884727801,0.28738967572375351,0.99866329161929657,1.4522835403114498E-3,0.19960447412774238,0.48844643339180738,0.40674543152032899,0.63770735601349726,0.59787932692412749,0.77691193059966301,0.58120807078836156,0.76620393207665927,-1.378277009433837,{"$f":"+Spectre!C414*N415/L415","v":1.8945211428348305},1.9372805916189688]
[4214,0.4214,5.6313294735450281,1.0275427962487687,0.28711234153557225,0.99866128639588503,1.4544636002581414E-3,0.19954289923944321,0.48810970437527357,0.40699775335763039,0.63790516453466339,0.59809137126138512,0.77718747077643935,0.58142553783000228,0.76649061787951844,-1.3763542644652182,{"$f":"+Spectre!C415*N416/L416","v":1.9062249827089064},1.949248587817489]
[4215,0.42149999999999999,5.6286577480584645,1.0275262166890871,0.28683534304896491,0.99865927816641675,1.4566469327485345E-3,0.19948135794953134,0.48777334793124483,0.40724995228088123,0.63810281544718972,0.59830325606204282,0.77746280364401077,0.58164284548938094,0.7667770935694731,-1.3744336094862919,{"$f":"+Spectre!C416*N417/L417","v":1.9176454108084757},1.9609267756218067]
[4216,0.42159999999999997,5.6259879234793635,1.0275096497806067,0.28655867977452915,0.99865726692639134,1.4588335426951799E-3,0.19941985023170938,0.48743736354893369,0.40750202825105281,0.6383003088668624,0.59851498142522619,0.77773792933118568,0.58185999385718745,0.76706335926607927,-1.3725150417038257,{"$f":"+Spectre!C417*N418/L418","v":1.9025236769285681},1.945463743357444]
[4217,0.42170000000000002,5.6233199980048454,1.0274930955102159,0.28628235122369683,0.99865525267130184,1.461023435017819E-3,0.19935837605970608,0.48710175071842071,0.40775398122940504,0.63849764490943428,0.59872654745007803,0.77801284796679493,0.58207698302415134,0.76734941508894539,-1.3705985583292946,{"$f":"+Spectre!C418*N419/L419","v":1.8834783653479599},1.925988578022926]
[4218,0.42180000000000001,5.6206539698341746,1.0274765538648207,0.2860063569087351,0.99865323539663431,1.4632166146438667E-3,0.199296935407278,0.48676650893065698,0.40800581117748269,0.63869482369062158,0.59893795423575502,0.7782875596796871,0.58229381308103934,0.76763526115772862,-1.3686841565786478,{"$f":"+Spectre!C419*N420/L420","v":1.8768633619261803},1.9192242736017409]
[4219,0.4219,5.6179898371687438,1.0274600248313437,0.28573069634274234,0.99865121509786825,1.4654130865079293E-3,0.19923552824820745,0.48643163767745773,0.4082575180571178,0.63889184532610632,0.59914920188143062,0.77856206459873289,0.58251048411865769,0.76792089759213866,-1.3667718336724533,{"$f":"+Spectre!C420*N421/L421","v":1.8880211659800414},1.9306339099208627]
[4220,0.42199999999999999,5.6153275982120796,1.0274435083967253,0.28545536903964835,0.99864919177047651,1.467612855551925E-3,0.19917415455630411,0.48609713645150437,0.40850910183042632,0.6390887099315341,0.59936029048629202,0.77883636285282076,0.58272699622784885,0.7682063245119326,-1.3648615868359193,{"$f":"+Spectre!C421*N422/L422","v":1.8981873587822895},1.9410295542666323]
[4221,0.42209999999999998,5.6126672511698343,1.0274270045479235,0.28518037451421174,0.99864716540992482,1.4698159267255667E-3,0.19911281430540367,0.48576300474634099,0.40876056245980891,0.63928541762251534,0.59957122014954145,0.77911045457085837,0.58294334949949311,0.7684915420369175,-1.3629534132987398,{"$f":"+Spectre!C422*N423/L423","v":1.90000148829726},1.9428846287868229]
[4222,{"$f":"+A424/10000","v":0.42220000000000002},{"$f":"+(1/B424)^2","v":5.6100087942497856},{"$f":"0.23465+1.076*100/(146-C424)+0.93161/(41-C424)","v":1.0274105132719127},{"$f":"9.4977*0.001*C424^2*D424*EXP(-h/7.996/1000)","v":0.28490571228201844},{"$f":"+EXP(-0.0168*EXP(-15*ABS(B424-0.59)))","v":0.99864513601167249},{"$f":"-2.5*LOG(F424)","v":1.4720223049856391E-3},{"$f":"2.5*LOG(EXP(AOD*(B424/0.55)^(-1.3)))","v":0.19905150746936945},{"$f":"+E424+G424+H424","v":0.48542924205637356},{"$f":"10^(-0.4*I424*ma)","v":0.40901189990794912},{"$f":"10^(-0.4*I424)","v":0.63948196851462347},{"$f":"10^(-0.4*I424*ma_ref)","v":0.59978199097039486},{"$f":"+L424/M$1","v":0.7793843398817718},{"$f":"10^(-0.4*I424*ma_target)","v":0.5831595440245072},{"$f":"+N424/O$1","v":0.76877655028694836},{"$f":"(O424/M424-1)*100","v":-1.3610473102952714},{"$f":"+Spectre!C423*N424/L424","v":1.9011404252178061},1.9440492715777451]
[4223,0.42230000000000001,5.6073522256618347,1.0273940345556849,0.2846313818594805,0.99864310357117181,1.4742319952966009E-3,0.19899023402209071,0.48509584787686783,0.40926311413781352,0.63967836272339607,0.59999260304808177,0.77965801891450426,0.5833755798938437,0.76906134938192772,-1.3591432750643673,{"$f":"+Spectre!C424*N425/L425","v":1.8994536768895458},1.9423244532448154]
[4224,0.4224,5.6046975436179993,1.0273775683862489,0.28435738276383388,0.99864106808386854,1.4764450026301034E-3,0.1989289939374832,0.48476282170394719,0.40951420511265074,0.63987460036433408,0.60020305648184546,0.77993149179801713,0.58359145719849204,0.76934593944180651,-1.357241304849377,{"$f":"+Spectre!C425*N426/L426","v":1.895205860596175},1.9379807634987107]
[4225,0.42249999999999999,5.6020447463324121,1.0273611147506314,0.2840837145131373,0.99863902954520145,1.4786613319654734E-3,0.19886778718948936,0.48443016303459208,0.40976517279599023,0.64007068155290137,0.60041335137094176,0.78020475866128802,0.58380717602947607,0.76963032058658098,-1.355341396898313,{"$f":"+Spectre!C426*N427/L427","v":1.8918319723324755},1.9345307263870763]
[4226,0.42259999999999998,5.5993938320213212,1.0273446736358753,0.28381037662627046,0.99863698795060252,1.4808809882894715E-3,0.19880661375207856,0.48409787136663851,0.41001601715164132,0.64026660640452415,0.60062348781463881,0.78047781963331042,0.58402273647785452,0.76991449293629344,-1.3534435484636731,{"$f":"+Spectre!C427*N428/L428","v":1.8955277749706252},1.9383099434987039]
[4227,0.42270000000000002,5.5967447989030825,1.0273282450290409,0.28353736862293233,0.99863494329549696,1.4831039765962918E-3,0.19874547359924608,0.48376594619877467,0.41026673814369374,0.64046237503459214,0.60083346591221742,0.78075067484309457,0.58423813863472129,0.77019845661103259,-1.3515477568024736,{"$f":"+Spectre!C428*N429/L429","v":1.900048054508102},1.9429322459996636]
[4228,0.42280000000000001,5.5940976451981603,1.0273118289172058,0.28326469002364013,0.99863289557530299,1.485330301887806E-3,0.19868436670501388,0.48343438703054181,0.41051733573651528,0.64065798755845615,0.60104328576296928,0.78102332441966438,0.58445338259120383,0.77048221173093123,-1.3496540191761497,{"$f":"+Spectre!C429*N430/L430","v":1.9032467243919644},1.9462031100427697]
[4229,0.4229,5.5914523691291214,1.0272954252874642,0.2829923403497267,0.9986308447854324,1.4875599691729574E-3,0.19862329304343035,0.48310319336232999,0.41076780989475226,0.64085344409142997,0.60125294746619862,0.78129576849206062,0.58466846843846343,0.77076575841616712,-1.3477623328508437,{"$f":"+Spectre!C430*N431/L431","v":1.9054117133890367},1.9484169629633135]
[4230,0.42299999999999999,5.5888089689206328,1.0272790341269276,0.28272031912333978,0.99862879092128964,1.4897929834687274E-3,0.19856225258857008,0.4827723646953786,0.41101816058332802,0.64104874474878881,0.60146245112121943,0.78156800718933639,0.58488339626769448,0.7710490967869611,-1.3458726950970279,{"$f":"+Spectre!C431*N432/L432","v":1.9060150369219406},1.9490339035422994]
[4231,0.42309999999999998,5.5861674427994616,1.027262655422724,0.28244862586744007,0.99862673397827251,1.4920293497994134E-3,0.19850124531453447,0.48244190053177394,0.41126838776744207,0.64124388964576895,0.60167179682735694,0.78184004064055934,0.58509816617012411,0.77133222696357773,-1.3439851031897265,{"$f":"+Spectre!C432*N433/L433","v":1.8990634381386584},1.9419254067833647]
[4232,0.42320000000000002,5.5835277889944646,1.0272462891619989,0.28217726010579924,0.99862467395177201,1.4942690731967463E-3,0.1984402711954508,0.48211180037444679,0.41151849141257046,0.64143887889756868,0.60188098468394702,0.78211186897481122,0.58531277823701233,0.77161514906632456,-1.3420995544084602,{"$f":"+Spectre!C433*N434/L434","v":1.8911901749889777},1.9338744436414268]
[4233,0.42330000000000001,5.5808900057365962,1.0272299353319143,0.28190622136299975,0.9986226108371723,1.4965121587000153E-3,0.19837933020547249,0.48178206372717225,0.41176847148446377,0.64163371261934687,0.60209001479033464,0.78238349232118531,0.58552723255965045,0.77189786321555043,-1.3402160460372126,{"$f":"+Spectre!C434*N435/L435","v":1.8915625476323521},1.9342552207563128]
[4234,0.4234,5.5782540912588976,1.0272135939196494,0.28163550916443159,0.99862054462985028,1.4987586113564271E-3,0.19831842231877983,0.48145269009456787,0.4120183279491465,0.64182839092622312,0.60229888724587444,0.7826549108087878,0.58574152922936118,0.77218036953164582,-1.3383345753644749,{"$f":"+Spectre!C435*N436/L436","v":1.897606843528221},1.9404359367506181]
[4235,0.42349999999999999,5.5756200437964951,1.0271972649123997,0.28136512303629152,0.99861847532517645,1.5010084362202629E-3,0.19825754750957883,0.48112367898209063,0.41226806077291706,0.64202291393327748,0.60250760214993049,0.78292612456673683,0.58595566833749935,0.77246266813504316,-1.3364551396830793,{"$f":"+Spectre!C436*N437/L437","v":1.8982913601458116},1.9411359029467803]
[4236,0.42359999999999998,5.5729878615865998,1.0271809482973777,0.28109506250558164,0.99861640291851406,1.5032616383537228E-3,0.19819670575210183,0.48079502989603717,0.4125176699223464,0.64221728175555048,0.60271615960187552,0.78319713372416178,0.58616964997544929,0.77274475914621421,-1.3345777362904432,{"$f":"+Spectre!C437*N438/L438","v":1.8807244288766991},1.9231724850505658]
[4237,0.42370000000000002,5.5703575428684964,1.0271646440618132,0.28082532710010705,0.9986143274052196,1.5055182228264439E-3,0.19813589702060719,0.4804667423435407,0.41276715536427777,0.64241149450804269,0.60292455970109049,0.78346793841020312,0.58638347423462678,0.77302664268567189,-1.3327023624883139,{"$f":"+Spectre!C438*N439/L439","v":1.8623563074467728},1.9043897940865311]
[4238,0.42380000000000001,5.5677290858835562,1.0271483521929525,0.28055591634847554,0.99861224878064248,1.5077781947158621E-3,0.19807512128937971,0.48013881583257112,0.41301651706582498,0.64260555230571403,0.60313280254696455,0.78373853875401145,0.58659714120647621,0.77330831887396689,-1.3308290155829905,{"$f":"+Spectre!C439*N440/L440","v":1.8618560215962134},1.9038782167561772]
[4239,0.4239,5.5651024888752207,1.0271320726780584,0.28028682978009517,0.99861016704012528,1.5100415591068504E-3,0.1980143785327298,0.4798112498719318,0.41326575499437257,0.64279945526348403,0.60334088823889431,0.78400893488474743,0.58681065098247243,0.77358978783169008,-1.328957692885091,{"$f":"+Spectre!C440*N441/L441","v":1.8713599589083028},1.913596658468115]
[4240,0.42399999999999999,5.5624777500890001,1.0271158055044101,0.28001806692517228,0.99860808217900365,1.5123083210919605E-3,0.19795366872499437,0.4794840439712586,0.41351486911757479,0.64299320349623179,0.60354881687628381,0.78427912693158119,0.58702400365411855,0.77387104967946962,-1.327088391709752,{"$f":"+Spectre!C441*N442/L442","v":1.8793709741666518},1.9217884827915641]
[4241,0.42409999999999998,5.5598548677724748,1.0270995506593048,0.27974962731471098,0.99860599419260621,1.5145784857714235E-3,0.19789299184053621,0.47915719764101861,0.41376385940335503,0.64318679711879501,0.60375658855854397,0.78454911502369196,0.58723719931294693,0.77415210453797212,-1.3252211093764177,{"$f":"+Spectre!C442*N443/L443","v":1.8843641591751243},1.9268943642666065]
[4242,0.42420000000000002,5.5572338401752885,1.0270833081300543,0.27948151048051056,0.99860390307625457,1.5168520582531484E-3,0.1978323478537439,0.47883071039250757,0.41401272581990489,0.64338023624597074,0.60396420338509271,0.78481889929026782,0.5874502380505181,0.77443295252790156,-1.3233558432089954,{"$f":"+Spectre!C443*N444/L444","v":1.8894145142051884},1.9320587060938443]
[4243,0.42430000000000001,5.5546146655491517,1.0270670779039892,0.27921371595516559,0.99860180882526339,1.5191290436527257E-3,0.19777173673903245,0.47850458173785071,0.41426146833568273,0.64357352099251364,0.60417166145535306,0.78508847986050367,0.58766311995841969,0.77471359376999749,-1.3214925905357333,{"$f":"+Spectre!C444*N445/L445","v":1.8840945026656182},1.9266186215945094]
[4244,0.4244,5.5519973421478328,1.0270508599684556,0.27894624327206258,0.99859971143494053,1.5214094470931822E-3,0.19771115847084217,0.47817881118999794,0.41451008691941421,0.64376665147313716,0.60437896286875492,0.78535785686360338,0.58787584512826718,0.77499402838503595,-1.3196313486894096,{"$f":"+Spectre!C445*N446/L446","v":1.8747091936700211},1.9170214856468413]
[4245,0.42449999999999999,5.5493818682271518,1.0270346543108155,0.27867909196537849,0.99859761090058652,1.5236932737055886E-3,0.19765061302363965,0.47785339826272377,0.41475858154009138,0.64395962780251337,0.60458610772473387,0.78562703042877802,0.58808841365170372,0.77527425649382997,-1.3177721150070099,{"$f":"+Spectre!C446*N447/L447","v":1.8704945834062561},1.9127117513922989]
[4246,0.42459999999999998,5.5467682420449913,1.0270184609184492,0.27841226157008137,0.99859550721749513,1.5259805286284528E-3,0.19759010037191718,0.47752834247062703,0.41500695216697053,0.644152450095271,0.60479309612272947,0.78589600068524401,0.58830082562039776,0.77555427821722545,-1.315914886829983,{"$f":"+Spectre!C447*N448/L448","v":1.8803943132968926},1.9228349187435498]
[4247,0.42470000000000002,5.5441564618612755,1.0270022797787517,0.27814575162192584,0.9985934003809529,1.5282712170082053E-3,0.19752962049019301,0.47720364332912707,0.41525519876957312,0.64434511846599718,0.60499992816218706,0.78616476776222521,0.58851308112604506,0.77583409367610445,-1.3140596615040967,{"$f":"+Spectre!C448*N449/L449","v":1.8896502470592791},1.9322997594517148]
[4248,0.42480000000000001,5.541546525937985,1.0269861108791356,0.27787956165745398,0.99859129038623951,1.5305653439988364E-3,0.19746917335301109,0.47687930035446391,0.41550332131768403,0.64453763302923606,0.6052066039425561,0.7864333317889507,0.58872518026036624,0.77611370299138216,-1.3122064363795261,{"$f":"+Spectre!C449*N450/L450","v":1.8904674190774302},1.9331353750882916]
[4249,0.4249,5.538938432539136,1.0269699542070303,0.27761369121399232,0.99858917722862761,1.5328629147620175E-3,0.19740875893494148,0.47655531306369581,0.41575131978135099,0.6447299938994886,0.60541312356328969,0.78670169289465464,0.58893712311510782,0.77639310628400715,-1.310355208810754,{"$f":"+Spectre!C450*N451/L451","v":1.8893566507614314},{"$f":"+Q451/R$1","v":1.9319995366689062}]
[4250,0.42499999999999999,5.5363321799307963,1.0269538097498803,0.27734813982965106,0.99858706090338245,1.5351639344675838E-3,0.19734837721057916,0.47623168097469781,0.41599919413088449,0.64492220119121335,0.6056194871238455,0.78696985120857665,0.58914890978204137,0.77667230367496187,-1.308505976156582,{"$f":"+Spectre!C451*N452/L452","v":1.8913879468400359},1.9340766792142905]
[4251,0.42509999999999998,5.5337277663810651,1.0269376774951473,0.277082907043322,0.9985849414057627,1.5374684082925692E-3,0.19728802815454552,0.47590840360616005,0.41624694433685638,0.6451142550188248,0.60582569472368419,0.7872378068599607,0.58936054035296292,0.7769512952852603,-1.3066587357802306,{"$f":"+Spectre!C452*N453/L453","v":1.9000795527245502},1.9429644551326291]
[4252,0.42520000000000002,5.5311251901600826,1.0269215574303097,0.27681799239467775,0.99858281873101973,1.5397763414220513E-3,0.19722771174148745,0.47558548047758725,0.41649457037009902,0.64530615549669401,0.60603174646226921,0.78750555997805405,0.58957201491969269,0.77723008123594883,-1.3048134850491167,{"$f":"+Spectre!C453*N454/L454","v":1.908634030298334},1.9517120077465488]
[4253,0.42530000000000001,5.528524449540023,1.0269054495428616,0.27655339542416973,0.99858069287439766,1.5420877390490313E-3,0.19716742794607722,0.47526291110929597,0.41674207220170489,0.6454979027391482,0.60623764243906697,0.78777311069210798,0.58978333357407442,0.7775086616481045,-1.3029702213351091,{"$f":"+Spectre!C454*N455/L455","v":1.9069956302437183},1.9500366289105202]
[4254,0.4254,5.525925542795088,1.0268893538203143,0.27628911567302672,0.99857856383113375,1.544402606374071E-3,0.19710717674301301,0.47494069502241376,0.41698944980302582,0.64568949686047061,0.60644338275354603,0.78804045913137666,0.58999449640797552,0.77778703664283577,-1.3011289420143179,{"$f":"+Spectre!C455*N456/L456","v":1.9041867327476836},1.9471643344399645]
[4255,0.42549999999999999,5.5233284682015071,1.0268732702501941,0.27602515268325295,0.99857643159645804,1.546720948605657E-3,0.19704695810701855,0.47461883173887714,0.41723670314567235,0.64588093797490009,0.60664896750517694,0.78830760542511635,0.59020550351328638,0.77806520634128129,-1.2992896444670943,{"$f":"+Spectre!C456*N457/L457","v":1.9047819526804892},1.9477729885201422]
[4256,0.42559999999999998,5.5207332240375386,1.026857198820045,0.27576150599762755,0.99857429616559357,1.5490427709599582E-3,0.1969867720128427,0.47429732078143022,0.41748383220151292,0.64607222619663096,0.60685439679343256,0.788574549702587,0.59041635498192035,0.77834317086461002,-1.2974523260782078,{"$f":"+Spectre!C457*N458/L458","v":1.9097183986510695},1.9528208503540148]
[4257,0.42570000000000002,5.5181398085834541,1.0268411395174262,0.27549817515970182,0.99857215753375606,1.551368078661188E-3,0.1969266184352606,0.47397616167362361,0.41773083694267293,0.64626336163981279,0.60705967071778599,0.78884129209304843,0.59062705090581236,0.77862093033401925,-1.295616984236625,{"$f":"+Spectre!C458*N459/L459","v":1.9138861919578876},1.957082710990258]
[4258,0.42580000000000001,5.5155482201215582,1.0268250923299136,0.27523515971379953,0.99857001569615422,1.5536968769412443E-3,0.19686649734907205,0.47365535393981284,0.41797771734153394,0.64645434441854988,0.60726478937771189,0.78910783272576257,0.59083759137691938,0.77889848487073565,-1.2937836163356087,{"$f":"+Spectre!C459*N460/L460","v":1.8990485306132749},1.9419101627942945]
[4259,0.4259,5.5129584569361594,1.0268090572450994,0.27497245920501329,0.99856787064798957,1.5560291710399478E-3,0.19680640872910266,0.47333489710515592,0.41822447337073376,0.64664517464690185,0.60746975287268545,0.78937417172999202,0.59104797648722018,0.77917583459601425,-1.291952219772674,{"$f":"+Spectre!C460*N461/L461","v":1.8816156351822866},1.9240838059326117]
[4260,0.42599999999999999,5.5103705173135848,1.0267930342505915,0.27471007317920432,0.99856572238445651,1.5583649662049255E-3,0.19674635255020362,0.47301479069561286,0.41847110500316465,0.64683585243888242,0.60767456130218245,0.78964030923500028,0.59125820632871429,0.77945297963113769,-1.2901227919496661,{"$f":"+Spectre!C461*N462/L462","v":1.8741615411358024},1.9164614725641131]
[4261,0.42609999999999998,5.5077843995421709,1.0267770233340148,0.27444800118300094,0.99856357090074233,1.5607042676916082E-3,0.19668632878725112,0.47269503423794368,0.4187176122119734,0.64702637790845985,0.60787921476567797,0.78990624537004983,0.59146828099342197,0.77972992009741571,-1.2882953302726152,{"$f":"+Spectre!C462*N463/L463","v":1.8760875168223652},1.9184309176302816]
[4262,0.42620000000000002,5.5052001019122638,1.0267610244830092,0.27418624276379683,0.99856141619202676,1.5630470807637142E-3,0.1966263374151469,0.47237562725970744,0.41896399497055986,0.64721675116955613,0.60808371336264722,0.79017198026440327,0.59167820057338372,0.78000665611618503,-1.2864698321518264,{"$f":"+Spectre!C463*N464/L464","v":1.8776309312389334},1.920009166997068]
[4263,0.42630000000000001,5.5026176227162136,1.0267450376852316,0.27392479746974935,0.9985592582534828,1.565393410692405E-3,0.19656637840881797,0.47205656928925971,0.41921025325257716,0.64740697233604783,0.60828805719256429,0.79043751404732188,0.59188796516066,0.78028318780880845,-1.2846462950018234,{"$f":"+Spectre!C464*N465/L465","v":1.8780402911424139},1.9204277661766016]
[4264,0.4264,5.500036960248373,1.026729062928355,0.27366366484977861,0.99855709708027607,1.5677432627568891E-3,0.19650645174321674,0.47173785985575223,0.41945638703193006,0.64759704152176445,0.60849224635490262,0.79070284684806602,0.59209757484733083,0.78055951529667478,-1.2828247162413819,{"$f":"+Spectre!C465*N466/L466","v":1.8784935079415546},1.9208912121043979]
[4265,0.42649999999999999,5.4974581128050923,1.0267131002000676,0.27340284445356533,0.9985549326675649,1.5700966422444217E-3,0.19644655739332079,0.47141949848913056,0.41970239628277478,0.64778695884048931,0.60869628094913386,0.79096797879589376,0.59230702972549532,0.78083563870119765,-1.281005093293508,{"$f":"+Spectre!C466*N467/L467","v":1.8762085206108694},1.9185546524811004]
[4266,0.42659999999999998,5.4948810786847195,1.0266971494880746,0.27314233583154984,0.99855276501050061,1.5724535544499436E-3,0.19638669533413289,0.47110148472013269,0.41994828097951842,0.6479767244059591,0.60890016107472844,0.79123291002006146,0.59251632988727165,0.78111155814381616,-1.2791874235853817,{"$f":"+Spectre!C467*N468/L468","v":1.8718233061969332},1.9140704635311188]
[4267,0.42670000000000002,5.4923058561875955,1.0266812107800962,0.27288213853493037,0.99855059410422697,1.5748140046766839E-3,0.19632686554068107,0.47078381808028813,0.42019404109681779,0.6481663383318631,0.60910388683115435,0.79149764064982253,0.59272547542479603,0.78138727374599304,-1.2773717045484578,{"$f":"+Spectre!C468*N469/L469","v":1.8667218956401626},1.9088539138510641]
[4268,0.42680000000000001,5.4897324436160551,1.0266652840638697,0.27262225211566221,0.99854841994388066,1.5771779982356789E-3,0.19626706798801852,0.47046649810191643,0.42043967660957809,0.64835580073184329,0.6093074583178768,0.79176217081442646,0.59293446643022241,0.78166278562921443,-1.2755579336183209,{"$f":"+Spectre!C469*N470/L470","v":1.8579388543726765},1.8998726388480156]
[4269,0.4269,5.4871608392744191,1.0266493693271475,0.27236267612645515,0.99854624252459123,1.5795455404457718E-3,0.19620730265122321,0.47014952431812412,0.42068518749295458,0.6485451117194948,0.60951087563435924,0.79202650064312086,0.59314330299572326,0.78193809391499081,-1.2737461082348078,{"$f":"+Spectre!C470*N471/L471","v":1.8487834266069556},1.890510572562516]
[4270,0.42699999999999999,5.4845910414689927,1.0266334665576986,0.27210341012077288,0.99854406184148081,1.581916636633973E-3,0.1961475695053988,0.46983289626280567,0.42093057372234871,0.64873427140836459,0.60971413888006154,0.79229063026514845,0.59335198521348764,0.78221319872485462,-1.2719362258419409,{"$f":"+Spectre!C471*N472/L472","v":1.8409027015488351},1.8824519790964449]
[4271,0.42709999999999998,5.482023048508065,1.0266175757433071,0.27184445365283116,0.9985418778896642,1.584291292135344E-3,0.19608786852567373,0.46951661347064022,0.42117583527340974,0.64892327991195187,0.60991724815443993,0.79255455980974698,0.59356051317572167,0.78248810018036075,-1.2701282838878281,{"$f":"+Spectre!C472*N473/L473","v":1.8338021125725179},1.8751911294274359]
[4272,0.42720000000000002,5.4794568587019024,1.0266016968717735,0.27158580627759615,0.99853969066424908,1.5866695122927522E-3,0.19602819968720114,0.46920067547709005,0.42142097212203361,0.64911213734370832,0.61012020355694785,0.79281828940615118,0.59376888697464836,0.78276279840308638,-1.2683222798248961,{"$f":"+Spectre!C473*N474/L474","v":1.8303984740515635},1.8717106705935667]
[4273,0.42730000000000001,5.4768924703627544,1.0265858299309141,0.27132746755078402,0.99853750016033571,1.589051302457235E-3,0.19596856296515999,0.46888508181840127,0.42166598424436058,0.64930084381703601,0.61032300518703342,0.79308181918358822,0.59397710670250603,0.78303729351462892,-1.2665182111095796,{"$f":"+Spectre!C474*N475/L475","v":1.8411845153676945},1.8827401534690515]
[4274,0.4274,5.4743298818048389,1.0265699749085611,0.27106943702885822,0.99853530637301713,1.5914366679877592E-3,0.1959089583347533,0.4685698320315993,0.42191087161677721,0.64948939944528994,0.61052565314414164,0.79334514927128164,0.59418517245154989,0.78331158563660797,-1.2647160752025655,{"$f":"+Spectre!C475*N476/L476","v":1.8525784133335124},1.8943912123530062]
[4275,0.42749999999999999,5.4717690913443446,1.0265541317925622,0.27081171426902839,0.99853310929737882,1.5938256142515813E-3,0.19584938577120956,0.46825492565448956,0.42215563421591346,0.64967780434177558,0.61072814752771221,0.79360827979844795,0.59439308431404958,0.78358567489066211,-1.2629158695687037,{"$f":"+Spectre!C476*N477/L477","v":1.8534548627719105},1.8952874433045401]
[4276,0.42759999999999998,5.4692100972994346,1.0265383005707809,0.27055429882924964,0.99853090892849927,1.5962181466236476E-3,0.1957898452497821,0.46794036222565538,0.42240027201864289,0.64986605861974966,0.61093048843718023,0.7938712108942978,0.59460084238229061,0.78385956139845103,-1.2611175916769413,{"$f":"+Spectre!C477*N478/L478","v":1.848198037724212},1.8899119714197534]
[4277,0.42770000000000002,5.4666528979902331,1.0265224812310967,0.27029719026822013,0.99852870526144943,1.598614270487194E-3,0.19573033674574924,0.46762614128445656,0.42264478500208186,0.65005416239241964,0.61113267597197474,0.79413394268803361,0.59480844674857236,0.7841332452816524,-1.2593212390003439,{"$f":"+Spectre!C478*N479/L479","v":1.8426617821293148},1.8842507622245961]
[4278,0.42780000000000001,5.4640974917388307,1.026506673761405,0.27004038814538056,0.99852649829129292,1.6010139912335086E-3,0.19567086023441371,0.4673122623710278,0.4228891731435887,0.65024211577294388,0.61133471023151997,0.79439647530885205,0.59501589750520911,0.78440672666196387,-1.2575268090161518,{"$f":"+Spectre!C479*N480/L480","v":1.8349441605587835},1.8763589535010059]
[4279,0.4279,5.4615438768692739,1.0264908781496163,0.26978389202091152,0.9985242880130859,1.6034173142620493E-3,0.19561141569110341,0.46699872502627698,0.42313343642076356,0.65042991887443102,0.61153659131523397,0.79465880888594143,0.59522319474452923,0.78468000566110141,-1.2557342992056686,{"$f":"+Spectre!C480*N481/L481","v":1.8272078152632936},1.8684479984569311]
[4280,0.42799999999999999,5.4589920517075727,1.0264750943836571,0.26952770145573368,0.99852207442187746,1.6058242449800851E-3,0.19555200309117127,0.46668552879188502,0.42337757481144639,0.65061757180993973,0.6117383193225282,0.79492094354848164,0.59543033855887395,0.78495308240079809,-1.2539437070543835,{"$f":"+Spectre!C481*N482/L482","v":1.8220370615137012},1.8631605405042913]
[4281,0.42809999999999998,5.4564420145816879,1.0264593224514695,0.26927181601150457,0.99851985751270878,1.608234788803539E-3,0.19549262240999415,0.46637267321030229,0.42362158829371799,0.65080507469247917,0.61193989435280816,0.79518287942564458,0.59563732904059852,0.7852259570028054,-1.2521550300518269,{"$f":"+Spectre!C482*N483/L483","v":1.8179056624818897},1.8589358955638893]
[4282,0.42820000000000003,5.4538937638215295,1.0264435623410115,0.26901623525061846,0.99851763728061427,1.6106489511557819E-3,0.19543327362297455,0.46606015782474874,0.42386547684589848,0.65099242763500831,0.61214131650547221,0.79544461664659327,0.59584416628207104,0.78549862958889183,-1.250368265691626,{"$f":"+Spectre!C483*N484/L484","v":1.8133208288073683},1.8542475819353801]
[4283,0.42830000000000001,5.4513472977589661,1.0264278140402563,0.26876095873620476,0.99851541372062036,1.6130667374689611E-3,0.19537395670553925,0.46574798217921298,0.42410924044654513,0.65117963075043495,0.61234258587991108,0.79570615534048039,0.59605085037567129,0.78577110028084107,-1.2485834114715599,{"$f":"+Spectre!C484*N485/L485","v":1.8074616896211846},1.8482562016481148]
[4284,0.4284,5.4488026147278088,1.0264120775371928,0.26850598603212661,0.99851318682774648,1.6154881531829138E-3,0.19531467163313954,0.46543614581844905,0.42435287907445457,0.65136668415161714,0.61254370257550839,0.79596749563644986,0.59625738141379203,0.78604336920045426,-1.246800464893405,{"$f":"+Spectre!C485*N486/L486","v":1.8012645840986126},1.8419192271052343]
[4285,0.42849999999999999,5.4462597130638075,1.0263963528198257,0.2682513167029783,0.9985109565970044,1.6179132037458916E-3,0.19525541838125138,0.46512464828797556,0.42459639270866018,0.6515535879513622,0.6127446666916404,0.7962286376636355,0.59646375948883779,0.78631543646954771,-1.2450194234630896,{"$f":"+Spectre!C486*N487/L487","v":1.8042150962736812},1.844936332506097]
[4286,{"$f":"+A488/10000","v":0.42859999999999998},{"$f":"+(1/B488)^2","v":5.4437185911046599},{"$f":"0.23465+1.076*100/(146-C488)+0.93161/(41-C488)","v":1.0263806398761748},{"$f":"9.4977*0.001*C488^2*D488*EXP(-h/7.996/1000)","v":0.2679969503140856},{"$f":"+EXP(-0.0168*EXP(-15*ABS(B488-0.59)))","v":0.99850872302339844},{"$f":"-2.5*LOG(F488)","v":1.6203418946143194E-3},{"$f":"2.5*LOG(EXP(AOD*(B488/0.55)^(-1.3)))","v":0.19519619692537576},{"$f":"+E488+G488+H488","v":0.46481348913407566},{"$f":"10^(-0.4*I488*ma)","v":0.4248397813284317},{"$f":"10^(-0.4*I488)","v":0.65174034226242572},{"$f":"10^(-0.4*I488*ma_ref)","v":0.61294547832767443},{"$f":"+L488/M$1","v":0.7964895815511599},{"$f":"10^(-0.4*I488*ma_target)","v":0.5966699846932243},{"$f":"+N488/O$1","v":0.78658730220995277},{"$f":"(O488/M488-1)*100","v":-1.2432402846905388},{"$f":"+Spectre!C487*N488/L488","v":1.8093457059406468},1.8501827403219067]
[4287,0.42870000000000003,5.4411792471899982,1.0263649386942755,0.26774288643150307,0.99850648610192561,1.6227742312526754E-3,0.19513700724103805,0.4645026679037938,0.42508304491327448,0.65192694719751265,0.61314613758296965,0.79675032742813501,0.59687605711937808,0.78685896654351473,-1.2414630460898635,{"$f":"+Spectre!C488*N489/L489","v":1.8085456078546926},1.8493645839771371]
[4288,0.42880000000000001,5.4386416796613952,1.0263492492621791,0.26748912462201374,0.99850424582757535,1.6252102191337322E-3,0.19507784930378777,0.46419218414493524,0.42532618344292922,0.65211340286927633,0.61334664455687671,0.79701087542366156,0.5970819768597373,0.78713042959209467,-1.2396877051790267,{"$f":"+Spectre!C489*N490/L490","v":1.7938930307817189},1.8343812974152367]
[4289,0.4289,5.4361058868623502,1.0263335715679518,0.26723566445312635,0.9985020021953297,1.6276498637384359E-3,0.19501872308919926,0.46388203740606404,0.42556919689737133,0.65229970939031912,0.61354699934873724,0.79727122566682862,0.59728774400675022,0.78740169147756645,-1.2379142594801884,{"$f":"+Spectre!C490*N491/L491","v":1.7800507722838841},1.8202266183643068]
[4290,0.42899999999999999,5.4335718671383013,1.0263179055996756,0.26698250549307573,0.9984997552001631,1.6300931705560285E-3,0.19495962857287133,0.46357222723650304,0.42581208525680891,0.65248586687319032,0.6137472020578828,0.79753137828671217,0.59749335865287434,0.78767275232181655,-1.2361427065194941,{"$f":"+Spectre!C491*N492/L492","v":1.7725827001085022},1.8125899913797545]
[4291,0.42909999999999998,5.4310396188366052,1.0263022513454476,0.26672964731081933,0.99849750483704258,1.6325401450839267E-3,0.19490056573042741,0.46326275318633064,0.42605484850168424,0.65267187543038863,0.61394725278363627,0.79779133341237707,0.5976988208905778,0.78794361224674525,-1.234373043827186,{"$f":"+Spectre!C492*N493/L493","v":1.7656182050992006},1.8054683073262539]
[4292,0.42920000000000003,5.4285091403065504,1.0262866087933806,0.26647708947603749,0.99849525110092763,1.6349907928278425E-3,0.19484153453751513,0.46295361480638048,0.42629748661267092,0.65285773517435963,0.61414715162530997,0.79805109117287421,0.59790413081233762,0.78821427137426447,-1.2326052689374589,{"$f":"+Spectre!C493*N494/L494","v":1.7642375585049528},1.8040564994606951]
[4293,0.42930000000000001,5.4259804298993437,1.0262709779316026,0.26622483155913124,0.99849299398677016,1.6374451193017843E-3,0.19478253496980655,0.46264481164823956,0.42653999957067507,0.65304344621749699,0.61434689868220627,0.79831065169724169,0.59810928851064038,0.78848472982629891,-1.2308393793885153,{"$f":"+Spectre!C494*N495/L495","v":1.7704701067087878},1.8104297166281491]
[4294,0.4294,5.4234534859681158,1.026255358748257,0.26597287313122153,0.99849073348951467,1.6399031300279364E-3,0.19472356700299787,0.46233634326424733,0.42678238735683316,0.65322900867214162,0.61454649405361661,0.79857001511450343,0.59831429407798065,0.78875498772478381,-1.22907537272261,{"$f":"+Spectre!C495*N496/L496","v":1.7761468171965162},1.816234550790971]
[4295,0.42949999999999999,5.4209283068679106,1.0262397512315022,0.26572121376414687,0.99848846960409809,1.6423648305367786E-3,0.1946646306128102,0.46202820920749382,0.42702464995251216,0.65341442265058181,0.61474593783882192,0.79882918155366955,0.59851914760686153,0.7890250451916655,-1.227313246486017,{"$f":"+Spectre!C496*N497/L497","v":1.7712285706359563},1.8112052991288268]
[4296,0.42959999999999998,5.4184048909556859,1.0262241553695124,0.26546985303046267,0.99848620232544971,1.6448302263672085E-3,0.19460572577498847,0.46172040903181832,0.42726678733930873,0.65359968826505277,0.61494523013709212,0.79908815114373599,0.5987238491897946,0.78929490234890165,-1.2255529982289515,{"$f":"+Spectre!C497*N498/L498","v":1.7642575896563841},1.8040769827163414]
[4297,0.42970000000000003,5.4158832365903118,1.0262085711504767,0.26521879050343994,0.99848393164849136,1.647299323066301E-3,0.19454685246530184,0.46141294229180807,0.42750879949904835,0.65378480562773678,0.61514437104768527,0.79934692401368324,0.59892839891929861,0.78956455931845926,-1.2237946255056253,{"$f":"+Spectre!C498*N499/L499","v":1.7644588160264933},1.8042827507769454]
[4298,0.42980000000000002,5.4133633421325751,1.0261929985625993,0.26496802575706385,0.99848165756813723,1.6497721261895487E-3,0.1944880106595441,0.46110580854279748,0.4277506864137845,0.65396977485076235,0.61534336066984763,0.79960550029247646,0.59913279688789955,0.78983401622231486,-1.2220381258742474,{"$f":"+Spectre!C499*N500/L500","v":1.7723769421870141},1.8123795894904022]
[4299,0.4299,5.4108452059451553,1.0261774375941002,0.26471755836603172,0.99847938007929382,1.6522486413008616E-3,0.19442920033353295,0.46079900734086554,0.42799244806579839,0.65415459604620485,0.6155421991028136,0.79986388010906551,0.5993370431881303,0.7901032731824541,-1.2202834968970566,{"$f":"+Spectre!C500*N501/L501","v":1.7793889665727385},1.8195498756610258]
[4300,0.43,5.408328826392645,1.0261618882332137,0.26446738790575225,0.99847709917686034,1.6547288739722082E-3,0.19437042146311048,0.46049253824283498,0.42823408443759819,0.65433926932608588,0.6157408864458056,0.80012206359238436,0.59954113791253083,0.79037233032087217,-1.2185307361401665,{"$f":"+Spectre!C501*N502/L502","v":1.7796597729643515},1.8198267941681339]
[4301,0.43009999999999998,5.4058142018415341,1.0261463504681905,0.26421751395234433,0.99847481485572798,1.657212829784336E-3,0.19431167402414254,0.46018640080627116,0.42847559551191833,0.65452379480237322,0.61593942279803304,0.80038005087135045,0.59974508115364722,0.79064118775957204,-1.2167798411736985,{"$f":"+Spectre!C502*N503/L503","v":1.7789855046863312},1.8191373076171427]
[4302,0.43020000000000003,5.403301330660212,1.0261308242872949,0.26396793608263502,0.99847252711078072,1.6597005143259304E-3,0.19425295799251965,0.45988059458948061,0.42871698127171848,0.65470817258698011,0.61613780825869213,0.80063784207486388,0.59994887300403132,0.79090984562056432,-1.2150308095716933,{"$f":"+Spectre!C503*N504/L504","v":1.7774977012838276},1.8176159244081369]
[4303,0.43030000000000002,5.4007902112189639,1.0261153096788078,0.26371865387415894,0.99847023593689455,1.6621919331944578E-3,0.19419427334415595,0.45957511915150934,0.42895824170018321,0.65489240279176619,0.61633604292696653,0.80089543733180846,0.60015251355624066,0.79117830402586731,-1.2132836389121993,{"$f":"+Spectre!C504*N505/L505","v":1.7752430638899983},1.8153103997214777]
[4304,0.4304,5.3982808418899673,1.0260998066310241,0.26346966690515622,0.99846794132893801,1.6646870919955633E-3,0.19413562005499013,0.45926997405214193,0.42919937678072123,0.6550764855285357,0.61653412690202569,0.80115283677104943,0.60035600290283808,0.79144656309750616,-1.2115383267771063,{"$f":"+Spectre!C505*N506/L506","v":1.7725708649180891},1.8125778890684281]
[4305,0.43049999999999999,5.3957732210472926,1.0260843151322541,0.26322097475457173,0.99846564328177212,1.6671859963431914E-3,0.19407699810098419,0.45896515885189915,0.42944038649696514,0.65526042090903958,0.61673206028302607,0.80141004052143539,0.60055934113639131,0.79171462295751227,-1.209794870752412,{"$f":"+Spectre!C506*N507/L507","v":1.7672423805449184},1.8071291405031615]
[4306,0.43059999999999998,5.3932673470668941,1.0260688351708236,0.26297257700205323,0.99846334179024976,1.6696886518601894E-3,0.19401840745812488,0.45866067311203829,0.42968127083276969,0.65544420904497269,0.61692984316910937,0.80166704871179562,0.60076252834947308,0.79198248372792412,-1.2080532684278,{"$f":"+Spectre!C507*N508/L508","v":1.7616881565797882},1.8014495573906442]
[4307,0.43070000000000003,5.3907632183266108,1.0260533667350729,0.26272447322795017,0.99846103684921672,1.6721950641772226E-3,0.19395984810242237,0.45835651639454977,0.42992202977221278,0.65562785004797552,0.6171274756594034,0.8019238614709413,0.60096556463466,0.79225014553078499,-1.2063135173970396,{"$f":"+Spectre!C508*N509/L509","v":1.7530285347937411},1.7925944874536746]
[4308,0.43080000000000002,5.3882608332061688,1.0260379098133574,0.26247666301331274,0.99845872845351069,1.6747052389338595E-3,0.19390132000991125,0.45805268826215784,0.43016266329959268,0.65581134402963326,0.61732495785302099,0.80218047892766431,0.60116845008453268,0.79251760848814323,-1.2045756152578191,{"$f":"+Spectre!C509*N510/L510","v":1.741711710684605},1.7810222419876833]
[4309,0.43090000000000001,5.3857601900871739,1.0260224643940477,0.26222914593989033,0.99845641659796169,1.67721918177809E-3,0.1938428231566498,0.45774918827831823,0.4304031713994288,0.65599469110147524,0.61752228984905966,0.80243690121073641,0.60137118479167495,0.792784872722052,-1.2028395596116237,{"$f":"+Spectre!C510*N511/L511","v":1.7319068609840491},1.7709960962777413]
[4310,0.43099999999999999,5.3832612873531041,1.0260070304655287,0.26198192159012962,0.99845410127739231,1.679736898366084E-3,0.19378435751871984,0.45744601600721557,0.43064355405646138,0.65617789137497617,0.61771947174660291,0.80269312844891128,0.60157376884867531,0.79305193835457011,-1.20110534806388,{"$f":"+Spectre!C511*N512/L512","v":1.7295086712091086},1.7685437792246523]
[4311,0.43109999999999998,5.3807641233893149,1.0259916080162013,0.26173498954717384,0.99845178248661715,1.6822583943627964E-3,0.19372592307222766,0.45714317101376434,0.43088381125564928,0.65636094496155439,0.61791650364471762,0.80294916077092104,0.60177620234812379,0.79331880550775857,-1.1993729782239559,{"$f":"+Spectre!C512*N513/L513","v":1.7275399046181827},1.7665305774610018]
[4312,0.43120000000000003,5.3782686965830342,1.0259761970344798,0.26148834939486137,0.99844946022044301,1.6847836754417234E-3,0.19366751979330299,0.45684065286360609,0.43112394298217072,0.65654385197257248,0.61811338564245555,0.80320499830547809,0.60197848538261389,0.79358547430368309,-1.1976424477050496,{"$f":"+Spectre!C513*N514/L514","v":1.7199006317433345},1.7587188857675642]
[4313,0.43130000000000002,5.3757750053233613,1.0259607975087952,0.26124200071772469,0.99844713447366928,1.6873127472845438E-3,0.19360914765809947,0.4565384611231087,0.43136394922142174,0.65672661251933684,0.6183101178388517,0.80346064118127303,0.6021806180447411,0.79385194486441168,-1.1959137541242004,{"$f":"+Spectre!C514*N515/L515","v":1.7082556500399209},{"$f":"+Q515/R$1","v":1.7468110761719295}]
[4314,0.43140000000000001,5.373283048001257,1.0259454094275922,0.26099594310098806,0.99844480524108725,1.6898456155818411E-3,0.1935508066427945,0.45623659535936439,0.43160382995901603,0.65690922671309737,0.61850670033292565,0.80371608952697648,0.60238260042710279,0.79411821731201526,-1.1941868951024781,{"$f":"+Spectre!C515*N516/L516","v":1.6981770288380729},1.7365049799225081]
[4315,0.43149999999999999,5.370792823009551,1.0259300327793301,0.26075017613056722,0.99844247251748075,1.6923822860323806E-3,0.19349249672358917,0.45593505514018873,0.43184358518078458,0.65709169466504846,0.61870313322367976,0.80397134347123678,0.60258443262229866,0.7943842917685674,-1.1924618682646382,{"$f":"+Spectre!C516*N517/L517","v":1.6957172354544332},1.7339896688638057]
[4316,0.43159999999999998,5.3683043287429326,1.0259146675524839,0.26050469939306775,0.99844013629762551,1.6949227643438336E-3,0.19343421787670848,0.45563384003412011,0.43208321487277346,0.65727401648632655,0.61889941661009928,0.80422640314267979,0.60278611472292898,0.79465016835614266,-1.1907386712393442,{"$f":"+Spectre!C517*N518/L518","v":1.6935001658058397},1.7317225598285058]
[4317,0.43169999999999997,5.3658175635979521,1.0258993137355428,0.26025951247578355,0.99843779657628973,1.6974670562321756E-3,0.19337597007840088,0.45533294961041659,0.43232271902124503,0.65745619228801233,0.61909555059115284,0.80448126866990988,0.60298764682159567,0.79491584719681785,-1.1890173016591232,{"$f":"+Spectre!C518*N519/L519","v":1.6828561934422677},1.7208383524098323]
[4318,0.43180000000000002,5.3633325259730098,1.0258839713170111,0.26001461496669526,0.99843545334823358,1.7000151674221664E-3,0.19331775330493847,0.45503238343905594,0.43256209761267672,0.65763822218112911,0.61929153526579162,0.80473594018150896,0.60318902901090132,0.79518132841267031,-1.1872977571603882,{"$f":"+Spectre!C519*N520/L520","v":1.6682781790706762},1.7059313114336796]
[4319,0.43190000000000001,5.3608492142683719,1.0258686402854071,0.25977000645447046,0.99843310660820961,1.7025671036469917E-3,0.19325956753261725,0.45473214109073468,0.43280135063375963,0.65782010627664289,0.61948737073294846,0.80499041780603464,0.60339026138344831,0.79544661212577761,-1.1855800353833046,{"$f":"+Spectre!C520*N521/L521","v":1.6554258210949995},1.692788875015387]
[4320,0.432,5.358367626886146,1.025853320629265,0.25952568652846031,0.99843075635096246,1.705122870648502E-3,0.19320141273775637,0.45443222213686518,0.43304047807139834,0.65800184468546286,0.6196830570915387,0.80524470167202233,0.60359134403183989,0.79571169845821788,-1.1838641339719458,{"$f":"+Spectre!C521*N522/L522","v":1.6508794965667846},1.6881399396867829]
[4321,0.43209999999999998,5.3558877622302914,1.0258380123371325,0.25928165477869941,0.99842840257122889,1.7076824741772145E-3,0.19314328889669874,0.45413262614957539,0.43327947991271115,0.65818343751844011,0.61987859444045956,0.80549879190798346,0.60379227704867899,0.79597658753206946,-1.1821500505741045,{"$f":"+Spectre!C522*N523/L523","v":1.6461210089800271},1.6832740527674683]
[4322,0.43219999999999997,5.3534096187066122,1.025822715397573,0.25903791079590427,0.9984260452637379,1.7102459199921927E-3,0.1930851959858112,0.45383335270170766,0.43351835614502759,0.65836488488636846,0.62007398287858917,0.8057526886424049,0.60399306052656743,0.79624127946940859,-1.1804377828415147,{"$f":"+Spectre!C523*N524/L524","v":1.6360706795923741},1.67299688688008]
[4323,0.43230000000000002,5.3509331947227601,1.0258074297991637,0.25879445417147218,0.99842368442321061,1.7128132138611667E-3,0.19302713398148352,0.45353440136681689,0.43375710675588952,0.65854618689998401,0.62026922250478722,0.80600639200374946,0.60419369455810668,0.79650577439231163,-1.1787273284296296,{"$f":"+Spectre!C524*N525/L525","v":1.6241914913392612},1.6608495846797424]
[4324,0.43240000000000001,5.3484584886882249,1.0257921555304972,0.25855128449747983,0.99842132004436013,1.715384361560655E-3,0.1929691028601293,0.45323577171916979,0.43399573173304895,0.6587273436699641,0.62046431341789399,0.80625990212045484,0.60439417923589689,0.79677007242285269,-1.1770186849977327,{"$f":"+Spectre!C525*N526/L526","v":1.6215385886404863},1.6581368058177974]
[4325,0.4325,5.3459854990143345,1.0257768925801798,0.25830840136668132,0.9984189521218918,1.7179593688757219E-3,0.19291110259818534,0.45293746333374235,0.43423423106446946,0.65890835530692904,0.6206592557167312,0.80651321912093432,0.60459451465253711,0.79703417368310492,-1.1753118502088711,{"$f":"+Spectre!C526*N527/L527","v":1.6436761791629386},1.680774043003856]
[4326,0.43259999999999998,5.3435142241142541,1.0257616409368333,0.25806580437250826,0.9984165806505032,1.7205382415999796E-3,0.192853133172112,0.45263947578622021,0.43447260473832316,0.65908922192143993,0.62085404950010015,0.80676634313357509,0.60479470090062393,0.79729807829513788,-1.1736068217299889,{"$f":"+Spectre!C527*N528/L528","v":1.665536759161234},1.7031280175226422]
[4327,0.43269999999999997,5.3410446624029824,1.0257464005890935,0.25782349310906716,0.9984142056248837,1.7231209855360708E-3,0.19279519455839317,0.45234180865299639,0.43471085274299126,0.6592699436239996,0.62104869486678249,0.80701927428673847,0.60499473807275239,0.79756178638101904,-1.1719035972316938,{"$f":"+Spectre!C528*N529/L529","v":1.6780710940515833},1.7159452530566788]
[4328,0.43280000000000002,5.3385768122973474,1.0257311715256106,0.25758146717113878,0.99841182703971487,1.7257076064951854E-3,0.19273728673353571,0.45204446151116973,0.43494897506706393,0.65945052052505249,0.62124319191553967,0.80727201270875959,0.6051946262615151,0.79782529806281299,-1.1702021743883573,{"$f":"+Spectre!C529*N530/L530","v":1.6882807783867062},1.726385370541667]
[4329,0.43290000000000001,5.3361106722160079,1.02571595373505,0.25733972615417705,0.99840944488967054,1.7282981102970611E-3,0.19267940967407016,0.45174743393854427,0.43518697169933868,0.65963095273498396,0.62143754074511304,0.80752455852794769,0.60539436555950188,0.79808861346258042,-1.1685025508782365,{"$f":"+Spectre!C530*N531/L531","v":1.6955669527059498},1.7338359942252339]
[4330,0.433,5.3336462405794469,1.0257007472060908,0.25709826965430715,0.99840705916941641,1.7308925027703476E-3,0.19262156335655045,0.45145072551362797,0.43542484262881997,0.65981124036411987,0.62163174145422284,0.80777691187258416,0.60559395605929922,0.79835173270237769,-1.1668047243832524,{"$f":"+Spectre!C531*N532/L532","v":1.6973944540329464},1.7357047423600005]
[4331,0.43309999999999998,5.3311835158099719,1.0256855519274273,0.25685709726832473,0.9984046698736101,1.7334907897526041E-3,0.19256374775755347,0.4511543358156308,0.43566258784471884,0.65999138352272801,0.62182579414156858,0.80802907287092374,0.60579339785349073,0.7986146559042574,-1.1651086925891119,{"$f":"+Spectre!C532*N533/L533","v":1.6990957153699955},1.7374444012611439]
[4332,0.43319999999999997,5.3287224963317081,1.0256703678877674,0.25661620859369422,0.99840227699690154,1.7360929770898182E-3,0.19250596285367963,0.45085826442446364,0.43590020733645218,0.66017138232101602,0.62201969890582864,0.80828104165119385,0.60599269103465647,0.79887738319026724,-1.1634144531852963,{"$f":"+Spectre!C533*N534/L534","v":1.6936486143815621},1.7318743588969343]
[4333,0.43330000000000002,5.326263180570602,1.0256551950758341,0.25637560322854808,0.99839988053393258,1.7386990706368894E-3,0.1924482086215521,0.45056251092073707,0.43613770109364203,0.66035123686913233,0.62221345584566001,0.80853281834159374,0.60619183569537249,0.79913991468244994,-1.1617220038649623,{"$f":"+Spectre!C534*N535/L535","v":1.6860024617565539},1.7240556321769887]
[4334,0.43340000000000001,5.3238055669544142,1.0256400334803648,0.25613528077168507,0.99839748047933685,1.7413090762577498E-3,0.19239048503781778,0.45026707488576057,0.43637506910611484,0.66053094727716577,0.62240706505969778,0.80878440307029442,0.60639083192821031,0.79940225050284197,-1.1600313423251074,{"$f":"+Spectre!C535*N536/L536","v":1.6828889638944862},1.7208718624930011]
[4335,0.4335,5.3213496539127227,1.0256248830901109,0.25589524082256965,0.99839507682774042,1.7439229998246395E-3,0.19233279207914644,0.44997195590154071,0.43661231136390077,0.66071051365514499,0.62260052664655485,0.80903579596543806,0.6065896798257373,0.79966439077347473,-1.1583424662663155,{"$f":"+Spectre!C536*N537/L537","v":1.686688815564505},1.7247574770290011]
[4336,0.43359999999999999,5.3188954398769086,1.0256097438938381,0.25565548298132934,0.99839266957376094,1.7465408472190735E-3,0.19227512972223126,0.4496771535507797,0.43684942785723352,0.66088993611303926,0.62279384070482235,0.80928699715513863,0.60678837948051578,0.79992633561637239,-1.1566553733930562,{"$f":"+Spectre!C537*N538/L538","v":1.6899008682094956},1.728042025882907]
[4337,0.43369999999999997,5.3164429232801673,1.0255946158803269,0.25541600684875509,0.99839025871200815,1.7491626243312383E-3,0.19221749794378798,0.44938266741687427,0.4370864185765494,0.6610692147607572,0.62298700733306867,0.80953800676748022,0.60698693098510337,0.80018808515355344,-1.1549700614133518,{"$f":"+Spectre!C538*N539/L539","v":1.6868601755432091},1.7249327046120657]
[4338,0.43380000000000002,5.3139921025574957,1.0255794990383715,0.25517681202629888,0.99838784423708404,1.7517883370598707E-3,0.19215989672055608,0.44908849708391485,0.43732328351248656,0.66124834970814761,0.62318002662983962,0.80978882493051785,0.60718533443205203,0.80044963950702874,-1.1532865280390103,{"$f":"+Spectre!C539*N540/L540","v":1.6824608164179697},1.720434051703851]
[4339,0.43390000000000001,5.3115429761457014,1.0255643933567813,0.25493789811607342,0.99838542614358206,1.7544179913131044E-3,0.1921023260292978,0.4487946421366843,0.43756002265588406,0.66142734106499812,0.62337289869365742,0.81003945177227588,0.6073835899139074,0.80071099879880059,-1.1516047709856148,{"$f":"+Spectre!C540*N541/L541","v":1.6739592493003232},1.7117406037380405]
[4340,0.434,5.3090955424833837,1.0255492988243791,0.25469926472084958,0.99838300442608785,1.7570515930076243E-3,0.19204478584679816,0.44850110216065531,0.43779663599778235,0.66160618894103651,0.62356562362302193,0.81028988742074959,0.60758169752321023,0.80097216315086517,-1.1499247879723451,{"$f":"+Spectre!C541*N542/L542","v":1.6594766436441588},1.6969311248573899]
[4341,0.43409999999999999,5.3066498000109421,1.0255342154300018,0.25446091144405608,0.9983805790791791,1.7596891480689092E-3,0.19198727614986555,0.44820787674199053,0.43803312352942203,0.6617848934459295,0.62375820151640904,0.81054013200390307,0.60777965735249451,0.80123313268520946,-1.1482465767221006,{"$f":"+Spectre!C542*N543/L543","v":1.6453155539640358},1.6824504185864493]
[4342,0.43419999999999997,5.3042057471705775,1.0255191431625017,0.25422283788977873,0.99837815009742525,1.7623306624314718E-3,0.19192979691533132,0.4479149654675415,0.43826948524224202,0.66196345468928264,0.62395063247227056,0.81079018564966909,0.6079774694942871,0.80149390752381144,-1.1465701349614554,{"$f":"+Spectre!C543*N544/L544","v":1.6316767080830048},1.6685037431865288]
[4343,0.43430000000000002,5.3017633824062766,1.0255040820107439,0.25398504366275737,0.99837571747538767,1.7649761420387405E-3,0.19187234812004916,0.44762236792484528,0.43850572112788211,0.66214187278064129,0.6241429165890352,0.81104004848595046,0.60817513404110946,0.80175448778864156,-1.1448954604206252,{"$f":"+Spectre!C544*N545/L545","v":1.6179782611532678},1.6544961215388798]
[4344,0.43440000000000001,5.2993227041638269,1.0254890319636087,0.25374752836838721,0.99837328120761948,1.7676255928431796E-3,0.19181492974089653,0.4473300837021269,0.43874183117817755,0.66232014782948823,0.62433505396510602,0.81128972064061666,0.60837265108547389,0.80201487360165846,-1.1432225508335669,{"$f":"+Spectre!C545*N546/L546","v":1.6082990553598093},1.6445984555260873]
[4345,0.4345,5.29688371089079,1.0254739930099903,0.2535102916127146,0.99837084128866593,1.770279020805926E-3,0.19175754175477328,0.44703811238829377,0.43897781538516351,0.66249827994524602,0.62452704469886311,0.81153920224150733,0.60857002071988675,0.80227506508481272,-1.1415514039379349,{"$f":"+Spectre!C546*N547/L547","v":1.6040091865146455},1.6402117640997298]
[4346,0.43459999999999999,5.2944464010365255,1.0254589651387969,0.25327333300243848,0.99836839771306407,1.7729364318971547E-3,0.19170018413860201,0.44674645357293763,0.43921367374107101,0.66267626923727507,0.62471888888866078,0.81178849341642856,0.60876724303684637,0.80253506236004457,-1.1398820174748692,{"$f":"+Spectre!C547*N548/L548","v":1.6002128737289176},1.6363297683208382]
[4347,0.43469999999999998,5.292010773052171,1.0254439483389501,0.25303665214490734,0.99836595047534271,1.7755978320960759E-3,0.19164285686932869,0.44645510684633211,0.43944940623832746,0.6628541158148743,0.62491058663282861,0.81203759429315436,0.60896431812884233,0.80279486554928259,-1.1382143891893515,{"$f":"+Spectre!C548*N549/L549","v":1.6127944135915391},1.649195274246027]
[4348,0.43480000000000002,5.289576825390645,1.0254289425993868,0.25280024864811884,0.99836349957002246,1.7782632273909377E-3,0.19158555992392148,0.44616407179943129,0.43968501286955614,0.66303181978728098,0.62510213802967107,0.81228650499942612,0.60916124608835687,0.80305447477444558,-1.1365485168299161,{"$f":"+Spectre!C549*N550/L550","v":1.6261758697871667},1.6628787506608631]
[4349,0.43490000000000001,5.2871445565066484,1.0254139479090578,0.25256412212071888,0.99836104499161593,1.7809326237787841E-3,0.19152829327937157,0.44587334802386924,0.43992049362757535,0.66320938126367002,0.62529354317746677,0.81253522566295144,0.60935802700786301,0.80331389015744048,-1.1348843981486723,{"$f":"+Spectre!C550*N551/L551","v":1.643313010265405},1.6804026773638723]
[4350,{"$f":"+A552/10000","v":0.435},{"$f":"+(1/B552)^2","v":5.2847139648566515},{"$f":"0.23465+1.076*100/(146-C552)+0.93161/(41-C552)","v":1.025398964256927},{"$f":"9.4977*0.001*C552^2*D552*EXP(-h/7.996/1000)","v":0.25232827217199888},{"$f":"+EXP(-0.0168*EXP(-15*ABS(B552-0.59)))","v":0.99835858673462741},{"$f":"-2.5*LOG(F552)","v":1.7836060272658173E-3},{"$f":"2.5*LOG(EXP(AOD*(B552/0.55)^(-1.3)))","v":0.19147105691269306},{"$f":"+E552+G552+H552","v":0.44558293511195773},{"$f":"10^(-0.4*I552*ma)","v":0.44015584850539796},{"$f":"10^(-0.4*I552)","v":0.66338680035315456},{"$f":"10^(-0.4*I552*ma_ref)","v":0.625484802174469},{"$f":"+L552/M$1","v":0.81278375641140532},{"$f":"10^(-0.4*I552*ma_target)","v":0.60955466097982491},{"$f":"+N552/O$1","v":0.80357311182016222},{"$f":"(O552/M552-1)*100","v":-1.1332220309015373},{"$f":"+Spectre!C551*N552/L552","v":1.6635064187952089},1.7010518522603242]
[4351,0.43509999999999999,5.2822850488989053,1.0253839916319734,0.25209269841189658,0.99835612479355307,1.7862834438671564E-3,0.19141385080092263,0.4452928326566864,0.44039107749623002,0.66356407716478494,0.62567591511890464,0.81303209737242832,0.60975114809669773,0.80383213988449409,-1.1315614128478813,{"$f":"+Spectre!C552*N553/L553","v":1.6829780345668872},1.7209629434954896]
[4352,0.43519999999999998,5.2798578070934257,1.0253690300231892,0.25185740045099309,0.99835365916288077,1.7889648796070808E-3,0.19135667492111927,0.44500304025171944,0.44062618059347197,0.66374121180754964,0.62586688210897479,0.81328024867362725,0.60994748845092728,0.80409097447230693,-1.1299025417507713,{"$f":"+Spectre!C553*N554/L554","v":1.6899044533610232},1.7280456919515064]
[4353,0.43530000000000002,5.2774322379020013,1.025354079419581,0.25162237790051256,0.99835118983709048,1.7916503405185455E-3,0.19129952925036547,0.44471355749139657,0.44086115779071583,0.6639182043903743,0.62605770324285381,0.81352821044257462,0.61014368213494929,0.80434961570545838,-1.1282454153769161,{"$f":"+Spectre!C554*N555/L555","v":1.6973865327215323},1.735696642264142]
[4354,0.43540000000000001,5.2750083397881848,1.0253391398101694,0.25138763037232087,0.9983487168106534,1.7943398326441483E-3,0.19124241376576537,0.44442438397073036,0.44109600908174623,0.66409505502212196,0.62624837861868954,0.81377598280680818,0.61033972924118995,0.80460806370579341,-1.1265900314965771,{"$f":"+Spectre!C555*N556/L556","v":1.6990266320617773},1.7373737587387723]
[4355,0.4355,5.2725861112172945,1.0253242111839886,0.25115315747892436,0.99834624007803285,1.7970333620351644E-3,0.19118532844444661,0.44413551928540618,0.44133073446053844,0.66427176381159236,0.62643890833460214,0.81402356589382974,0.61053562986206433,0.80486631859514246,-1.1249363878835905,{"$f":"+Spectre!C556*N557/L557","v":1.6970974076672087},1.7354009916410755]
[4356,0.43559999999999999,5.2701655506564107,1.0253092935300869,0.25091895883346843,0.99834375963368394,1.7997309347519087E-3,0.19112827326355869,0.44384696303177901,0.44156533392125963,0.66444833086752308,0.62662929248868593,0.81427095983110764,0.61073138408997818,0.80512438049532353,-1.1232844823154786,{"$f":"+Spectre!C557*N558/L558","v":1.6977904171686469},1.7361096424059514]
[4357,0.43569999999999998,5.2677466565743671,1.0252943868375268,0.25068503404973647,0.9983412754720532,1.8024325568640983E-3,0.19107124820027424,0.44355871480687481,0.44179980745826586,0.66462475629858742,0.62681953117900646,0.81451816474607275,0.61092699201732514,0.80538224952813875,-1.121634312573272,{"$f":"+Spectre!C558*N559/L559","v":1.7148926738670758},1.7535978980002784]
[4358,0.43580000000000002,5.2653294274417588,1.025279491095384,0.25045138274214851,0.99833878758757921,1.8051382344502493E-3,0.191014253231788,0.44327077420838679,0.44203415506610361,0.66480104021339659,0.62700962450360254,0.81476518076612126,0.61112245373648844,0.80563992581537658,-1.1199858764416315,{"$f":"+Spectre!C559*N560/L560","v":1.7335149575089364},1.7726404876316706]
[4359,0.43590000000000001,5.2629138617309366,1.0252646062927484,0.25021800452576071,0.99833629597469198,1.8078479735982806E-3,0.19095728833531747,0.44298314083467649,0.44226837673950792,0.66497718272049711,0.62719957256048453,0.81501200801861218,0.61131776933983961,0.80589740947880983,-1.118339171708771,{"$f":"+Spectre!C560*N561/L561","v":1.7373806778699705},1.7765934575187481]
[4360,0.436,5.2604999579160001,1.0252497324187242,0.24998489901626339,0.99833380062781352,1.8105617804049106E-3,0.19090035348810239,0.44269581428477067,0.44250247247340213,0.66515318392837286,0.62738937544763473,0.81525864663086844,0.61151293891973868,0.80615470064019645,-1.1166941961664456,{"$f":"+Spectre!C561*N562/L562","v":1.7327904232607372},1.7718996006047256]
[4361,0.43609999999999999,5.258087714472798,1.0252348694624283,0.24975206582997961,0.99833130154135719,1.8132796609763829E-3,0.19084344866740499,0.44240879415836099,0.44273644226289743,0.66532904394544368,0.62757903326300735,0.81550509673017613,0.61170796256853366,0.80641179942127839,-1.1150509476100079,{"$f":"+Spectre!C562*N563/L563","v":1.7300285084145115},1.7690753491850286]
[4362,0.43619999999999998,5.2556771298789249,1.0252200174129924,0.24951950458386477,0.99832879870972835,1.81600162142774E-3,0.19078657385051018,0.44212208005580267,0.44297028610329214,0.66550476288006555,0.62776854610452792,0.81575135844378421,0.61190284037856035,0.80666870594378137,-1.1134094238383963,{"$f":"+Spectre!C563*N564/L564","v":1.7334260716211665},1.7725495955844128]
[4363,0.43630000000000002,5.2532682026137207,1.0252051762595615,0.24928721489550493,0.9983262921273236,1.8187276678836716E-3,0.1907297290147249,0.44183567157811349,0.44320400399007098,0.66568034084053018,0.62795791407009294,0.81599743189890384,0.61209757244214191,0.80692542032941483,-1.1117696226540241,{"$f":"+Spectre!C564*N565/L565","v":1.7373255278226354},1.7765370627317418]
[4364,0.43640000000000001,5.2508609311582735,1.0251903459912945,0.24905519638311641,0.99832378178853165,1.8214578064775463E-3,0.19067291413737864,0.44154956832697256,0.4434375959189043,0.66585577793506534,0.62814713725756977,0.81624331722270849,0.61229215885158872,0.80718194269987087,-1.1101315418629354,{"$f":"+Spectre!C565*N566/L566","v":1.7350264246061842},1.7741860686263422]
[4365,0.4365,5.2484553139953993,1.0251755265973641,0.24882344866554279,0.99832126768773255,1.8241920433522598E-3,0.19061612919582335,0.44126376990471838,0.44367106188564825,0.66603107427183472,0.62833621576479659,0.81648901454233358,0.6124865996991985,0.80743827317682526,-1.1084951792745823,{"$f":"+Spectre!C566*N567/L567","v":1.7291568474752144},1.7681840148092898]
[4366,0.43659999999999999,5.2460513496096617,1.0251607180669562,0.2485919713622558,0.99831874981929813,1.8269303846597498E-3,0.19055937416743277,0.44097827591434835,0.44390440188634356,0.6662062299589373,0.62852514968958251,0.81673452398487667,0.61268089507725521,0.80769441188193547,-1.1068605327021253,{"$f":"+Spectre!C567*N568/L568","v":1.7279207003028767},1.7669199677257237]
[4367,0.43669999999999998,5.2436490364873558,1.0251459203892708,0.24836076409335298,0.99831622817759158,1.8296728365614812E-3,0.19050264902960368,0.44069308595951812,0.44413761591721446,0.66638124510440733,0.62871393912970575,0.81697984567739546,0.61287504507802926,0.80795035893684131,-1.1052275999620775,{"$f":"+Spectre!C568*N569/L569","v":1.7404007636045042},1.7796817067582276]
[4368,0.43680000000000002,5.2412483731165045,1.0251311335535216,0.2481298264795562,0.99831370275696796,1.832419405227842E-3,0.19044595375975429,0.44040819964453837,0.44437070397466971,0.66655611981621499,0.628902584182916,0.81722497974691022,0.61306904979377774,0.80820611446316482,-1.1035963788745828,{"$f":"+Spectre!C569*N570/L570","v":1.7532551512615633},1.7928262186679256]
[4369,0.43690000000000001,5.2388493579868687,1.0251163575489357,0.24789915814221183,0.99831117355177379,1.8351700968386256E-3,0.19038928833532592,0.44012361657437638,0.44460366605529983,0.66673085420226474,0.62909108494693144,0.8174699263204005,0.61326290931674265,0.80846167858250806,-1.1019668672632932,{"$f":"+Spectre!C570*N571/L571","v":1.7513567169176849},1.7908849365540953]
[4370,0.437,5.2364519895899342,1.0251015923647542,0.24766875870328853,0.99830864055634716,1.837924917582913E-3,0.19033265273378114,0.43983933635465255,0.44483650215587833,0.66690544837039667,0.62927944151944037,0.81771468552480697,0.61345662373915255,0.80871705141645556,-1.1003390629552801,{"$f":"+Spectre!C571*N572/L572","v":1.7419380891592202},1.7812537298372073]
[4371,0.43709999999999999,5.2340562664189081,1.0250868379902314,0.2474386277853757,0.99830610376501772,1.8406838736590701E-3,0.19027604693260552,0.4395553585916403,0.44506921227336033,0.66707990242838577,0.62946765399810056,0.81795925748703069,0.61365019315322089,0.80897223308657207,-1.0987129637812232,{"$f":"+Spectre!C572*N573/L573","v":1.7329018749316905},1.7720135677461628]
[4372,0.43719999999999998,5.231662186968725,1.0250720944146348,0.2472087650116834,0.99830356317210678,1.8434469712746296E-3,0.1902194709093061,0.43927168289226415,0.44530179640488238,0.66725421648394179,0.6296557224805388,0.81820364233393239,0.61384361765114659,0.80922722371440281,-1.0970885675752107,{"$f":"+Spectre!C573*N574/L574","v":1.7238775290931239},1.7627855419142882]
[4373,0.43730000000000002,5.2292697497360381,1.0250573616272465,0.24697917000604072,0.9983010187719269,1.8462142166467735E-3,0.19016292464141249,0.43898830886410001,0.44553425454776063,0.66742839064470849,0.62984364706435036,0.81844784019233185,0.6140368973251128,0.80948202342147246,-1.0954658721748833,{"$f":"+Spectre!C574*N575/L575","v":1.7147910237188757},1.7534939536025143]
[4374,0.43740000000000001,5.2268789532192246,1.0250426396173615,0.24674984239289471,0.99829847055878251,1.8489856160016087E-3,0.19010640810647653,0.43870523611537282,0.44576658669949154,0.66760242501826461,0.63003142784709942,0.81869185118900845,0.61423003226728723,0.80973663232928528,-1.093844875421357,{"$f":"+Spectre!C575*N576/L576","v":1.7200037981494325},1.7588243806452522]
[4375,0.4375,5.2244897959183669,1.0250279283742885,0.24652078179730852,0.99829591852696931,1.8517611755748925E-3,0.19004992128207143,0.43842246425495485,0.4459987928577514,0.66777631971212337,0.63021906492631885,0.8189356754507009,0.61442302256982284,0.80999105055932619,-1.0922255751591226,{"$f":"+Spectre!C576*N577/L577","v":1.7306866731409993},1.769748368726423]
[4376,0.43759999999999999,5.2221022763352716,1.0250132278873494,0.2462919878449614,0.99829336267077462,1.8545409016115487E-3,0.18999346414579299,0.43813999289236594,0.44623087302039466,0.66795007483373181,0.63040655839950943,0.81917931310410619,0.6146158683248556,0.81024527823305748,-1.0906079692363235,{"$f":"+Spectre!C577*N578/L578","v":1.7376808562645638},1.7769004109565962]
[4377,0.43769999999999998,5.2197163929734476,1.0249985381458795,0.2460634601621462,0.99829080298447714,1.8573248003660326E-3,0.18993703667525891,0.43785782163777115,0.44646282718545433,0.66812369049047182,0.63059390836414031,0.81942276427588023,0.61480856962450592,0.81049931547192122,-1.0889920555044119,{"$f":"+Spectre!C578*N579/L579","v":1.7340292510709443},{"$f":"+Q579/R$1","v":1.7731663888283085}]
[4378,0.43780000000000002,5.2173321443381182,1.024983859139228,0.24583519837576953,0.99828823946234702,1.8601128781022078E-3,0.18988063884810888,0.43757595010198058,0.44669465535114056,0.66829716678965823,0.63078111491764777,0.81966602909263619,0.61500112656087746,0.81075316239733708,-1.0873778318183591,{"$f":"+Spectre!C579*N580/L580","v":1.7311829467321349},1.7702558432404323]
[4379,0.43790000000000001,5.2149495289362173,1.0249691908567573,0.24560720211335055,0.99828567209864616,1.8629051410929865E-3,0.18982427064200447,0.43729437789644798,0.44692635751584037,0.66847050383854001,0.63096817815743578,0.81990910768094538,0.61519353922605668,0.81100681913070227,-1.0857652960366004,{"$f":"+Spectre!C580*N581/L581","v":1.7247693030458495},1.7636974432553001]
[4380,0.438,5.2125685452763708,1.0249545332878436,0.24537947100301793,0.99828310088762751,1.8657015956211735E-3,0.18976793203462908,0.43701310463326815,0.44715793367811801,0.66864370174430066,0.63115509818087656,0.82015200016733758,0.61538580771211426,0.81126028579339315,-1.0841544460210129,{"$f":"+Spectre!C581*N582/L582","v":1.7174832810158465},1.7562469752981507]
[4381,0.43809999999999999,5.210189191868916,1.0249398864218755,0.245152004673511,0.99828052582353566,1.8685022479787428E-3,0.18971162300368855,0.43673212992517829,0.44738938383671234,0.66881676061405582,0.63134187508530792,0.82039470667829817,0.61557793211110234,0.81151356250676165,-1.0825452796368484,{"$f":"+Spectre!C582*N583/L583","v":1.7133059079418484},1.7519753186788434]
[4382,0.43819999999999998,5.2078114672258895,1.024925250248256,0.24492480275417769,0.99827794690060656,1.8713071044672012E-3,0.18965534352690963,0.43645145338555452,0.44762070799053866,0.66898968055485586,0.63152850896803592,0.820637227340271,0.61576991251505642,0.81176664939213783,-1.0809377947528898,{"$f":"+Spectre!C583*N584/L584","v":1.7164503765921577},1.7551907581635056]
[4383,0.43830000000000002,5.2054353698610187,1.0249106247564006,0.24469786487497275,0.99827536411306772,1.874116171397345E-3,0.18959909358204186,0.43617107462841198,0.4478519061386862,0.66916246167368409,0.63171499992633295,0.82087956227965631,0.6159617490159941,0.81201954657082787,-1.0793319892413167,{"$f":"+Spectre!C584*N585/L585","v":1.7191096785949476},1.7579100807621171]
[4384,0.43840000000000001,5.2030608982897331,1.0248960099357387,0.24447119066645787,0.99827277745513776,1.8769294550897457E-3,0.18954287314685631,0.43589099326840391,0.44808297828041793,0.66933510407745633,0.63190134805743714,0.82112171162280989,0.61615344170591446,0.81227225416411386,-1.0777278609777063,{"$f":"+Spectre!C585*N586/L586","v":1.7208564157541688},1.7596962418772977]
[4385,0.4385,5.2006880510291511,1.0248814057757132,0.24424477975979966,0.99827018692102687,1.879746961874265E-3,0.18948668219914544,0.43561120892081939,0.44831392441517093,0.66950760787302244,0.63208755345855372,0.82136367549604472,0.61634499067679893,0.81252477229325448,-1.0761254078410776,{"$f":"+Spectre!C586*N587/L587","v":1.7227044573900798},1.7615859939169065]
[4386,0.43859999999999999,5.1983168265980826,1.0248668122657796,0.24401863178676889,0.9982675925049368,1.8825686980900569E-3,0.18943052071672403,0.43533172120158298,0.448544744542555,0.66967997316716454,0.63227361622685374,0.82160545402562923,0.61653639602061017,0.81277710107948375,-1.0745246277138354,{"$f":"+Spectre!C587*N588/L588","v":1.7206651818165151},1.7595006917789118]
[4387,0.43869999999999998,5.1959472235170248,1.024852229395407,0.2437927463797388,0.99826499420106007,1.8853946700864133E-3,0.18937438867742845,0.43505252972725367,0.44877543866235187,0.66985220006659785,0.63245953645947361,0.82184704733778702,0.61672765782929218,0.81302924064401094,-1.072925518481771,{"$f":"+Spectre!C588*N589/L589","v":1.7127788792197511},1.7514363948888365]
[4388,0.43880000000000002,5.1935792403081571,1.0248376571540776,0.24356712317168447,0.99826239200358124,1.8882248842214348E-3,0.18931828605911655,0.43477363411502246,0.44900600677451602,0.67002428867797059,0.63264531425351644,0.82208845555869825,0.61691877619476987,0.81328119110802022,-1.0713280780341949,{"$f":"+Spectre!C589*N590/L590","v":1.7051059221401714},1.7435902587362715]
[4389,0.43890000000000001,5.191212875495351,1.0248230955312871,0.24334176179618219,0.99825978590667575,1.8910593468632396E-3,0.1892622128396681,0.4344950339827135,0.44923644887917169,0.67019623910786286,0.63283094970604947,0.82232967881449659,0.61710975120894884,0.81353295259267033,-1.0697323042636597,{"$f":"+Spectre!C590*N591/L591","v":1.7004317854560353},1.738810626524196]
[4390,0.439,5.1888481276041531,1.0248085445165445,0.24311666188740738,0.99825717590451035,1.8938980643894809E-3,0.18920616899698434,0.43421672894878116,0.44946676497661453,0.67036805146278755,0.63301644291410586,0.8225707172312714,0.61730058296371526,0.81378452521909439,-1.0681381950661817,{"$f":"+Spectre!C591*N592/L592","v":1.6959674172943309},1.7342454973219057]
[4391,0.43909999999999999,5.1864849951617877,1.024794004099371,0.24289182308013343,0.99825456199124341,1.896741043187106E-3,0.18915015450898878,0.43393871863230932,0.44969695506731,0.67053972584918986,0.63320179397468357,0.82281157093506641,0.61749127155093553,0.81403590910839962,-1.06654574834113,{"$f":"+Spectre!C592*N593/L593","v":1.6968583571100258},1.7351565456993674]
[4392,0.43919999999999998,5.1841234766971587,1.0247794742693024,0.24266724500973152,0.99825194416102436,1.8995882896528375E-3,0.18909416935362552,0.43366100265300989,0.44992701915189331,0.67071126237344747,0.63338700298474571,0.82305224005187982,0.61768181706245617,0.81428710438166663,-1.0649549619913157,{"$f":"+Spectre!C593*N594/L594","v":1.704512842024555},1.7429837927690774]
[4393,0.43930000000000002,5.1817635707408396,1.0247649550158866,0.24244292731216852,0.99824932240799391,1.9024398101930564E-3,0.18903821350886091,0.43338358063122251,0.45015695723116839,0.6708826611418699,0.63357207004121951,0.82329272470766335,0.61787221959010374,0.81453811115995001,-1.0633658339227914,{"$f":"+Spectre!C594*N595/L595","v":1.7119038181669626},1.7505415836588534]
[4394,0.43940000000000001,5.1794052758250846,1.0247504463286852,0.2422188696240071,0.99824669672628408,1.9052956112236797E-3,0.18898228695268282,0.4331064521879136,0.45038676930610694,0.67105392226069815,0.63375699524099638,0.82353302502832226,0.61806247922568314,0.81478892956427573,-1.0617783620451404,{"$f":"+Spectre!C595*N596/L596","v":1.7179322337221505},1.7567060608922953]
[4395,0.4395,5.1770485904838077,1.0247359481972724,0.24199507158240277,0.99824406711001823,1.9081556991701596E-3,0.18892638966310082,0.43282961694467376,0.45061645537784889,0.67122504583610587,0.63394177868093249,0.82377314113971578,0.61825259606097971,0.81503955971564412,-1.0601925442711657,{"$f":"+Spectre!C596*N597/L597","v":1.7239426538405678},1.762852136530946]
[4396,0.43959999999999999,5.1746935132525973,1.0247214606112358,0.24177153282510466,0.99824143355331074,1.9110200804678497E-3,0.18887052161814519,0.43255307452371772,0.45084601544770131,0.67139603197419817,0.63412642045784773,0.82401307316765626,0.61844257018775761,0.81529000173502741,-1.0586083785170786,{"$f":"+Spectre!C597*N598/L598","v":1.724493050917578},1.7634149561009509]
[4397,0.43969999999999998,5.1723400426687016,1.0247069835601759,0.24154825299045291,0.99823879605026744,1.9138887615615181E-3,0.18881468279586872,0.43227682454788313,0.45107544951713791,0.67156688078101157,0.63431092066852557,0.82425282123790844,0.61863240169775957,0.81554025574336941,-1.0570258627024209,{"$f":"+Spectre!C598*N599/L599","v":1.718416539489827},1.7572012974683964]
[4398,0.43980000000000002,5.1699881772710361,1.0246925170337065,0.24132523171737896,0.99823615459498527,1.9167617489057143E-3,0.18875887317434489,0.43200086664062953,0.45130475758779803,0.67173759236251396,0.63449527940971306,0.82449238547619008,0.61882209068270677,0.81579032186158595,-1.0554449947500988,{"$f":"+Spectre!C599*N600/L600","v":1.7137059230105944},1.7523843621101969]
[4399,0.43990000000000001,5.1676379156001726,1.0246780610214541,0.24110246864540288,0.9982335091815524,1.9196390489646449E-3,0.18870309273166896,0.43172520042603646,0.45153393966148703,0.6719081668246053,0.63467949677812086,0.82473176600817133,0.61901163723429919,0.81604020021056467,-1.0538657725863043,{"$f":"+Spectre!C600*N601/L601","v":1.718570311903697},1.7573585405342991]
[4400,0.44,5.1652892561983483,1.0246636155130584,0.24087996341463405,0.99823085980404824,1.9225206682121768E-3,0.18864734144595777,0.43144982552880395,0.45176299574017431,0.67207860427311583,0.63486357287042239,0.82497096295947414,0.61920104144421406,0.81628989091116322,-1.0522881941406381,{"$f":"+Spectre!C601*N602/L602","v":1.7248875356689362},1.7638183443953419]
[4401,0.44009999999999999,5.1629421976094445,1.0246491804981721,0.24065771566576791,0.9982282064565432,1.9254066131320778E-3,0.18859161929534896,0.43117474157424895,0.45199192582599484,0.67224890481380783,0.63504750778325447,0.82520997645567284,0.61939030340410739,0.81653939408421117,-1.0507122573459871,{"$f":"+Spectre!C602*N603/L603","v":1.7283848799102388},1.7673946238929399]
[4402,0.44019999999999998,5.1605967383790077,1.0246347559664606,0.24043572504008709,0.99822554913309902,1.9282968902176549E-3,0.18853592625800214,0.4308999481883069,0.45222072992124607,0.6724190685523741,0.63523130161321606,0.82544880662229259,0.6195794232056121,0.81678870985050789,-1.049137960138502,{"$f":"+Spectre!C603*N604/L604","v":1.7285200690910347},1.7675328643011525]
[4403,0.44030000000000002,5.1582528770542293,1.0246203419076025,0.24021399117945874,0.99822288782776858,1.9311915059719968E-3,0.1884802623120978,0.43062544499752853,0.45244940802838979,0.67258909559443847,0.63541495445686935,0.82568745358481066,0.61976840094033891,0.81703783833082344,-1.0475653004576979,{"$f":"+Spectre!C604*N605/L605","v":1.7287338383514592},1.7677514583458118]
[4404,0.44040000000000001,5.155910612183952,1.0246059383112895,0.23999251372633418,0.99822022253459564,1.9340904669082144E-3,0.18842462743583821,0.43035123162908062,0.45267796015004924,0.67275898604555529,0.63559846641073825,0.82592591746865462,0.61995723669987512,0.81728677964589691,-1.0459942762463981,{"$f":"+Spectre!C605*N606/L606","v":1.7270488263168851},1.7660284154948145]
[4405,0.4405,5.1535699423186685,1.0245915451672256,0.23977129232374766,0.99821755324761563,1.9369937795485979E-3,0.18836902160744629,0.43007730771074254,0.45290638628901098,0.67292874001121028,0.63578183757130913,0.82616419839920352,0.62014593057578549,0.81753553391643752,-1.0444248854507565,{"$f":"+Spectre!C606*N607/L607","v":1.7250324153503789},1.763966494019346]
[4406,0.44059999999999999,5.1512308660105104,1.0245771624651283,0.239550326615315,0.99821487996085445,1.9399014504259437E-3,0.18831344480516665,0.42980367287090759,0.45313468644822213,0.67309835759681891,0.63596506803503017,0.82640229650178643,0.620334482659611,0.81778410126312351,-1.0428571260201358,{"$f":"+Spectre!C607*N608/L608","v":1.7276944236850045},1.7666885840318554]
[4407,0.44069999999999998,5.1488933818132541,1.0245627901947276,0.23932961624523258,0.99821220266832955,1.9428134860823478E-3,0.18825789700726508,0.42953032673858005,0.45336286063079129,0.67326783890772779,0.63614815789831158,0.82664021190168324,0.62052289304286945,0.81803248180660237,-1.0412909959072514,{"$f":"+Spectre!C608*N609/L609","v":1.7344883492747016},1.7736358489043547]
[4408,0.44080000000000003,5.1465574882823182,1.0245484283457662,0.23910916085827683,0.99820952136404939,1.9457298930698106E-3,0.18820237819202848,0.42925726894337513,0.45359090883998754,0.67343718404921338,0.63633110725752473,0.82687794472412335,0.62071116181705466,0.81828067566748985,-1.0397264930680716,{"$f":"+Spectre!C609*N610/L610","v":1.7405272793027657},1.779811077922917]
[4409,0.44090000000000001,5.1442231839747574,1.0245340769080002,0.2388889600998024,0.99820683604201321,1.9486506779504784E-3,0.18814688833776499,0.42898449911551784,0.45381883107923926,0.67360639312648263,0.63651391620900266,0.82711549509428639,0.62089928907363612,0.81852868296636994,-1.0381636154619067,{"$f":"+Spectre!C610*N611/L611","v":1.7354145734279203},1.7745829779888229]
[4410,0.441,5.1418904674492625,1.0245197358711982,0.23866901361574142,0.99820414669621171,1.9515758472959189E-3,0.18809142742280394,0.42871201688584126,0.45404662735213486,0.67377546624467255,0.63669658484903924,0.82735286313730094,0.62108727490405935,0.81877650382379474,-1.0366023610512309,{"$f":"+Spectre!C611*N612/L612","v":1.7302139810907211},1.7692650079899752]
[4411,0.44109999999999999,5.1395593372661592,1.024505405225141,0.23844932105260247,0.99820145332062638,1.9545054076878462E-3,0.18803599542549551,0.42843982188578583,0.45427429766242094,0.6739444035088501,0.6368791132738898,0.82759004897824562,0.62127511939974556,0.81902413836028443,-1.0350427278018604,{"$f":"+Spectre!C612*N613/L613","v":1.7290007177957856},1.7680243612742119]
[4412,0.44119999999999998,5.1372297919874006,1.0244910849596234,0.23822988205746917,0.9981987559092298,1.9574393657177595E-3,0.18798059232421133,0.42816791374739827,0.45450184201400273,0.67411320502401262,0.63706150157977004,0.82782705274214763,0.62146282265209085,0.81927158669632605,-1.0334847136828751,{"$f":"+Spectre!C613*N614/L614","v":1.7303550513158683},1.7694092621780411]
[4413,0.44130000000000003,5.1349018301765748,1.0244767750644517,0.23801069627799981,0.99819605445598547,1.9603777279871845E-3,0.18792521809734394,0.42789629210333091,0.45472926041094269,0.67428187089508618,0.63724374986285615,0.82806387455398267,0.62165038475246637,0.8195188489523737,-1.0319283166665749,{"$f":"+Spectre!C614*N615/L615","v":1.7297653845747691},1.7688062866254193]
[4414,{"$f":"+A616/10000","v":0.44140000000000001},{"$f":"+(1/B616)^2","v":5.1325754503988934},{"$f":"0.23465+1.076*100/(146-C616)+0.93161/(41-C616)","v":1.0244624755294458},{"$f":"9.4977*0.001*C616^2*D616*EXP(-h/7.996/1000)","v":0.23779176336242544},{"$f":"+EXP(-0.0168*EXP(-15*ABS(B616-0.59)))","v":0.99819334895484824},{"$f":"-2.5*LOG(F616)","v":1.9633205011071911E-3},{"$f":"2.5*LOG(EXP(AOD*(B616/0.55)^(-1.3)))","v":0.18786987272330691},{"$f":"+E616+G616+H616","v":0.42762495658683952},{"$f":"10^(-0.4*I616*ma)","v":0.45495655285746084},{"$f":"10^(-0.4*I616)","v":0.67445040122692745},{"$f":"10^(-0.4*I616*ma_ref)","v":0.63742585821928521},{"$f":"+L616/M$1","v":0.82830051453867581},{"$f":"10^(-0.4*I616*ma_target)","v":0.62183780579221848},{"$f":"+N616/O$1","v":0.81976592524884906},{"$f":"(O616/M616-1)*100","v":-1.0303735347285348},{"$f":"+Spectre!C615*N616/L616","v":1.7168455561699703},1.7555948569666231]
[4415,0.4415,5.1302506512211927,1.0244481863444377,0.23757308295954929,0.99819063939976349,1.9662676916992385E-3,0.18781455618053494,0.42735390683178348,0.45518371935793311,0.67461879612432252,0.63760782674515404,0.8285369728210995,0.62202508586266747,0.82001281570613915,-1.0288203658475603,{"$f":"+Spectre!C616*N617/L617","v":1.7026543147486835},1.7410833184280241]
[4416,0.44159999999999999,5.1279274312119307,1.0244339074992728,0.23735465471874556,0.99818792578466797,1.9692193063943317E-3,0.18775926844748364,0.42708314247262352,0.4554107599168925,0.67478705569198683,0.63778965553651978,0.8287732495260749,0.62221222505510876,0.82025952044459827,-1.0272688080056991,{"$f":"+Spectre!C617*N618/L618","v":1.702487149975016},1.7409123807360101]
[4417,0.44169999999999998,5.1256057889411881,1.0244196389838083,0.23713647828995835,0.9981852081034891,1.9721753518337441E-3,0.18770400950262947,0.42681266314442157,0.45563767453902643,0.67495518003456512,0.63797134468939931,0.82900934477837085,0.62239922346081145,0.82050603958454604,-1.0257188591882627,{"$f":"+Spectre!C618*N619/L619","v":1.7103650033368185},1.7489680376914154]
[4418,0.44180000000000003,5.1232857229806603,1.0244053807879148,0.23691855332370074,0.99818248635014539,1.9751358346685372E-3,0.18764877932447011,0.42654246848283939,0.45586446322917784,0.67512316925663174,0.63815289429976907,0.82924525870270338,0.62258608117101877,0.82075237324626804,-1.0241705173837046,{"$f":"+Spectre!C619*N620/L620","v":1.7158148184358164},1.7545408554238175]
[4419,0.44190000000000002,5.1209672319036663,1.024391132901475,0.23670087947105392,0.99817976051854629,1.9781007615598013E-3,0.18759357789152414,0.42627255812413789,0.45609112599234342,0.67529102346268932,0.63833430446356454,0.82948099142373566,0.62277279827694698,0.82099852155001429,-1.0226237805837979,{"$f":"+Spectre!C620*N621/L621","v":1.7125433529700398},1.7511955527984178]
[4420,0.442,5.1186503142851292,1.0243768953143844,0.23648345638366516,0.99817703060259222,1.9810701391785365E-3,0.18753840518233064,0.42600293170517434,0.4563176628336747,0.67545874275717077,0.63851557527668157,0.829716543066079,0.62295937486978703,0.8212444846160013,-1.0210786467834687,{"$f":"+Spectre!C621*N622/L622","v":1.7085827121748169},1.7471455201176116]
[4421,0.44209999999999999,5.1163349687015884,1.0243626680165512,0.23626628371374797,0.99817429659617429,1.9840439742060114E-3,0.18748326117545017,0.42573358886340418,0.45654407375847544,0.67562632724443672,0.63869670683497393,0.82995191375429034,0.62314581104070177,0.82149026256440871,-1.0195351139809183,{"$f":"+Spectre!C622*N623/L623","v":1.7115397223582181},1.7501692701872205]
[4422,0.44219999999999998,5.1140211937311912,1.0243484509978962,0.23604936111408009,0.99817155849317474,1.9870222733332867E-3,0.18742814584946377,0.42546452923687716,0.4567703587722029,0.67579377702877785,0.63887769923425475,0.83018710361287351,0.62333210688082819,0.82173585551538197,-1.0179931801774234,{"$f":"+Spectre!C623*N624/L624","v":1.7185538410971655},1.7573416979807375]
[4423,0.44230000000000003,5.111708987953695,1.0243342442483523,0.23583268823800344,0.99816881628746668,1.9900050432614517E-3,0.18737305918297303,0.42519575246423791,0.45699651788046641,0.6759610922144127,0.63905855257029631,0.83042211276627964,0.62351826248127551,0.82198126358903001,-1.0164528433776576,{"$f":"+Spectre!C624*N625/L625","v":1.7231138725778854},1.7620046496285355]
[4424,0.44240000000000002,5.1093983499504585,1.0243200477578656,0.23561626473942182,0.99816606997291402,1.992992290701749E-3,0.18731800115460107,0.42492725818472465,0.45722255108902676,0.67612827290548871,0.63923926693882871,0.83065694133890466,0.62370427793312566,0.82222648690542555,-1.0149141015893259,{"$f":"+Spectre!C625*N626/L626","v":1.7201630347850421},1.7589872112606866]
[4425,0.4425,5.1070892783044464,1.0243058615163942,0.23540009027280118,0.99816331954337134,1.995984022375693E-3,0.18726297174299117,0.42465904603816806,0.45744845840379561,0.67629531920608166,0.6394198424355404,0.83089158945509056,0.62389015332743281,0.82247152558460501,-1.0133769528233527,{"$f":"+Spectre!C626*N627/L627","v":1.7169555988395815},1.7557073833054788]
[4426,0.44259999999999999,5.1047817716002202,1.024291685513909,0.23518416449316737,0.99816056499268457,1.9989802450143474E-3,0.18720797092680733,0.42439111566498905,0.45767423983083638,0.67646223122019644,0.63960027915607887,0.83112605723912625,0.6240758887552238,0.82271637974656875,-1.0118413950939265,{"$f":"+Spectre!C627*N628/L628","v":1.7177875896626931},1.7565581522082778]
[4427,0.44269999999999998,5.1024758284239438,1.0242775197403928,0.2349684870561059,0.99815780631468987,2.0019809653595332E-3,0.18715299868473492,0.42412346670620038,0.457899895376361,0.67662900905176548,0.63978057719604831,0.83136034481524401,0.62426148430749662,0.8229610495112788,-1.0103074264182998,{"$f":"+Spectre!C628*N629/L629","v":1.7208840914227255},1.7597245421872507]
[4428,0.44280000000000003,5.1001714473633744,1.0242633641858421,0.2347530576177608,0.9981550435032146,2.0049861901627426E-3,0.18709805499547949,0.42385609880340303,0.45812542504673193,0.67679565280464948,0.63996073665101161,0.83159445230762286,0.62444694007522139,0.82320553499866067,-1.0087750448170341,{"$f":"+Spectre!C629*N630/L630","v":1.7223075859539174},1.7611801650701009]
[4429,0.44290000000000002,5.0978686270078652,1.0242492188402643,0.23453787583483313,0.99815227655207694,2.0079959261856198E-3,0.18704313983776724,0.42358901159878598,0.45835082884846062,0.67696216258263819,0.64014075761648914,0.83182837984038616,0.62463225614933993,0.82344983632860269,-1.0072442483137212,{"$f":"+Spectre!C630*N631/L631","v":1.7182900770093896},1.7570719807226605]
[4430,0.443,5.0955673659483622,1.0242350836936802,0.23432294136458046,0.99814950545508563,2.011010180200206E-3,0.18698825319034523,0.42332220473512588,0.45857610678820637,0.6771285384894481,0.64032064018795842,0.83206212753760189,0.62481743262076506,0.82369395362095477,-1.0057150349351729,{"$f":"+Spectre!C631*N632/L632","v":1.7142874619315465},1.7529790263973135]
[4431,0.44309999999999999,5.0932676627773974,1.0242209587361231,0.23410825386481557,0.99814673020604028,2.0140289589885767E-3,0.18693339503198111,0.42305567785578524,0.45880125887277712,0.67729478062872472,0.64050038446085422,0.83229569552328242,0.62500246958038064,0.82393788699552861,-1.0041874027113762,{"$f":"+Spectre!C632*N633/L633","v":1.7147099535611634},1.7534110536867813]
[4432,0.44319999999999998,5.0909695160890935,1.0242068439576377,0.23389381299390541,0.99814395079873131,2.0170522693429625E-3,0.18687856534146299,0.42278943060471136,0.45902628510912769,0.67746088910404079,0.64067999053056868,0.83252908392138469,0.62518736711904166,0.82418163657209798,-1.0026613496754377,{"$f":"+Spectre!C633*N634/L634","v":1.7170149860438222},1.7557681108822605]
[4433,0.44330000000000003,5.088672924479158,1.0241927393482821,0.23367961841077009,0.9981411672269398,2.0200801180658705E-3,0.18682376409759952,0.42252346262643548,0.45925118550436023,0.67762686401889705,0.64085945849245096,0.83276229285580983,0.62537212532757369,0.82442520247039786,-1.0011368738636617,{"$f":"+Spectre!C634*N635/L635","v":1.7187418854967347},1.7575339865529847]
[4434,0.44340000000000002,5.0863778865448817,1.0241786448981265,0.2334656697748822,0.99813837948443773,2.0231125119698425E-3,0.18676899127922017,0.42225777356607219,0.45947596006572278,0.67779270547672166,0.6410387884418064,0.83299532245040175,0.62555674429677255,0.82466858481012384,-0.99961397331540525,{"$f":"+Spectre!C635*N636/L636","v":1.7185511329948098},1.7573389287563592]
[4435,0.44350000000000001,5.0840844008851382,1.0241645605972529,0.23325196674626525,0.99813558756498777,2.0261494578776981E-3,0.18671424686517485,0.42199236306931776,0.45970060880060953,0.67795841358087061,0.64121798047389711,0.83322817282894868,0.62574122411740452,0.82491178371093277,-0.99809264607321202,{"$f":"+Spectre!C636*N637/L637","v":1.718858901906414},1.757653644029614]
[4436,0.44359999999999999,5.0817924661003788,1.024150486435756,0.23303850898549291,0.99813279146234291,2.0291909626228969E-3,0.18665953083433395,0.42172723078244978,0.45992513171655919,0.67812398843462673,0.64139703468394149,0.83346084411518173,0.62592556488020523,0.82515479929244107,-0.99657289018280082,{"$f":"+Spectre!C637*N638/L638","v":1.7139137111836691},1.7525968400740284]
[4437,0.44369999999999998,5.0795020807926292,1.024136422403743,0.23282529615368777,0.99812999117024748,2.0322370330484517E-3,0.18660484316558809,0.42146237635232431,0.46014952882125704,0.67828943014120135,0.64157595116711474,0.83369333643277588,0.62610976667588147,0.82539763167422697,-0.99505470369293247,{"$f":"+Spectre!C638*N639/L639","v":1.7076781896739668},1.7462205824930266]
[4438,0.44379999999999997,5.0772132435654962,1.0241223684913332,0.23261232791252109,0.99812718668243594,2.0352876760082587E-3,0.18655018383784849,0.42119779942637781,0.46037380012253049,0.67845473880373186,0.64175473001854733,0.83392564990534812,0.62629382959510849,0.8256402809758272,-0.99353808465554305,{"$f":"+Spectre!C639*N640/L640","v":1.7016485812314923},1.740054885448765]
[4439,0.44390000000000002,5.0749259530241515,1.0241083246886578,0.2323996039242103,0.99812437799263376,2.0383428983661292E-3,0.18649555283004718,0.42093349965262361,0.46059794562835205,0.67861991452528336,0.64193337133332584,0.83415778465645829,0.62647775372853121,0.82588274731673872,-0.99202303112565504,{"$f":"+Spectre!C640*N641/L641","v":1.6963559919224311},1.7346428421012243]
[4440,0.44400000000000001,5.0726402077753434,1.0240942909858604,0.23218712385151963,0.99812156509455674,2.0414027069965168E-3,0.18644095012113593,0.42066947667965204,0.46082196534683711,0.67878495740884826,0.6421118752064926,0.8343897408096087,0.62666153916676415,0.82612503081641808,-0.99050954116134404,{"$f":"+Spectre!C641*N642/L642","v":1.6909299046531887},1.7290942877370303]
[4441,0.44409999999999999,5.0703560064273869,1.0240802673730971,0.23197488735775815,0.99811874798191169,2.0444671087837935E-3,0.18638637569008748,0.42040573015662941,0.46104585928624325,0.67894986755734532,0.64229024173304539,0.83462151848824395,0.62684518600038996,0.8263671315942801,-0.98899761282396081,{"$f":"+Spectre!C642*N643/L643","v":1.6880224688106023},{"$f":"+Q643/R$1","v":1.7261212309038974}]
[4442,0.44419999999999998,5.068073347590162,1.0240662538405365,0.23176289410677892,0.99811592664839588,2.0475361106228529E-3,0.18633182951589461,0.42014225973329639,0.46126962745497091,0.67911464507362063,0.64246847100793736,0.83485311781575056,0.62702869431996111,0.82660904976969951,-0.9874872441777871,{"$f":"+Spectre!C643*N644/L644","v":1.6856603767054799},1.7237058262470653]
[4443,0.44429999999999997,5.0657922298751155,1.024052250378358,0.23155114376297792,0.99811310108769702,2.0506097194191095E-3,0.18627731157757055,0.41987906505996758,0.46149326986156169,0.67927929006044707,0.64264656312607649,0.8350845389154562,0.62721206421599773,0.82685078546200885,-0.98597843329020218,{"$f":"+Spectre!C644*N645/L645","v":1.6843627142620532},1.7223788754892808]
[4444,0.44440000000000002,5.0635126518952527,1.0240382569767548,0.23133963599129331,0.99811027129349372,2.0536879420880189E-3,0.18622282185414862,0.41961614578752993,0.46171678651469866,0.67944380262052406,0.64282451818232655,0.83531578191063127,0.627395295778989,0.82709233879049926,-0.98447117823182717,{"$f":"+Spectre!C645*N646/L646","v":1.6849282940831487},1.7229572204787593]
[4445,0.44450000000000001,5.0612346122651433,1.0240242736259308,0.23112837045720427,0.99810743725945483,2.0567707855558013E-3,0.18616836032468248,0.41935350156744255,0.46194017742320526,0.67960818285647773,0.64300233627150538,0.83554684692448655,0.6275783890993919,0.82733370987442001,-0.98296547707621418,{"$f":"+Spectre!C646*N647/L647","v":1.6853917807177947},1.7234311680328263]
[4446,0.4446,5.0589581096009102,1.0240103003161036,0.23091734682672993,0.9981045989792402,2.0598582567585956E-3,0.18611392696824652,0.41909113205173504,0.46216344259604503,0.6797724308708607,0.64318001748838571,0.83577773408017386,0.62776134426763153,0.82757489883297808,-0.98146132790000173,{"$f":"+Spectre!C647*N648/L648","v":1.6814545365284725},1.7194050600206321]
[4447,0.44469999999999998,5.0566831425202379,1.0239963370375011,0.23070656476642851,0.99810175644649979,2.0629503626434279E-3,0.1860595217639347,0.41882903689300666,0.46238658204232091,0.67993654676615167,0.64335756192769478,0.8360084435007864,0.62794416137410047,0.82781590578533737,-0.97995872878302581,{"$f":"+Spectre!C648*N649/L649","v":1.6762554786065458},1.714088659068896]
[4448,0.44479999999999997,5.0544097096423588,1.023982383780365,0.23049602394339613,0.99809890965487447,2.0660471101673654E-3,0.1860051446908616,0.41856721574442513,0.46260959577127547,0.68010053064475651,0.64353496968411406,0.83623897530935742,0.62812684050915935,0.82805673085062015,-0.97845767780798676,{"$f":"+Spectre!C649*N650/L650","v":1.6715504887161492},1.709277477291959]
[4449,0.44490000000000002,5.0521378095880589,1.0239684405349478,0.23028572402526593,0.99809605859799533,2.0691485062982423E-3,0.18595079572816192,0.41830566825972609,0.46283248379228936,0.68026438260900635,0.64371224085227929,0.83646932962886111,0.62830938176313555,0.8282973741479045,-0.97695817306087118,{"$f":"+Spectre!C650*N651/L651","v":1.6676369124462618},1.7052755713854728]
[4450,0.44500000000000001,5.0498674409796749,1.0239545072915146,0.23007566468020715,0.99809320326948425,2.0722545580140546E-3,0.18589647485499031,0.41804439409321148,0.46305524611488141,0.68042810276115939,0.64388937552678049,0.83669950658221193,0.62849178522632443,0.82853783579622631,-0.97546021263055227,{"$f":"+Spectre!C651*N652/L652","v":1.6637814068949184},1.7013330468569154]
[4451,0.4451,5.0475986024410888,1.0239405840403424,0.22986584557692394,0.99809034366295335,2.0753652723035669E-3,0.1858421820505218,0.41778339289974931,0.46327788274870824,0.68059169120339935,0.64406637380216081,0.83692950629226381,0.62867405098898754,0.82877811591457706,-0.97396379460903404,{"$f":"+Spectre!C652*N653/L653","v":1.6614909390586265},1.6989908830326912]
[4452,0.44519999999999998,5.0453312925977327,1.0239266707717203,0.22965626638465494,0.99808747977200551,2.0784806561657074E-3,0.18578791729395133,0.41752266433477198,0.46350039370356277,0.68075514803783599,0.64424323577291753,0.83715932888181066,0.62885617914135361,0.82901821462190484,-0.97246891709130701,{"$f":"+Spectre!C653*N654/L654","v":1.6595420140267978},1.696997970653243]
[4453,0.44529999999999997,5.0430655100765742,1.0239127674759496,0.22944692677317124,0.99808461159023376,2.0816007166102927E-3,0.18573368056449438,0.41726220805427594,0.46372277898937486,0.68091847336650502,0.64441996153350123,0.83738897447358607,0.62903816977361771,0.82925813203711329,-0.97097557817549252,{"$f":"+Spectre!C654*N655/L655","v":1.6596353403341455},1.6970934033405982]
[4454,0.44540000000000002,5.0408012535061282,1.0238988741433428,0.22923782641277621,0.99808173911122189,2.0847254606573048E-3,0.1856794718413857,0.4170020237148192,0.46394503861621095,0.68108166729136821,0.64459655117831638,0.83761844319026357,0.62922002297594171,0.82949786827906258,-0.96948377596270952,{"$f":"+Spectre!C655*N656/L656","v":1.6632155632880765},1.7007544321280315]
[4455,0.44550000000000001,5.0385385215164487,1.0238849907642256,0.22902896497430481,0.99807886232854381,2.0878548953376162E-3,0.18562529110388093,0.41674211097352332,0.46416717259427148,0.68124472991431229,0.6447730048017194,0.8378477351544541,0.62940173883845285,0.82973742346656687,-0.96799350855703015,{"$f":"+Spectre!C656*N657/L657","v":1.6664753716089153},1.7040878145060765]
[4456,0.4456,5.0362773127391227,1.0238711173289341,0.22882034212912125,0.99807598123576424,2.0909890276922635E-3,0.18557113833125527,0.41648246948806877,0.46438918093389342,0.68140766133715069,0.64494932249802095,0.83807685048870928,0.62958331745124518,0.82997679771839694,-0.96650477406564628,{"$f":"+Spectre!C657*N658/L658","v":1.6667188240900797},1.7043367617234377]
[4457,0.44569999999999999,5.0340176258072749,1.0238572538278179,0.2286119575491195,0.99807309582643811,2.0941278647730551E-3,0.18551701350280381,0.4162230989166964,0.46461106364554761,0.68157046166162161,0.64512550436148397,0.83830578931551891,0.62976475890437833,0.83021599115327771,-0.96501757059873627,{"$f":"+Spectre!C658*N659/L659","v":1.6664464947902682},1.7040582859360076]
[4458,0.44579999999999997,5.0317594593555617,1.0238434002512371,0.22840381090672135,0.99807020609411068,2.0972714136424484E-3,0.18546291659784186,0.41596399891820568,0.46483282073983895,0.68173313098938926,0.64530155048632454,0.83853455175731151,0.62994606328787728,0.83045500388988891,-0.96353189626955382,{"$f":"+Spectre!C659*N660/L660","v":1.6639487352957896},1.7015041518692087]
[4459,0.44590000000000002,5.0295028120201684,1.023829556589565,0.22819590187487573,0.99806731203231769,2.10041968137343E-3,0.18540884759570475,0.41570516915195388,0.46505445222750547,0.68189566942204283,0.64547746096671044,0.83876313793645307,0.63012723069173293,0.83069383604686498,-0.96204774919417257,{"$f":"+Spectre!C660*N661/L661","v":1.6579665325103174},1.6953869304302951]
[4460,0.44600000000000001,5.0272476824388175,1.0238157228331857,0.22798823012705852,0.99806441363458531,2.103572675049516E-3,0.1853548064757474,0.41544660927785543,0.46527595811941852,0.68205807706109667,0.64565323589676227,0.83899154797524822,0.63030826120590044,0.8309324877427936,-0.96056512749188583,{"$f":"+Spectre!C661*N662/L662","v":1.6521573782688064},1.6894466632507161]
[4461,0.4461,5.0249940692507495,1.0238018989724953,0.22778079533726983,0.99806151089442996,2.1067304017649965E-3,0.18530079321734505,0.41518831895637986,0.46549733842658192,0.68222035400799075,0.64582887537055311,0.83921978199593994,0.63048915492030089,0.83117095909621708,-0.95908402928492897,{"$f":"+Spectre!C662*N663/L663","v":1.6544944934934867},1.6918365272975091]
[4462,0.44619999999999999,5.0227419710967309,1.0237880849979026,0.2275735971800345,0.99805860380535827,2.1098928686249315E-3,0.18524680779989233,0.41493029784855173,0.4657185931601312,0.68238250036409009,0.64600437948210754,0.83944784012070806,0.63066991192481991,0.83140925022563139,-0.95760445269842398,{"$f":"+Spectre!C663*N664/L664","v":1.6574026977332721},1.6948103698706092]
[4463,0.44629999999999997,5.0204913866190557,1.0237742808998274,0.22736663533040094,0.99805569236086766,2.1130600827445507E-3,0.18519285020280396,0.41467254561594946,0.46593972233133368,0.68254451623068479,0.6461797483254027,0.83967572247167077,0.63085053230930754,0.83164736124948535,-0.95612639586066805,{"$f":"+Spectre!C664*N665/L665","v":1.6607206841856668},1.6982032434639125]
[4464,0.44640000000000002,5.0182423144615305,1.0237604866687011,0.22715990946393905,0.99805277655444535,2.1162320512503412E-3,0.18513892040551469,0.4144150619207041,0.46616072595158786,0.68270640170898977,0.64635498199436681,0.83990342917088268,0.63103101616357882,0.8318852922861818,-0.95464985690272286,{"$f":"+Spectre!C665*N666/L666","v":1.6639799471564656},1.7015360681833362]
[4465,0.44650000000000001,5.0159947532694877,1.0237467022949678,0.22695341925674103,0.99804985637956922,2.1194087812790798E-3,0.18508501838747873,0.41415784642549885,0.46638160403242213,0.68286815690014513,0.6465300805828802,0.84013096034033641,0.63121136357741248,0.83212304345407562,-0.9531748339588364,{"$f":"+Spectre!C666*N667/L667","v":1.6667571160307451},1.7043759179153584]
[4466,0.4466,5.0137487016897735,1.0237329277690825,0.22674716438541903,0.99804693182970727,2.1225902799784382E-3,0.18503114412817051,0.41390089879356795,0.46660235658549504,0.68302978190521502,0.64670504418477415,0.84035831610196043,0.63139157464055151,0.83236061487147439,-0.95170132516612105,{"$f":"+Spectre!C667*N668/L668","v":1.6524640256312486},1.6897602316613813]
[4467,0.44669999999999999,5.0115041583707471,1.0237191630815126,0.22654114452710458,0.99804400289831774,2.1257765545068634E-3,0.18497729760708359,0.41364421868869505,0.466822983622595,0.68319127682518921,0.64687987289383164,0.84058549657762072,0.63157164944270305,0.83259800665663886,-0.95022932866464238,{"$f":"+Spectre!C668*N669/L669","v":1.6360004640797514},1.672925086599387]
[4468,0.44679999999999997,5.0092611219622842,1.0237054082227366,0.22633535935944821,0.99804106957884919,2.1289676120334563E-3,0.18492347880373161,0.41338780577521328,0.46704348515563904,0.68335264176098187,0.64705456680378648,0.84081250188911938,0.6317515880735376,0.83283521892778112,-0.94875884259749688,{"$f":"+Spectre!C669*N670/L670","v":1.6286618562937341},1.6654208460227513]
[4469,0.44690000000000002,5.0070195911157631,1.0236916631832449,0.22612980856061698,0.99803813186474044,2.1321634597380938E-3,0.18486968769764825,0.41313165971800336,0.4672638611966729,0.68351387681343145,0.64722912600832361,0.84103933215819493,0.63193139062268922,0.83307225180306543,-0.94728986511072311,{"$f":"+Spectre!C670*N671/L671","v":1.6303717705436509},1.6671693531334928]
[4470,0.44700000000000001,5.0047795644840827,1.0236779279535404,0.225924491809296,0.99803518974942051,2.1353641048114285E-3,0.18481592426838636,0.41287578018249382,0.46748411175786997,0.6836749820833008,0.64740355060107835,0.84126598750652137,0.63211105717975535,0.83330910540060754,-0.94582239435326843,{"$f":"+Spectre!C671*N672/L672","v":1.6320437872537403},1.6688791073548006]
[4471,0.4471,5.002541040721634,1.0236642025241363,0.22571940878468449,0.99803224322630868,2.1385695544548899E-3,0.18476218849551851,0.41262016683465785,0.46770423685153195,0.68383595767127814,0.64757784067563773,0.84149246805570987,0.63229058783429715,0.83354577983847555,-0.94435642847705559,{"$f":"+Spectre!C672*N673/L673","v":1.6355405482817311},1.6724547904759295]
[4472,0.44719999999999999,5.000304018484325,1.023650486885558,0.22551455916649743,0.99802929228881443,2.1417798158806845E-3,0.18470848035863735,0.41236481934101543,0.46792423649008685,0.68399680367797489,0.64775199632553804,0.8417187739273061,0.63246998267583765,0.8337822752346874,-0.94289196563698274,{"$f":"+Spectre!C673*N674/L674","v":1.6396850752174841},1.6766928596178035]
[4473,0.44729999999999998,4.9980684964295552,1.0236367810283435,0.22530994263496296,0.99802633693033738,2.1449948963119169E-3,0.18465479983735447,0.41210973736862933,0.46814411068608947,0.68415752020392728,0.64792601764426694,0.84194490524279197,0.6326492417938635,0.83401859170721282,-0.94142900399087903,{"$f":"+Spectre!C674*N675/L675","v":1.6363081691401959},1.673239736580358]
[4474,0.44740000000000002,4.9958344732162319,1.023623084943041,0.22510555887082231,0.99802337714426714,2.1482148029827119E-3,0.18460114691130169,0.41185492058510675,0.4683638594522207,0.68431810734959542,0.64809990472526147,0.84217086212358394,0.6328283652778236,0.83425472937397183,-0.93996754169944907,{"$f":"+Spectre!C675*N676/L676","v":1.6258333474307678},1.6625284975556092]
[4475,0.44750000000000001,4.9936019475047591,1.0236093986202108,0.22490140755532853,0.99802041292398391,2.1514395431376098E-3,0.18454752156013005,0.41160036865859617,0.46858348280128714,0.68447856521536432,0.64827365766190925,0.84239664469103426,0.63300735321712953,0.83449068835283546,-0.93850757692636178,{"$f":"+Spectre!C676*N677/L677","v":1.6177010508528165},1.6542126545863507]
[4476,0.4476,4.9913709179570356,1.0235957220504253,0.2246974883702455,0.99801744426285754,2.1546691240325339E-3,0.18449392376351037,0.41134608125778838,0.46880298074621968,0.68463889390154153,0.64844727654754752,0.84262225306642957,0.63318620570115447,0.83472646876162382,-0.93704910783827255,{"$f":"+Spectre!C677*N678/L678","v":1.6231616487851996},1.6597964985212943]
[4477,0.44769999999999999,4.989141383236456,1.0235820552242678,0.22449380099784721,0.99801447115424846,2.1579035529338255E-3,0.18444035350113266,0.41109205805191373,0.46902235330007491,0.68479909350835999,0.64862076147546344,0.84284768737099147,0.63336492281923429,0.83496207071810813,-0.93559213260466789,{"$f":"+Spectre!C678*N679/L679","v":1.6302431420258656},1.6670378214628241]
[4478,{"$f":"+A680/10000","v":0.44779999999999998},{"$f":"+(1/B680)^2","v":4.9869133420079041},{"$f":"0.23465+1.076*100/(146-C680)+0.93161/(41-C680)","v":1.0235683981323336},{"$f":"9.4977*0.001*C680^2*D680*EXP(-h/7.996/1000)","v":0.22429034512091639},{"$f":"+EXP(-0.0168*EXP(-15*ABS(B680-0.59)))","v":0.99801149359150698},{"$f":"-2.5*LOG(F680)","v":2.1611428371189666E-3},{"$f":"2.5*LOG(EXP(AOD*(B680/0.55)^(-1.3)))","v":0.18438681075270669},{"$f":"+E680+G680+H680","v":0.41083829871074207},{"$f":"10^(-0.4*I680*ma)","v":0.46924160047603319},{"$f":"10^(-0.4*I680)","v":0.68495916413597591},{"$f":"10^(-0.4*I680*ma_ref)","v":0.64879411253889419},{"$f":"+L680/M$1","v":0.84307294772587682},{"$f":"10^(-0.4*I680*ma_target)","v":0.63354350466066689},{"$f":"+N680/O$1","v":0.83519749434000923},{"$f":"(O680/M680-1)*100","v":-0.93413664939802077},{"$f":"+Spectre!C679*N680/L680","v":1.6390282745446867},1.6760212349168677]
[4479,0.44790000000000002,4.9846867929377545,1.0235547507652289,0.22408712042274376,0.99800851156797343,2.1643869838764616E-3,0.18433329549796149,0.41058480290458171,0.46946072228739849,0.68511910588446967,0.64896732983102579,0.84329803425217553,0.63372195131471165,0.83543273974499743,-0.93268265639359083,{"$f":"+Spectre!C680*N681/L681","v":1.6493541880111908},1.6865802048312719]
[4480,0.44800000000000001,4.982461734693878,1.0235411131135723,0.22388412658712822,0.99800552507697848,2.1676360005054764E-3,0.18427980771664607,0.4103315703042798,0.46967971874759723,0.68527891885384429,0.64914041344499329,0.8435229470709118,0.63390026287058865,0.8356678070506911,-0.93123015176970192,{"$f":"+Spectre!C681*N682/L682","v":1.6580471891356057},1.6954694074801542]
[4481,0.4481,4.9802381659456199,1.0235274851679934,0.22368136329837363,0.99800253411184248,2.1708898943165614E-3,0.18422634738852808,0.41007860058121826,0.46989858987017979,0.68543860314402794,0.64931336347388213,0.8437476863030452,0.63407843941748043,0.8359026963746593,-0.92977913370754228,{"$f":"+Spectre!C682*N683/L683","v":1.6551456958274768},1.6925024273048157]
[4482,0.44819999999999999,4.9780160853638158,1.023513866919133,0.22347883024128978,0.99799953866587632,2.1741486726306854E-3,0.18417291449339535,0.40982589340731579,0.47011733566881764,0.68559815885487119,0.64948618001072567,0.84397225206946724,0.63425648104453058,0.83613740783441948,-0.9283296003910424,{"$f":"+Spectre!C683*N684/L684","v":1.6514225722518361},1.6886952726206008]
[4483,0.44829999999999998,4.9757954916207856,1.023500258357644,0.22327652710119092,0.99799653873238048,2.1774123427803259E-3,0.18411950901105439,0.40957344845502563,0.47033595615730467,0.68575758608614867,0.64965886314850652,0.84419664449100407,0.63443438784084305,0.8363719415474371,-0.92688155000719696,{"$f":"+Spectre!C684*N685/L685","v":1.6512536504934165},1.6885225382885898]
[4484,0.44840000000000002,4.9735763833903235,1.0234866594741907,0.22307445356389441,0.99799353430464577,2.1806809121086221E-3,0.18406613092133184,0.40932126539733488,0.47055445134955537,0.68591688493755854,0.64983141298015623,0.84442086368841518,0.63461215989548281,0.83660629763112593,-0.92543498074589836,{"$f":"+Spectre!C685*N686/L686","v":1.6543883472376253},1.6917279853146809]
[4485,0.44850000000000001,4.9713587593477078,1.0234730702594481,0.22287260931572048,0.9979905253759529,2.1839543879698582E-3,0.18401278020407286,0.40906934390776317,0.4707728212596059,0.68607605550872197,0.65000382959855474,0.84464490978239304,0.6347897972974762,0.83684047620284918,-0.92398989079973681,{"$f":"+Spectre!C686*N687/L687","v":1.6574569082695052},1.6948658039416951]
[4486,0.4486,4.9691426181696903,1.023459490704103,0.22267099404349069,0.99798751193957247,2.1872327777294658E-3,0.1839594568391428,0.40881768366036297,0.47099106590161149,0.68623509789918335,0.65017611309653012,0.84486878289356271,0.63496730013580882,0.83707447737991603,-0.92254627836434455,{"$f":"+Spectre!C687*N688/L688","v":1.6626872098160415},1.7002141536884061]
[4487,0.44869999999999999,4.9669279585344972,1.0234459207988542,0.22246960743452746,0.99798449398876521,2.190516088763781E-3,0.18390616080642541,0.40856628432971664,0.47120918528984834,0.68639401220841101,0.65034826356685949,0.84509248314248298,0.63514466849942741,0.83730830127958455,-0.92110414163818488,{"$f":"+Spectre!C688*N689/L689","v":1.6682780649564668},1.705931194743906]
[4488,0.44879999999999998,4.9647147791218265,1.0234323605344113,0.22226844917665287,0.99798147151678185,2.1938043284601655E-3,0.18385289208582434,0.4083151455909374,0.47142717943871126,0.68655279853579543,0.65052028110226745,0.84531601064964457,0.63532190247723874,0.83754194801906023,-0.91966347882252997,{"$f":"+Spectre!C689*N690/L690","v":1.6691698029775857},1.7068430593423329]
[4489,0.44890000000000002,4.9625030786128459,1.0234188099014951,0.22206751895818763,0.99797844451686302,2.1970975042171301E-3,0.18379965065726203,0.40806426711966681,0.47164504836271487,0.6867114569806515,0.65069216579542766,0.84553936553547182,0.63549900215810973,0.8377754177154958,-0.91822428812160517,{"$f":"+Spectre!C690*N691/L691","v":1.6671715084934098},1.7047996632392202]
[4490,0.44900000000000001,4.9602928556901995,1.0234052688908377,0.22186681646795114,0.99797541298223913,2.2003956234444544E-3,0.18374643650068104,0.40781364859207664,0.47186279207649051,0.6868699876422153,0.65086391773896002,0.84576254792031946,0.63567596763086598,0.83800871048598968,-0.91678656774244471,{"$f":"+Spectre!C691*N692/L692","v":1.6660343847843408},1.7036368745840602]
[4491,0.4491,4.958084109037987,1.0233917374931836,0.22166634139525915,0.99797237690613061,2.2036986935629454E-3,0.18369324959604189,0.40756328968486399,0.47208041059478856,0.68702839061964727,0.65103553702543349,0.84598555792447561,0.63585279898429381,0.83824182644758849,-0.91535031589492499,{"$f":"+Spectre!C692*N693/L693","v":1.6702225077778539},1.7079195237491709]
[4492,0.44919999999999999,4.9558768373417799,1.0233782156992872,0.22146609342992379,0.997969336281748,2.2070067220043179E-3,0.18364008992332514,0.40731319007525324,0.47229790393247706,0.68718666601203027,0.65120702374736394,0.84620839566815975,0.63602949630713868,0.83847476571728508,-0.91391553079170906,{"$f":"+Spectre!C693*N694/L694","v":1.6746505550221182},1.7124475122688709]
[4493,0.44929999999999998,4.9536710392886052,1.0233647034999147,0.22126607226225184,0.9979662911022914,2.2103197162117987E-3,0.18358695746253045,0.40706334944099409,0.47251527210454064,0.6873448139183701,0.65137837799721554,0.84643106127152423,0.63620605968810529,0.83870752841201823,-0.91248221064850199,{"$f":"+Spectre!C694*N695/L695","v":1.6765137267123282},1.7143527358489554]
[4494,0.44940000000000002,4.9514667135669583,1.0233512008858445,0.2210662775830454,0.99796324136095094,2.2136376836396445E-3,0.1835338521936761,0.40681376746036113,0.47273251512608017,0.68750283443759497,0.6515495998673988,0.84665355485465132,0.63638248921585738,0.83894011464867302,-0.91105035368362897,{"$f":"+Spectre!C695*N696/L696","v":1.6769283957557997},1.7147767639960685]
[4495,0.44950000000000001,4.9492638588667912,1.0233377078478647,0.22086670908359926,0.99796018705090672,2.216960631753142E-3,0.18348077409679986,0.40656444381215229,0.47294963301231308,0.68766072766855613,0.65172068945027206,0.84687587653755569,0.63655878497901752,0.83917252454408031,-0.90961995811835727,{"$f":"+Spectre!C696*N697/L697","v":1.6767428862114169},1.7145870674908317]
[4496,0.4496,4.9470624738795106,1.0233242243767755,0.2206673664557009,0.99795712816532856,2.2202885680289697E-3,0.18342772315195888,0.40631537817568875,0.47316662577857188,0.68781849371002712,0.65189164683814049,0.84709802644018317,0.63673494706616729,0.83940475821501659,-0.90819102217679637,{"$f":"+Spectre!C697*N698/L698","v":1.674002344716276},1.7117846718199559]
[4497,0.44969999999999999,4.9448625572979781,1.0233107504633887,0.22046824939162935,0.99795406469737613,2.2236214999549592E-3,0.18337469933922868,0.40606657023081294,0.47338349344030489,0.68797613266070423,0.6520624721232563,0.84732000468241031,0.63691097556584686,0.83963681577820404,-0.90676354408580906,{"$f":"+Spectre!C698*N699/L699","v":1.6711397868402975},1.7088575058516622]
[4498,0.44979999999999998,4.9426641078165074,1.0232972860985263,0.22026935758415409,0.99795099664019882,2.2269594350303357E-3,0.18332170263870437,0.40581801965788877,0.47360023601307444,0.68813364461920612,0.65223316539781839,0.84754181138404461,0.63708687056655466,0.83986869735030978,-0.90533752207511142,{"$f":"+Spectre!C699*N700/L700","v":1.6674721775284964},1.7051071183913451]
[4499,0.44990000000000002,4.9404671241308673,1.0232838312730221,0.22007069072653487,0.99794792398693588,2.230302380765476E-3,0.18326873303049973,0.40556972613780007,0.47381685351255731,0.68829102968407385,0.65240372675397229,0.84776344666482439,0.63726263215674739,0.84010040304794587,-0.90391295437726171,{"$f":"+Spectre!C700*N701/L701","v":1.6632308091903225},1.700770022131149]
[4500,0.45,4.9382716049382722,1.0232703859777215,0.21987224851252019,0.99794484673071659,2.2336503446817916E-3,0.18321579049474812,0.40532168935195012,0.47403334595454355,0.68844828795377078,0.65257415628380977,0.84798491064441772,0.63743826042483975,0.84033193298766884,-0.90248983922757153,{"$f":"+Spectre!C701*N702/L702","v":1.6622632995565489},1.6997806757505067]
[4501,0.4501,4.9360775489373827,1.0232569502034801,0.21967403063634616,0.99794176486465969,2.2370033343123287E-3,0.18316287501160122,0.4050739089822597,0.47424971335493749,0.68860541952668264,0.65274445407936987,0.84820620344242459,0.63761375545920473,0.84056328728598062,-0.90106817486425017,{"$f":"+Spectre!C702*N703/L703","v":1.672883305782171},1.7106403761141484]
[4502,0.45019999999999999,4.9338849548283106,1.023243523941165,0.21947603679273681,0.99793867838187378,2.2403613572012896E-3,0.18310998656122968,0.40482638471116777,0.4744659557297552,0.68876242450111735,0.65291462023263691,0.84842732517837338,0.6377891173481729,0.84079446605932684,-0.89964795952816035,{"$f":"+Spectre!C703*N704/L704","v":1.684091028050692},1.7221010573048434]
[4503,0.45029999999999998,4.9316938213126011,1.0232301071816552,0.2192782666769014,0.99793558727545706,2.2437244209043928E-3,0.18305712512382377,0.40457911622162956,0.47468207309512567,0.68891930297530479,0.65308465483554179,0.84864827597172365,0.63796434618003217,0.84102546942409717,-0.89822919146311797,{"$f":"+Spectre!C704*N705/L705","v":1.6824616524421647},1.7204349065971591]
[4504,0.45040000000000002,4.9295041470932492,1.0232166999158396,0.21908071998453538,0.99793249153849783,2.2470925329882716E-3,0.18300429067959198,0.40433210319711566,0.47489806546728963,0.68907605504739722,0.65325455797996113,0.8488690559418639,0.63813944204302842,0.84125629749662567,-0.89681186891557019,{"$f":"+Spectre!C705*N706/L706","v":1.6730411284984648},1.7108017608980284]
[4505,0.45050000000000001,4.9273159308746841,1.023203302134619,0.21888339641181803,0.99792939116407375,2.2504657010313177E-3,0.18295148320876209,0.40408534532161144,0.47511393286259929,0.68923268081546873,0.65342432975771791,0.84908966520811324,0.63831440502536452,0.84148695039318977,-0.89539599013491733,{"$f":"+Spectre!C706*N707/L707","v":1.6656985949873508},{"$f":"+Q707/R$1","v":1.7032935059924599}]
[4506,0.4506,4.9251291713627774,1.0231899138289049,0.21868629565541273,0.99792628614525236,2.2538439326230814E-3,0.18289870269158057,0.40383884227961642,0.47532967529751757,0.68938918037751507,0.65359397026058019,0.84931010388971917,0.63848923521520029,0.84171742823001028,-0.89398155337320206,{"$f":"+Spectre!C707*N708/L708","v":1.6651540823210258},1.7027367036446202]
[4507,0.45069999999999999,4.9229438672648307,1.02317653498962,0.21848941741246511,0.99792317647509066,2.2572272353647517E-3,0.18284594910831273,0.40359259375614259,0.47554529278861812,0.68954555383145455,0.65376347958026204,0.84953037210585935,0.63866393270065269,0.84194773112325116,-0.89256855688537584,{"$f":"+Spectre!C708*N709/L709","v":1.6645275323505511},1.7020960124060607]
[4508,0.45079999999999998,4.9207600172895827,1.023163165607698,0.2182927613806028,0.99792006214663564,2.2606156168685542E-3,0.18279322243924259,0.40334659943671392,0.47576078535258509,0.6897018012751267,0.65393285780842303,0.84975046997564041,0.63883849756979572,0.84217785918902011,-0.89115699892903244,{"$f":"+Spectre!C709*N710/L710","v":1.6633184266047207},1.7008596170755197]
[4509,0.45090000000000002,4.9185776201472011,1.023149805674084,0.21809632725793424,0.99791694315292367,2.2640090847584767E-3,0.18274052266467339,0.40310085900736614,0.4759761530062111,0.68985792280629321,0.65410210503666755,0.84997039761809723,0.63901292991065961,0.84240781254336694,-0.88974687776458561,{"$f":"+Spectre!C710*N711/L711","v":1.6617636427223432},1.699269741633441]
[4510,0.45100000000000001,4.9163966745492891,1.0231364551797333,0.21790011474304824,0.99791381948698077,2.2674076466699081E-3,0.18268784976492664,0.40285537215464479,0.47619139576639891,0.69001391852263716,0.6542712213565457,0.8501901551521942,0.63918722981123122,0.84263759130228444,-0.88833819165522465,{"$f":"+Spectre!C711*N712/L712","v":1.6600726436540103},1.6975405766209961]
[4511,0.4511,4.9142171792088716,1.023123114115613,0.21770412353501237,0.99791069114182285,2.2708113102493949E-3,0.182635203720343,0.40261013856560479,0.47640651365015957,0.69016978852176347,0.6544402068595524,0.85040974269682423,0.63936139735945385,0.84286719558170764,-0.88693093886690333,{"$f":"+Spectre!C712*N713/L713","v":1.6576965675261037},1.6951108723211989]
[4512,0.45119999999999999,4.9120391328404009,1.0231097824727007,0.21750835333337259,0.99790755811045517,2.2742200831552492E-3,0.18258258451128184,0.40236515792780969,0.47662150667461245,0.69032553290119858,0.65460906163712762,0.85062916037080838,0.63953543264322676,0.84309662549751385,-0.88552511766830655,{"$f":"+Spectre!C713*N714/L714","v":1.6558601676811258},1.6932330248283995]
[4513,0.45129999999999998,4.9098625341597559,1.0230964602419852,0.21731280383815252,0.99790442038587257,2.2776339730573034E-3,0.18252999211812085,0.40212042992933067,0.47683637485698466,0.69048115175839031,0.65477778578065604,0.85084840829289632,0.63970933575040545,0.84332588116552265,-0.88412072633085037,{"$f":"+Spectre!C714*N715/L715","v":1.647062883397441},1.6842371853434754]
[4514,0.45140000000000002,4.9076873818842328,1.0230831474144664,0.21711747474985188,0.99790127796105954,2.281052987636794E-3,0.18247742652125676,0.40187595425874545,0.47705111821461083,0.69063664519070844,0.65494637938146727,0.8510674865817659,0.63988310676880111,0.84355496270149499,-0.88271776312878192,{"$f":"+Spectre!C715*N716/L716","v":1.635905371076712},1.6728278473419187]
[4515,0.45150000000000001,4.9055136747325578,1.0230698439811545,0.21692236576944685,0.99789813082899015,2.2844771345864809E-3,0.18242488770110502,0.40163173060513835,0.47726573676493189,0.69079201329544326,0.65511484253083496,0.85128639535602213,0.64005674578618044,0.84378387022113333,-0.88131622633897955,{"$f":"+Spectre!C716*N717/L717","v":1.6284140630406341},1.6651674600619875]
[4516,0.4516,4.9033414114248641,1.0230565499330713,0.21672747659838756,0.99789497898262813,2.2879064216105257E-3,0.18237237563809935,0.40138775865809745,0.4774802305254966,0.69094725616980757,0.65528317531997793,0.8515051347341992,0.64023025289026636,0.84401260384008248,-0.87991611424110827,{"$f":"+Spectre!C717*N718/L718","v":1.6324757502191607},1.6693208197486538]
[4517,0.45169999999999999,4.9011705906827085,1.0230432652612489,0.21653280693859867,0.99789182241492635,2.2913408564251003E-3,0.18231989031269252,0.40114403810771626,0.47769459951395798,0.6911023739109341,0.65545137784005858,0.85172370483475757,0.64040362816873642,0.84424116367392732,-0.87851742511756425,{"$f":"+Spectre!C718*N719/L719","v":1.6367292602183947},1.6736703317078834]
[4518,0.45179999999999998,4.8990012112290593,1.023029989956731,0.2163383564924776,0.99788866111882746,2.2947804467576588E-3,0.18226743170535578,0.400900568644591,0.47790884374807557,0.69125736661587789,0.65561945018218382,0.85194210577608587,0.64057687170922362,0.84446954983819389,-0.87712015725349701,{"$f":"+Spectre!C719*N720/L720","v":1.6320669790475777},1.6689028225887297]
[4519,0.45190000000000002,4.8968332717882994,1.0230167240105714,0.21614412496289417,0.99788549508726376,2.2982252003470611E-3,0.18221499979657879,0.40065734995982005,0.47812296324571396,0.69141223438161481,0.6557873924374048,0.85216033767650001,0.64074998359931623,0.84469776244834971,-0.87572430893670949,{"$f":"+Spectre!C720*N721/L721","v":1.6240592966276211},1.6607144063260231]
[4520,0.45200000000000001,4.8946667710862242,1.0230034674138355,0.21595011205318981,0.99788232431315671,2.3016751249441761E-3,0.18216259456686978,0.40041438174500377,0.47833695802484244,0.69156697730504157,0.65595520469671642,0.85237840065424308,0.64092296392655757,0.84492580161980235,-0.87432987845779131,{"$f":"+Spectre!C721*N722/L722","v":1.6197473052472429},1.6563050930575867]
[4521,0.4521,4.8925017078500348,1.0229902201575989,0.21575631746717608,0.99787914878941741,2.305130228311279E-3,0.18211021599675592,0.40017166369224327,0.478550828103534,0.69172159548297629,0.65612288705105715,0.85259629482748456,0.64109581277844474,0.84515366746789922,-0.87293686411002991,{"$f":"+Spectre!C722*N723/L723","v":1.6240655943350426},1.6607208461730554]
[4522,0.45219999999999999,4.8903380808083377,1.0229769822329482,0.21556274090913402,0.99787596850894633,2.3085905182224143E-3,0.18205786406678226,0.39992919549413869,0.47876457349996643,0.69187608901215802,0.65629043959130973,0.85281402031432185,0.64126853024243125,0.84538136010792952,-0.87154526418935507,{"$f":"+Spectre!C723*N724/L724","v":1.6284947073094389},1.6652499244764765]
[4523,0.45229999999999998,4.8881758886911522,1.022963753630981,0.21536938208381423,0.99787278346463348,2.3120560024631549E-3,0.18200553875751285,0.39968697684379023,0.47897819423241972,0.69203045798924645,0.65645786240829973,0.85303157723277789,0.64144111640592338,0.84560887965512088,-0.87015507699447214,{"$f":"+Spectre!C724*N725/L725","v":1.6277683195460189},1.6645071421003677]
[4524,0.45240000000000002,4.8860151302298931,1.0229505343428058,0.21517624069643457,0.99786959364935823,2.3155266888308427E-3,0.18195324004953028,0.39944500743479572,0.47919169031927716,0.69218470251082231,0.65662515559279688,0.85324896570080289,0.64161357135628239,0.84583622622464105,-0.8687663008268065,{"$f":"+Spectre!C725*N726/L726","v":1.6248291455297119},1.6615016307611477]
[4525,0.45250000000000001,4.883855804157383,1.022937324359541,0.21498331645268023,0.99786639905598928,2.3190025851345915E-3,0.18190096792343485,0.39920328696124968,0.47940506177902531,0.69233882267338764,0.65679231923551396,0.85346618583627321,0.64178589518082418,0.84606339993159818,-0.86737893399038146,{"$f":"+Spectre!C726*N727/L727","v":1.6246770469322003},1.6613460992897326]
[4526,0.4526,4.8816979092078379,1.0229241236723172,0.21479060905870268,0.9978631996773849,2.3224836991950441E-3,0.18184872235984628,0.39896181511774398,0.47961830863025151,0.69249281857336464,0.65695935342710643,0.85368323775699084,0.64195808796681775,0.84629040089103869,-0.86599297479197368,{"$f":"+Spectre!C727*N728/L728","v":1.6309681643502412},1.6677792075818523]
[4527,0.45269999999999999,4.8795414441168807,1.0229109322722743,0.21459811822111904,0.99785999550639237,2.3259700388449781E-3,0.18179650333940203,0.39872059159936601,0.47983143089164493,0.69264669030709591,0.65712625825817361,0.85390012158068473,0.64213014980148631,0.84651722921794836,-0.86460842154111317,{"$f":"+Spectre!C728*N729/L729","v":1.6371364748582573},1.6740867372050785]
[4528,0.45279999999999998,4.8773864076215219,1.0228977501505636,0.21440584364701054,0.99785678653584886,2.3294616119283393E-3,0.18174431084275805,0.39847961610169691,0.4800444285819967,0.69280043797084589,0.65729303381925763,0.85411683742500943,0.64230208077200734,0.84674388502725317,-0.86322527254986126,{"$f":"+Spectre!C729*N730/L730","v":1.6400930302416004},1.6771100222097666]
[4529,0.45290000000000002,4.8752327984601678,1.0228845772983475,0.21421378504392227,0.99785357275858044,2.3329584263013297E-3,0.18169214485058871,0.39823888832081233,0.48025730172019798,0.69295406166079865,0.65745968020084322,0.85433338540754489,0.64247388096551128,0.84697036843381646,-0.86184352613307702,{"$f":"+Spectre!C730*N731/L731","v":1.6418168929497003},1.6788727925961771]
[4530,0.45300000000000001,4.8730806153726185,1.0228714137067982,0.2140219421198622,0.99785035416740264,2.3364604898318043E-3,0.18164000534358696,0.39799840795328095,0.48047005032524048,0.69310756147305919,0.65762619749335793,0.85454976564579699,0.64264555046908234,0.84719667955244116,-0.86046318060820637,{"$f":"+Spectre!C731*N732/L732","v":1.6422318162952148},1.6792970807849443]
[4531,0.4531,4.8709298571000685,1.0228582593670992,0.21383031458330073,0.99784713075512033,2.3399678103993918E-3,0.18158789230246389,0.39775817469616404,0.48068267441621521,0.69326093750365259,0.65779258578717159,0.85476597825719636,0.64281708936975723,0.84742281849786716,-0.85908423429549297,{"$f":"+Spectre!C732*N733/L733","v":1.6389263362300752},1.6759169958487603]
[4532,0.45319999999999999,4.8687805223850944,1.0228451142704447,0.21363890214316897,0.9978439025145277,2.3434803958954954E-3,0.18153580570794858,0.39751818824701302,0.4808951740123133,0.6934141898485251,0.65795884517259728,0.85498202335910001,0.64298849775452716,0.84764878538477484,-0.85770668551765628,{"$f":"+Spectre!C733*N734/L734","v":1.6358116600409074},1.6727320212427637]
[4533,0.45329999999999998,4.8666326099716617,1.0228319784080389,0.21344770450885839,0.9978406694384081,2.3469982542235366E-3,0.181483745540789,0.39727844830387093,0.48110754913282416,0.6935673186035427,0.65812497573988959,0.85519790106878879,0.643159775710335,0.8478745803277804,-0.85633053260023573,{"$f":"+Spectre!C734*N735/L735","v":1.6326336120499918},1.6694822445298885]
[4534,0.45340000000000003,4.8644861186051216,1.0228188517710972,0.21325672139022023,0.9978374315195343,2.3505213932985903E-3,0.18143171178175085,0.39703895456526966,0.48131979979713679,0.69372032386449234,0.65829097757924626,0.85541361150346995,0.64333092332407749,0.84810020344143944,-0.85495577387136867,{"$f":"+Spectre!C735*N736/L736","v":1.6294285834960729},1.6662048783011849]
[4535,0.45350000000000001,4.8623410470322082,1.0228057343508457,0.2130659524975643,0.99783418875066821,2.3540498210477506E-3,0.18137970441161821,0.39679970673023024,0.48153192602473743,0.69387320572708078,0.65845685078080662,0.85562915478027468,0.64350194068260347,0.84832565484024436,-0.8535824076618681,{"$f":"+Spectre!C736*N737/L737","v":1.6271564708324366},1.6638814839268958]
[4536,0.4536,4.8601973940010375,1.0227926261385205,0.21287539754165838,0.99783094112456094,2.3575835454100083E-3,0.1813277234111936,0.39656070449826197,0.48174392783521014,0.69402596428693497,0.65862259543465196,0.85584453101625868,0.64367282787271451,0.84855093463862541,-0.85221043230511162,{"$f":"+Spectre!C737*N738/L738","v":1.6273953651866744},1.6641257701401495]
[4537,0.45369999999999999,4.8580551582611067,1.022779527125369,0.21268505623372738,0.99782768863395288,2.3611225743362537E-3,0.18127576876129756,0.39632194756936123,0.48195580524823567,0.69417859963960205,0.65878821163080536,0.85605974032840204,0.64384358498116423,0.84877604295094933,-0.85083984613720798,{"$f":"+Spectre!C738*N739/L739","v":1.6275116931903191},1.6642447236733813]
[4538,0.45379999999999998,4.8559143385632835,1.0227664373026488,0.21249492828545188,0.99782443127157361,2.3646669157892757E-3,0.18122384044276868,0.39608343564400983,0.48216755828359331,0.69433111188054997,0.65895369945923254,0.85627478283361047,0.64401421209465937,0.84900097989152123,-0.84947064749688606,{"$f":"+Spectre!C739*N740/L740","v":1.6258070774531599},1.6625016346631287]
[4539,0.45390000000000003,4.8537749336598166,1.0227533566616278,0.21230501340896815,0.99782116903014184,2.3682165777438825E-3,0.18117193843646404,0.39584516842317607,0.48237918696115711,0.6944835011051661,0.65911905900984014,0.85648965864871285,0.64418470929985805,0.84922574557458219,-0.84810283472551706,{"$f":"+Spectre!C740*N741/L741","v":1.6237463907309868},1.6603944381256968]
[4540,0.45400000000000001,4.8516369423043324,1.0227402851935847,0.21211531131686739,0.99781790190236552,2.371771568186784E-3,0.18112006272325848,0.39560714560831267,0.48259069130089766,0.69463576740875788,0.65928429037247649,0.856704367890462,0.64435507668337089,0.84945034011431064,-0.84673640616699242,{"$f":"+Spectre!C741*N742/L742","v":1.6216222139721788},1.6582223185779312]
[4541,0.4541,4.8495003632518241,1.022727222889809,0.21192582172219415,0.99781462988094172,2.3753318951167113E-3,0.18106821328404518,0.39536936690135605,0.48280207132288105,0.69478791088655267,0.65944939363693122,0.85691891067553494,0.64452531433175941,0.8496747636248202,-0.8453713601680235,{"$f":"+Spectre!C742*N743/L743","v":1.6195062017158499},1.6560585478059251]
[4542,{"$f":"+A744/10000","v":0.45419999999999999},{"$f":"+(1/B744)^2","v":4.8473651952586563},{"$f":"0.23465+1.076*100/(146-C744)+0.93161/(41-C744)","v":1.0227141697416005},{"$f":"9.4977*0.001*C744^2*D744*EXP(-h/7.996/1000)","v":0.21173654433844585},{"$f":"+EXP(-0.0168*EXP(-15*ABS(B744-0.59)))","v":0.99781135295855672},{"$f":"-2.5*LOG(F744)","v":2.3788975665442955E-3},{"$f":"2.5*LOG(EXP(AOD*(B744/0.55)^(-1.3)))","v":0.18101639009973527},{"$f":"+E744+G744+H744","v":0.39513183200472546},{"$f":"10^(-0.4*I744*ma)","v":0.4830133270472689},{"$f":"10^(-0.4*I744)","v":0.69493993163369849},{"$f":"10^(-0.4*I744*ma_ref)","v":0.6596143688929359},{"$f":"+L744/M$1","v":0.85713328712053294},{"$f":"10^(-0.4*I744*ma_target)","v":0.64469542233153831},{"$f":"+N744/O$1","v":0.84989901622016262},{"$f":"(O744/M744-1)*100","v":-0.84400769507776419},{"$f":"+Spectre!C743*N744/L744","v":1.6174230935004617},1.6539284237209146]
[4543,0.45429999999999998,4.8452314370825622,1.0227011257402689,0.21154747887957201,0.99780807112788561,2.382468590492555E-3,0.18096459315125799,0.39489454062132257,0.48322445849431683,0.69509182974526229,0.65977921623016289,0.85734749734198035,0.64486540076917276,0.85012309801432473,-0.8426454092480884,{"$f":"+Spectre!C744*N745/L745","v":1.6204167469775443},1.6569896441254053]
[4544,0.45440000000000003,4.8430990874826421,1.0226880908771354,0.21135862505997352,0.99780478438159304,2.3860449749960461E-3,0.18091282241956091,0.39465749245453047,0.48343546568437507,0.69524360531623164,0.65994393573822563,0.85756154145632502,0.64503524973107951,0.85034700912122929,-0.84128450103346797,{"$f":"+Spectre!C745*N746/L746","v":1.625060630039457},1.6617383398893015]
[4545,0.45450000000000002,4.8409681452193629,1.0226750651435308,0.21116998259450187,0.99780149271233232,2.3896267281018338E-3,0.18086107788560912,0.39442068720821283,0.48364634863788769,0.69539525844151306,0.66010852750667859,0.85777541957993808,0.6452049693036267,0.850570749654735,-0.83992496879092826,{"$f":"+Spectre!C746*N747/L747","v":1.623860124147221},1.6605107385115343]
[4546,0.4546,4.8388386090545499,1.0226620485307969,0.21098155119845768,0.99779819611274612,2.3932138578687647E-3,0.18080935953038618,0.39418412458671259,0.48385710737539245,0.69554678921593371,0.6602729916250174,0.8579891318291144,0.64537455957313394,0.85079431972863673,-0.83856681088014806,{"$f":"+Spectre!C747*N748/L748","v":1.6130875716952422},1.6494950489446245]
[4547,0.45469999999999999,4.8367104777513967,1.0226490410302855,0.21079333058759106,0.99779489457546611,2.3968063723678319E-3,0.18075766733489329,0.39394780429485221,0.4840677419175195,0.6956981977342398,0.66043732818267809,0.85820267832007124,0.64554402062587135,0.85101771945666371,-0.83721002566340408,{"$f":"+Spectre!C748*N749/L749","v":1.6028558703235387},1.6390324174973012]
[4548,0.45479999999999998,4.8345837500744526,1.0226360426333594,0.21060532047809988,0.99779158809311286,2.4004042796822965E-3,0.18070600128014966,0.39371172603793181,0.48427825228499211,0.69584948409109737,0.66060153726903759,0.85841605916894903,0.64571335254806028,0.85124094895248148,-0.83585461150551543,{"$f":"+Spectre!C749*N750/L750","v":1.6011372273732283},1.6372749846789074]
[4549,0.45490000000000003,4.8324584247896221,1.0226230533313909,0.21041752058662874,0.99778827665829617,2.4040075879073236E-3,0.18065436134719254,0.39347588952172863,0.48448863849862583,0.69600064838109255,0.66076561897341379,0.85862927449181159,0.64588255542587281,0.85146400832969005,-0.83450056677398798,{"$f":"+Spectre!C750*N751/L751","v":1.6019223782895811},1.6380778564956167]
[4550,0.45500000000000002,4.8303345006641702,1.0226100731157639,0.21022993063026937,0.99778496026361463,2.4076163051504683E-3,0.18060274751707733,0.3932402944524972,0.48469890057932735,0.69615169069873006,0.6609295733850642,0.85884232440464425,0.64605162934543114,0.85168689770182393,-0.8331478898388589,{"$f":"+Spectre!C751*N752/L752","v":1.6006341942966067},1.6367605981174445]
[4551,0.4551,4.8282119764667151,1.0225971019778715,0.21004255032655869,0.99778163890165594,2.4112304395313136E-3,0.18055115977087677,0.39300494053696677,0.48490903854809547,0.69630261113843495,0.66109340059318722,0.85905520902335564,0.64622057439280856,0.85190961718235336,-0.83179657907271887,{"$f":"+Spectre!C752*N753/L753","v":1.5957081487118256},1.6317233714066637]
[4552,0.45519999999999999,4.8260908509672253,1.0225841399091173,0.20985537939347834,0.99777831256499672,2.4148499991817115E-3,0.18049959808968202,0.39276982748234207,0.48511905242601905,0.69645340979455139,0.66125710068692134,0.8592679284637762,0.64638939065402834,0.85213216688468219,-0.83044663285076759,{"$f":"+Spectre!C753*N754/L754","v":1.591120377812222},1.627032054259737]
[4553,0.45529999999999998,4.8239711229370235,1.0225711869009164,0.20966841754945439,0.99777498124620267,2.4184749922455434E-3,0.18044806245460193,0.39253495499630187,0.48532894223427797,0.69660408676134267,0.6614206737553453,0.85948048284165901,0.64655807821506395,0.85235454692214896,-0.82909804955080268,{"$f":"+Spectre!C754*N755/L755","v":1.5918996567257411},1.6278289215421782]
[4554,0.45540000000000003,4.8218527911487739,1.0225582429446927,0.20948166451335526,0.99777164493782822,2.422105426879202E-3,0.18039655284676273,0.39230032278699722,0.48553870799414289,0.69675464213299254,0.66158411988747801,0.85969287227267943,0.64672663716183942,0.85257675740802696,-0.827750827553142,{"$f":"+Spectre!C755*N756/L756","v":1.5938471233198821},1.6298203425669182]
[4555,0.45550000000000002,4.8197358543764999,1.0225453080318814,0.20929512000449282,0.99776830363241686,2.4257413112511112E-3,0.18034506924730906,0.392065930563053,0.48574834972697273,0.69690507600360285,0.66174743917227785,0.85990509687243399,0.64689506758022797,0.85279879845552231,-0.82640496524070128,{"$f":"+Spectre!C756*N757/L757","v":1.5969626829458821},1.6330062205489659]
[4556,0.4556,4.8176203113955598,1.0225323821539276,0.20910878374261982,0.99776495732250103,2.4293826535419665E-3,0.18029361163740348,0.39183177803356528,0.48595786745421621,0.69705538846719495,0.66191063169864317,0.86011715675644129,0.6470633695560527,0.85302067017777539,-0.82506046099897201,{"$f":"+Spectre!C757*N758/L758","v":1.602243245698836},1.6384059659003514]
[4557,0.45569999999999999,4.8155061609826602,1.0225194653022869,0.20892265544792996,0.99776160600060204,2.4330294619447357E-3,0.18024217999822562,0.39159786490810033,0.4861672611974116,0.69720557961771001,0.66207369755541223,0.86032905204014198,0.64723154317508691,0.85324237268786052,-0.82371731321596586,{"$f":"+Spectre!C758*N759/L759","v":1.6075044465962018},1.6437859123979786]
[4558,0.45579999999999998,4.8133934019158469,1.0225065574684247,0.20873673484105681,0.99775824965922988,2.4366817446649022E-3,0.18019077431097313,0.39136419089669483,0.48637653097818501,0.69735564954900819,0.66223663683136313,0.86054078283889823,0.64739958852305335,0.85346390609878586,-0.82237552028225913,{"$f":"+Spectre!C759*N760/L760","v":1.6089581040652046},1.645272378997843]
[4559,0.45590000000000003,4.8112820329745052,1.0224936586438169,0.20855102164307315,0.99775488829088366,2.4403395099199822E-3,0.18013939455686195,0.39113075570985512,0.48658567681825066,0.69750559835486858,0.6623994496152128,0.86075234926799304,0.64756750568562382,0.85368527052349208,-0.82103508059094832,{"$f":"+Spectre!C760*N761/L761","v":1.6102162373979267},1.6465589084706704]
[4560,0.45600000000000002,4.8091720529393651,1.0224807688199502,0.20836551557549057,0.99775152188805116,2.4440027659400065E-3,0.180088040717125,0.39089755905855561,0.48679469873941039,0.69765542612898945,0.66256213599561797,0.86096375144263104,0.64773529474841929,0.85390646607485277,-0.81969599253779446,{"$f":"+Spectre!C761*N762/L762","v":1.6081527017101516},1.6444487986663225]
[4561,0.45610000000000001,4.8070634605924871,1.0224678879883204,0.20818021636025794,0.99774815044320897,2.447671520967404E-3,0.18003671277301336,0.39066460065423869,0.48700359676355293,0.69780513296498781,0.66272469606117446,0.86117498947793769,0.64790295579701018,0.85412749286567524,-0.81835825452093447,{"$f":"+Spectre!C762*N763/L763","v":1.6012615858306813},1.6374021499137419]
[4562,0.45619999999999999,4.8049562547172657,1.0224550161404349,0.20799512371976092,0.99774477394882277,2.4513457832566359E-3,0.17998541070579546,0.39043188020881303,0.48721237091265462,0.69795471895640049,0.66288712990041765,0.86138606348895985,0.6480704889169161,0.85434835100869944,-0.81702186494112539,{"$f":"+Spectre!C763*N764/L764","v":1.5946512832309898},1.6306426524124635]
[4563,0.45629999999999998,4.8028504340984322,1.0224421532678099,0.20781023737682128,0.99774139239734672,2.4550255610749239E-3,0.17993413449675766,0.39019939743465387,0.48742102120877773,0.69810418419668263,0.66304943760182167,0.86159697359066512,0.64823789419360489,0.85456904061659722,-0.81568682220172217,{"$f":"+Spectre!C764*N765/L765","v":1.5932305025810753},1.629189804663344]
[4564,0.45639999999999997,4.8007459975220481,1.0224292993619721,0.20762555705469615,0.99773800578122385,2.4587108627017675E-3,0.17988288412720363,0.38996715204460153,0.48762954767407063,0.69825352877920877,0.66321161925379979,0.86180771989794147,0.64840517171249401,0.85478956180197418,-0.81435312470842236,{"$f":"+Spectre!C765*N766/L766","v":1.5927476100052793},1.6286960131749435]
[4565,0.45650000000000002,4.7986429437755005,1.0224164544144589,0.20744108247707677,0.997734614092886,2.4624016964290641E-3,0.1798316595784549,0.38973514375196072,0.48783795033076743,0.69840275279727204,0.66337367494470445,0.8620183025255983,0.64857232155894906,0.8550099146773672,-0.81302077086965463,{"$f":"+Spectre!C766*N767/L767","v":1.5897009693948756},1.6255806097145515]
[4566,0.45660000000000001,4.7965412716475102,1.0224036184168179,0.20725681336808863,0.99773121732475367,2.4660980705612299E-3,0.17978046083185045,0.3895033722705003,0.48804622920118701,0.69855185634408445,0.66353560476282636,0.86222872158836472,0.64873934381828402,0.85523009935524541,-0.81168975909625685,{"$f":"+Spectre!C767*N768/L768","v":1.5834143400804819},1.619152090822831]
[4567,0.45669999999999999,4.7944409799281198,1.0223907913606061,0.20707274945228965,0.99772781546923617,2.4697999934150828E-3,0.17972928786874726,0.38927183731445203,0.48825438430773316,0.69870083951277673,0.66369740879639483,0.86243897720088969,0.64890623857576113,0.85545011594800968,-0.81036008780156488,{"$f":"+Spectre!C768*N769/L769","v":1.577556760871639},1.6131623057216828]
[4568,0.45679999999999998,4.7923420674086996,1.0223779732373912,0.20688889045467035,0.99772440851873145,2.473507473319962E-3,0.17967814067051915,0.38904053859850946,0.48846241567289456,0.69884970239639854,0.66385908713357833,0.86264906947774367,0.64907300591659156,0.85566996456799349,-0.8090317554014681,{"$f":"+Spectre!C769*N770/L770","v":1.577082931111043},1.6126777815967315]
[4569,0.45689999999999997,4.790244532881939,1.0223651640387506,0.20670523610065211,0.99772099646562618,2.4772205186177265E-3,0.17962701921855806,0.38880947583782788,0.48867032331924298,0.69899844508791831,0.6640206398624835,0.8628589985334163,0.64923964592593364,0.85588964532746059,-0.80770476031442051,{"$f":"+Spectre!C770*N771/L771","v":1.5778197344186544},{"$f":"+Q771/R$1","v":1.61343121459645}]
[4570,0.45700000000000002,4.7881483751418479,1.0223523637562719,0.20652178611608704,0.99771757930229565,2.4809391376627602E-3,0.17957592349427315,0.38857864874802295,0.48887810726943481,0.69914706768022306,0.66418206707115524,0.86306876448231717,0.64940615868889462,0.85610915833860746,-0.80637910096122978,{"$f":"+Spectre!C771*N772/L772","v":1.5765399620335385},1.612122557676599]
[4571,0.45710000000000001,4.7860535929837598,1.0223395723815532,0.20633854022725737,0.997714157021104,2.4846633388218471E-3,0.17952485347909086,0.38834805704517006,0.48908576754620908,0.69929557026611855,0.66434336884757705,0.86327836743877617,0.64957254429052924,0.85632850371356151,-0.80505477576531259,{"$f":"+Spectre!C772*N773/L773","v":1.5725754578131366},1.60806857437289]
[4572,0.4572,4.7839601852043216,1.0223267899062018,0.206155498160874,0.99771072961440388,2.4883931304744188E-3,0.17947380915445568,0.38811770044580407,0.48929330417238753,0.69944395293832906,0.66450454527967051,0.86348780751704268,0.64973880281583962,0.85654768156438055,-0.80373178315261695,{"$f":"+Spectre!C773*N774/L774","v":1.5689703996704478},1.6043821498650914]
[4573,0.45729999999999998,4.7818681506014951,1.022314016321836,0.20597265964407604,0.99770729707453643,2.4921285210126689E-3,0.17942279050182908,0.38788757866691781,0.48950071717087446,0.69959221578949771,0.6646655964552951,0.86369708483128527,0.64990493434977592,0.856766692003054,-0.80241012155147784,{"$f":"+Spectre!C774*N775/L775","v":1.5685027156886613},1.6039039102295229]
[4574,0.45739999999999997,4.7797774879745578,1.0223012516200833,0.20579002440443031,0.99770385939383166,2.4958695188410781E-3,0.17937179750269022,0.38765769142596163,0.48970800656465641,0.69974035891218567,0.6648265224622486,0.86390619949559244,0.650070938977236,0.85698553514150244,-0.80108978939272824,{"$f":"+Spectre!C775*N776/L776","v":1.568709216073785},1.604115071339957]
[4575,0.45750000000000002,4.7776881961240996,1.022288495792582,0.20560759216993044,0.99770041656460795,2.4996161323770139E-3,0.17932083013853542,0.38742803844084284,0.48991517237680082,0.69988838239887285,0.66498732338826649,0.86411515162397168,0.65023681678306444,0.85720421109157585,-0.79977078510981015,{"$f":"+Spectre!C776*N777/L777","v":1.5654997573219598},1.6008331749235312]
[4576,0.45760000000000001,4.7756002738520227,1.0222757488309795,0.20542536266899594,0.99769696857917245,2.5033683700502489E-3,0.17926988839087854,0.38719861942992473,0.49012221463045702,0.70003628634195769,0.66514799932102175,0.8643239413303494,0.6504025678520533,0.85742271996505537,-0.79845310713848594,{"$f":"+Spectre!C777*N778/L778","v":1.5572657087456996},1.5924132834076372]
[4577,0.4577,4.7735137199615316,1.0222630107269335,0.20524333563047106,0.99769351542982065,2.5071262403034457E-3,0.17921897224125086,0.38696943411202533,0.49032913334885492,0.70018407083375722,0.66530855034812586,0.86453256872857198,0.65056819226894247,0.85764106187365319,-0.79713675391707151,{"$f":"+Spectre!C778*N779/L779","v":1.5495517554606173},1.584525225762905]
[4578,0.45779999999999998,4.7714285332571427,1.0222502814721122,0.20506151078362506,0.99769005710883674,2.5108897515917954E-3,0.17916808167120085,0.38674048220641771,0.4905359285553047,0.70033173596650633,0.66546897655712722,0.86474103393240365,0.65073369011841764,0.85785923692901001,-0.79582172388636963,{"$f":"+Spectre!C779*N780/L780","v":1.5486506732740719},1.5836038061007121]
[4579,0.45789999999999997,4.7693447125446804,1.0222375610581935,0.20487988785815103,0.99768659360849354,2.5146589123830158E-3,0.17911721666229447,0.3865117634328285,0.49074260027319666,0.70047928183235852,0.66562927803551175,0.8649493370555279,0.65089906148511212,0.85807724524269768,-0.79450801548959227,{"$f":"+Spectre!C780*N781/L781","v":1.5481482716813986},1.5830900652758257]
[4580,0.45800000000000002,4.7672622566312608,1.0222248494768644,0.20469846658416371,0.99768312492105216,2.5184337311578379E-3,0.17906637719611471,0.38628327751143626,0.49094914852600152,0.70062670852338638,0.66578945487070373,0.86515747821154776,0.65106430645360636,0.85829508692621803,-0.79319562717248271,{"$f":"+Spectre!C781*N782/L782","v":1.552967606074855},1.58801817231769]
[4581,0.45810000000000001,4.7651811643253197,1.0222121467198231,0.20451724669220184,0.99767965103876211,2.5222142164097647E-3,0.17901556325426249,0.38605502416287407,0.49115557333726706,0.70077401613157886,0.66594950715006307,0.86536545751398264,0.65122942510842596,0.85851276209100091,-0.79188455738320451,{"$f":"+Spectre!C782*N783/L783","v":1.5642957073405561},1.5996019494663045]
[4582,0.4582,4.7631014344365763,1.022199452778777,0.20433622791322403,0.99767617195386182,2.5260003766445866E-3,0.1789647748183551,0.38582700310822371,0.49136187473062254,0.70092120474884523,0.66610943496088848,0.86557327507627269,0.65139441753404481,0.85873027084840781,-0.79057480457236373,{"$f":"+Spectre!C783*N784/L784","v":1.5749638799595196},1.6105109033414953]
[4583,0.45829999999999999,4.7610230657760564,1.0221867676454433,0.20415540997861015,0.99767268765857775,2.5297922203813498E-3,0.17891401187002764,0.38559921406901915,0.49156805272977411,0.70106827446701181,0.66626923839041508,0.865780931011775,0.65155928381488226,0.85894761330972835,-0.78926636719303112,{"$f":"+Spectre!C784*N785/L785","v":1.5630219656525892},1.5982994593567763]
[4584,0.45839999999999997,4.7589460571560842,1.0221740913115493,0.20397479262016008,0.99766919814512489,2.5335897561517546E-3,0.17886327439093239,0.38537165676724422,0.4917741073585063,0.70121522537782321,0.66642891752581512,0.86598842543376542,0.65172402403530394,0.85916478958618137,-0.78795924370076431,{"$f":"+Spectre!C785*N786/L786","v":1.5488654539819757},1.5838234344212774]
[4585,0.45850000000000002,4.7568704073902737,1.0221614237688323,0.20379437557009242,0.99766570340570682,2.5373929925001535E-3,0.17881256236273863,0.38514433092533118,0.49198003864068152,0.70136205757294234,0.66658847245419794,0.86619575845543773,0.65188863827962196,0.85938179978891516,-0.78665343255350795,{"$f":"+Spectre!C786*N787/L787","v":1.5426408722416143},1.5774583635208259]
[4586,0.45860000000000001,4.7547961152935354,1.0221487650090393,0.20361415856104453,0.99766220343251544,2.5412019379837938E-3,0.17876187576713307,0.38491723626616137,0.49218584660023929,0.70150877114395038,0.66674790326260935,0.86640293018990333,0.65205312663209414,0.85959864402900643,-0.78534893221166024,{"$f":"+Spectre!C787*N788/L788","v":1.5451176062808265},1.5799909975866502]
[4587,0.4587,4.7527231796820715,1.022136115023927,0.20343414132607121,0.9976586982177309,2.5450166011729411E-3,0.17871121458581979,0.38469037251306393,0.49239153126119573,0.7016553661823457,0.66690721003803211,0.86660994075019149,0.65221748917692424,0.8598153224174605,-0.78404574113806191,{"$f":"+Spectre!C788*N789/L789","v":1.5473626354470975},1.5822866971875147]
[4588,0.45879999999999999,4.75065159937337,1.022123473805262,0.20325432359864387,0.99765518775352191,2.5488369906505152E-3,0.17866057880051917,0.38446373938981354,0.49259709264764445,0.70180184277954605,0.66706639286738623,0.86681679024925018,0.65238172599826239,0.86003183506521219,-0.78274385779802946,{"$f":"+Spectre!C789*N790/L790","v":1.5495294560708113},1.5845024230746163]
[4589,0.45889999999999997,4.7485813731862141,1.022110841344821,0.20307470511265072,0.99765167203204552,2.5526631150123331E-3,0.17860996839296958,0.38423733662063264,0.49280253078375436,0.70194820102688604,0.66722545183752746,0.86702347879994379,0.65254583718020376,0.86024818208312381,-0.78144328065922197,{"$f":"+Spectre!C790*N791/L791","v":1.5517655972793405},1.5867890341160329]
[4590,0.45900000000000002,4.7465124999406685,1.02209821763439,0.20289528560239478,0.99764815104544702,2.5564949828672323E-3,0.17855938334492602,0.38401116393018803,0.49300784569377037,0.70209444101561891,0.66738438703524849,0.86723000651505477,0.65270982280678957,0.86046436358198652,-0.78014400819176322,{"$f":"+Spectre!C791*N792/L792","v":1.552746526145069},1.5877921026014503]
[4591,0.45910000000000001,4.744444978458084,1.022085602665765,0.20271606480259385,0.99764462478586002,2.5603326028369473E-3,0.17850882363816084,0.38378522104359164,0.49321303740201283,0.70224056283691549,0.66754319854727839,0.86743637350728264,0.65287368296200621,0.86068037967251909,-0.77884603886820836,{"$f":"+Spectre!C792*N793/L793","v":1.5523839846622678},1.5874213785369848]
[4592,0.4592,4.7423788075610975,1.0220729964307522,0.20253704244838008,0.99764109324540651,2.5641759835561134E-3,0.17845828925446308,0.38355950768639924,0.49341810593287683,0.70238656658186438,0.66770188646028217,0.8676425798892442,0.6530374177297853,0.86089623046536823,-0.77754937116354395,{"$f":"+Spectre!C793*N794/L794","v":1.5522555956808062},1.5872900918089881]
[4593,0.45929999999999999,4.7403139860736223,1.0220603989211667,0.20235821827529801,0.99763755641619667,2.5680251336723872E-3,0.17840778017563957,0.38333402358461,0.49362305131083223,0.70253245234147232,0.66786045086086132,0.86784862577347321,0.65320102719400386,0.86111191607110871,-0.7762540035550991,{"$f":"+Spectre!C794*N795/L795","v":1.5537228053569352},1.5887904164900561]
[4594,0.45939999999999998,4.7382505128208541,1.0220478101288337,0.20217959201930499,0.99763401429032916,2.5718800618462034E-3,0.1783572963835135,0.38310876846466468,0.49382787356042346,0.70267822020666404,0.66801889183555396,0.86805451127242128,0.6533645114384844,0.86132743660024325,-0.77495993452268985,{"$f":"+Spectre!C795*N796/L796","v":1.5554999131515312},1.5906076337075605]
[4595,0.45950000000000002,4.7361883866292667,1.0220352300455886,0.20200116341677019,0.99763046685989065,2.5757407767512631E-3,0.17830683785992513,0.38288374205344655,0.49403257270626844,0.70282387026828175,0.66817720947083348,0.86826023649845607,0.65352787054699402,0.86154279216320162,-0.77366716254849699,{"$f":"+Spectre!C796*N797/L797","v":1.5555142035342113},1.5906222466249818]
[4596,0.45960000000000001,4.7341276063266129,1.0220226586632761,0.2018229322044737,0.99762691411695614,2.5796072870741676E-3,0.17825640458673198,0.38265894407827983,0.49423714877305819,0.70296940261708507,0.66833540385310941,0.86846580156386199,0.65369110460324442,0.86175798287034067,-0.77237568611711049,{"$f":"+Spectre!C797*N798/L798","v":1.5534173029026008},1.5884780188281391]
[4597,0.4597,4.7320681707419157,1.0220100959737504,0.20164489811960551,0.99762335605358887,2.5834796015145444E-3,0.17820599654580821,0.38243437426692828,0.49444160178555785,0.70311481734375236,0.66849347506872758,0.86867120658084085,0.6538542136908928,0.86197300883194528,-0.77108550371551843,{"$f":"+Spectre!C798*N799/L799","v":1.551892589927099},1.5869188929949962]
[4598,0.45979999999999999,4.7300100787054769,1.0219975419688754,0.20146706089976554,0.9976197926618402,2.5873577287851639E-3,0.17815561371904554,0.38221003234759621,0.494645931768604,0.70326011453887849,0.66865142320396886,0.86887645166150995,0.65401719789354051,0.86218787015822673,-0.76979661383307363,{"$f":"+Spectre!C799*N800/L800","v":1.5560862523356678},1.591207206600072]
[4599,0.45989999999999998,4.7279533290488631,1.021984996640525,0.20128942028296204,0.99761622393374982,2.5912416776117026E-3,0.1781052560883517,0.38198591804892545,0.49485013874710682,0.70340529429297705,0.66880924834505062,0.86908153691790413,0.65418005729473372,0.86240256695932349,-0.76850901496157142,{"$f":"+Spectre!C800*N801/L801","v":1.5610019665235084},1.5962338687337021]
[4600,0.46,4.7258979206049148,1.0219724599805826,0.20111197600761141,0.99761264986134546,2.5951314567331028E-3,0.17805492363565212,0.38176203109999662,0.49505422274604766,0.7035503566964787,0.66896695057812539,0.86928646246197383,0.65434279197796308,0.86261709934530095,-0.76722270559511641,{"$f":"+Spectre!C801*N802/L802","v":1.5616876857373021},1.5969350646687315]
[4601,0.46010000000000001,4.7238438522077431,1.0219599319809414,0.20093472781253768,0.99760907043664293,2.5990270749014564E-3,0.17800461634288883,0.38153837123032797,0.49525818379047942,0.7036953018397315,0.66912452998928107,0.8694912284055859,0.65450540202666296,0.86283146742615024,-0.76593768423033337,{"$f":"+Spectre!C802*N803/L803","v":1.5573104187514482},1.592459002520731]
[4602,0.4602,4.7217911226927205,1.0219474126335037,0.20075767543697093,0.99760548565164642,2.6029285408817595E-3,0.17795433419202084,0.3813149381698735,0.49546202190552657,0.7038401298130017,0.66928198666454131,0.86969583486052315,0.6546678875242129,0.86304567131179022,-0.76465394936603426,{"$f":"+Spectre!C803*N804/L804","v":1.5533194839395541},1.5883779920855929]
[4603,0.46029999999999999,4.7197397308964888,1.0219349019301822,0.20058081862054761,0.99760189549834799,2.6068358634524003E-3,0.17790407716502371,0.38109173164902371,0.49566573711638418,0.70398484070647271,0.66943932068986489,0.86990028193848457,0.65483024855393568,0.86325971111206501,-0.76337149950356231,{"$f":"+Spectre!C804*N805/L805","v":1.5508293450669937},1.5858316506385775]
[4604,0.46039999999999998,4.7176896756569482,1.0219223998628983,0.20040415710330856,0.99759829996872795,2.6107490514047957E-3,0.17785384524389022,0.38086875139860354,0.4958693294483183,0.70412943461024535,0.66959653215114623,0.87010456975108519,0.65499248519909881,0.8634735869367457,-0.76209033314655894,{"$f":"+Spectre!C805*N806/L806","v":1.5480909569084382},1.5830314569052151]
[4605,0.46050000000000002,4.7156409558132655,1.0219099064235837,0.2002276906256997,0.99759469905475462,2.6146681135436321E-3,0.17780363841062966,0.38064599714987302,0.49607279892666428,0.70427391161433839,0.66975362113421455,0.87030869840985559,0.65515459754291328,0.86368729889552887,-0.76081044880106363,{"$f":"+Spectre!C806*N807/L807","v":1.5487768771298305},1.5837328583845958]
[4606,{"$f":"+A808/10000","v":0.46060000000000001},{"$f":"+(1/B808)^2","v":4.713593570205866},{"$f":"0.23465+1.076*100/(146-C808)+0.93161/(41-C808)","v":1.0218974216041794},{"$f":"9.4977*0.001*C808^2*D808*EXP(-h/7.996/1000)","v":0.20005141892857048},{"$f":"+EXP(-0.0168*EXP(-15*ABS(B808-0.59)))","v":0.99759109274838431},{"$f":"-2.5*LOG(F808)","v":2.6185930586868694E-3},{"$f":"2.5*LOG(EXP(AOD*(B808/0.55)^(-1.3)))","v":0.1777534566472681},{"$f":"+E808+G808+H808","v":0.38042346863452547},{"$f":"10^(-0.4*I808*ma)","v":0.49627614557682764},{"$f":"10^(-0.4*I808)","v":0.70441827180868744},{"$f":"10^(-0.4*I808*ma_ref)","v":0.66991058772483414},{"$f":"+L808/M$1","v":0.87051266802624172},{"$f":"10^(-0.4*I808*ma_target)","v":0.65531658566853379},{"$f":"+N808/O$1","v":0.86390084709803716},{"$f":"(O808/M808-1)*100","v":-0.75953184497542514},{"$f":"+Spectre!C807*N808/L808","v":1.5524782687161165},1.5875177905872335]
[4607,0.4607,4.7115475176764319,1.0218849453966361,0.19987534175317309,0.99758748104156147,2.6225238956656184E-3,0.17770329993584882,0.38020116558468753,0.49647936942428317,0.70456251528314584,0.67006743200870456,0.87071647871160551,0.65547844965905888,0.86411423165381895,-0.75825452018042361,{"$f":"+Spectre!C808*N809/L809","v":1.5553938034275445},1.5904991290811334]
[4608,0.46079999999999999,4.7095027970679011,1.0218724777929136,0.19969945884116186,0.99758386392621856,2.6264606333242621E-3,0.17765316825843144,0.37997908773291755,0.49668247049457481,0.70470664212748468,0.67022415407146008,0.87092013057722428,0.6556401895975309,0.86432745267234856,-0.75697847292911513,{"$f":"+Spectre!C809*N810/L810","v":1.5502941525033518},1.585284378748663]
[4609,0.46089999999999998,4.7074594072244729,1.0218600187849813,0.19952376993459317,0.99758024139427615,2.6304032805203391E-3,0.17760306159709249,0.37975723481220602,0.49688544881331481,0.70485065243139156,0.67038075399866992,0.87112362373429042,0.65580180556693513,0.86454051026302503,-0.7557037017369872,{"$f":"+Spectre!C810*N811/L811","v":1.5439594251184086},1.5788066762102344]
[4610,0.46100000000000002,4.7054173469915916,1.0218475683648192,0.19934827477592362,0.99757661343764248,2.6343518461250234E-3,0.17755297993392505,0.37953560655597368,0.4970883044061839,0.70499454628447245,0.67053723187583814,0.87132695829391182,0.65596329765020078,0.86475340453517358,-0.75443020512179215,{"$f":"+Spectre!C811*N812/L812","v":1.5445261231931728},1.5793861646924299]
[4611,0.46110000000000001,4.7033766152159586,1.021835126524415,0.19917297310801016,0.99757298004821415,2.6383063390224013E-3,0.17750292325103889,0.37931420269807148,0.49729103729893082,0.70513832377624996,0.6706935877884036,0.8715301343671118,0.65612466593019991,0.86496613559804425,-0.75315798160372482,{"$f":"+Spectre!C812*N813/L813","v":1.5513914073003947},1.5864063986482093]
[4612,0.4612,4.7013372107455265,1.0218226932557675,0.19899786467410929,0.99756934121787544,2.6422667681101986E-3,0.1774528915305611,0.37909302297278058,0.49749364751737102,0.70528198499616379,0.6708498218217388,0.87173315206482738,0.65628591048974749,0.86517870356081139,-0.7518870297052227,{"$f":"+Spectre!C813*N814/L814","v":1.5568074122585416},1.5919446431429791]
[4613,0.46129999999999999,4.699299132429493,1.0218102685508839,0.19882294921787597,0.99756569693849872,2.6462331422992978E-3,0.17740288475463437,0.37887206711480964,0.49769613508738819,0.70542553003357134,0.67100593406115216,0.871936011497912,0.65644703141160221,0.86539110853257561,-0.75061734795112134,{"$f":"+Spectre!C814*N815/L815","v":1.5532461757292215},1.5883030293048286]
[4614,0.46139999999999998,4.6972623791183006,1.0217978524017814,0.19864822648336272,0.99756204720194419,2.6502054705140996E-3,0.17735290290541866,0.37865133485929547,0.49789850003493241,0.70556895897774763,0.67116192459188584,0.8721387127771334,0.65660802877846536,0.86560335062236138,-0.74934893486858778,{"$f":"+Spectre!C815*N816/L816","v":1.5482501567060591},1.5831942498512253]
[4615,0.46150000000000002,4.6952269496636454,1.0217854448004864,0.1984736962150202,0.99755839200006002,2.6541837616922827E-3,0.17730294596509069,0.37843082594180316,0.49810074238601959,0.70571227191788377,0.67131779349911613,0.87234125601317358,0.65676890267298094,0.8658154299391182,-0.74808178898704281,{"$f":"+Spectre!C816*N817/L817","v":1.5489622916144938},1.5839224576846098]
[4616,0.46160000000000001,4.6931928429184602,1.021773045739035,0.19829935815769489,0.9975547313246822,2.6581680247850471E-3,0.17725301391584358,0.37821054009832356,0.4983028621667322,0.7058554689430887,0.67147354086795386,0.87254364131662954,0.65692965317773555,0.86602734659171943,-0.7468159088383608,{"$f":"+Spectre!C817*N818/L818","v":1.5556443795527288},1.5907553607235612]
[4617,0.4617,4.6911600577369219,1.0217606552094722,0.19812521205662934,0.99755106516763448,2.6621582687571142E-3,0.17720310673988685,0.37799047706527333,0.49850485940321848,0.70599855014238866,0.67162916678344398,0.87274586879801241,0.65709028037525885,0.86623910068896359,-0.74555129295659217,{"$f":"+Spectre!C818*N819/L819","v":1.5616507407803262},1.5968972858619979]
[4618,0.46179999999999999,4.6891285929744484,1.0217482732038534,0.19795125765746133,0.99754739352072874,2.6661545025863653E-3,0.17715322441944656,0.37777063657949428,0.49870673412169225,0.70614151560472704,0.67178467133056596,0.87294793856774855,0.65725078434802287,0.86645069233957317,-0.74428793987822983,{"$f":"+Spectre!C819*N820/L820","v":1.5648004128065907},1.6001180461631033]
[4619,0.46189999999999998,4.6870984474876947,1.0217358997142421,0.19777749470622275,0.99754371637576456,2.6701567352643237E-3,0.17710336693676595,0.377551018378253,0.49890848634843155,0.70628436541896367,0.67194005459423267,0.87314985073617768,0.65741116517844178,0.86666212165219436,-0.74302584814202044,{"$f":"+Spectre!C820*N821/L821","v":1.5678315891673131},1.6032176363448287]
[4620,0.46200000000000002,4.6850696201345547,1.021723534732712,0.19760392294933948,0.99754003372452926,2.6741649757960392E-3,0.17705353427410392,0.37733162219923944,0.49911011610977962,0.70642709967387618,0.67209531665929134,0.87335160541355406,0.65757142294887261,0.86687338873539821,-0.74176501628897551,{"$f":"+Spectre!C821*N822/L822","v":1.5663279132356276},1.6016800223627645]
[4621,0.46210000000000001,4.6830421097741599,1.0217111782513462,0.19743054213363059,0.997536345558798,2.6781792332000827E-3,0.17700372641373652,0.37711244778056718,0.49931162343214341,0.70656971845815864,0.67225045761052293,0.87355320271004622,0.65773155774161363,0.86708449369767793,-0.74050544286258235,{"$f":"+Spectre!C822*N823/L823","v":1.5599723922864819},1.5951810569482197]
[4622,0.4622,4.6810159152668707,1.0216988302622365,0.19725735200630701,0.99753265187033369,2.6821995165085539E-3,0.17695394333795611,0.37689349486077167,0.49951300834199436,0.70671222186042248,0.67240547753264213,0.873754642735736,0.65789156963890616,0.8672954366474519,-0.7392471264084266,{"$f":"+Spectre!C823*N824/L824","v":1.5539441885305982},1.5890167962944042]
[4623,0.46229999999999999,4.6789910354742856,1.021686490757485,0.19708435231497176,0.99752895265088704,2.6862258347670753E-3,0.17690418502907146,0.37667476317881032,0.49971427086586678,0.70685460996919625,0.67256037651029732,0.87395592560061974,0.65805145872293291,0.86750621769306147,-0.73799006547450308,{"$f":"+Spectre!C824*N825/L825","v":1.5466830861239209},1.581591810397881]
[4624,0.46239999999999998,4.6769674692592282,1.0216741597292018,0.1969115428076183,0.99752524789219643,2.6902581970349175E-3,0.17685445146940765,0.37645625247406089,0.49991541103035897,0.70699688287292517,0.67271515462807108,0.87415705141460764,0.6582112250758192,0.86771683694277169,-0.73673425861109365,{"$f":"+Spectre!C825*N826/L826","v":1.5387345988028649},1.5734639252707876]
[4625,0.46250000000000002,4.6749452154857547,1.0216618371695081,0.19673892323263076,0.99752153758598816,2.6942966123847589E-3,0.17680474264130658,0.37623796248632213,0.50011642886213148,0.70713904065997157,0.67286981197047879,0.87435802028752307,0.65837086877963136,0.86792729450477057,-0.73547970437073396,{"$f":"+Spectre!C826*N827/L827","v":1.5391831840928567},1.5739226351560129]
[4626,0.46260000000000001,4.6729242730191514,1.0216495230705325,0.19656649333878279,0.99751782172397596,2.6983410899031677E-3,0.17675505852712603,0.37601989295581195,0.50031732438790744,0.70728108341861462,0.6730243486219698,0.87455883232910347,0.65853038991637791,0.86813759048716932,-0.7342264013083355,{"$f":"+Spectre!C827*N828/L828","v":1.5467783112366251},1.5816891847467365]
[4627,0.4627,4.6709046407259258,1.0216372174244142,0.19639425287523671,0.99751410029786147,2.7023916386901192E-3,0.1767053991092406,0.37580204362316744,0.50051809763447197,0.70742301123705043,0.67317876466692661,0.87475948764899902,0.65868978856800875,0.86834772499800228,-0.73297434798095251,{"$f":"+Spectre!C828*N829/L829","v":1.5535160246294399},1.5885789687099072]
[4628,0.46279999999999999,4.6688863174738113,1.0216249202233012,0.19622220159154291,0.9975103732993339,2.706448267859362E-3,0.17665576437004141,0.37558441422944366,0.50071874862867216,0.70756482420339206,0.6733330601896651,0.87495998635677408,0.65884906481641525,0.86855769814522632,-0.73172354294807063,{"$f":"+Spectre!C829*N830/L830","v":1.5538226986038817},1.5888925643332064]
[4629,0.46289999999999998,4.666869302131766,1.0216126314593508,0.19605033923763962,0.99750664072007,2.7105109865384154E-3,0.17660615429193532,0.37536700451611338,0.50091927739741637,0.70770652240566911,0.67348723527443466,0.87516032856190584,0.65900821874343052,0.86876751003672181,-0.7304739847713293,{"$f":"+Spectre!C830*N831/L831","v":1.5533913200088854},1.5884514494990507]
[4630,0.46300000000000002,4.6648535935699647,1.0216003511247296,0.19587866556385136,0.99750290255173435,2.7145798038683304E-3,0.17655656885734605,0.37514981422506577,0.50111968396767415,0.70784810593182845,0.67364129000541773,0.87536051437378493,0.65916725043082858,0.86897716078029097,-0.72922567201474386,{"$f":"+Spectre!C831*N832/L832","v":1.5577561651768195},1.5929148094680017]
[4631,0.46310000000000001,4.6628391906598106,1.021588079211613,0.19570718032088946,0.99749915878597906,2.718654729003931E-3,0.1765070080487133,0.37493284309860669,0.50131996836647552,0.70798957486973357,0.67379522446672979,0.875560543901715,0.65932615996032495,0.86918665048365906,-0.7279786032445279,{"$f":"+Spectre!C832*N833/L833","v":1.5660893940249967},1.6014361197601301]
[4632,0.4632,4.6608260922739158,1.0215758157121861,0.19553588325984989,0.99749540941444381,2.722735771113816E-3,0.17645747184849345,0.37471609087945712,0.50152013062091105,0.70813092930716459,0.67394903874241918,0.87576041725491227,0.65948494741357599,0.86939597925447321,-0.72673277702919314,{"$f":"+Spectre!C833*N834/L834","v":1.5736470220436487},1.6091643238683735]
[4633,0.46329999999999999,4.6588142972861153,1.0215635606186437,0.19536477413221412,0.99749165442875587,2.7268229393803602E-3,0.176407960239159,0.37449955731075346,0.50172017075813069,0.70827216933181825,0.67410273291646738,0.8759601345425061,0.65964361287217899,0.8696051472003028,-0.72548819193950509,{"$f":"+Spectre!C834*N835/L835","v":1.5767370671706042},{"$f":"+Q835/R$1","v":1.6123241114876978}]
[4634,0.46339999999999998,4.6568038045714539,1.0215513139231887,0.19519385268984693,0.99748789382053016,2.7309162429995917E-3,0.17635847320319839,0.37428324213604491,0.50192008880534522,0.70841329503130857,0.67425630707278916,0.87615969587353926,0.65980215641767281,0.86981415442864007,-0.72424484654850518,{"$f":"+Spectre!C835*N836/L836","v":1.5793575557289761},1.6150037446202672]
[4635,0.46350000000000002,4.6547946130061941,1.0215390756180331,0.19502311868499692,0.99748412758136884,2.7350156911816791E-3,0.17630901072311667,0.37406714509929528,0.50211988478982361,0.70855430649316598,0.67440976129523145,0.87635910135696615,0.65996057813153652,0.87002300104689856,-0.72300273943143312,{"$f":"+Spectre!C836*N837/L837","v":1.5803762011012465},1.6160453808759012]
[4636,0.46360000000000001,4.6527867214678089,1.0215268456953996,0.19485257187029537,0.99748035570286209,2.7391212931500847E-3,0.17625957278143511,0.37385126594488055,0.50231955873889456,0.70869520380483753,0.67456309566757433,0.8765583511016547,0.66011887809518988,0.87023168716241361,-0.72176186916589335,{"$f":"+Spectre!C837*N838/L838","v":1.5798827684676424},1.615540811439995]
[4637,0.4637,4.6507801288349819,1.0215146241475184,0.19468221199875549,0.99747657817658719,2.7432330581425328E-3,0.17621015936069112,0.37363560441758914,0.50251911067994459,0.708835987053687,0.6747163102735303,0.87675744521638477,0.66027705638999357,0.87044021288244244,-0.7205222343316664,{"$f":"+Spectre!C838*N839/L839","v":1.5790912105287427},1.6147313879938794]
[4638,0.46379999999999999,4.6487748339876021,1.02150241096663,0.19451203882377174,0.9974727949941089,2.7473509954106475E-3,0.17616077044343825,0.37342016026262065,0.50271854064041888,0.70897665632699469,0.67486940519674454,0.87695638380984853,0.66043511309724867,0.8706485783141642,-0.71928383351070879,{"$f":"+Spectre!C839*N840/L840","v":1.5755834321931403},1.6111444389038863]
[4639,0.46389999999999998,4.6467708358067705,1.0214902061449829,0.19434205209911934,0.99746900614697975,2.7514751142195901E-3,0.17611140601224623,0.37320493322558512,0.50291784864782096,0.70911721171195807,0.675022380520795,0.87715516699065121,0.66059304829819698,0.87085678356467933,-0.71804666528733074,{"$f":"+Spectre!C840*N841/L841","v":1.5718178761076886},1.6072938940057266]
[4640,0.46400000000000002,4.6447681331747912,1.0214780096748357,0.19417225157895363,0.99746521162673951,2.7556054238486666E-3,0.17606206604970098,0.37298992305250328,0.50311703472971081,0.70925765329569046,0.67517523632919174,0.87735379486730958,0.66075086207402001,0.8710648287410091,-0.71681072824807401,{"$f":"+Spectre!C841*N842/L842","v":1.5675650468457407},1.6029450781480621]
[4641,0.46410000000000001,4.6427667249751732,1.021465821548456,0.19400263701780912,0.99746141142491529,2.7597419335912048E-3,0.17601275053840448,0.37277512948980485,0.50331609891370677,0.70939798116522212,0.67532797270537737,0.87755226754825288,0.66090855450583996,0.87127271395009664,-0.71557602098167861,{"$f":"+Spectre!C842*N843/L843","v":1.5628417252038609},1.5981151508709794]
[4642,0.4642,4.640766610092629,1.0214536417581197,0.1938332081705991,0.99745760553302187,2.7638846527541948E-3,0.17596345946097497,0.37256055228432827,0.50351504122748314,0.70953819540749996,0.67548058973272662,0.87775058514182192,0.66106612567471912,0.87148043929880581,-0.71434254207908277,{"$f":"+Spectre!C843*N844/L844","v":1.5581155613944613},1.5932823172784962]
[4643,0.46429999999999999,4.6387677874130659,1.0214414702961125,0.19366396479261441,0.99745379394256128,2.7680335906587706E-3,0.17591419280004666,0.37234619118331985,0.50371386169877164,0.70967829610938749,0.67563308749454698,0.87794874775627041,0.66122357566166023,0.8716880048939224,-0.71311029013347849,{"$f":"+Spectre!C844*N845/L845","v":1.5527501780567174},1.58779583693695]
[4644,0.46439999999999998,4.6367702558235973,1.0214293071547291,0.19349490663952371,0.99744997664502277,2.772188756640215E-3,0.17586495053827,0.37213204593443394,0.50391256035535925,0.70981828335766428,0.67578546607407741,0.87814675549976284,0.66138090454760468,0.87189541084215072,-0.71187926374042254,{"$f":"+Spectre!C845*N846/L846","v":1.5470008175969281},1.5819167130881102]
[4645,0.46450000000000002,4.6347740142125344,1.0214171523262727,0.19332603346737226,0.99744615363188327,2.776350160047473E-3,0.17581573265831135,0.37191811628573113,0.50411113722508927,0.70995815723902689,0.67593772555448928,0.87834460848037599,0.66153811241343541,0.87210265725011871,-0.71064946149740349,{"$f":"+Spectre!C846*N847/L847","v":1.5459299954803152},1.5808217224560783]
[4646,0.46460000000000001,4.63277906146938,1.0214050058030564,0.19315734503258097,0.99744232489460682,2.7805178102437585E-3,0.17576653914285295,0.37170440198567767,0.5043095923358607,0.71009791784008836,0.67608986601888632,0.87854230680609846,0.66169519933997412,0.87230974422437313,-0.70942088200436348,{"$f":"+Spectre!C847*N848/L848","v":1.5487307809527489},1.5836857218142038]
[4647,0.4647,4.6307853964848364,1.0213928675774016,0.19298884109194644,0.99743849042464483,2.7846917166063135E-3,0.17571736997459336,0.37149090278314612,0.50450792571562719,0.71023756524737769,0.67624188755030368,0.87873985058483028,0.66185216540798253,0.87251667187138182,-0.70819352386337631,{"$f":"+Spectre!C848*N849/L849","v":1.5509612684508853},1.585966551540666]
[4648,0.46479999999999999,4.6287930181507928,1.0213807376416386,0.19282052140263936,0.99743465021343614,2.7888718885262869E-3,0.17566822513624725,0.37127761842741291,0.50470613739239767,0.71037709954734096,0.67639379023170876,0.87893723992438277,0.66200901069816165,0.87272344029753235,-0.70696738567875839,{"$f":"+Spectre!C849*N850/L850","v":1.5487647792437991},1.5837204874485959]
[4649,0.46489999999999998,4.626801925360339,1.0213686159881077,0.19265238572220525,0.99743080425240649,2.7930583354093428E-3,0.17561910461054475,0.37106454866815936,0.50490422739423502,0.7105165208263402,0.67654557414600058,0.87913447493247898,0.66216573529115241,0.87293004960913356,-0.70574246605696889,{"$f":"+Spectre!C850*N851/L851","v":1.5465264999086274},1.5814316900228984]
[4650,0.46500000000000002,4.6248121170077461,1.0213565026091573,0.1924844338085622,0.99742695253296931,2.7972510666748104E-3,0.17557000838023246,0.37085169325546946,0.50510219574925697,0.71065582917065417,0.67669723937601001,0.87933155571675314,0.66232233926753492,0.87313649991241371,-0.70451876360672072,{"$f":"+Spectre!C851*N852/L852","v":1.5418590239535419},1.5766588688729031]
[4651,0.46510000000000001,4.6228235919884799,1.0213443974971448,0.19231666542000139,0.99742309504652515,2.8014500917562936E-3,0.17552093642807273,0.37063905193983038,0.5053000424856342,0.71079502466647793,0.6768487860044996,0.87952848238475057,0.66247882270782854,0.87334279131352111,-0.70329627693893615,{"$f":"+Spectre!C852*N853/L853","v":1.5353229557552825},1.5699752812476739]
[4652,0.4652,4.6208363491991902,1.0213323006444368,0.19214908031518582,0.99741923178446168,2.8056554201016685E-3,0.17547188873684397,0.37042662447213148,0.5054977676315916,0.71093410739992247,0.67700021411416333,0.87972525504392773,0.66263518569249202,0.87354892391852412,-0.70207500466668016,{"$f":"+Spectre!C853*N854/L854","v":1.529424864230184},1.5639440694650131]
[4653,0.46529999999999999,4.618850387537714,1.0213202120434091,0.19198167825315002,0.99741536273815379,2.8098670611729675E-3,0.17542286528934029,0.37021441060366328,0.50569537121540686,0.71107307745701598,0.67715152378762711,0.87992187380165243,0.66279142830192339,0.8737548978334112,-0.70085494540522708,{"$f":"+Spectre!C854*N855/L855","v":1.5274583974111207},1.5619332193792053]
[4654,0.46539999999999998,4.6168657059030691,1.0213081316864456,0.19181445899329891,0.99741148789896372,2.8140850244462523E-3,0.17537386606837163,0.37000241008611678,0.50589285326541089,0.7112119349237026,0.67730271510744844,0.88011833876520384,0.6629475506164596,0.87396071316409008,-0.69963609777212721,{"$f":"+Spectre!C855*N856/L856","v":1.5260461704991395},1.5604891184263654]
[4655,0.46550000000000002,4.6148823031954604,1.0212960595659399,0.19164742229540785,0.99740760725824062,2.8183093194121063E-3,0.1753248910567643,0.36979062267158425,0.50609021380998609,0.71135067988584233,0.67745378815611523,0.88031465004177056,0.66310355271637611,0.87416637001638764,-0.69841846038699584,{"$f":"+Spectre!C856*N857/L857","v":1.5218174673387415},1.5561649731977201]
[4656,0.46560000000000001,4.6129001783162691,1.0212839956742945,0.19148056791962123,0.99740372080732098,2.8225399555751457E-3,0.17527594023736007,0.36957904811255649,0.50628745287756771,0.7114893124292121,0.67760474301604789,0.88051080773845336,0.66325943468188786,0.87437186849605075,-0.69720203187172425,{"$f":"+Spectre!C857*N858/L858","v":1.5150035668413619},1.549197282582748]
[4657,0.4657,4.61091933016806,1.0212719400039201,0.19131389562645254,0.99739982853752851,2.8267769424541456E-3,0.17522701359301668,0.36936768616192339,0.50648457049664275,0.71162783263950491,0.67775557976959755,0.88070681196226308,0.66341519659314874,0.874577208708746,-0.6959868108502465,{"$f":"+Spectre!C858*N859/L859","v":1.5093790139808558},1.5434457832477293]
[4658,0.46579999999999999,4.6089397576545732,1.0212598925472371,0.19114740517678316,0.99739593044017361,2.8310202895826409E-3,0.17517811110660739,0.3691565365729732,0.5066815666957496,0.71176624060232996,0.67790629849904671,0.88090266282012142,0.66357083853025056,0.87478239076005793,-0.69477279594888364,{"$f":"+Spectre!C859*N860/L860","v":1.5110018040946471},1.5451051998256911]
[4659,0.46589999999999998,4.6069614596807265,1.021247853296674,0.19098109633186192,0.99739202650655434,2.8352700065078437E-3,0.17512923276102171,0.36894559909939151,0.50687844150347783,0.71190453640321283,0.67805689928660895,0.88109836041886058,0.66372636057322432,0.87498741475549124,-0.69355998579594402,{"$f":"+Spectre!C860*N861/L861","v":1.5133004186915402},1.5474556942833615]
[4660,0.46600000000000003,4.6049844351526081,1.0212358222446689,0.19081496885330415,0.99738811672795535,2.8395261027918495E-3,0.17508037853916483,0.3687348734952608,0.50707519494846776,0.71204272012759529,0.67820738221442911,0.88129390486522319,0.6638817628020397,0.8751922808004694,-0.69234837902196755,{"$f":"+Spectre!C861*N862/L862","v":1.517141077897445},1.5513830373836284]
[4661,0.46610000000000001,4.6030086829774897,1.0212237993836681,0.19064902250309226,0.99738420109564874,2.8437885880106726E-3,0.17503154842395735,0.3685243595150603,0.50727182705940999,0.71218079186083527,0.67835774736458276,0.88148929626586214,0.66403704529660412,0.87539698900033414,-0.69113797425970347,{"$f":"+Spectre!C862*N863/L863","v":1.5224065022244113},1.5567673026339]
[4662,0.4662,4.6010342020638024,1.0212117847061271,0.190483257043573,0.99738027960089326,2.8480574717550926E-3,0.17498274239833647,0.36831405691366459,0.50746833786504519,0.71231875168820669,0.67850799481907642,0.88168453472734043,0.66419220813676372,0.87560153946034613,-0.68992877014401044,{"$f":"+Spectre!C863*N864/L864","v":1.5272723204152474},1.561742942615066]
[4663,0.46629999999999999,4.5990609913211591,1.0211997782045101,0.19031767223745893,0.99737635223493493,2.8523327636300506E-3,0.17493396044525411,0.36810396544634311,0.50766472739416435,0.71245659969490005,0.67865812465984798,0.88187962035613199,0.66434725140230333,0.87580593228568548,-0.68872076531191206,{"$f":"+Spectre!C864*N865/L865","v":1.527408094376175},1.5618817810019305]
[4664,0.46639999999999998,4.5970890496603314,1.0211877798712901,0.19015226784782618,0.99737241898900675,2.8566144732548931E-3,0.17488520254767828,0.36789408486875935,0.50786099567560794,0.71259433596602217,0.67880813696876596,0.8820745532586205,0.66450217517294563,0.87601016758145012,-0.68751395840259688,{"$f":"+Spectre!C865*N866/L866","v":1.5270218032766898},1.5614867712905964]
[4665,0.46650000000000003,4.5951183759932634,1.0211757896989491,0.18998704363811472,0.99736847985432864,2.8609026102634919E-3,0.17483646868859312,0.36768441493697135,0.50805714273826497,0.71273196058659549,0.67895803182762937,0.88226933354109927,0.6646569795283509,0.87621424545265592,-0.68630834805744056,{"$f":"+Spectre!C866*N867/L867","v":1.5318823870588969},1.5664570587222362]
[4666,0.46660000000000001,4.5931489692330683,1.0211638076799774,0.18982199937212765,0.99736453482210752,2.8651971843041261E-3,0.17478775885099798,0.36747495540742975,0.50825316861107361,0.71286947364155895,0.67910780931816794,0.88246396130977189,0.66481166454811835,0.87641816600423816,-0.6851039329198727,{"$f":"+Spectre!C867*N868/L868","v":1.541431803251361},1.5762220057754375]
[4667,0.4667,4.5911808282940152,1.0211518338068746,0.18965713481402996,0.9973605838835371,2.8694982050397229E-3,0.17473907301790795,0.36726570603697761,0.50844907332302047,0.71300687521576722,0.67925746952204236,0.88265843667075183,0.66496623031178437,0.8766219293410491,-0.68390071163557664,{"$f":"+Spectre!C868*N869/L869","v":1.550976590086351},1.5859822189863062]
[4668,0.46679999999999999,4.5892139520915434,1.0211398680721486,0.18949244972834869,0.99735662702979822,2.8738056821474962E-3,0.17469041117235373,0.36705666658284991,0.50864485690314054,0.71314416539399161,0.67940701252084379,0.8828527597300625,0.66512067689882359,0.87682553556786003,-0.68269868285232294,{"$f":"+Spectre!C869*N870/L870","v":1.5640865367454797},1.5993880578791286]
[4669,0.46689999999999998,4.587248339542251,1.0211279104683166,0.18932794387997182,0.9973526642520586,2.8781196253191894E-3,0.17464177329738181,0.36684783680267286,0.50884051938051644,0.71328134426091905,0.67955643839609381,0.8830469305936367,0.66527500438864828,0.87702898478935976,-0.68149784521999157,{"$f":"+Spectre!C870*N871/L871","v":1.5770931056901165},1.6126881858166271]
[4670,{"$f":"+A872/10000","v":0.46700000000000003},{"$f":"+(1/B872)^2","v":4.5852839895638926},{"$f":"0.23465+1.076*100/(146-C872)+0.93161/(41-C872)","v":1.0211159609879039},{"$f":"9.4977*0.001*C872^2*D872*EXP(-h/7.996/1000)","v":0.18916361703414725},{"$f":"+EXP(-0.0168*EXP(-15*ABS(B872-0.59)))","v":0.99734869554147265},{"$f":"-2.5*LOG(F872)","v":2.8824400442613194E-3},{"$f":"2.5*LOG(EXP(AOD*(B872/0.55)^(-1.3)))","v":0.17459315937605419},{"$f":"+E872+G872+H872","v":0.36663921645446274},{"$f":"10^(-0.4*I872*ma)","v":0.50903606078427854},{"$f":"10^(-0.4*I872)","v":0.7134184119011534},{"$f":"10^(-0.4*I872*ma_ref)","v":0.67970574722924471},{"$f":"+L872/M$1","v":0.88324094936731734},{"$f":"10^(-0.4*I872*ma_target)","v":0.66542921286060863},{"$f":"+N872/O$1","v":0.87723227711015506},{"$f":"(O872/M872-1)*100","v":-0.68029819739069408},{"$f":"+Spectre!C871*N872/L872","v":1.5943588414960206},1.6303436102510827]
[4671,0.46710000000000002,4.5833209010753881,1.0211040196234447,0.18899946895648348,0.99734472088918191,2.8867669486946916E-3,0.17454456939144869,0.36643080529662686,0.50923148114360384,0.71355536839921307,0.67985493910167849,0.88343481615685604,0.66558330239399177,0.87743541263476998,-0.67909973801857371,{"$f":"+Spectre!C872*N873/L873","v":1.6149013761900302},1.6513497911089088]
[4672,0.4672,4.5813590729968103,1.0210920863674822,0.18883549941294767,0.99734074028631448,2.891100348355006E-3,0.17449600332665816,0.36622260308796084,0.50942678048771683,0.71369221383953385,0.68000401409470812,0.88362853106791439,0.66573727306802311,0.87763839146764699,-0.67790246575990531,{"$f":"+Spectre!C873*N874/L874","v":1.6329518076916139},1.6698076218650444]
[4673,0.46729999999999999,4.5793985042493839,1.0210801612125682,0.1886717081698652,0.99733675372398556,2.8954402529922552E-3,0.17444746116479146,0.36601460958764892,0.50962195884588846,0.71382894830646737,0.68015297228957705,0.88382209420606417,0.66589112496186509,0.8778412137131455,-0.67670637927322863,{"$f":"+Spectre!C874*N875/L875","v":1.6342999524786281},1.6711861943557516]
[4674,0.46739999999999998,4.5774391937554944,1.0210682441512626,0.18850809499391988,0.99733276119329695,2.8997866723713271E-3,0.1743989428889729,0.36580682455526414,0.50981701624743581,0.71396557188428078,0.68030181376745824,0.884015505676785,0.66604485815461756,0.87804387947554252,-0.67551147721902627,{"$f":"+Spectre!C875*N876/L876","v":1.633650665971615},1.6705222534157447]
[4675,0.46750000000000003,4.575481140438673,1.0210563351761353,0.18834465965215236,0.99732876268533732,2.9041396162716449E-3,0.1743504484823423,0.3655992477507663,0.51001195272172195,0.71410208465715763,0.68045053860945537,0.88420876558546679,0.66619847272531774,0.8782463888590325,-0.67431775825999019,{"$f":"+Spectre!C876*N877/L877","v":1.6346548627100779},1.671549114931093]
[4676,0.46760000000000002,4.5735243432236095,1.0210444342797629,0.1881814019119602,0.99732475819118216,2.9084990944872888E-3,0.1743019779280548,0.36539187893450231,0.51020676829815514,0.71423848670919732,0.68059914689660184,0.88440187403740822,0.66635196875293967,0.87844874196772649,-0.67312522106097727,{"$f":"+Spectre!C877*N878/L878","v":1.6372368329130365},1.6741893603468003]
[4677,0.4677,4.5715688010361362,1.0210325414547328,0.18801832154109679,0.9973207477018935,2.912865116827236E-3,0.1742535312092815,0.36518471786720552,0.51040146300618916,0.71437477812441519,0.68074763870986088,0.88459483113781645,0.6665053463163948,0.87865093890565316,-0.67193386428879842,{"$f":"+Spectre!C878*N879/L879","v":1.6394156389502901},1.6764173421588997]
[4678,0.46779999999999999,4.5696145128032368,1.0210206566936391,0.1878554183076708,0.99731673120852049,2.9172376931147635E-3,0.1742051083092083,0.36497776430999385,0.51059603687532351,0.71451095898674299,0.68089601413012668,0.88478763699180929,0.66665860549453204,0.87885297977675858,-0.67074368661252937,{"$f":"+Spectre!C879*N880/L880","v":1.639279610115326},1.6762782431454772]
[4679,0.46789999999999998,4.5676614774530409,1.0210087799890859,0.18769269198014582,0.99731270870209854,2.9216168331884077E-3,0.17415670921103729,0.36477101802437151,0.5107904899351009,0.71464702938002744,0.68104427323822225,0.88498029170441173,0.66681174636613605,0.87905486468490424,-0.66955468670331086,{"$f":"+Spectre!C880*N881/L881","v":1.6388239479418827},1.6758122966511426]
[4680,0.46800000000000003,4.5657096939148216,1.020996911333685,0.18753014232733933,0.99730868017365004,2.926002546901126E-3,0.17410833389798544,0.36456447877222586,0.51098482221510944,0.71478298938803253,0.68119241611490089,0.88517279538055837,0.66696476900992963,0.87925659373387011,-0.66836686323428207,{"$f":"+Spectre!C881*N882/L882","v":1.6412246982385359},1.6782672320170633]
[4681,0.46810000000000002,4.5637591611189992,1.0209850507200577,0.18736776911842271,0.99730464561418386,2.930394844120898E-3,0.17405998235328524,0.36435814631582886,0.51117903374498064,0.7149188390944371,0.68134044284084572,0.88536514812509259,0.66711767350457141,0.87945816702735147,-0.667180214880847,{"$f":"+Spectre!C882*N883/L883","v":1.6465662832668064},1.6837293769199524]
[4682,0.46820000000000001,4.5618098779971312,1.020973198140833,0.18720557212291963,0.99730060501469575,2.9347937347302452E-3,0.17401165456018458,0.36415202041783445,0.51137312455439055,0.71505457858283672,0.68148835349666992,0.88555735004276692,0.66727045992865752,0.8796595846689611,-0.66599474032043027,{"$f":"+Spectre!C883*N884/L884","v":1.6511609102282585},1.6884277048704293]
[4683,0.46829999999999999,4.5598618434819214,1.0209613535886488,0.18704355111070661,0.99729655836616793,2.9391992286267135E-3,0.17396335050194706,0.36394610084128037,0.51156709467305739,0.71519020793674193,0.68163614816291573,0.88574940123824164,0.66742312836072015,0.87986084676222787,-0.6648104382325104,{"$f":"+Spectre!C884*N885/L885","v":1.6471123510796946},1.6842877695141005]
[4684,0.46839999999999998,4.5579150565072073,1.0209495170561518,0.18688170585201141,0.99729250565956917,2.9436113357227552E-3,0.17391507016185137,0.36374038734958558,0.51176094413074313,0.7153257272395801,0.68178382692005501,0.88594130181608544,0.66757567887922775,0.88006195341059612,-0.66362730729871977,{"$f":"+Spectre!C885*N886/L886","v":1.6437307093121838},1.6808298039016376]
[4685,0.46850000000000003,4.5559695160079681,1.0209376885359969,0.18672003611741303,0.99728844688585505,2.9480300659454868E-3,0.17386681352319136,0.36353487970654985,0.51195467295725272,0.71546113657469423,0.68193138984848989,0.88613305188077673,0.66772811156258649,0.88026290471742852,-0.66244534620271134,{"$f":"+Spectre!C886*N887/L887","v":1.6271740747127017},1.6638994851277289]
[4686,0.46860000000000002,4.5540252209203169,1.0209258680208477,0.18655854167784081,0.99728438203596759,2.9524554292370531E-3,0.17381858056927635,0.36332957767635421,0.51214828118243316,0.71559643602534284,0.68207883702855143,0.88632465153670137,0.6678804264891377,0.88046370078600211,-0.6612645536302697,{"$f":"+Spectre!C887*N888/L888","v":1.5986688190344673},1.6347508642250619]
[4687,0.46870000000000001,4.5520821701815031,1.0209140555033764,0.18639722230457381,0.99728031110083526,2.9568874355546271E-3,0.17377037128343142,0.36312448102355988,0.51234176883617322,0.71573162567470039,0.68222616854050011,0.88651610088815336,0.66803262373715933,0.88066434171951014,-0.66008492826928888,{"$f":"+Spectre!C888*N889/L889","v":1.5710084046049981},1.6064661526856776]
[4688,0.46879999999999999,4.5501403627299091,1.0209022509762633,0.18623607776924042,0.99727623407137311,2.9613260948702911E-3,0.17372218564899625,0.36291958951310699,0.51253513594840394,0.71586670560585774,0.68237338446452611,0.88670740003933568,0.6681847033848658,0.88086482762106255,-0.65890646880966131,{"$f":"+Spectre!C889*N890/L890","v":1.5455198712552733},1.5804023417042028]
[4689,0.46889999999999998,4.5481997975050499,1.0208904544321979,0.18607510784381764,0.99727215093848298,2.9657714171707965E-3,0.17367402364932605,0.3627149029103145,0.51272838254909836,0.71600167590182107,0.68252048488074879,0.88689854909435906,0.66833666551040782,0.88106515859368495,-0.65772917394337771,{"$f":"+Spectre!C890*N891/L891","v":1.519610784897182},1.5539084858093013]
[4690,0.46899999999999997,4.5462604734475658,1.0208786658638773,0.18591431230062994,0.99726806169305282,2.9702234124582877E-3,0.1736258852677916,0.36251042098087982,0.51292150866826969,0.7161365366455128,0.68266746986921689,0.88708954815724261,0.66848851019187172,0.88126533474031821,-0.65655304236456047,{"$f":"+Spectre!C891*N892/L892","v":1.4998006649832725},1.5336512503743693]
[4691,0.46910000000000002,4.5443223894992339,1.0208668852640079,0.18575369091234981,0.99726396632595726,2.9746820907497014E-3,0.17357777048777867,0.3623061434908782,0.51311451433597244,0.71627128791977046,0.682814339509908,0.88728039733191277,0.66864023750727997,0.88146535616381905,-0.65537807276930815,{"$f":"+Spectre!C892*N893/L893","v":1.4852659457055193},1.5187884816647588]
[4692,0.46920000000000001,4.542385544602956,1.0208551126253043,0.18559324345199635,0.9972598648280574,2.9791474620770066E-3,0.17352967929268792,0.36210207020676127,0.51330739958230187,0.7164059298073483,0.68296109388272963,0.88747109672220503,0.6687918475345912,0.88166522296695982,-0.65420426385588426,{"$f":"+Spectre!C893*N894/L894","v":1.4719614973586732},1.5051837511701838]
[4693,0.46929999999999999,4.5404499377027561,1.0208433479404893,0.1854329696929343,0.99725575719020054,2.9836195364874485E-3,0.17348161166593579,0.36189820089535751,0.51350016443739332,0.71654046239091562,0.6831077330675176,0.88766164643186185,0.66894334035169978,0.88186493525242848,-0.65303161432449519,{"$f":"+Spectre!C894*N895/L895","v":1.4692278299145844},1.5023883846980792]
[4694,0.46939999999999998,4.5385155677437901,1.0208315912022938,0.18527286940887464,0.9972516434032207,2.9880983240430673E-3,0.17343356759095377,0.36169453532387147,0.51369280893142177,0.71667488575305793,0.6832542571440372,0.88785204656453376,0.66909471603643578,0.88206449312282798,-0.65186012287747896,{"$f":"+Spectre!C895*N896/L896","v":1.4678048010439857},1.500933237985808]
[4695,0.46949999999999997,4.5365824336723293,1.0208198424034585,0.18511294237387269,0.9972475234579381,2.992583834821181E-3,0.17338554705118828,0.36149107325988217,0.51388533309460249,0.71680919997627657,0.68340066619198259,0.88804229722377914,0.66924597466656488,0.8822638966806764,-0.65068978821924972,{"$f":"+Spectre!C896*N897/L897","v":1.4674660948764353},1.5005868872009995]
[4696,0.46960000000000002,4.5346505344357739,1.0208081015367312,0.18495318836232857,0.99724339734515943,2.9970760789141426E-3,0.17333755003010093,0.36128781447134362,0.51407773695718972,0.71694340514298838,0.68354696029097706,0.88823239851306413,0.66939711631978871,0.88246314602840759,-0.6495206090561978,{"$f":"+Spectre!C897*N898/L898","v":1.468202347570104},1.5013397571593876]
[4697,0.46970000000000001,4.532719868982638,1.0207963685948684,0.18479360714898563,0.99723926505567762,3.0015750664295882E-3,0.17328957651116894,0.36108475872658419,0.51427002054947646,0.71707750133552617,0.68369313952057242,0.88842235053576213,0.66954814107374416,0.88266224126836978,-0.64835258409682295,{"$f":"+Spectre!C898*N899/L899","v":1.468439565623656},{"$f":"+Q899/R$1","v":1.5015823292377548}]
[4698,0.4698,4.5307904362625608,1.0207846435706351,0.18463419850893076,0.99723512658027202,3.0060808074901905E-3,0.17324162647788396,0.3608819057943049,0.5144621839017951,0.71721148863613859,0.68383920396025,0.88861215339515465,0.66969904900600408,0.88286118250282697,-0.64718571205162334,{"$f":"+Spectre!C899*N900/L900","v":1.4650957334140817},1.4981630265470782]
[4699,0.46989999999999998,4.5288622352262973,1.0207729264568053,0.18447496221759357,0.99723098190970827,3.010593312233906E-3,0.17319369991375322,0.3606792554435807,0.51465422704451569,0.71734536712698926,0.68398515368941892,0.88880180719442958,0.66984984019407556,0.8830599698339564,-0.64601999163319546,{"$f":"+Spectre!C900*N901/L901","v":1.4612053190778056},1.4941848053403484]
[4700,0.47,4.5269352648257124,1.0207612172461602,0.18431589805074469,0.9972268310347383,3.0151125908138522E-3,0.17314579680229902,0.36047680744385757,0.5148461500080469,0.71747913689015896,0.68413098878741807,0.88899131203668358,0.67000051471540267,0.88325860336385209,-0.64485542155612308,{"$f":"+Spectre!C901*N902/L902","v":1.4614156279279951},1.494399860873119]
[4701,0.47010000000000002,4.5250095240137949,1.0207495159314901,0.18415700578449704,0.99722267394610031,3.0196386533984294E-3,0.17309791712705841,0.36027456156495385,0.51503795282283515,0.71761279800764299,0.68427670933351459,0.88918066802492013,0.6701510726473634,0.88345708319452132,-0.64369200053711051,{"$f":"+Spectre!C902*N903/L903","v":1.4663419717606323},1.4994373925632269]
[4702,0.47020000000000001,4.5230850117446426,1.0207378225055936,0.18399828519530401,0.99721851063451883,3.0241715101712039E-3,0.17305006087158389,0.3600725175770591,0.51522963551936385,0.71774635056135283,0.68442231540690379,0.88936987526204903,0.67030151406727156,0.88365540942788634,-0.64252972729472724,{"$f":"+Spectre!C903*N904/L904","v":1.4706419838537654},1.5038344561712311]
[4703,0.4703,4.5211617269734639,1.020726136961277,0.18383973605995871,0.99721434109070461,3.0287111713310248E-3,0.17300222801944248,0.35987067525073224,0.51542119812815501,0.71787979463311591,0.6845678070867105,0.88955893385088891,0.67045183905237615,0.88385358216578425,-0.64136860054974099,{"$f":"+Spectre!C904*N905/L905","v":1.4668757584546774},1.4999832268529887]
[4704,0.47039999999999998,4.5192396686565797,1.0207144592913557,0.18368135815559436,0.99721016530535433,3.0332576470923928E-3,0.17295441855421698,0.35966903435690373,0.51561264067976553,0.71801313030467473,0.68471318445198714,0.88974784389416417,0.67060204767986065,0.88405160150996576,-0.64020861902487347,{"$f":"+Spectre!C905*N906/L906","v":1.4624711583356449},1.4954792146614562]
[4705,0.47049999999999997,4.5173188357514178,1.0207027894886533,0.18352315125968266,0.99720598326915122,3.0378109476847329E-3,0.17290663245950463,0.35946759466687206,0.51580396320479049,0.71814635765768819,0.68485844758171521,0.88993660549450682,0.67075214002684391,0.8842494675620961,-0.63904978144488922,{"$f":"+Spectre!C906*N907/L907","v":1.4622121034640676},1.4952143129068522]
[4706,0.47060000000000002,4.5153992272165153,1.0206911275460013,0.18336511515003409,0.99720179497276451,3.0423710833529989E-3,0.17285886971891759,0.35926635595230472,0.51599516573386073,0.71827947677373016,0.68500359655480447,0.89012521875445594,0.67090211617037987,0.88444718042375514,-0.63789208653655116,{"$f":"+Spectre!C907*N908/L908","v":1.4661986133173515},1.4992907985118156]
[4707,0.47070000000000001,4.5134808420115151,1.0206794734562401,0.1832072496047967,0.99719760040684957,3.0469380643575574E-3,0.17281113031608319,0.35906531798523744,0.51618624829764315,0.71841248773429123,0.68514863145009308,0.89031368377645737,0.67105197618745716,0.8846447401964368,-0.63673553302859842,{"$f":"+Spectre!C908*N909/L909","v":1.469499177637545},1.5026658567544136]
[4708,0.4708,4.5115636790971676,1.0206678272122174,0.18304955440245591,0.99719339956204811,3.0515119009739411E-3,0.17276341423464403,0.35886448053807385,0.51637721092683986,0.71854539062077638,0.68529355234634726,0.89050200066286367,0.67120172015499857,0.88484214698154795,-0.63558011965191286,{"$f":"+Spectre!C909*N910/L910","v":1.4638029178273075},1.4968410320397736]
[4709,0.47089999999999999,4.509647737435321,1.0206561888067898,0.18289202932183335,0.99718919242898774,3.0560926034933415E-3,0.172715721458257,0.3586638433835837,0.51656805365218939,0.71867818551450735,0.68543835932226194,0.89069016951593472,0.67135134814986264,0.88503940088041089,-0.6344258451392637,{"$f":"+Spectre!C910*N911/L911","v":1.4570836506427776},1.4899701106168466]
[4710,0.47099999999999997,4.5077330159889293,1.0206445582328221,0.18273467414208708,0.99718497899828207,3.0606801822224789E-3,0.17266805197059451,0.35846340629490403,0.51675877650446422,0.71881087249672071,0.68558305245645978,0.89087819043783623,0.67150086024884137,0.88523650199426007,-0.63327270822551851,{"$f":"+Spectre!C911*N912/L912","v":1.4547222705778713},1.4875554340710184]
[4711,0.47110000000000002,4.5058195137220451,1.0206329354831878,0.18257748864271039,0.99718075926053107,3.06527464748325E-3,0.17262040575534335,0.35826316904553701,0.51694937951447273,0.71894345164856932,0.68572763182749197,0.89106606353064144,0.67165025652866239,0.88543345042424537,-0.63212070764744333,{"$f":"+Spectre!C912*N913/L913","v":1.4566112127232862},1.4894870097469317]
[4712,0.47120000000000001,4.5039072295998217,1.0206213205507677,0.18242047260353142,0.99717653320632049,3.0698760096133271E-3,0.17257278279620578,0.35806313140935053,0.51713986271305679,0.71907592305112134,0.68587209751383771,0.89125378889632967,0.67179953706598716,0.88563024627142894,-0.6309698421439025,{"$f":"+Spectre!C913*N914/L914","v":1.4579085876241924},1.4908136664723448]
[4713,0.4713,4.5019961625885108,1.0206097134284513,0.18226362580471267,0.99717230082622221,3.0744842789658003E-3,0.17252518307689826,0.35786329316057675,0.51733022613109303,0.71920828678536075,0.68601644959390407,0.89144136663678675,0.67194870193741152,0.88582688963678691,-0.6298201104557255,{"$f":"+Spectre!C914*N915/L915","v":1.4549074654135856},1.4877448087645944]
[4714,0.47139999999999999,4.5000863116554575,1.020598114109136,0.18210694802675015,0.99716806211079434,3.0790994659090545E-3,0.17247760658115255,0.35766365407381173,0.51752046979949251,0.71934054293218708,0.68616068814602682,0.89162879685380581,0.67209775121946613,0.88602338062120933,-0.62867151132575128,{"$f":"+Spectre!C915*N916/L916","v":1.4512731853106315},1.4840285027552431]
[4715,0.47149999999999997,4.4981776757691039,1.0205865225857285,0.1819504390504732,0.99716381705058055,3.0837215808274983E-3,0.17243005329271519,0.35746421392401589,0.51771059374919881,0.71947269157241545,0.6863048132484687,0.89181607964908505,0.67224668498861551,0.88621971932549892,-0.62752404349876167,{"$f":"+Spectre!C916*N917/L917","v":1.4465342292632399},1.4791825882032368]
[4716,0.47160000000000002,4.4962702538989863,1.0205749388511418,0.18179409865704349,0.99715956563611086,3.0883506341207157E-3,0.1723825231953473,0.35726497248651151,0.51790059801118982,0.71960473278677684,0.68644882497942117,0.89200321512422998,0.67239550332125853,0.88641590585037211,-0.62637770572158136,{"$f":"+Spectre!C917*N918/L918","v":1.4405311121096787},1.4730439803577697]
[4717,0.47170000000000001,4.4943640450157289,1.0205633628982986,0.18163792662795453,0.99715530785790096,3.0929866362041968E-3,0.17233501627282541,0.35706592953698413,0.51809048261647561,0.71973666665591751,0.68659272341700317,0.89219020338075194,0.67254420629372813,0.88661194029645807,-0.62523249674300008,{"$f":"+Spectre!C918*N919/L919","v":1.4350721604723624},1.4674618198748652]
[4718,0.4718,4.4924590480910549,1.0205517947201292,0.18148192274503175,0.99715104370645258,3.097629597508973E-3,0.17228753250894002,0.35686708485148078,0.51828024759609947,0.71986849326039926,0.68673650863926128,0.89237704452006839,0.67269279398229109,0.88680782276429904,-0.62408841531379489,{"$f":"+Spectre!C919*N920/L920","v":1.4348273482259832},1.4672114822023117]
[4719,0.47189999999999999,4.4905552620977689,1.0205402343095722,0.18132608679043072,0.99714677317225342,3.1022795284816169E-3,0.17224007188749671,0.35666843820640903,0.51846989298113744,0.72000021268070036,0.68688018072417079,0.89256373864350391,0.6728412664631489,0.8870035533543511,-0.62294546018675234,{"$f":"+Spectre!C920*N921/L921","v":1.4353324680884023},1.4677280026484447]
[4720,0.47199999999999998,4.4886526860097682,1.020528681659574,0.18117041854663762,0.997142496245777,3.1069364395844893E-3,0.17219263439231641,0.35646998937853852,0.51865941880269684,0.72013182499721307,0.68702373974963338,0.89275028585228755,0.67298962381243599,0.88719913216698187,-0.62180363011657969,{"$f":"+Spectre!C921*N922/L922","v":1.4352705863960931},1.4676647242828584]
[4721,0.47210000000000002,4.4867513188020309,1.0205171367630894,0.18101491779646781,0.99713821291748272,3.1116003412956154E-3,0.17214522000723378,0.35627173814499724,0.51884882509191821,0.72026333029024736,0.68716718579347968,0.89293668624755607,0.67313786610622206,0.8873945593024738,-0.62066292385994926,{"$f":"+Spectre!C922*N923/L923","v":1.4343891756086915},1.4667634200043951]
[4722,0.47220000000000001,4.4848511594506313,1.0205055996130814,0.18085958432306659,0.99713392317781568,3.1162712441089287E-3,0.17209782871609905,0.35607368428327457,0.51903811187997173,0.72039472864002685,0.68731051893346662,0.8931229399303503,0.67328599342050865,0.88758983486101928,-0.6195233401755984,{"$f":"+Spectre!C923*N924/L924","v":1.4335697157404255},1.4659254648807973]
[4723,0.4723,4.4829522069327146,1.0204940702025209,0.18070441790990679,0.99712962701720709,3.1209491585337899E-3,0.17205046050277661,0.35587582757121716,0.51922727919806078,0.72052602012669176,0.68745373924728015,0.89330904700161906,0.67343400583123281,0.8877849589427258,-0.61838487782417406,{"$f":"+Spectre!C924*N925/L925","v":1.4334348008519235},1.4657875049556712]
[4724,0.47239999999999999,4.4810544602265203,1.0204825485243869,0.18054941834078994,0.99712532442607371,3.1256340950955915E-3,0.17200311535114565,0.35567816778703121,0.51941632707741858,0.7206572048302976,0.68759684681253253,0.89349500756221512,0.67358190341426416,0.88797993164761191,-0.61724753556825496,{"$f":"+Spectre!C925*N926/L926","v":1.4331042086546026},1.465449451273857]
[4725,0.47249999999999998,4.4791579183113592,1.0204710345716665,0.18039458539984429,0.99712101539481823,3.1303260643353943E-3,0.17195579324510024,0.35548070470927995,0.51960525554930981,0.72078828283081575,0.68773984170676439,0.89368082171289853,0.67372968624540652,0.88817475307560956,-0.61611131217246262,{"$f":"+Spectre!C926*N927/L927","v":1.436278512881209},1.4686953997254519]
[4726,0.47260000000000002,4.4772625801676247,1.020459528337355,0.18023991887152507,0.99711669991382901,3.1350250768101729E-3,0.17190849416854889,0.35528343811688412,0.51979406464502909,0.72091925420813285,0.68788272400744355,0.89386648955433445,0.67387735440039742,0.88836942332656299,-0.61497620640328376,{"$f":"+Spectre!C927*N928/L928","v":1.4433595609866547},1.4759362674850345]
[4727,0.47270000000000001,4.4753684447767945,1.0204480298144554,0.18008541854061416,0.99711237797348018,3.1397311430926946E-3,0.17186121810541477,0.35508636778912162,0.51998275439590125,0.7210501190420513,0.68802549379196498,0.89405201118709354,0.67402490795490688,0.88856394250022774,-0.61384221702929231,{"$f":"+Spectre!C928*N929/L929","v":1.4498442129189499},1.4825672783762838]
[4728,0.4728,4.4734755111214186,1.0204365389959793,0.17993108419221884,0.99710804956413157,3.1444442737716418E-3,0.17181396503963586,0.35488949350562637,0.52017132483328055,0.72118087741228865,0.68816815113765062,0.89423738671165143,0.67417234698453887,0.88875831069627209,-0.61270934282084966,{"$f":"+Spectre!C929*N930/L930","v":1.4452737607167641},1.47789367081075]
[4729,0.47289999999999999,4.4715837781851198,1.0204250558749455,0.179776915611771,0.99710371467612868,3.1491644794516115E-3,0.17176673495516465,0.35469281504638728,0.52035977598855165,0.72131152939847853,0.688310696121751,0.89442261622839092,0.67431967156483097,0.88895252801427704,-0.6115775825504266,{"$f":"+Spectre!C930*N931/L931","v":1.4389675352658851},1.4714451134966411]
[4730,0.47299999999999998,4.469693244952599,1.0204135804443821,0.17962291258502777,0.99709937329980292,3.1538917707528771E-3,0.17171952783596811,0.35449633219174875,0.52054810789312822,0.72144207508016989,0.68845312882144272,0.89460769983759902,0.67446688177125391,0.88914659455373535,-0.61044693499229252,{"$f":"+Spectre!C931*N932/L932","v":1.4381841191032683},1.4706440155871572]
[4731,0.47310000000000002,4.4678039104096303,1.0204021126973237,0.17946907489806985,0.99709502542547102,3.158626158311991E-3,0.17167234366602774,0.35430004472240961,0.52073632057845276,0.72157251453682725,0.68859544931383021,0.8947926376394687,0.67461397767921127,0.88934051041405093,-0.60931739892282621,{"$f":"+Spectre!C932*N933/L933","v":1.443755561685752},1.4763412059421903]
[4732,0.47320000000000001,4.4659157735430579,1.0203906526268143,0.17931540233730148,0.99709067104343563,3.1633676527811853E-3,0.17162518242933972,0.35410395241942239,0.52092441407599654,0.72170284784783101,0.68873765767594497,0.89497742973409822,0.67476095936404035,0.8895342756945408,-0.60818897312020503,{"$f":"+Spectre!C933*N934/L934","v":1.4485652197039511},1.4812594182124632]
[4733,0.4733,4.4640288333407963,1.0203792002259047,0.17916189468944962,0.99708631014398463,3.1681162648290913E-3,0.17157804410991515,0.35390805506419387,0.52111238841725871,0.72183307509247607,0.6888797539847451,0.89516207622149047,0.67490782690101081,0.88972789049443257,-0.60706165636459364,{"$f":"+Spectre!C934*N935/L935","v":1.4463699067511293},1.4790145569227826]
[4734,{"$f":"+A936/10000","v":0.47339999999999999},{"$f":"+(1/B936)^2","v":4.4621430887918292},{"$f":"0.23465+1.076*100/(146-C936)+0.93161/(41-C936)","v":1.0203677554876545},{"$f":"9.4977*0.001*C936^2*D936*EXP(-h/7.996/1000)","v":0.17900855174156372},{"$f":"+EXP(-0.0168*EXP(-15*ABS(B936-0.59)))","v":0.99708194271739192},{"$f":"-2.5*LOG(F936)","v":3.1728720051399035E-3},{"$f":"2.5*LOG(EXP(AOD*(B936/0.55)^(-1.3)))","v":0.17153092869177872},{"$f":"+E936+G936+H936","v":0.35371235243848231},{"$f":"10^(-0.4*I936*ma)","v":0.5213002436337677},{"$f":"10^(-0.4*I936)","v":0.7219631963499743},{"$f":"10^(-0.4*I936*ma_ref)","v":0.68902173831711677},{"$f":"+L936/M$1","v":0.89534657720155497},{"$f":"10^(-0.4*I936*ma_target)","v":0.67505458036532584},{"$f":"+N936/O$1","v":0.88992135491286628},{"$f":"(O936/M936-1)*100","v":-0.60593544743817729},{"$f":"+Spectre!C935*N936/L936","v":1.4427359306656469},1.4752985617925944]
[4735,0.47349999999999998,4.4602585388862082,1.0203563184051305,0.17885537328101481,0.99707756875391684,3.177634884413976E-3,0.17148383615897023,0.353516844324399,0.52148797975707917,0.72209321169945218,0.68916361074987231,0.895530932774105,0.67520121983212167,0.89011466904889369,-0.6048103451249065,{"$f":"+Spectre!C936*N937/L937","v":1.4401000772041108},1.4726032169701322]
[4736,0.47360000000000002,4.4583751826150468,1.0203448889714088,0.17870235909549484,0.99707318824380409,3.1824049133679522E-3,0.17143676649554429,0.35332153050440707,0.52167559681877618,0.7222231212199518,0.68930537135975156,0.89571514303886013,0.67534774537646702,0.89030783300147753,-0.60368634821081901,{"$f":"+Spectre!C937*N938/L938","v":1.4388749851026352},1.4713504744709995]
[4737,0.47370000000000001,4.4564930189705327,1.0203334671795716,0.17854950897301697,0.99706880117728414,3.1871821027342753E-3,0.17138971968556937,0.35312641076132062,0.52186309485046922,0.72235292499043102,0.68944702022342075,0.89589920809544377,0.67549415707336358,0.89050084686949205,-0.60256345548378443,{"$f":"+Spectre!C938*N939/L939","v":1.437822731578126},1.4702744715252398]
[4738,0.4738,4.4546120469459094,1.0203220530227108,0.17839682270191409,0.99706440754457282,3.1919664632616787E-3,0.17134269571312855,0.35293148487830428,0.522050473883796,0.72248262308976319,0.68958855741747371,0.89608312804338552,0.67564045499774594,0.89069371075172343,-0.60144166573362634,{"$f":"+Spectre!C939*N940/L940","v":1.441229520235594},1.4737581515943812]
[4739,0.47389999999999999,4.4527322655354817,1.0203106464939249,0.17824430007083833,0.99706000733587141,3.196758005715063E-3,0.17129569456231938,0.35273675263887277,0.52223773395042095,0.72261221559673716,0.68972998301843091,0.89626690298211964,0.67578663922448146,0.89088642474686874,-0.60032097775212234,{"$f":"+Spectre!C940*N941/L941","v":1.4455254593804212},1.4781510503274069]
[4740,0.47399999999999998,4.4508536737346223,1.0202992475863211,0.17809194086876132,0.99705560054136688,3.2015567408752565E-3,0.17124871621725421,0.35254221382689077,0.5224248750820345,0.72274170259005699,0.68987129710273898,0.89645053301098432,0.67593270982836962,0.89107898895353588,-0.59920139033289299,{"$f":"+Spectre!C941*N942/L942","v":1.4448903805232984},1.4775016377047478]
[4741,0.47410000000000002,4.4489762705397551,1.020287856293014,0.17793974488497258,0.99705118715123153,3.206362679539377E-3,0.17120176066205919,0.35234786822657116,0.52261189731035396,0.72287108414834311,0.69001249974677237,0.89663401822922417,0.6760786668841432,0.89127140347024481,-0.59808290227154615,{"$f":"+Spectre!C942*N943/L943","v":1.4360400543614167},1.4684515591834517]
[4742,0.47420000000000001,4.4471000549483675,1.0202764726071263,0.1777877119090798,0.9970467671556229,3.2111758325209581E-3,0.1711548278808751,0.35215371562247588,0.52279880066712203,0.72300036035013038,0.69015359102683171,0.89681735873598767,0.67622451046646725,0.89146366839542601,-0.59696551236556594,{"$f":"+Spectre!C943*N944/L944","v":1.4276831041913955},1.4599059921779107]
[4743,0.4743,4.4452250259590036,1.0202650965217888,0.17763584173100799,0.9970423405446841,3.215996210649582E-3,0.17110791785785745,0.351959755799515,0.52298558518410698,0.72312953127386981,0.69029457101914393,0.89700055463032757,0.67637024064993856,0.89165578382742006,-0.59584921941439051,{"$f":"+Spectre!C944*N945/L945","v":1.4230466696853898},1.4551649130842474]
[4744,0.47439999999999999,4.4433511825712566,1.0202537280301396,0.1774841341409984,0.9970379073085438,3.2208238247708847E-3,0.17106103057717567,0.35176598854294494,0.52317225089310304,0.72325859699792816,0.69043543979986377,0.89718360601120295,0.6765158575090876,0.89184774986448034,-0.59473402221930094,{"$f":"+Spectre!C945*N946/L946","v":1.4183713452427811},1.450384066305924]
[4745,0.47449999999999998,4.4414785237857828,1.0202423671253253,0.17733258892960926,0.99703346743731558,3.2256586857472812E-3,0.17101416602301353,0.35157241363837011,0.52335879782592865,0.72338755760058693,0.69057619744507115,0.89736651297747538,0.67666136111837616,0.89203956660476924,-0.59361991958349902,{"$f":"+Spectre!C946*N947/L947","v":1.4185665542713948},1.4505836812132964]
[4746,0.47460000000000002,4.4396070486042847,1.0202310138005002,0.17718120588771394,0.9970290209210988,3.2305008044569991E-3,0.17096732417956939,0.35137903087174033,0.52354522601442777,0.72351641316004389,0.69071684403077371,0.89754927562791287,0.67680675155219894,0.89223123414636107,-0.59250691031211833,{"$f":"+Spectre!C947*N948/L948","v":1.4253707267435558},1.4575414242409734]
[4747,0.47470000000000001,4.43773675602952,1.0202196680488258,0.17702998480650109,0.99702456774997783,3.235350191794926E-3,0.1709205050310558,0.35118584002935183,0.52373153549046847,0.72364516375441179,0.69085737963290494,0.89773189406118681,0.67695202888488226,0.89242275258723991,-0.59139499321220201,{"$f":"+Spectre!C948*N949/L949","v":1.431735439515214},1.464049788937982]
[4748,0.4748,4.4358676450652919,1.0202083298634723,0.17687892547747369,0.9970201079140224,3.2402068586722473E-3,0.17087370856169956,0.35099284089784549,0.52391772628594324,0.72377380946171921,0.69099780432732505,0.89791436837587346,0.67709719319068518,0.89261412202530099,-0.590284167092614,{"$f":"+Spectre!C949*N950/L950","v":1.4298081571280492},1.4620790076789054]
[4749,0.47489999999999999,4.4339997147164585,1.020196999237617,0.17672802769244919,0.9970156414032878,3.2450708160162082E-3,0.17082693475574201,0.35080003326420739,0.52410379843276844,0.72390235035991013,0.69113811818982063,0.89809669867045339,0.67724224454379844,0.89280534255834987,-0.5891744307641833,{"$f":"+Spectre!C950*N951/L951","v":1.4263163949080242},1.4585084361891194]
[4750,0.47499999999999998,4.4321329639889191,1.0201856761644454,0.17657729124355806,0.9970111682078141,3.2499420747709581E-3,0.17078018359743818,0.35060741691576719,0.5242897519628843,0.72403078652684427,0.691278321296105,0.89827888504331199,0.67738718301834511,0.89299641428410237,-0.58806578303962631,{"$f":"+Spectre!C951*N952/L952","v":1.4226452164010983},1.4547543989767429]
[4751,0.47510000000000002,4.4302673918896236,1.0201743606371509,0.17642671592324405,0.99700668831762695,3.2548206458967062E-3,0.17073345507105805,0.35041499164019885,0.52447558690825413,0.72415911804029598,0.69141841372181723,0.89846092759273821,0.67753200868838004,0.89318733730018496,-0.5869582227335024,{"$f":"+Spectre!C952*N953/L953","v":1.4187475751666683},1.450768787760361]
[4752,0.47520000000000001,4.4284029974265655,1.0201630526489343,0.17627630152426316,0.99700220172273701,3.2597065403703273E-3,0.17068674916088541,0.35022275722551888,0.52466130330086469,0.72428734497795633,0.69155839554252319,0.89864282641692572,0.67767672162789017,0.89337811170413395,-0.58585174866229162,{"$f":"+Spectre!C953*N954/L954","v":1.4149982245696293},1.4469348141093992]
[4753,0.4753,4.426539779608782,1.0201517521930044,0.17612604783968341,0.99699770841314028,3.2645997691850004E-3,0.1706400658512183,0.35003071346008674,0.52484690117272514,0.72441546741743112,0.69169826683371449,0.89882458161397183,0.67782132191079392,0.89356873759339595,-0.58474635964430588,{"$f":"+Spectre!C954*N955/L955","v":1.4137968628236188},1.4457063375611898]
[4754,0.47539999999999999,4.4246777374463484,1.0201404592625773,0.17597595466288363,0.99699320837881777,3.2695003433505735E-3,0.17059340512636909,0.34983886013260329,0.52503238055586843,0.72454348543624192,0.69183802767080982,0.89900619328187914,0.67796580961094211,0.89375921506532796,-0.58364205449984441,{"$f":"+Spectre!C955*N956/L956","v":1.4132720102360932},1.4451696390212341]
[4755,0.47549999999999998,4.4228168699503883,1.0201291738508778,0.17582602178755422,0.99698870160973585,3.2744082738932001E-3,0.17054676697066398,0.34964719703211139,0.52521774148234868,0.72467139911182576,0.69197767812915345,0.89918766151855334,0.67811018480211716,0.89394954421719708,-0.58253883205092727,{"$f":"+Spectre!C956*N957/L957","v":1.4120816902985998},1.4439524534957813]
[4756,0.47560000000000002,4.4209571761330562,1.0201178959511374,0.17567624900769502,0.99698418809584566,3.2793235718559443E-3,0.17050015136844415,0.34945572394799512,0.52540298398424212,0.72479920852153501,0.69211721828401584,0.89936898642180441,0.67825444755803244,0.89413972514617934,-0.58143669112162844,{"$f":"+Spectre!C957*N958/L958","v":1.4097021333777831},1.4415191898413819]
[4757,0.47570000000000001,4.4190986550075531,1.0201066255565965,0.17552663611761637,0.9969796678270838,3.284246248298059E-3,0.17045355830406397,0.34926444066997842,0.52558810809364742,0.72492691374263785,0.69225664821059363,0.89955016808934618,0.67839859795233404,0.89432975794936198,-0.58033563053769832,{"$f":"+Spectre!C958*N959/L959","v":1.4074076144116447},1.4391728834530828]
[4758,0.4758,4.4172413055881101,1.0200953626605018,0.17537718291193713,0.99697514079337179,3.2891763142955917E-3,0.17040698776189275,0.34907334698812548,0.52577311384268433,0.72505451485231753,0.69239596798400982,0.89973120661879724,0.67854263605859899,0.89451964272374129,-0.57923564912693015,{"$f":"+Spectre!C959*N960/L960","v":1.4077822903162214},1.4395560158139058]
[4759,0.47589999999999999,4.4153851268899995,1.0200841072561084,0.17522788918558518,0.99697060698461615,3.2941137809412604E-3,0.17036043972631335,0.3488824426928398,0.5259580012634939,0.7251820119276734,0.69253517767931294,0.8999121021076788,0.67868656195033583,0.89470937956622321,-0.5781367457188713,{"$f":"+Spectre!C960*N961/L961","v":1.4087227789780716},1.4405177313577682]
[4760,0.47599999999999998,4.4135301179295254,1.0200728593366799,0.17507875473379669,0.99696606639070851,3.2990586593443392E-3,0.17031391418172281,0.34869172757486389,0.5261427703882382,0.72530940504571972,0.69267427737147791,0.90009285465341682,0.67883037570098481,0.89489896857362372,-0.57703891914495653,{"$f":"+Spectre!C961*N962/L962","v":1.4091916795984027},1.4409972150914818]
[4761,0.47610000000000002,4.4116762777240215,1.0200616188954859,0.17492977935211465,0.99696151900152552,3.3040109606307772E-3,0.17026741111253269,0.34850120142527807,0.52632742124910059,0.72543669428338675,0.69281326713540559,0.9002734643533411,0.6789740773839178,0.89508840984266858,-0.57594216823850797,{"$f":"+Spectre!C962*N963/L963","v":1.4086376854147178},{"$f":"+Q963/R$1","v":1.4404307172279021}]
[4762,0.47620000000000001,4.4098236052918587,1.020050385925805,0.17478096283638997,0.99695696480692886,3.3089706959431998E-3,0.17022093050316828,0.34831086403550143,0.52651195387828365,0.72556387971752001,0.69295214704592256,0.90045393130468443,0.67911766707243704,0.89527770346999191,-0.57484649183469072,{"$f":"+Spectre!C963*N964/L964","v":1.4079720353849634},1.439750043439525]
[4763,0.4763,4.4079720996524356,1.0200391604209227,0.1746323049827796,0.99695240379676497,3.3139378764411526E-3,0.17017447233806879,0.34812071519728954,0.52669636830801125,0.72569096142488032,0.69309091717778137,0.90063425560458399,0.67926114483977729,0.89546684955213862,-0.57375188877049066,{"$f":"+Spectre!C964*N965/L965","v":1.412039836333568},1.4439096548844039]
[4764,0.47639999999999999,4.4061217598261813,1.0200279423741332,0.17448380558774687,0.99694783596086545,3.3189125133007398E-3,0.17012803660168799,0.3479307547027356,0.5268806645705264,0.72581793948214424,0.69322957760566017,0.90081443735007993,0.67940451075910346,0.89565584818556176,-0.57265835788480324,{"$f":"+Spectre!C965*N966/L966","v":1.4171773967958008},1.4491631703753209]
[4765,0.47649999999999998,4.4042725848345485,1.0200167317787365,0.17433546444805986,0.99694326128904676,3.3238946177148671E-3,0.17008162327849308,0.34774098234426781,0.52706484269809284,0.72594481396590405,0.69336812840416406,0.90099447663811738,0.67954776490351287,0.89584469946662515,-0.57156589801833357,{"$f":"+Spectre!C966*N967/L967","v":1.4173305474160218},1.449319777613657]
[4766,0.47660000000000002,4.4024245737000198,1.0200055286280421,0.17418728136079226,0.99693867977111028,3.3288842008932402E-3,0.1700352323529658,0.34755139791465128,0.52724890272299252,0.72607158495266721,0.69350656964782231,0.90117437356554342,0.67969090734603277,0.89603340349160032,-0.57047450801365196,{"$f":"+Spectre!C967*N968/L968","v":1.4087462315390018},1.4405417132443181]
[4767,0.47670000000000001,4.400577725446106,1.0199943329153662,0.1740392561233223,0.99693409139684219,3.3338812740624927E-3,0.16998886380960129,0.34736200120698613,0.52743284467752716,0.72619825251885661,0.69364490141109081,0.90135412822910921,0.67983393815962212,0.89622196035666868,-0.56938418671512725,{"$f":"+Spectre!C968*N969/L969","v":1.4003845524944987},1.4319913106333322]
[4768,0.4768,4.3987320390973386,1.0199831446340326,0.17389138853333169,0.99692949615601356,3.3388858484660606E-3,0.16994251763290941,0.34717279201470719,0.52761666859401701,0.72632481674081095,0.69378312376835083,0.90153374072546921,0.67997685741717051,0.89641037015792024,-0.56829493296902678,{"$f":"+Spectre!C969*N970/L970","v":1.4011906088274888},1.4328155597031087]
[4769,0.47689999999999999,4.3968875136792667,1.0199719637773732,0.17374367838880536,0.99692489403838036,3.3438979353641856E-3,0.16989619380741336,0.34698377013158288,0.52780037450480133,0.72645127769478446,0.69392123679390971,0.90171321115118197,0.68011966519149925,0.89659863299135512,-0.56720674562339424,{"$f":"+Spectre!C970*N971/L971","v":1.4047803121184861},1.4364862827993492]
[4770,0.47699999999999998,4.395044148218469,1.0199607903387264,0.17359612548803163,0.99692028503368335,3.3489175460340382E-3,0.16984989231765071,0.34679493535171635,0.52798396244223755,0.72657763545694642,0.6940592405620003,0.90189253960270888,0.68026236155535968,0.89678674895288091,-0.56611962352821621,{"$f":"+Spectre!C971*N972/L972","v":1.405399057156429},1.4371189929476105]
[4771,0.47710000000000002,4.3932019417425394,1.0199496243114399,0.17344872962960078,0.99691566913164797,3.3539446917698387E-3,0.16980361314817272,0.34660628746954336,0.52816743243870079,0.72670389010338221,0.69419713514678061,0.90207172617641451,0.68040494658143436,0.89697471813831475,-0.56503356553522233,{"$f":"+Spectre!C972*N973/L973","v":1.4004337076226703},1.4320415751955122]
[4772,0.47720000000000001,4.391360893280094,1.019938465688867,0.17330149061240518,0.99691104632198468,3.358979383882495E-3,0.16975735628354455,0.3464178262798322,0.52835078452658479,0.72683004171009236,0.69433492062233471,0.90225077096856687,0.68054742034233706,0.89716254064338308,-0.56394857049792968,{"$f":"+Spectre!C973*N974/L974","v":1.3956051113651136},1.427103997248754]
[4773,0.4773,4.3895210018607616,1.0199273144643703,0.17315440823563824,0.99690641659438828,3.3640216337003318E-3,0.16971112170834554,0.34622955157768409,0.52853401873829986,0.72695609035299291,0.69447259706267195,0.90242967407533714,0.68068978291061144,0.89735021656371983,-0.56286463727180935,{"$f":"+Spectre!C974*N975/L975","v":1.3930146429738632},1.424455061840167]
[4774,0.47739999999999999,4.387682266515192,1.0199161706313187,0.17300748229879426,0.99690177993853879,3.3690714525681205E-3,0.16966490940716841,0.34604146315853079,0.52871713510627494,0.72708203610791566,0.69461016454172719,0.90260843559279991,0.68083203435873274,0.8975377459948688,-0.56178176471405328,{"$f":"+Spectre!C975*N976/L976","v":1.3912038910662083},1.4226034411600792]
[4775,0.47749999999999998,4.3858446862750471,1.0199050341830893,0.17286071260166788,0.99689713634410049,3.374128851848172E-3,0.16961871936462047,0.34585356081813656,0.5289001336629543,0.72720787905060769,0.69474762313336058,0.90278705561693218,0.68097417475910593,0.89772512903228119,-0.56069995168371856,{"$f":"+Spectre!C976*N977/L977","v":1.3899942223609492},1.4213664701640834]
[4776,0.47760000000000002,4.3840082601730028,1.0198939051130667,0.17271409894435336,0.99689248580072254,3.3791938429196117E-3,0.16957255156532236,0.34566584435259534,0.5290830144408003,0.72733361925673168,0.69488497291135798,0.90296553424361492,0.68111620418406738,0.89791236577131761,-0.55961919704168306,{"$f":"+Spectre!C977*N978/L978","v":1.3904600451383706},1.4218428065877995]
[4777,0.47770000000000001,4.3821729872427486,1.0198827834146422,0.17256764112724435,0.9968878282980389,3.3842664371784999E-3,0.16952640599390859,0.34547831355833147,0.52926577747229153,0.72745925680186596,0.69502221394943042,0.90314387156863152,0.68125812270588382,0.89809945630724697,-0.55853949965060101,{"$f":"+Spectre!C978*N979/L979","v":1.3909001970920833},1.4222928927958716]
[4778,0.4778,4.3803388665189855,1.019871669081216,0.17242133895103315,0.99688316382566777,3.3893466460384394E-3,0.16948028263502748,0.34529096823209904,0.52944842278992255,0.72758479176150426,0.69515934632121457,0.90332206768766887,0.68139993039675206,0.89828640073524602,-0.55746085837504733,{"$f":"+Spectre!C979*N980/L980","v":1.3897467631842448},1.4211134258198381]
[4779,0.47789999999999999,4.3785058970374191,1.0198605621061945,0.17227519221670995,0.99687849237321235,3.3944344809297301E-3,0.16943418147334174,0.34510380817098141,0.52963095042620423,0.7277102242110558,0.69529637010027179,0.90350012269631597,0.68154162732879986,0.89847319915040036,-0.55638327208121785,{"$f":"+Spectre!C980*N981/L981","v":1.3881727881866401},1.4195039261179818]
[4780,0.47799999999999998,4.376674077834771,1.0198494624829921,0.17212920072556323,0.99687381393026031,3.3995299532999738E-3,0.16938810249352704,0.34491683317239025,0.52981336041366289,0.72783555422584534,0.69543328536008919,0.90367803669006541,0.68168321357408479,0.89865985164770334,-0.55530673963730681,{"$f":"+Spectre!C981*N982/L982","v":1.3869166029496816},1.4182193887095491]
[4781,0.47810000000000002,4.3748434079487657,1.0198383702050313,0.17198336427917832,0.99686912848638376,3.4046330746140751E-3,0.16934204568027353,0.34473004303406596,0.52999565278484029,0.72796078188111335,0.69557009217407906,0.90385580976431246,0.68182468920459527,0.89884635832205684,-0.5542312599132182,{"$f":"+Spectre!C982*N983/L983","v":1.3865839577437771},1.417879235682632]
[4782,0.47820000000000001,4.3730138864181356,1.0198272852657408,0.17183768267943736,0.9968644360311395,3.4097438563540036E-3,0.16929601101828454,0.3445434375540759,0.53017782757229415,0.72808590725201572,0.69570679061557894,0.90403344201435532,0.68196605429224988,0.89903271926827089,-0.55315683178067676,{"$f":"+Spectre!C983*N984/L984","v":1.3863144602446991},1.417603655609837]
[4783,0.4783,4.371185512282616,1.0198162076585577,0.1716921557285184,0.99685973655406879,3.4148623100190333E-3,0.16924999849227754,0.34435701653081496,0.5303598848085963,0.72821093041362361,0.69584338075785113,0.90421093353539428,0.68210730890889715,0.89921893458106283,-0.55208345411320581,{"$f":"+Spectre!C984*N985/L985","v":1.3833159164332232},1.4145374344958308]
[4784,0.47839999999999999,4.3693582845829475,1.0198051373769261,0.17154678322889538,0.99685503004469733,3.4199884471257458E-3,0.16920400808698335,0.34417077976300448,0.53054182452633414,0.7283358514409245,0.69597986267408396,0.90438828442253383,0.68224845312631643,0.89940500435505943,-0.55101112578611611,{"$f":"+Spectre!C985*N986/L986","v":1.3794276193802397},1.4105613783595965]
[4785,0.47849999999999998,4.3675322023608691,1.0197940744142979,0.17140156498333725,0.99685031649253542,3.4251222792079112E-3,0.16915803978714744,0.34398472704969263,0.53072364675810813,0.72846067040882034,0.6961162364373894,0.90456549477077897,0.68238948701621627,0.8995909286847934,-0.54993984567652809,{"$f":"+Spectre!C986*N987/L987","v":1.3773700687771735},1.4084573887236562]
[4786,0.47860000000000003,4.3657072646591288,1.0197830187641319,0.17125650079490798,0.99684559588707766,3.4302638178167286E-3,0.16911209357752771,0.34379885819025241,0.5309053515365344,0.72858538739212964,0.69625250212080592,0.90474256467503922,0.6825304106502359,0.89977670766470663,-0.54886961266337186,{"$f":"+Spectre!C987*N988/L988","v":1.3795812446632381},1.4107184709738754]
[4787,0.47870000000000001,4.3638834705214649,1.0197719704198946,0.17111159046696506,0.99684086821780338,3.4354130745204684E-3,0.16906616944289657,0.3436131729843821,0.53108693889424297,0.72871000246558582,0.69638865979729636,0.90491949423012574,0.68267122409994474,0.89996234138914855,-0.54780042562732056,{"$f":"+Spectre!C988*N989/L989","v":1.3818416514465053},1.413029895265417]
[4788,0.4788,4.3620608189926227,1.0197609293750602,0.17096683380316036,0.99683613347417599,3.4405700609050731E-3,0.1690202673680401,0.34342767123210549,0.53126840886387627,0.72883451570383784,0.69652470953974865,0.90509628353075267,0.6828119274368416,0.90014782995237597,-0.54673228345087921,{"$f":"+Spectre!C989*N990/L990","v":1.383901304287589},1.415136034587005]
[4789,0.47889999999999999,4.360239309118338,1.0197498956231095,0.17082223060743815,0.99683139164564338,3.4457347885738011E-3,0.16897438733775763,0.34324235273376957,0.53144976147809142,0.72895892718145072,0.69666065142097555,0.90527293267153608,0.68295252073235557,0.90033317344855335,-0.54566518501829586,{"$f":"+Spectre!C990*N991/L991","v":1.3859471536838839},1.4172280589192787]
[4790,0.47899999999999998,4.3584189399453459,1.0197388691575318,0.17067778068403594,0.9968266427216379,3.4509072691472241E-3,0.16892852933686228,0.34305721729004546,0.53163099676955838,0.72908323697290478,0.69679648551371509,0.90544944174699526,0.68309300405784579,0.90051837197175311,-0.54459912921566156,{"$f":"+Spectre!C991*N992/L992","v":1.3854446280830268},1.4167141912873371]
[4791,0.47910000000000003,4.3565997105213761,1.0197278499718223,0.1705334838374829,0.99682188669157612,3.4560875142634717E-3,0.16888269335018097,0.34287226470192733,0.53181211477096024,0.72920744515259583,0.69693221189062993,0.90562581085155136,0.683233377484601,0.90070342561595496,-0.54353411493075487,{"$f":"+Spectre!C992*N993/L993","v":1.3776909555190067},1.4087855178973065]
[4792,0.47920000000000001,4.3547816198951512,1.0197168380594852,0.17038933987260033,0.99681712354485896,3.4612755355781111E-3,0.1688368793625542,0.34268749477073268,0.53199311551499195,0.72933155179483511,0.69706783062430744,0.9058020400795278,0.68337364108383947,0.90088833447504557,-0.54247014105320845,{"$f":"+Spectre!C993*N994/L994","v":1.3699349630835478},1.4008544722762084]
[4793,0.4793,4.3529646671163862,1.0197058334140308,0.17024534859450022,0.9968123532708717,3.4664713447641509E-3,0.16879108735883613,0.34250290729810051,0.53217399903436191,0.72945555697384978,0.69720334178726018,0.90597812952515056,0.68351379492670938,0.90107309864281937,-0.5414072064744091,{"$f":"+Spectre!C994*N995/L995","v":1.36623711477312},1.3970731633213644]
[4794,0.47939999999999999,4.351148851235787,1.019694836028977,0.17010150980858538,0.99680757585898383,3.4716749535121578E-3,0.16874531732389414,0.34231850208599168,0.53235476536179072,0.72957946076378255,0.69733874545192542,0.90615407928254821,0.68365383908428912,0.9012577182129784,-0.54034531008749775,{"$f":"+Spectre!C995*N996/L996","v":1.3644944114781834},1.3952911271150124]
[4795,0.47949999999999998,4.3493341713050508,1.0196838458978499,0.16995782332054901,0.99680279129854898,3.4768863735303848E-3,0.16869956924260934,0.34213427893668874,0.53253541453001008,0.72970326323869117,0.69747404169066518,0.9063298894457511,0.68379377362758587,0.90144219327913144,-0.53928445078741394,{"$f":"+Spectre!C996*N997/L997","v":1.3636736661006916},1.3944518574681735]
[4796,0.47960000000000003,4.34752062637686,1.0196728630141814,0.16981428893637346,0.99679799957890536,3.4821056165442845E-3,0.16865384309987674,0.34195023765279448,0.53271594657176413,0.7298269644725498,0.69760923057576618,0.90650556010869199,0.68393359862753689,0.90162652393479448,-0.53822462747084021,{"$f":"+Spectre!C997*N998/L998","v":1.3674641270238463},1.3983278693076242]
[4797,0.47970000000000002,4.3457082155048878,1.0196618873715122,0.16967090646233063,0.99679320068937494,3.4873326942973589E-3,0.16860813888060439,0.34176637803723237,0.53289636151980824,0.72995056453924778,0.69774431217943977,0.90668109136520569,0.68407331415500905,0.9018107102733911,-0.53716583903621329,{"$f":"+Spectre!C998*N999/L999","v":1.3711143174402232},1.4020604447270673]
[4798,{"$f":"+A1000/10000","v":0.4798},{"$f":"+(1/B1000)^2","v":4.343896937743791},{"$f":"0.23465+1.076*100/(146-C1000)+0.93161/(41-C1000)","v":1.0196509189633891},{"$f":"9.4977*0.001*C1000^2*D1000*EXP(-h/7.996/1000)","v":0.1695276757049809},{"$f":"+EXP(-0.0168*EXP(-15*ABS(B1000-0.59)))","v":0.99678839461926416},{"$f":"-2.5*LOG(F1000)","v":3.4925676185504351E-3},{"$f":"2.5*LOG(EXP(AOD*(B1000/0.55)^(-1.3)))","v":0.16856245656971419},{"$f":"+E1000+G1000+H1000","v":0.34158269989324552},{"$f":"10^(-0.4*I1000*ma)","v":0.53307665940690918},{"$f":"10^(-0.4*I1000)","v":0.73007406351259008},{"$f":"10^(-0.4*I1000*ma_ref)","v":0.69787928657382226},{"$f":"+L1000/M$1","v":0.90685648330902935},{"$f":"10^(-0.4*I1000*ma_target)","v":0.68421292028079839},{"$f":"+N1000/O$1","v":0.90199475238825144},{"$f":"(O1000/M1000-1)*100","v":-0.53610808438375734},{"$f":"+Spectre!C999*N1000/L1000","v":1.3735418886552959},1.4045428063610452]
[4799,0.47989999999999999,4.342086792149213,1.019639957783367,0.1693845964711729,0.99678358135786349,3.4978104010821493E-3,0.16851679615214168,0.34139920302439675,0.53325684026584386,0.7301974614662966,0.69801415383097398,0.90703173603380161,0.68435241707563044,0.90217865037261258,-0.5350513624154174,{"$f":"+Spectre!C1000*N1001/L1001","v":1.3755179567996052},1.4065634744745501]
[4800,0.48,4.3402777777777786,1.0196290038250075,0.16924166856804276,0.99677876089444761,3.5030610536887063E-3,0.16847115761283543,0.34121588723456686,0.53343690412940148,0.73032075847400435,0.69814891402288093,0.90720684963306419,0.68449180461016046,0.90236240431961912,-0.53399567203493703,{"$f":"+Spectre!C1001*N1002/L1002","v":1.3761981783751451},1.4072590486893208]
[4801,0.48010000000000003,4.3384698936870967,1.0196180570818805,0.1690988918030141,0.99677393321827523,3.5083195881841244E-3,0.16842554093675785,0.34103275232795605,0.53361685103038003,0.73044395460926459,0.69828356722145257,0.90738182420025981,0.68463108295497233,0.90254601432232129,-0.53294101214785838,{"$f":"+Spectre!C1002*N1003/L1003","v":1.3721046096739433},1.4030730879122186]
[4802,0.48020000000000002,4.3366631389357595,1.0196071175475616,0.16895626598379715,0.99676909831858918,3.5135860164001121E-3,0.16837994610888443,0.34084979810908167,0.53379668100158884,0.73056704994554489,0.69841811349852356,0.90755665982873346,0.6847702521805803,0.90272948047367774,-0.53188738166128902,{"$f":"+Spectre!C1003*N1004/L1004","v":1.3679792766857015},1.3988546459263311]
[4803,0.4803,4.3348575125833317,1.0195961852156348,0.16881379091838788,0.99676425618461628,3.5188603501861955E-3,0.16833437311420479,0.34066702438277885,0.53397639407584674,0.7306900445562281,0.69855255292585317,0.90773135661173265,0.6849093123574268,0.90291280286655262,-0.53083477948433488,{"$f":"+Spectre!C1004*N1005/L1005","v":1.364103582969203},1.3948914775845953]
[4804,0.48039999999999999,4.3330530136903675,1.0195852600796909,0.16867146641506886,0.99675940680556763,3.5241426014094718E-3,0.16828882193772138,0.34048443095419972,0.53415599028598237,0.73081293851461271,0.69868688557512437,0.90790591464240544,0.68504826355588411,0.90309598159371707,-0.52978320452762295,{"$f":"+Spectre!C1005*N1006/L1006","v":1.3602956843682048},1.3909976344979309]
[4805,0.48049999999999998,4.3312496413183901,1.0195743421333281,0.16852929228240712,0.99675455017063819,3.5294327819549794E-3,0.16824329256445009,0.34030201762881218,0.53433546966483447,0.73093573189391348,0.6988211115179459,0.90808033401380361,0.68518710584625375,0.90327901674784949,-0.52873265570368977,{"$f":"+Spectre!C1006*N1007/L1007","v":1.3580435066179044},1.3886946249690932]
[4806,0.48060000000000003,4.3294473945298995,1.0195634313701518,0.1683872683292546,0.99674968626900662,3.534730903725935E-3,0.16819778497942056,0.34011978421240108,0.53451483224524987,0.73105842476726002,0.69895523082584965,0.90825461481887881,0.685325839298766,0.90346190842153407,-0.5276831319266706,{"$f":"+Spectre!C1007*N1008/L1008","v":1.3609930634858747},1.3917107535015227]
[4807,0.48070000000000002,4.3276462723883746,1.0195525277837745,0.16824539436474775,0.99674481508983614,3.540036978642773E-3,0.16815229916767591,0.33993773051106646,0.53469407806008507,0.73118101720769746,0.69908924357029256,0.90842875715048566,0.68546446398357996,0.90364465670726124,-0.5266346321125881,{"$f":"+Spectre!C1008*N1009/L1009","v":1.3642350673517076},1.3950259295770107]
[4808,0.48080000000000001,4.325846273958267,1.0195416313678158,0.16810367019830669,0.99673993662227345,3.545351018644353E-3,0.16810683511427188,0.33975585633122296,0.53487320714220565,0.73130350928818744,0.69922314982265577,0.90860276110138005,0.68560297997078434,0.90382726169742855,-0.52558715517909693,{"$f":"+Spectre!C1009*N1010/L1010","v":1.3624382511704032},1.393188559153401]
[4809,0.48089999999999999,4.324047398304999,1.019530742115903,0.16796209563963466,0.99673505085544933,3.5506730356872347E-3,0.16806139280427848,0.3395741614796004,0.5350522195244849,0.73142590108160643,0.699356949654245,0.90877662676421989,0.68574138733039669,0.90400972348433983,-0.52454070004562814,{"$f":"+Spectre!C1010*N1011/L1011","v":1.3574293468079104},1.3880666035376334]
[4810,0.48099999999999998,4.322249644494967,1.0195198600216702,0.16782067049871793,0.99673015777847851,3.5560030417459243E-3,0.16801597222277831,0.33939264576324213,0.53523111523980549,0.73154819266074744,0.69949064313628995,0.90895035423156434,0.6858796861323635,0.90419204216020532,-0.52349526563326698,{"$f":"+Spectre!C1011*N1012/L1012","v":1.3535351831199409},1.3840845483561315]
[4811,0.48110000000000003,4.3204530115955349,1.019508985078758,0.16767939458582495,0.99672525738045947,3.5613410488129944E-3,0.16797057335486804,0.33921130898950602,0.53540989432105668,0.73167038409831797,0.6996242303399447,0.90912394359587434,0.68601787644655954,0.90437421781714056,-0.5224508508649639,{"$f":"+Spectre!C1012*N1013/L1013","v":1.3543859759110155},1.3849545435883683]
[4812,0.48120000000000002,4.3186574986750363,1.0194981172808155,0.16753826771150598,0.99672034965047474,3.5666870688988435E-3,0.16792519618565679,0.33903015096606159,0.53558855680113715,0.73179247546694237,0.69975771133628806,0.90929739494951289,0.68615595834278953,0.90455625054716871,-0.52140745466530136,{"$f":"+Spectre!C1013*N1014/L1014","v":1.3553961026151331},1.3859874689090301]
[4813,0.48130000000000001,4.3168631048027741,1.0194872566214983,0.16739728968659282,0.99671543457759038,3.5720411140321819E-3,0.16787984070026793,0.33884917150089289,0.5357671027129518,0.73191446683915973,0.69989108619632201,0.9094707083847432,0.68629393189078591,0.90473814044221779,-0.52036507596057158,{"$f":"+Spectre!C1014*N1015/L1015","v":1.353151272637644},1.3836919729926493]
[4814,0.48139999999999999,4.3150698290490155,1.019476403094469,0.16725646032219799,0.99671051215085649,3.5774031962595501E-3,0.16783450688383761,0.33866837040229514,0.5359455320894132,0.73203635828742519,0.7000243549909736,0.90964388399373131,0.68643179716021019,0.90491988759412234,-0.51932371367886532,{"$f":"+Spectre!C1015*N1016/L1016","v":1.3489869612943639},1.3794336729080572]
[4815,0.48149999999999998,4.3132776704849958,1.0194655566933974,0.16711577942971464,0.99670558235930695,3.5827733276455587E-3,0.16778919472151482,0.338487747478875,0.53612384496344212,0.73215814988410988,0.70015751779109414,0.90981692186854446,0.68656955422065347,0.90510149209462387,-0.51828336674989428,{"$f":"+Spectre!C1016*N1017/L1017","v":1.3457373355022095},1.3761107028789421]
[4816,0.48159999999999997,4.3114866281829114,1.0194547174119604,0.16697524682081544,0.99670064519195922,3.5881515202731348E-3,0.16774390419846283,0.33830730253955144,0.53630204136796422,0.73227984170150007,0.70029057466745825,0.90998982210115065,0.68670720314163403,0.90528295403536796,-0.51724403410519093,{"$f":"+Spectre!C1017*N1018/L1018","v":1.3501199647032975},1.380592248267676]
[4817,0.48170000000000002,4.3096967012159242,1.0194438852438423,0.16683486230745301,0.99669570063781476,3.5935377862430389E-3,0.16769863529985732,0.33812703539355338,0.5364801213359135,0.73240143381179801,0.7004235256907656,0.91016258478342016,0.68684474399259998,0.90546427350790792,-0.51620571467791976,{"$f":"+Spectre!C1018*N1019/L1019","v":1.3547099398935265},1.3852858194561917]
[4818,0.48180000000000001,4.307907888658157,1.0194330601827342,0.16669462570185864,0.99669074868585839,3.5989321376745913E-3,0.16765338801088767,0.3379469458504209,0.53665808490022893,0.73252292628712168,0.70055637093163903,0.9103352100071237,0.68698217684292717,0.90564545060370139,-0.5151684074029883,{"$f":"+Spectre!C1019*N1020/L1020","v":1.3538015468054037},1.3843569238849613]
[4819,0.4819,4.3061201895846937,1.0194222422223345,0.16655453681654223,0.99668578932505902,3.6043345867048278E-3,0.1676081623167559,0.33776703372000294,0.53683593209385716,0.73264431919950479,0.70068911046062654,0.91050769786393437,0.68711950176192083,0.90582648541411337,-0.51413211121698055,{"$f":"+Spectre!C1020*N1021/L1021","v":1.3496296792932758},1.3800908970883654]
[4820,0.48199999999999998,4.3043336030715729,1.0194114313563483,0.16641459546429146,0.99668082254436874,3.6097451454895862E-3,0.16756295820267803,0.33758729881245908,0.53701366294974928,0.73276561262089657,0.70082174434819899,0.91068004844542538,0.68725671881881356,0.90600737803041265,-0.51309682505829013,{"$f":"+Spectre!C1021*N1022/L1022","v":1.3455541444233801},1.3759233771671566]
[4821,0.48209999999999997,4.3025481281957987,1.0194006275784884,0.16627480145817197,0.99667584833272382,3.6151638262023047E-3,0.16751777565388271,0.33740774093825698,0.53719127750086304,0.73288680662316219,0.70095427266475219,0.91085226184307233,0.68739382808276761,0.90618812854377573,-0.512062547866865,{"$f":"+Spectre!C1022*N1023/L1023","v":1.3416947752106008},1.3719769017741075]
[4822,0.48220000000000002,4.3007637640353282,1.019389830882474,0.16613515461152639,0.9966708666790437,3.6205906410352248E-3,0.16747261465561186,0.33722835990817346,0.53736877578016073,0.73300790127808257,0.70108669548060509,0.9110243381482509,0.68753082962287271,0.90636873704528309,-0.51102927858445168,{"$f":"+Spectre!C1023*N1024/L1024","v":1.3376966501964707},1.3678885388534643]
[4823,0.48230000000000001,4.2989805096690734,1.0193790412620316,0.16599565473797356,0.99666587757223168,3.6260256021985538E-3,0.16742747519312071,0.33704915553329284,0.53754615782061077,0.73312889665735403,0.70121901286600141,0.91119627745223886,0.68766772350814753,0.90654920362592184,-0.50999701615447313,{"$f":"+Spectre!C1024*N1025/L1025","v":1.3371591581816078},1.3673389156135853]
[4824,0.4824,4.2971983641769045,1.0193682587108952,0.1658563016514091,0.99666088100117445,3.6314687219210643E-3,0.16738235725167755,0.33687012762500773,0.53772342365518588,0.73324979283258884,0.70135122489110813,0.9113680798462146,0.68780450980753849,0.90672952837658372,-0.50896575952206202,{"$f":"+Spectre!C1025*N1026/L1026","v":1.3392957849590104},1.3695237661775657]
[4825,0.48249999999999998,4.295417326639642,1.0193574832228052,0.16571709516600394,0.99665587695474234,3.6369200124497375E-3,0.1673372608165638,0.33669127599501747,0.53790057331686347,0.733370589875315,0.7014833316260165,0.91153974542125782,0.68794118858992082,0.90690971138806653,-0.5079355076340164,{"$f":"+Spectre!C1026*N1027/L1027","v":1.3396253613957003},{"$f":"+Q1027/R$1","v":1.3698607811729744}]
[4826,0.48259999999999997,4.2936373961390579,1.0193467147915092,0.16557803509620408,0.99665086542178916,3.6423794860500035E-3,0.16729218587307371,0.33651260045532783,0.53807760683862627,0.73349128785697659,0.70161533314074143,0.91171127426834908,0.68807775992409792,0.90708975275107362,-0.50690625943879963,{"$f":"+Spectre!C1027*N1028/L1028","v":1.3303111226324471},1.360336319516793]
[4827,0.48270000000000002,4.2918585717578788,1.0193359534107618,0.16543912125673058,0.99664584639115228,3.647847155005623E-3,0.16724713240651512,0.33633410081825132,0.53825452425346021,0.73361188684893319,0.70174722950522206,0.91188266647837068,0.68821422387880105,0.90726965255621295,-0.50587801388668474,{"$f":"+Spectre!C1028*N1029/L1029","v":1.3200516747368336},1.3498453153049541]
[4828,0.48280000000000001,4.2900808525797798,1.0193251990743248,0.16530035346257874,0.99664081985165254,3.6533230316188091E-3,0.1672021004022087,0.33615577689640624,0.53843132559435603,0.73373238692245968,0.70187902078932074,0.91205392214210479,0.68835058052268983,0.90744941089399833,-0.50485076992947686,{"$f":"+Spectre!C1029*N1030/L1030","v":1.3154338291363197},1.3451232446694252]
[4829,0.4829,4.288304237689383,1.0193144517759667,0.16516173152901745,0.99663578579209411,3.6588071282103517E-3,0.1671570898454883,0.33597762850271606,0.53860801089430765,0.73385278814874744,0.70201070706282409,0.91222504135023552,0.68848682992435184,0.90762902785484845,-0.503824526520813,{"$f":"+Spectre!C1030*N1031/L1031","v":1.3161610145913714},1.3458668427411107]
[4830,0.48299999999999998,4.2865287261722589,1.0193037115094634,0.16502325527158912,0.99663074420126452,3.6642994571196158E-3,0.16711210072170049,0.33579965545040924,0.53878458018631281,0.73397309059890337,0.70214228839544224,0.91239602419334731,0.68862297215230306,0.90780850352908748,-0.50279928261586226,{"$f":"+Spectre!C1031*N1032/L1032","v":1.3159746990757486},1.3456763220738177]
[4831,0.48309999999999997,4.284754317114924,1.0192929782685975,0.164884924506109,0.99662569506793508,3.6698000307040595E-3,0.16706713301620529,0.33562185755301832,0.53896103350337299,0.73409329434395021,0.70227376485680904,0.91256687076192555,0.68875900727498729,0.9079878380069446,-0.50177503717155902,{"$f":"+Spectre!C1032*N1033/L1033","v":1.3064722001615681},1.3359593512245105]
[4832,0.48320000000000002,4.2829810096048408,1.0192822520471583,0.16474673904866463,0.99662063838086001,3.6753088613402053E-3,0.16702218671437552,0.33544423462438033,0.53913737087849234,0.73421339945482644,0.70240513651648251,0.91273758114635728,0.68889493536077628,0.90816703137855403,-0.50075178914653629,{"$f":"+Spectre!C1033*N1034/L1034","v":1.296528354151808},1.3257910720508452]
[4833,0.48330000000000001,4.2812088027304176,1.0192715328389426,0.16460869871561593,0.99661557412877722,3.6808259614227934E-3,0.16697726180159739,0.33526678647863611,0.53931359234467735,0.73433340600238606,0.70253640344394352,0.91290815543692905,0.6890307564779693,0.90834608373395431,-0.49972953750109239,{"$f":"+Spectre!C1034*N1035/L1035","v":1.2902151574620042},1.3193353861565569]
[4834,0.4834,4.2794376955810014,1.0192608206377538,0.16447080332359382,0.99661050230040771,3.6863513433653882E-3,0.16693235826326952,0.33508951293022871,0.53948969793493806,0.73445331405739944,0.70266756570859734,0.91307859372382938,0.68916647069479442,0.90852499516309027,-0.49870828119713551,{"$f":"+Spectre!C1035*N1036/L1036","v":1.2872002923664969},1.3162524753862204]
[4835,0.48349999999999999,4.2776676872468826,1.0192501154374021,0.16433305268950044,0.99660542288445586,3.6918850196001373E-3,0.16688747608480375,0.33491241379390435,0.53966568768228673,0.73457312369055239,0.7027986233797725,0.91324889609714677,0.68930207807940702,0.90870376575581091,-0.49768801919826133,{"$f":"+Spectre!C1036*N1037/L1037","v":1.2839192630062464},1.3128973930087102]
[4836,0.48359999999999997,4.2758987768192922,1.0192394172317054,0.16419544663050864,0.9966003358696095,3.6974270025776504E-3,0.16684261525162505,0.33473548888471139,0.53984156161973762,0.73469283497244675,0.70292957652672128,0.91341906264687089,0.68943757869989042,0.9088823956018699,-0.49666875046977532,{"$f":"+Spectre!C1037*N1038/L1038","v":1.2794115619337159},1.3082879528693585]
[4837,0.48370000000000002,4.2741309633904008,1.0192287260144874,0.16405798496406118,0.99659524124453946,3.7029773047674891E-3,0.16679777574917146,0.33455873801800012,0.54001731978030676,0.73481244797360012,0.70306042521861944,0.91358909346289197,0.68957297262425532,0.90906088479092573,-0.49565047397867046,{"$f":"+Spectre!C1038*N1039/L1039","v":1.2749227317207463},1.3036978095059297]
[4838,0.48380000000000001,4.2723642460533187,1.0192180417795795,0.16392066750787071,0.99659013899789994,3.7085359386578023E-3,0.16675295756289341,0.33438216100942192,0.54019296219701229,0.73493196276444583,0.70319116952456628,0.91375898863500082,0.68970825992044105,0.9092392334125422,-0.49463318869348294,{"$f":"+Spectre!C1039*N1040/L1040","v":1.2684552587884592},1.2970843653456854]
[4839,0.4839,4.2705986239020879,1.0192073645208199,0.1637834940799188,0.99658502911832836,3.7141029167554471E-3,0.16670816067825459,0.33420575767492883,0.54036848890287381,0.73505137941533361,0.70332180951358525,0.91392874825288961,0.68984344065631409,0.90941744155618764,-0.49361689358453642,{"$f":"+Spectre!C1040*N1041/L1041","v":1.2601604672561437},1.2886023599018004]
[4840,0.48399999999999999,4.2688340960316928,1.0191966942320536,0.16364646449845618,0.99657991159444503,3.7196782515863565E-3,0.16666338508073192,0.33402952783077444,0.54054389993091145,0.73517069799652768,0.70345234525462186,0.91409837240614933,0.68997851489966799,0.9095955093112339,-0.49260158762374218,{"$f":"+Spectre!C1041*N1042/L1042","v":1.2530439084017022},1.2813251799136192]
[4841,0.48409999999999997,4.2670706615380469,1.0191860309071323,0.16350957858200132,0.99657478641485375,3.7252619556949352E-3,0.16661863075581454,0.33385347129351084,0.54071919531414747,0.73528991857820991,0.70358277681654668,0.91426786118427361,0.69011348271822492,0.90977343676695877,-0.49158726978471012,{"$f":"+Spectre!C1042*N1043/L1043","v":1.2554713218409466},1.2838073802107595]
[4842,0.48420000000000002,4.2653083195179997,1.0191753745399148,0.16337283614934092,0.99656965356814142,3.7308540416444214E-3,0.16657389768900518,0.33367758787999052,0.54089437508560467,0.7354090412304769,0.70371310426815292,0.91443721467665551,0.69024834417963443,0.90995122401254436,-0.4905739390426489,{"$f":"+Spectre!C1043*N1044/L1044","v":1.2592421552016639},1.2876633214925846]
[4843,0.48430000000000001,4.2635470690693342,1.0191647251242664,0.16323623701952905,0.99656451304287796,3.7364545220170122E-3,0.1665291858658188,0.33350187740736487,0.54106943927830597,0.73552806602334164,0.70384332767815738,0.91460643297258881,0.69038309935147324,0.91012887113707674,-0.48956159437446578,{"$f":"+Spectre!C1044*N1045/L1045","v":1.2687280896140081},1.2973633539783169]
[4844,0.4844,4.2617869092907625,1.0191540826540599,0.16309978101188669,0.9965593648276162,3.7420634094139857E-3,0.16648449527178383,0.33332633969308451,0.54124438792527463,0.73564699302673231,0.70397344711519994,0.91477551616126729,0.69051774830124546,0.9103063782295463,-0.48855023475870007,{"$f":"+Spectre!C1045*N1046/L1046","v":1.2854730441196869},1.3144862430493007]
[4845,0.48449999999999999,4.2600278392819302,1.0191434471231744,0.16296346794600136,0.99655420891089241,3.7476807164550951E-3,0.16643982589244086,0.33315097455489728,0.54141922105953477,0.73576582231049403,0.70410346264784462,0.91494446433178622,0.69065229109638338,0.91048374537884869,-0.48753985917553422,{"$f":"+Spectre!C1046*N1047/L1047","v":1.3019283802509207},1.3313129770428336]
[4846,0.48459999999999998,4.2582698581434046,1.0191328185254962,0.16282729764172621,0.99654904528122557,3.7533064557794195E-3,0.166395177713344,0.33297578181084964,0.54159393871410977,0.73588455394438712,0.70423337434457811,0.91511327757314032,0.6907867278042461,0.91066097267378299,-0.48653046660679378,{"$f":"+Spectre!C1047*N1048/L1048","v":1.3206897845377821},1.3504978272800114]
[4847,0.48470000000000002,4.2565129649766877,1.019122196854918,0.16269126991918054,0.99654387392711774,3.7589406400448801E-3,0.16635055072005978,0.33280076127928515,0.54176854092202287,0.73600318799808773,0.70436318227381089,0.91528195597422535,0.69092105849212027,0.91083806020305313,-0.48552205603595855,{"$f":"+Spectre!C1048*N1049/L1049","v":1.3401253506738355},1.3703720552372478]
[4848,0.48480000000000001,4.2547571588842041,1.0191115821053398,0.16255538459874835,0.99653869483705404,3.7645832819283645E-3,0.16630594489816752,0.33262591277884423,0.5419430277162971,0.73612172454118863,0.70449288650387631,0.91545049962383696,0.69105528322721987,0.91101500805526681,-0.48451462644815146,{"$f":"+Spectre!C1049*N1050/L1050","v":1.3507777615558247},1.3812648916321739]
[4849,0.4849,4.2530024389693084,1.0191009742706678,0.16241964150107877,0.99653350799950247,3.770234394125846E-3,0.16626136023325949,0.33245123612846411,0.54211739912995416,0.73624016364319766,0.70462248710303144,0.91561890861067119,0.69118940207668611,0.91119181631893609,-0.48350817683009417,{"$f":"+Spectre!C1050*N1051/L1051","v":1.3483196504034467},1.3787513007727874]
[4850,0.48499999999999999,4.2512488043362744,1.019090373344816,0.16228404044708483,0.99652831340291403,3.775893989352267E-3,0.16621679671094064,0.33227673114737777,0.5422916551960153,0.73635850537353942,0.70475198413945639,0.91578718302332474,0.69132341510758788,0.91136848508247736,-0.48250270617019586,{"$f":"+Spectre!C1051*N1052/L1052","v":1.3468408054394536},1.3772390781947537]
[4851,0.48509999999999998,4.2494962540902996,1.0190797793217037,0.16214858125794321,0.99652311103572255,3.7815620803417819E-3,0.16617225431682858,0.33210239765511357,0.54246579594750066,0.73647674980155398,0.70488137768125492,0.91595532295029469,0.69145732238692115,0.91154501443421143,-0.48149821345845334,{"$f":"+Spectre!C1052*N1053/L1053","v":1.3500126015509357},1.3804824619229248]
[4852,0.48520000000000002,4.2477447873375063,1.0190691921952584,0.16201326375509434,0.99651790088634473,3.7872386798476357E-3,0.16612773303655404,0.33192823547149602,0.54263982141742806,0.73659489699649738,0.70501066779645294,0.91612332847997691,0.69159112398160838,0.91172140446236161,-0.48049469768649544,{"$f":"+Spectre!C1053*N1054/L1054","v":1.3538836774796343},1.3844409082531304]
[4853,0.48530000000000001,4.2459944031849366,1.0190586119594138,0.16187808776024143,0.99651268294318029,3.7929238006420458E-3,0.16608323285575999,0.33175424441664347,0.54281373163881486,0.73671294702754186,0.7051398545530011,0.91629119970066963,0.6917248199585001,0.91189765525505673,-0.47949215784764965,{"$f":"+Spectre!C1054*N1055/L1055","v":1.3535394213657654},1.3840888822594026]
[4854,0.4854,4.2442451007405531,1.0190480386081102,0.16174305309535014,0.99650745719461165,3.7986174555165683E-3,0.16603875376010271,0.33158042431096946,0.54298752664467531,0.73683089996377527,0.70526893801877155,0.91645893670056922,0.69185841038437346,0.91207376690032882,-0.47849059293675333,{"$f":"+Spectre!C1055*N1056/L1056","v":1.3474871778797819},1.3779000392974265]
[4855,0.48549999999999999,4.2424968791132338,1.0190374721352946,0.16160815958264801,0.99650222362900398,3.804319657281975E-3,0.16599429573525032,0.33140677497518034,0.54316120646802313,0.73694875587420217,0.70539791826156129,0.91662653956777407,0.69199189532593297,0.91224973948611421,-0.47749000195037583,{"$f":"+Spectre!C1056*N1057/L1057","v":1.3414724730773817},1.3717495822692345]
[4856,0.48559999999999998,4.2407497374127772,1.0190269125349214,0.16147340704462426,0.99649698223470529,3.810030418768256E-3,0.16594985876688464,0.3312332962302772,0.54333477114186812,0.73706651482774199,0.70552679534908902,0.91679400839028102,0.69212527484981001,0.91242557310025252,-0.47649038388662968,{"$f":"+Spectre!C1057*N1058/L1058","v":1.3339127030894868},1.3640191878473817]
[4857,0.48570000000000002,4.2390036747498963,1.019016359800951,0.16133879530402925,0.99649173300004634,3.815749752824624E-3,0.16590544284069925,0.33105998789755309,0.54350822069921889,0.73718417689323157,0.70565556934899754,0.91696134325598821,0.69225854902256312,0.91260126783048778,-0.47549173774529274,{"$f":"+Spectre!C1058*N1059/L1059","v":1.3259182250794743},1.3558442740188945]
[4858,0.48580000000000001,4.2372586902362208,1.0190058139273506,0.16120432418387406,0.99648647591334083,3.8214776723193918E-3,0.16586104794240103,0.33088684979859451,0.54368155517308059,0.73730174213942246,0.70578424032885234,0.91712854425269341,0.69239171791067766,0.91277682376446723,-0.47449406252774162,{"$f":"+Spectre!C1059*N1060/L1060","v":1.3192573268757717},1.3490330389679761]
[4859,0.4859,4.2355147829842945,1.0189952749080948,0.16106999350743004,0.99648121096288467,3.8272141901406985E-3,0.16581667405770925,0.33071388175527999,0.54385477459645526,0.73741921063498284,0.70591280835614156,0.9172956114680938,0.69252478158056585,0.91295224098974181,-0.47349735723695163,{"$f":"+Spectre!C1060*N1061/L1061","v":1.3147190918335856},1.3443923757055556]
[4860,0.48599999999999999,4.2337719521075714,1.0189847427371641,0.16093580309822819,0.99647593813695701,3.8329593191954274E-3,0.16577232117235585,0.33054108358977946,0.54402787900234262,0.73753658244849718,0.70604127349827717,0.91746254498978752,0.69265774009856718,0.91312751959376648,-0.47250162087754122,{"$f":"+Spectre!C1061*N1062/L1062","v":1.3096177566878546},1.3391759031385722]
[4861,0.48609999999999998,4.2320301967204221,1.0189742174085461,0.16080175278005923,0.99647065742381913,3.838713072410412E-3,0.16572798927208537,0.33036845512455504,0.54420086842373794,0.73765385764846525,0.70616963582259373,0.91762934490527237,0.6927905935309473,0.91330265966389912,-0.47150685245576085,{"$f":"+Spectre!C1062*N1063/L1063","v":1.2930476241726561},1.3222317818002296]
[4862,{"$f":"+A1064/10000","v":0.48620000000000002},{"$f":"+(1/B1064)^2","v":4.2302895159381233},{"$f":"0.23465+1.076*100/(146-C1064)+0.93161/(41-C1064)","v":1.0189636989162352},{"$f":"9.4977*0.001*C1064^2*D1064*EXP(-h/7.996/1000)","v":0.16066784237697251},{"$f":"+EXP(-0.0168*EXP(-15*ABS(B1064-0.59)))","v":0.99646536881171555},{"$f":"-2.5*LOG(F1064)","v":3.84447546273123E-3},{"$f":"2.5*LOG(EXP(AOD*(B1064/0.55)^(-1.3)))","v":0.16568367834265518},{"$f":"+E1064+G1064+H1064","v":0.33019599618235895},{"$f":"10^(-0.4*I1064*ma)","v":0.54437374289363338},{"$f":"10^(-0.4*I1064)","v":0.73777103630330354},{"$f":"10^(-0.4*I1064*ma_ref)","v":0.70629789539634891},{"$f":"+L1064/M$1","v":0.91779601130194588},{"$f":"10^(-0.4*I1064*ma_target)","v":0.69292334194389948},{"$f":"+N1064/O$1","v":0.91347766128740193},{"$f":"(O1064/M1064-1)*100","v":-0.47051305097939311},{"$f":"+Spectre!C1063*N1064/L1064","v":1.2733104628437295},1.3020491516296486]
[4863,0.48630000000000001,4.2285499088768645,1.0189531872542319,0.16053407171327602,0.99646007228887279,3.8502465031235366E-3,0.16563938836983469,0.33002370658623426,0.54454650244501779,0.73788811848134461,0.70642605228672317,0.91796254426710544,0.69305598540354352,0.91365252455144041,-0.4695202154578193,{"$f":"+Spectre!C1064*N1065/L1065","v":1.2571018236484957},1.285474682535841]
[4864,0.4864,4.2268113746537388,1.0189426824165442,0.16040044061353559,0.99645476784350018,3.8560262065722166E-3,0.16559511933940649,0.32985158615951427,0.54471914711087521,0.73800510425083654,0.70655410656082029,0.91812894388794897,0.69318852397592579,0.91382724954308303,-0.46852834490216377,{"$f":"+Spectre!C1065*N1066/L1066","v":1.2490932263376273},1.2772853307330831]
[4865,0.48649999999999999,4.2250739123867547,1.0189321843971859,0.1602669489025752,0.99644945546378982,3.8618145860813886E-3,0.16555087123716547,0.32967963472582207,0.54489167692418572,0.7381219936799438,0.70668205828566644,0.91829521025157312,0.69332095772701929,0.91400183634930177,-0.46753743832499417,{"$f":"+Spectre!C1066*N1067/L1067","v":1.240046037727728},1.2680339465672417]
[4866,0.48659999999999998,4.2233375211948196,1.0189216931901781,0.16013359640547559,0.99644413513791619,3.8676116546748889E-3,0.16550664404891893,0.32950785210906941,0.54506409191792504,0.73823878683674726,0.70680990752821149,0.91846134344497588,0.69345328672272422,0.91417628505697257,-0.46654749474058788,{"$f":"+Spectre!C1067*N1068/L1068","v":1.2391912052458793},1.2671598204681827]
[4867,0.48670000000000002,4.221602200197748,1.0189112087895482,0.16000038294757427,0.99643880685403596,3.873417425396394E-3,0.16546243776048711,0.3293362381334578,0.5452363921250637,0.73835548378924343,0.70693765435532752,0.91862734355505382,0.69358551102886701,0.91435059575287414,-0.46555851316474328,{"$f":"+Spectre!C1068*N1069/L1069","v":1.2397855354572846},1.2677675647458979]
[4868,0.48680000000000001,4.21986794851626,1.0189007311893306,0.15986730835446539,0.99643347060028875,3.8792319113086968E-3,0.1654182523577023,0.32916479262347642,0.5454085775785682,0.73847208460534497,0.70706529883380964,0.91879321066860342,0.69371763071120074,0.91452476852368836,-0.4645704926148686,{"$f":"+Spectre!C1069*N1070/L1070","v":1.2405434254728993},1.2685425603818057]
[4869,0.4869,4.2181347652719783,1.0188902603835657,0.15973437245199884,0.99642812636479638,3.885055125494434E-3,0.16537408782640972,0.32899351540390298,0.54558064831139907,0.73858858935288096,0.70719284103037583,0.91895894487232133,0.69384964583540532,0.91469880345600085,-0.46358343210994857,{"$f":"+Spectre!C1070*N1071/L1071","v":1.2415182589731768},1.2695393959290311]
[4870,0.48699999999999999,4.2164026495874261,1.0188797963663012,0.15960157506628006,0.99642277413566316,3.8908870810558465E-3,0.16532994415246682,0.32882240629980275,0.54575260435651207,0.73870499809959644,0.70732028101166722,0.91912454625280404,0.69398155646708659,0.91487270063629955,-0.46259733067067765,{"$f":"+Spectre!C1071*N1072/L1072","v":1.2423018473824277},1.2703406699727653]
[4871,0.48709999999999998,4.2146716005860245,1.0188693391315908,0.15946891602366908,0.99641741390097571,3.8967277911148984E-3,0.16528582132174366,0.32865146513652765,0.54592444574685717,0.73882131091315273,0.70744761884424745,0.91929001489654727,0.69411336267177792,0.91504646015097657,-0.46161218731917142,{"$f":"+Spectre!C1072*N1073/L1073","v":1.2515066141377815},1.27975318883167]
[4872,0.48720000000000002,4.2129416173921008,1.0188588886734953,0.1593363951507813,0.99641204564880326,3.9025772688130421E-3,0.16524171932012255,0.32848069173971689,0.54609617251537901,0.73893752786112687,0.70757485459460301,0.91945535088994679,0.69424506451493828,0.91522008208632644,-0.46062800107922186,{"$f":"+Spectre!C1073*N1074/L1074","v":1.2634328095103227},1.2919485591047659]
[4873,0.48730000000000001,4.2112126991308765,1.0188484449860817,0.15920401227448591,0.99640666936719713,3.9084355273116995E-3,0.16519763813349866,0.32831008593529631,0.54626778469501536,0.73905364901101256,0.70770198832914288,0.91962055431929746,0.69437666206195325,0.91539356652854653,-0.45964477097619749,{"$f":"+Spectre!C1074*N1075/L1075","v":1.271698780723852},1.3004010937536483]
[4874,0.4874,4.2094848449284727,1.0188380080634243,0.15907176722190602,0.99640128504419101,3.914302579792024E-3,0.16515357774777942,0.32813964754947744,0.54643928231869821,0.73916967443021919,0.70782902011419901,0.91978562527079399,0.69450815537813493,0.91556691356373743,-0.45866249603699893,{"$f":"+Spectre!C1075*N1076/L1076","v":1.2719148646348288},1.3006220546906533]
[4875,0.48749999999999999,4.2077580539119008,1.0188275778996025,0.15893965982041752,0.99639589266780115,3.9201784394546583E-3,0.16510953814888446,0.32796937640875667,0.54661066541935399,0.73928560418607303,0.70795595001602674,0.91995056383053164,0.69463954452872212,0.91574012327790322,-0.45768117529020325,{"$f":"+Spectre!C1076*N1077/L1077","v":1.2720685662315387},1.3007792253410486]
[4876,0.48759999999999998,4.2060323252090734,1.0188171544887039,0.15880768989764996,0.9963904922260256,3.926063119520584E-3,0.16506551932274616,0.32779927233991668,0.5467819340299015,0.73940143834581595,0.70808277810080278,0.92011537008450361,0.69477082957887926,0.91591319575694996,-0.45670080776585298,{"$f":"+Spectre!C1077*N1078/L1078","v":1.2716095014340567},1.3003097994252593]
[4877,0.48770000000000002,4.2043076579487959,1.0188067378248216,0.15867585728148503,0.9963850837068452,3.9319566332300347E-3,0.16502152125530911,0.32762933517002418,0.54695308818325317,0.73951717697660613,0.70820950443462771,0.92028004411860387,0.69490201059369772,0.91608613108668713,-0.45572139249563381,{"$f":"+Spectre!C1078*N1079/L1079","v":1.2708997718449084},1.2995840511993528]
[4878,0.48780000000000001,4.2025840512607662,1.0187963279020558,0.15854416180005657,0.99637966709822245,3.9378589938437059E-3,0.16497754393253017,0.32745956472643045,0.54712412791231413,0.73963282014551812,0.70833612908352417,0.92044458601862533,0.69503308763819482,0.91625892935282693,-0.45474292851277465,{"$f":"+Spectre!C1079*N1080/L1080","v":1.2720064843163859},1.3007157422335778]
[4879,0.4879,4.2008615042755739,1.0187859247145128,0.15841260328175003,0.99637424238810257,3.94377021464167E-3,0.16493358734037911,0.32728996083677081,0.54729505324998273,0.73974836791954257,0.70846265211343762,0.92060899587026057,0.69516406077731396,0.91643159064098378,-0.4537654148521364,{"$f":"+Spectre!C1080*N1081/L1081","v":1.2790455481987328},1.3079136781837841]
[4880,0.48799999999999999,4.199140016124697,1.0187755282563058,0.15828118155520185,0.99636880956441254,3.9496903089243432E-3,0.16488965146483736,0.32712052332896357,0.54746586422914945,0.7398638203655864,0.70858907359023615,0.92077327375910167,0.69529493007592524,0.91660411503667583,-0.45278885055004547,{"$f":"+Spectre!C1081*N1082/L1082","v":1.2860540488009704},1.3150803610389294]
[4881,0.48809999999999998,4.1974195859405086,1.0187651385215546,0.15814989644929978,0.9963633686150617,3.9556192900118848E-3,0.16484573629189925,0.32695125203121089,0.54763656088269752,0.73997917755047282,0.70871539357971036,0.92093741977063981,0.69542569559882461,0.91677650262532306,-0.45181323464443812,{"$f":"+Spectre!C1082*N1083/L1083","v":1.2899266547391537},1.3190403719110197]
[4882,0.48820000000000002,4.1957002128562619,1.0187547555043848,0.15801874779318137,0.9963579195279415,3.961557171244438E-3,0.16480184180757124,0.32678214677199702,0.54780714324350166,0.74009443954094112,0.70884161214757357,0.92110143399026612,0.69555635741073418,0.91694875349224858,-0.45083856617482709,{"$f":"+Spectre!C1083*N1084/L1084","v":1.2925129296035358},1.321685019144601]
[4883,0.48830000000000001,4.1939818960061093,1.0187443791989292,0.15788773541623474,0.99635246229092533,3.9675039659823764E-3,0.16475796799787196,0.32661320738008909,0.54797761134442924,0.74020960640364686,0.70896772935946151,0.92126531650327048,0.6956869155763018,0.9171208677226772,-0.44986484418232386,{"$f":"+Spectre!C1084*N1085/L1085","v":1.2956659353826743},1.3249091884415705]
[4884,0.4884,4.1922646345250758,1.0187340095993269,0.15775685914809678,0.9963469968918689,3.9734596876058199E-3,0.1647141148488325,0.32644443368453513,0.54814796521833931,0.74032467820516257,0.70909374528093305,0.92142906739484332,0.6958173701601027,0.91729284540173806,-0.44889206770951651,{"$f":"+Spectre!C1085*N1086/L1086","v":1.3014182372632253},1.3307913200992039]
[4885,0.48849999999999999,4.1905484275490839,1.0187236466997234,0.15762611881865424,0.99634152331860959,3.9794243495153616E-3,0.16467028234649633,0.32627582551466594,0.54831820489808181,0.74043965501197595,0.70921965997746872,0.92159268675007278,0.6959477212266364,0.91746468661446079,-0.44792023580060292,{"$f":"+Spectre!C1086*N1087/L1087","v":1.3075073780821269},1.337017893168978]
[4886,0.48859999999999998,4.1888332742149323,1.0187132904942708,0.15749551425804223,0.99633604155896727,3.9853979651312257E-3,0.1646264704769192,0.32610738270009265,0.54848833041649869,0.74055453689049167,0.70934547351447197,0.92175617465394732,0.69607796884032958,0.91763639144577869,-0.44694934750129089,{"$f":"+Spectre!C1087*N1088/L1088","v":1.3063747199492166},1.3358596708782819]
[4887,0.48870000000000002,4.1871191736603066,1.0187029409771273,0.15736504529664413,0.99633055160074324,3.9913805478943533E-3,0.16458267922616876,0.32593910507070722,0.54865834180642248,0.74066932390703066,0.70947118595726899,0.92191953119135484,0.69620811306553443,0.917807959980527,-0.44597940185893137,{"$f":"+Spectre!C1088*N1089/L1089","v":1.3021385133320107},1.3315278528393863]
[4888,0.48880000000000001,4.1854061250237731,1.0186925981424584,0.15723471176509132,0.9963250534317214,3.9973721112651992E-3,0.16453890858032538,0.3257709924566819,0.54882823910067702,0.74078401612783018,0.70959679737110815,0.92208275644708193,0.69633815396652943,0.91797939230344361,-0.44501039792232966,{"$f":"+Spectre!C1089*N1090/L1090","v":1.2992654812782733},1.3285899762905524]
[4889,0.4889,4.1836941274447783,1.0186822619844349,0.15710451349426244,0.99631954703966685,4.0033726687251818E-3,0.16449515852548163,0.32560304468846923,0.54899802233207651,0.74089861361904341,0.70972230782116008,0.92224585050581442,0.69646809160751844,0.91815068849916837,-0.44404233474186761,{"$f":"+Spectre!C1090*N1091/L1091","v":1.3011511659767778},{"$f":"+Q1091/R$1","v":1.3305182209987954}]
[4890,0.48899999999999999,4.18198318006365,1.0186719324972349,0.15697445031528329,0.9963140324123273,4.0093822337752341E-3,0.16445142904774182,0.32543526159680036,0.54916769153342615,0.74101311644674062,0.70984771737251873,0.92240881345213821,0.69659792605263193,0.91832184865224409,-0.44307521136951467,{"$f":"+Spectre!C1091*N1092/L1092","v":1.3031487935622919},1.3325609351513057]
[4891,0.48909999999999998,4.1802732820215933,1.0186616096750429,0.15684452205952637,0.99630850953743189,4.0154008199370147E-3,0.16440772013322308,0.32526764301268646,0.54933724673752082,0.74112752467690757,0.7099730260901993,0.92257164537053726,0.69672765736592557,0.91849287284711489,-0.4421090268587391,{"$f":"+Spectre!C1092*N1093/L1093","v":1.3088566474462602},1.3383976156185731]
[4892,0.48920000000000002,4.1785644324606928,1.0186512935120491,0.15671472855861021,0.99630297840269177,4.0214284407523075E-3,0.16436403176805445,0.32510018876741698,0.54950668797714586,0.74124183837544722,0.71009823403914019,0.92273434634539542,0.69685728561138105,0.91866376116812787,-0.44114378026456347,{"$f":"+Spectre!C1093*N1094/L1094","v":1.3169093715728768},1.3466320901817932]
[4893,0.48930000000000001,4.1768566305239085,1.0186409840024511,0.15658506964439944,0.99629743899579981,4.0274651097833812E-3,0.16432036393837723,0.32493289869256003,0.54967601528507604,0.74135605760817813,0.71022334128420184,0.92289691646099536,0.69698681085290592,0.91883451369953184,-0.44017947064353136,{"$f":"+Spectre!C1094*N1095/L1095","v":1.3221710410865675},1.3520125158724421]
[4894,0.4894,4.1751498753550758,1.018630681140452,0.1564555451490037,0.99629189130443085,4.0335108406126313E-3,0.16427671663034482,0.32476577261996115,0.54984522869407648,0.74147018244083562,0.71034834789016721,0.92305935580151899,0.69711623315433335,0.91900513052547783,-0.43921609705377396,{"$f":"+Spectre!C1095*N1096/L1096","v":1.3151096953741153},1.3447917951899715]
[4895,0.48949999999999999,4.1734441660989035,1.0186203849202617,0.15632615490477778,0.99628633531624144,4.0395656468429466E-3,0.16423308983012266,0.32459881038174337,0.55001432823690166,0.74158421293907195,0.71047325392174199,0.92322166445104792,0.69724555257942256,0.91917561173001938,-0.43825365855494347,{"$f":"+Spectre!C1096*N1097/L1097","v":1.3074414686235278},1.3369504961301901]
[4896,0.48959999999999998,4.1717395019009791,1.018610095336097,0.1561968987443213,0.9962807710188698,4.0456295420977046E-3,0.16418948352388885,0.32443201181030784,0.55018331394629449,0.74169814916845433,0.71059805944355314,0.92338384249356131,0.69737476919185792,0.91934595739711122,-0.43729215420814649,{"$f":"+Spectre!C1097*N1098/L1098","v":1.3045693070870541},1.3340135097462433]
[4897,0.48970000000000002,4.1700358819077517,1.01859981238218,0.1560677765004774,0.99627519839993606,4.0517025400205386E-3,0.16414589769783314,0.32426537673833111,0.55035218585498813,0.74181199119446828,0.71072276452015104,0.92354589001293896,0.69750388305524991,0.91951616761061072,-0.43633158307615494,{"$f":"+Spectre!C1098*N1099/L1099","v":1.3054266232465788},1.3348901755797233]
[4898,0.48980000000000001,4.1683333052665557,1.0185895360527399,0.15593878800633387,0.99626961744704179,4.0577846542758185E-3,0.16410233233815735,0.32409890499876703,0.55052094399570384,0.74192573908251402,0.71084736921600788,0.92370780709295908,0.69763289423313435,0.91968624245427699,-0.43537194422319514,{"$f":"+Spectre!C1099*N1100/L1100","v":1.3060196862597084},1.3354966240584265]
[4899,0.4899,4.1666317711255836,1.0185792663420126,0.15580993309522104,0.99626402814777026,4.0638758985484099E-3,0.16405878743107583,0.32393259642484529,0.55068958840115156,0.7420393928979091,0.71097187359551794,0.92386959381729838,0.69776180278897282,0.91985618201177111,-0.43441323671498111,{"$f":"+Spectre!C1100*N1101/L1101","v":1.3064438561307943},1.3359303674673675]
[4900,0.49,4.1649312786339028,1.0185690032442389,0.15568121160071249,0.99625843048968665,4.0699762865434403E-3,0.16401526296281468,0.32376645085007061,0.55085811910403015,0.74215295270588766,0.71109627772299844,0.92403125026953381,0.6978906087861525,0.920025986366656,-0.43345545961887,{"$f":"+Spectre!C1101*N1102/L1102","v":1.3071943877994601},1.3366978386780217]
[4901,0.49009999999999998,4.1632318269414474,1.0185587467536676,0.1555526233566244,0.99625282446033758,4.0760858319867765E-3,0.1639717589196123,0.32360046810822346,0.55102653613702635,0.7422664185715997,0.71122058166268787,0.92419277653313969,0.69801931228798608,0.92019565560239658,-0.43249861200357342,{"$f":"+Spectre!C1102*N1103/L1103","v":1.3038321838729936},1.3332597496197693]
[4902,0.49020000000000002,4.1615334151990186,1.0185484968645528,0.15542416819701493,0.99624721004725125,4.082204548624911E-3,0.16392827528771917,0.32343464803335897,0.55119483953281523,0.74237979056011238,0.71134478547874802,0.92435417269149089,0.69814791335771154,0.92036518980235915,-0.43154269293952385,{"$f":"+Spectre!C1103*N1104/L1104","v":1.2977409960619422},1.3270310833571173]
[4903,0.49030000000000001,4.1598360425582843,1.0185382535711556,0.15529584595618418,0.99624158723793732,4.0883324502250821E-3,0.16388481205339744,0.32326899045980673,0.55136302932405923,0.74249306873640841,0.71146888923526208,0.92451543882785991,0.69827641205849256,0.92053458904981222,-0.43058770149850822,{"$f":"+Spectre!C1104*N1105/L1105","v":1.2928705174961463},1.3220506778160666]
[4904,0.4904,4.1581397081717757,1.0185280168677429,0.15516765646867337,0.99623595601988713,4.0944695505750351E-3,0.1638413692029218,0.32310349522217019,0.55153110554340912,0.74260625316538809,0.71159289299623563,0.92467657502541878,0.69840480845341835,0.92070385342792582,-0.42963363675387889,{"$f":"+Spectre!C1105*N1106/L1106","v":1.2965778656106619},1.3258417009861112]
[4905,0.49049999999999999,4.1564444111928882,1.0185177867485879,0.15503959956926461,0.99623031638057358,4.1006158634831437E-3,0.1637979467225788,0.32293816215532656,0.55169906822350268,0.74271934391186745,0.71171679682559674,0.92483758136723837,0.69853310260550305,0.92087298301977127,-0.42868049778059802,{"$f":"+Spectre!C1106*N1107/L1107","v":1.3009888635164464},1.3303522553628027]
[4906,0.49059999999999998,4.1547501507758824,1.0185075632079708,0.15491167509298084,0.99622466830745093,4.1067714027786546E-3,0.16375454459866695,0.32277299109442648,0.55186691739696481,0.74283234104057938,0.71184060078719535,0.92499845793628843,0.69866129457768678,0.92104197790832232,-0.42772828365500448,{"$f":"+Spectre!C1107*N1108/L1108","v":1.305345964358217},1.3348076962157132]
[4907,0.49070000000000003,4.1530569260758767,1.018497346240177,0.15478388287508474,0.99621901178795491,4.1129361823115688E-3,0.16371116281749659,0.32260798187489292,0.55203465309640842,0.74294524461617317,0.71196430494480378,0.92515920481543745,0.69878938443283467,0.92121083817645366,-0.42677699345503584,{"$f":"+Spectre!C1108*N1109/L1109","v":1.3096236094150964},1.3391818879621968]
[4908,0.49080000000000001,4.151364736248853,1.0184871358394991,0.15465622275107893,0.99621334680950269,4.1191102159526417E-3,0.1636678013653903,0.32244313433242189,0.55220227535443223,0.74305805470321484,0.71208790936211619,0.92531982208745256,0.69891737223373751,0.9213795639069422,-0.42582662626003964,{"$f":"+Spectre!C1109*N1110/L1110","v":1.3131024794552282},1.3427392762948642]
[4909,0.4909,4.1496735804516511,1.0184769320002358,0.15452869455670526,0.9962076733594929,4.125293517593386E-3,0.16362446022868293,0.32227844830298158,0.55236978420362171,0.74317077136618648,0.7122114141027488,0.92548030983499974,0.69904525804311057,0.92154815518246525,-0.42487718115099549,{"$f":"+Spectre!C1110*N1111/L1111","v":1.3106957421471221},1.3402782187903053]
[4910,0.49099999999999999,4.1479834578419696,1.0184667347166914,0.15440129812794445,0.99620199142530541,4.1314861011463155E-3,0.16358113939372082,0.32211392362281155,0.55253717967654947,0.74328339466948745,0.71233481923024033,0.92564066814064416,0.69917304192359531,0.92171661208560252,-0.42392865721035955,{"$f":"+Spectre!C1111*N1112/L1112","v":1.3074468244050543},1.3369559727920071]
[4911,0.49109999999999998,4.146294367578367,1.0184565439831776,0.15427403330101597,0.99619630099430145,4.1376879805448252E-3,0.16353783884686207,0.32194956012842285,0.55270446180577393,0.7433959246774331,0.71245812480805126,0.92580089708684909,0.699300723937758,0.92188493469883503,-0.422981053521998,{"$f":"+Spectre!C1112*N1113/L1113","v":1.3068230284818945},1.3363180977597653]
[4912,0.49120000000000003,4.1446063088202525,1.0184463597940112,0.15414689991237693,0.99619060205382381,4.1438991697429518E-3,0.16349455857447737,0.32178535765659722,0.55287163062384004,0.74350836145425581,0.71258133089956466,0.92596099675597765,0.69942830414809043,0.92205312310454535,-0.42203436917139792,{"$f":"+Spectre!C1113*N1114/L1114","v":1.3093470176668691},1.3388990535226504]
[4913,0.49130000000000001,4.1429192807278978,1.0184361821435164,0.15401989779872283,0.99618489459119641,4.1501196827158594E-3,0.16345129856294907,0.32162131604438776,0.55303868616327778,0.74362070506410416,0.71270443756808455,0.9261209672302898,0.6995557826170089,0.92222117738501663,-0.42108860324543418,{"$f":"+Spectre!C1114*N1115/L1115","v":1.3114248392312877},1.3410237716366813]
[4914,0.4914,4.1412332824624238,1.0184260110260224,0.15389302679698588,0.99617917859372418,4.1563495334599604E-3,0.16340805879867137,0.32145743512911723,0.55320562845660348,0.74373295557104369,0.71282744487683791,0.92628080859194561,0.69968315940685544,0.92238909762243404,-0.42014375483255817,{"$f":"+Spectre!C1115*N1116/L1116","v":1.3049376455384927},1.3343901616172547]
[4915,0.49149999999999999,4.1395483131858075,1.0184158464358655,0.15376628674433565,0.99617345404869373,4.1625887359921969E-3,0.16336483926805009,0.32129371474837798,0.55337245753631903,0.74384511303905632,0.7129503528889739,0.92644052092300411,0.69981043457989733,0.92255688389888435,-0.41919982302269787,{"$f":"+Spectre!C1116*N1117/L1117","v":1.2974553714646657},1.3267390121966105]
[4916,0.49159999999999998,4.1378643720608741,1.018405688367388,0.15363967747817789,0.99616772094337269,4.1688373043507606E-3,0.16332163995750354,0.32113015474003215,0.55353917343491144,0.74395717753204083,0.71307316166756307,0.92660010430542206,0.6999376081983264,0.92272453629635465,-0.41825680690728007,{"$f":"+Spectre!C1117*N1118/L1118","v":1.2959985010440784},1.3252492601286634]
[4917,0.49170000000000003,4.1361814582513077,1.0183955368149382,0.15351319883615494,0.9961619792650096,4.1750952525952201E-3,0.1632784608534617,0.32096675494221183,0.55370577618485217,0.74406914911381228,0.71319587127559758,0.92675955882105432,0.70006468032425939,0.92289205489673332,-0.41731470557918593,{"$f":"+Spectre!C1118*N1119/L1119","v":1.3022322850604204},1.3316237410009821]
[4918,0.49180000000000001,4.1344995709216343,1.0183853917728711,0.15338685065614444,0.99615622900083478,4.1813625948055556E-3,0.16323530194236618,0.32080351519331618,0.55387226581859894,0.74418102784810269,0.71331848177599277,0.92691888455165594,0.70019165101973913,0.92305943978181082,-0.41637351813280654,{"$f":"+Spectre!C1119*N1120/L1120","v":1.3078871540001478},1.3374062406508358]
[4919,0.4919,4.1328187092372337,1.0183752532355472,0.15326063277625968,0.99615047013805902,4.1876393450836118E-3,0.16319216321067054,0.32064043533201381,0.55403864236859313,0.74429281379856105,0.71344099323158516,0.92707808157887972,0.70031852034673248,0.92322669103327815,-0.41543324366405399,{"$f":"+Spectre!C1120*N1121/L1121","v":1.3084839555409831},1.3380165120360252]
[4920,0.49199999999999999,4.1311388723643345,1.0183651211973341,0.15313454503484891,0.99614470266387467,4.193925517551887E-3,0.16314904464484004,0.32047751519724083,0.55420490586726112,0.74440450702875238,0.71356340570513344,0.92723714998427709,0.70044528836713182,0.92339380873272747,-0.41449388127026143,{"$f":"+Spectre!C1121*N1122/L1122","v":1.3086045364570829},1.3381398144701855]
[4921,0.49209999999999998,4.1294600594700057,1.0183549956526043,0.15300858727049449,0.99613892656545489,4.2002211263543849E-3,0.16310594623135249,0.32031475462820136,0.55437105634701322,0.74451610760215869,0.71368571925931801,0.92739608984929789,0.70057195514275394,0.92356079296165172,-0.41355543005032747,{"$f":"+Spectre!C1122*N1123/L1123","v":1.305786511644115},1.3352581866786402]
[4922,0.49220000000000003,4.1277822697221715,1.0183448765957375,0.1528827593220137,0.99613314182995394,4.2065261856562538E-3,0.16306286795669656,0.32015215346436654,0.55453709384024452,0.74462761558217871,0.71380793395674125,0.9275549012552905,0.70069852073534111,0.92372764380144545,-0.41261788910451624,{"$f":"+Spectre!C1123*N1124/L1124","v":1.2991448839029447},1.3284666570256776]
[4923,0.49230000000000002,4.1261055022895956,1.0183347640211196,0.15275706102845721,0.99612734844450723,4.2128407096437863E-3,0.16301980980737346,0.31998971154547445,0.55470301837933311,0.74473903103212802,0.71393004985992758,0.92771358428350204,0.70082498520656022,0.92389436133340375,-0.41168125753466844,{"$f":"+Spectre!C1124*N1125/L1125","v":1.2925262524391126},1.3216986426773263]
[4924,0.4924,4.1244297563418879,1.0183246579231418,0.15263149222910913,0.99612154639623107,4.2191647125246643E-3,0.16297677176989539,0.31982742871152919,0.554868829996642,0.7448503540152388,0.71405206703132318,0.92787213901507803,0.70095134861800301,0.92406094563872276,-0.41074553444409023,{"$f":"+Spectre!C1125*N1126/L1126","v":1.2852721678562169},1.3142808329972624]
[4925,0.49249999999999999,4.1227550310494987,1.0183145582962023,0.15250605276348655,0.99611573567222278,4.2254982085278385E-3,0.16293375383078734,0.31966530480280175,0.55503452872451664,0.74496158459465989,0.71417398553329614,0.92803056553106233,0.70107761103118615,0.92422739679849963,-0.40981071893750887,{"$f":"+Spectre!C1126*N1127/L1127","v":1.2777274774016771},1.3065658584546811]
[4926,{"$f":"+A1128/10000","v":0.49259999999999998},{"$f":"+(1/B1128)^2","v":4.1210813255837229},{"$f":"0.23465+1.076*100/(146-C1128)+0.93161/(41-C1128)","v":1.0183044651347051},{"$f":"9.4977*0.001*C1128^2*D1128*EXP(-h/7.996/1000)","v":0.15238074247133937},{"$f":"+EXP(-0.0168*EXP(-15*ABS(B1128-0.59)))","v":0.99610991625956036},{"$f":"-2.5*LOG(F1128)","v":4.231841211903899E-3},{"$f":"2.5*LOG(EXP(AOD*(B1128/0.55)^(-1.3)))","v":0.16289075597658509},{"$f":"+E1128+G1128+H1128","v":0.31950333965982836},{"$f":"10^(-0.4*I1128*ma)","v":0.55520011459528651},{"$f":"10^(-0.4*I1128)","v":0.74507272283345716},{"$f":"10^(-0.4*I1128*ma_ref)","v":0.71429580542813631},{"$f":"+L1128/M$1","v":0.9281888639123973},{"$f":"10^(-0.4*I1128*ma_target)","v":0.70120377250755128},{"$f":"+N1128/O$1","v":0.92439371489373257},{"$f":"(O1128/M1128-1)*100","v":-0.4088768101211504},{"$f":"+Spectre!C1127*N1128/L1128","v":1.274346470522066},1.3031085420595734]
[4927,0.49270000000000003,4.1194086391166929,1.01829437843306,0.15225556119264938,0.99610408814530305,4.2381937369244602E-3,0.16284777819383686,0.31934153312341074,0.55536558764126454,0.7451837687946129,0.7144175267780557,0.92834703423992404,0.70132983310846431,0.92455990000532007,-0.4079438071027619,{"$f":"+Spectre!C1128*N1129/L1129","v":1.2787928984224695},1.3076553260878558]
[4928,0.49280000000000002,4.1177369708213858,1.0182842981856837,0.15213050876763071,0.99609825131649088,4.2445557978826615E-3,0.16280482046910241,0.31917988503461581,0.55553094789474566,0.74529472254102636,0.7145391496451875,0.92850507659438131,0.70145579289521631,0.92472595221406184,-0.4070117089914782,{"$f":"+Spectre!C1129*N1130/L1130","v":1.2828465405542488},1.3118004591506172]
[4929,0.4929,4.1160663198716154,1.018274224386998,0.15200558503672873,0.99609240576014468,4.2509274090931568E-3,0.16276188278895287,0.31901839523477477,0.5556961953880083,0.74540558413551372,0.71466067409158729,0.92866299105640704,0.70158165192902311,0.92489187160065833,-0.40608051489796626,{"$f":"+Spectre!C1130*N1131/L1131","v":1.2833000930737295},1.3122642483759805]
[4930,0.49299999999999999,4.1143966854420304,1.0182641570314319,0.1518807898406197,0.99608655146326597,4.2573085848922436E-3,0.16271896513997156,0.31885706356548349,0.55586133015331363,0.74551635364080782,0.71478210017923227,0.92882077770653715,0.70170741027102512,0.92505765824571073,-0.405150223934303,{"$f":"+Spectre!C1131*N1132/L1132","v":1.282916502286978},1.3118719999235902]
[4931,0.49309999999999998,4.1127280667081205,1.0182540961134197,0.15175612302021094,0.99608068841283737,4.2636993396373809E-3,0.16267606750875327,0.31869588986860159,0.55602635222290486,0.7456270311195583,0.71490342797002149,0.92897843662520629,0.7018330679822874,0.92522331222972076,-0.40422083521411967,{"$f":"+Spectre!C1132*N1133/L1133","v":1.2826609923752683},1.3116107231387977]
[4932,0.49320000000000003,4.1110604628462086,1.0182440416274021,0.15163158441663985,0.99607481659582209,4.2700996877077938E-3,0.1626331898819047,0.31853487398625235,0.55619126162900734,0.74573761663433169,0.71502465752577538,0.92913596789274655,0.70195862512379958,0.92538883363309088,-0.40329234785239088,{"$f":"+Spectre!C1133*N1134/L1134","v":1.2827702040514251},1.3117223997286298]
[4933,0.49330000000000002,4.1093938730334543,1.0182339935678257,0.15150717387127396,0.99606893599916402,4.2765096435043552E-3,0.16259033224604397,0.31837401576082225,0.55635605840382896,0.74584811024761122,0.71514578890823632,0.92929337158938896,0.7020840817564763,0.92555422253612463,-0.40236476096554563,{"$f":"+Spectre!C1134*N1135/L1135","v":1.2829609515348992},1.311917452393538]
[4934,0.49340000000000001,4.1077282964478501,1.0182239519291434,0.15138289122571028,0.99606304660978795,4.2829292214493454E-3,0.16254749458780066,0.31821331503496031,0.55652074257955908,0.7459585120217973,0.71526682217906901,0.92945064779526343,0.7022094379411562,0.92571947901902507,-0.40143807367168938,{"$f":"+Spectre!C1135*N1136/L1136","v":1.280601046562136},1.3095042842327655]
[4935,0.49349999999999999,4.106063732268221,1.0182139167058142,0.15125873632177494,0.99605714841459914,4.2893584359869411E-3,0.16250467689381667,0.31805277165157853,0.55668531418836875,0.74606882201920677,0.71538775739985883,0.92960779659039683,0.70233469373860302,0.92588460316189702,-0.40051228509008219,{"$f":"+Spectre!C1136*N1137/L1137","v":1.2775287269318278},1.3063626221755451]
[4936,0.49359999999999998,4.1044001796742213,1.0182038878923028,0.15113470900152279,0.99605124140048362,4.2957973015828486E-3,0.162461879150745,0.31789238545385068,0.55684977326241047,0.74617904030207383,0.71550859463211358,0.92976481805471534,0.70245984920950466,0.92604959504474482,-0.39958739434168278,{"$f":"+Spectre!C1137*N1138/L1138","v":1.2765511617837977},1.3053629933271236]
[4937,0.49370000000000003,4.1027376378463423,1.01819386548308,0.15101080910723744,0.99604532555430814,4.3022458327244308E-3,0.16241910134525031,0.31773215628521218,0.55701411983381866,0.74628916693254932,0.71562933393726291,0.92992171226804332,0.70258490441447408,0.92621445474747444,-0.39866340054874883,{"$f":"+Spectre!C1138*N1139/L1139","v":1.2801194383600303},1.3090118061064417]
[4938,0.49380000000000002,4.1010761059659009,1.0181838494726232,0.15088703648143031,0.99603940086291975,4.3087040439210725E-3,0.16237634346400931,0.31757208398936071,0.55717835393470749,0.7463992019727006,0.71574997537665697,0.93007847931010201,0.70270985941404773,0.9263791823498907,-0.3977403028350146,{"$f":"+Spectre!C1139*N1140/L1140","v":1.2837129054337584},1.3126863779342011]
[4939,0.49390000000000001,4.0994155832150421,1.0181738398554154,0.15076339096684047,0.99603346731314646,4.3151719497035758E-3,0.16233360549370951,0.31741216841025355,0.55734247559717387,0.74650914548451308,0.71587051901156917,0.93023511926051305,0.70283471426868782,0.92654377793170073,-0.39681810032572429,{"$f":"+Spectre!C1140*N1141/L1141","v":1.2815286503157253},1.3104528240552624]
[4940,0.49399999999999999,4.0977560687767376,1.0181638366259453,0.15063987240643423,0.99602752489179658,4.3216495646247639E-3,0.16229088742105102,0.31725240939211002,0.55750648485329357,0.74661899752988781,0.71599096490319336,0.93039163219879428,0.70295946903877993,0.92670824157251053,-0.39589679214749873,{"$f":"+Spectre!C1141*N1142/L1142","v":1.276896388181219},1.305716011503758]
[4941,0.49409999999999998,4.0960975618347906,1.0181538397787084,0.15051648064340498,0.99602157358565901,4.3281369032592484E-3,0.16224818923274448,0.31709280677940871,0.55767038173512462,0.74672875817064366,0.71611131311264575,0.93054801820436317,0.70308412378463458,0.92687257335182727,-0.39497637742845759,{"$f":"+Spectre!C1142*N1143/L1143","v":1.2735901355432528},1.3023351365577351]
[4942,0.49419999999999997,4.0944400615738283,1.0181438493082053,0.15039321552117269,0.99601561338150302,4.3346339802036674E-3,0.16220551091551297,0.31693336041688935,0.5578341662747035,0.7468384274685157,0.71623156370096352,0.93070427735653416,0.70320867856648628,0.92703677334905765,-0.39405685529815271,{"$f":"+Spectre!C1143*N1144/L1144","v":1.2738788282904698},1.3026303451164996]
[4943,0.49430000000000002,4.0927835671792963,1.0181338652089436,0.15027007688338301,0.99600964426607852,4.3411408100763275E-3,0.16216285245609047,0.31677407014954984,0.55799783850404916,0.74694800548515727,0.71635171672910647,0.93086040973452111,0.70333313344449477,0.92720084164351002,-0.3931382248875348,{"$f":"+Spectre!C1144*N1145/L1145","v":1.2741485190021917},1.3029061227627583]
[4944,0.49440000000000001,4.0911280778374746,1.0181238874754359,0.15014706457390814,0.99600366622611569,4.3476574075176858E-3,0.16212021384122299,0.31661493582264882,0.55816139845515855,0.74705749228213714,0.71647177225795466,0.93101641541743452,0.70345748847874312,0.92736477831439168,-0.39222048532898679,{"$f":"+Spectre!C1145*N1146/L1146","v":1.2739470186419477},1.3027000745280468]
[4945,0.4945,4.0894735927354597,1.0181139161022015,0.15002417843684523,0.99599767924832527,4.3541837871899957E-3,0.16207759505766794,0.31645595728170317,0.55832484616000921,0.74716688792094166,0.71659173034831058,0.93117229448428396,0.70358174372923876,0.92752858344081024,-0.39130363575644589,{"$f":"+Spectre!C1146*N1147/L1147","v":1.273489555631848},1.302232286552071]
[4946,0.49459999999999998,4.087820111061168,1.0181039510837653,0.14990141831651635,0.99599168331939825,4.3607199637776635E-3,0.16203499609219368,0.31629713437248769,0.55848818165055891,0.74727619246297516,0.71671159106089843,0.93132804701397709,0.70370589925591454,0.92769225710177461,-0.39038767530512608,{"$f":"+Spectre!C1147*N1148/L1148","v":1.2730213604410279},1.3017535241694524]
[4947,0.49469999999999997,4.0861676320033382,1.0180939924146584,0.14977878405746831,0.99598567842600594,4.3672659519871371E-3,0.16199241693158106,0.31613846694103653,0.55865140495874377,0.74738540596955738,0.71683135445636348,0.93148367308531932,0.70382995511862634,0.92785579937619289,-0.38947260311176235,{"$f":"+Spectre!C1148*N1149/L1149","v":1.2724437370038406},1.3011628637387893]
[4948,0.49480000000000002,4.084516154751535,1.0180840400894176,0.14965627550447277,0.99597966455480003,4.3738217665469032E-3,0.16194985756262165,0.31597995483364133,0.55881451611647948,0.74749452850192599,0.7169510205952726,0.93163917277701391,0.70395391137715446,0.92801921034287294,-0.38855841831453297,{"$f":"+Spectre!C1149*N1150/L1150","v":1.2718823742215923},1.300588830966962]
[4949,0.49490000000000001,4.0828656784961312,1.0180740941025861,0.14953389250252452,0.99597364169241265,4.3803874222073684E-3,0.16190731797211888,0.31582159789685077,0.55897751515566152,0.74760356012123586,0.71707058953811442,0.93179454616766266,0.70407776809120404,0.92818249008052378,-0.3876451200529929,{"$f":"+Spectre!C1150*N1151/L1151","v":1.2711063116038719},1.2997952525722964]
[4950,0.495,4.0812162024283243,1.0180641544487126,0.14941163489684234,0.99596760982545596,4.3869629337413485E-3,0.16186479814688751,0.31566339597747117,0.55914040210816318,0.74771250088855823,0.71719006134529895,0.93194979333576511,0.70420152532040392,0.92834563866775388,-0.38673270746815147,{"$f":"+Spectre!C1151*N1152/L1152","v":1.270238523619406},1.2989078785641974]
[4951,0.49509999999999998,4.0795677257401266,1.0180542211223518,0.14928950253286807,0.99596156894052223,4.3935483159439461E-3,0.1618222980737534,0.31550534892256543,0.55930317700583765,0.74782135086488233,0.71730943607715791,0.93210491435971909,0.70432518312430736,0.92850865618307199,-0.38582117970243912,{"$f":"+Spectre!C1152*N1153/L1153","v":1.2702281504630872},1.2988972712851568]
[4952,0.49519999999999997,4.0779202476243679,1.0180442941180643,0.14916749525626657,0.99595551902418444,4.4001435836319496E-3,0.16177981773955463,0.31534745657945318,0.55946583988051546,0.74793011011111354,0.71742871379394435,0.9322599093178201,0.70444874156239146,0.92867154270488661,-0.38491053589971846,{"$f":"+Spectre!C1153*N1154/L1154","v":1.2738813898850296},1.3026329645263925]
[4953,0.49530000000000002,4.0762737672746869,1.0180343734304171,0.1490456129129247,0.99594946006299523,4.4067487516449245E-3,0.1617373571311401,0.31518971879570973,0.55962839076400639,0.74803877868807511,0.71754789455583257,0.93241477828826147,0.70457220069405768,0.92883429831150632,-0.3840007752052399,{"$f":"+Spectre!C1154*N1155/L1155","v":1.2778582131488017},{"$f":"+Q1155/R$1","v":1.3066995449149736}]
[4954,0.49540000000000001,4.0746282838855468,1.0180244590539824,0.14892385534895214,0.99594339204348759,4.4133638348444852E-3,0.1616949162353703,0.31503213541916691,0.55979082968809724,0.74814735665650645,0.71766697842291838,0.9325695213491344,0.70469556057863092,0.9289969230811389,-0.38309189676573041,{"$f":"+Spectre!C1155*N1156/L1156","v":1.2777130342916811},1.3065510893628798]
[4955,0.4955,4.0729837966522107,1.0180145509833389,0.14880222241067939,0.99593731495217463,4.4199888481145453E-3,0.16165249503911716,0.31487470629791109,0.55995315668455459,0.74825584407706536,0.71778596545521967,0.93272413857842895,0.70481882127536133,0.92915941709189342,-0.38218389972929367,{"$f":"+Spectre!C1156*N1157/L1157","v":1.2748312965854502},1.3036043106744857]
[4956,0.49559999999999998,4.0713403047707644,1.0180046492130708,0.14868071394465901,0.99593122877554963,4.4266238063613165E-3,0.16161009352926392,0.31471743128028429,0.56011537178512116,0.74836424101032573,0.71790485571267504,0.93287863005403215,0.70494198284342224,0.92932178042177804,-0.38127678324543224,{"$f":"+Spectre!C1157*N1158/L1158","v":1.2732476442043184},1.3019849151700116]
[4957,0.49569999999999997,4.0696978074380974,1.0179947537377683,0.14855932979766417,0.99592513350008571,4.4332687245135513E-3,0.16156771169270542,0.31456031021488318,0.56027747502151815,0.74847254751677905,0.71802364925514472,0.93303299585372912,0.70506504534191095,0.92948401314870033,-0.38037054646512525,{"$f":"+Spectre!C1158*N1159/L1159","v":1.2775296742902678},1.3063635909159184]
[4958,0.49580000000000002,4.068056303851912,1.0179848645520275,0.14843806981668878,0.99591902911223618,4.439923617522306E-3,0.16152534951634751,0.31440334295055861,0.56043946642544396,0.74858076365683401,0.71814234614241068,0.93318723605520315,0.70518800882984922,0.92964611535046837,-0.37946518854071742,{"$f":"+Spectre!C1159*N1160/L1160","v":1.2823784358144836},1.3113217892605389]
[4959,0.49590000000000001,4.0664157932107194,1.0179749816504506,0.14831693384894704,0.99591291559843431,4.4465885003610612E-3,0.16148300698710755,0.31424652933641561,0.56060134602857437,0.74868888949081636,0.71826094643417582,0.93334135073603508,0.70531087336618237,0.92980808710478957,-0.37856070862596347,{"$f":"+Spectre!C1160*N1161/L1161","v":1.2805606497640545},1.3094629756766785]
[4960,0.496,4.0647762747138394,1.0179651050276453,0.14819592174187299,0.99590679294509332,4.4532633880258465E-3,0.16144068409191428,0.31408986922181314,0.56076311386256195,0.74879692507896878,0.71837945019006466,0.93349533997370382,0.70543363900977996,0.9299699284892714,-0.37765710587603918,{"$f":"+Spectre!C1161*N1162/L1162","v":1.2728880788065029},1.3016172343609373]
[4961,0.49609999999999999,4.063137747561397,1.0179552346782255,0.14807503334312028,0.99590066113860654,4.4599482955350002E-3,0.16139838081770788,0.31393336245636316,0.56092476995903662,0.74890487048145182,0.71849785746962325,0.93364920384558614,0.70555630581943529,0.93013163958142075,-0.37675437944754142,{"$f":"+Spectre!C1162*N1163/L1163","v":1.2662160118973547},1.2947945785262631]
[4962,0.49619999999999997,4.0615002109543221,1.0179453705968105,0.14795426850056148,0.99589452016534674,4.4666432379298964E-3,0.16135609715143978,0.31377700888993115,0.56108631434960421,0.74901272575834243,0.71861616833231845,0.93380294242895601,0.7056788738538653,0.93029322045864393,-0.37585252849844375,{"$f":"+Spectre!C1163*N1164/L1164","v":1.269705726965034},1.2983630566593598]
[4963,0.49630000000000002,4.0598636640943502,1.0179355127780256,0.14783362706228814,0.99588837001166719,4.4733482302738593E-3,0.16131383308007216,0.31362080837263417,0.56124774706584879,0.74912049096963573,0.71873438283753954,0.93395655580098658,0.70580134317171173,0.9304546711982481,-0.3749515521881186,{"$f":"+Spectre!C1164*N1165/L1165","v":1.273118497030175},1.3018528531368816]
[4964,0.49640000000000001,4.0582281061840257,1.0179256612165024,0.14771310887661043,0.9958822106639007,4.4800632876531334E-3,0.16127158859057955,0.31346476075484309,0.56140906813932889,0.74922816617524313,0.71885250104459597,0.93411004403874731,0.70592371383153907,0.93061599187743849,-0.37405144967737058,{"$f":"+Spectre!C1165*N1166/L1166","v":1.2789652382169221},1.3078315556011655]
[4965,0.4965,4.0565935364266883,1.0179158159068777,0.14759271379205624,0.99587604210835967,4.4867884251768844E-3,0.16122936366994706,0.31330886588718021,0.56157027760157996,0.74933575143499365,0.71897052301271891,0.93426340721920598,0.70604598589183576,0.93077718257332021,-0.37315222012840321,{"$f":"+Spectre!C1166*N1167/L1167","v":1.2865141764188979},1.3155508737630814]
[4966,0.49659999999999999,4.0549599540264873,1.0179059768437948,0.14747244165737169,0.99586986433133684,4.493523657976355E-3,0.16118715830517116,0.31315312362051922,0.56173137548411367,0.74944324680863372,0.71908844880106126,0.93441664541922853,0.70616815941101474,0.93093824336289877,-0.37225386270480776,{"$f":"+Spectre!C1167*N1168/L1168","v":1.292847828406489},1.3220274766323792]
[4967,0.49669999999999997,4.0533273581883638,1.0178961440219019,0.1473522923215195,0.9958636773191043,4.5002690012059567E-3,0.16114497248325949,0.31299753380598494,0.56189236181841784,0.7495506523558273,0.71920627846869689,0.93456975871557824,0.70629023444741246,0.93109917432307876,-0.37135637657152998,{"$f":"+Spectre!C1168*N1169/L1169","v":1.2849042328431952},1.3139045936702958]
[4968,0.49680000000000002,4.0516957481180684,1.0178863174358537,0.14723226563368019,0.99585748105791394,4.507024470042786E-3,0.16110280619123116,0.31284209629495413,0.56205323663595497,0.74965796813615504,0.71932401207462082,0.93472274718491599,0.70641221105928864,0.93125997553066375,-0.37045976089498112,{"$f":"+Spectre!C1169*N1170/L1170","v":1.2752510482241062},1.3040335361312423]
[4969,0.49690000000000001,4.0500651230221463,1.0178764970803105,0.14711236144325054,0.99585127553399755,4.5137900796865067E-3,0.16106065941611658,0.31268681093905359,0.56221399996816368,0.74976519420911492,0.7194416496777496,0.93487561090380067,0.7065340893048272,0.93142064706235739,-0.36956401484291579,{"$f":"+Spectre!C1170*N1171/L1171","v":1.2691571516715456},1.2978020999906332]
[4970,0.497,4.0484354821079389,1.0178666829499385,0.14699257959984355,0.99584506073356638,4.5205658453598366E-3,0.16101853214495704,0.31253167759016043,0.56237465184645807,0.74987233063412284,0.71955919133692103,0.93502834994868889,0.70665586924213564,0.93158118899476239,-0.3686691375845097,{"$f":"+Spectre!C1171*N1172/L1172","v":1.2669280744953426},1.29552271241715]
[4971,0.49709999999999999,4.0468068245835909,1.0178568750394095,0.14687291995328844,0.99583883664281148,4.5273517823081868E-3,0.16097642436480544,0.31237669610040208,0.56253519230222671,0.74997937747051158,0.71967663711089391,0.93518096439593434,0.7067775509292451,0.93174160140438111,-0.36777512829025971,{"$f":"+Spectre!C1172*N1173/L1173","v":1.2648862374724767},1.2934347910177992]
[4972,0.49719999999999998,4.0451791496580372,1.0178470733434009,0.14675338235362981,0.99583260324790335,4.5341479058000249E-3,0.16093433606272534,0.31222186632215521,0.56269562136683382,0.75008633477753128,0.71979398705834885,0.93533345432178949,0.70689913442411045,0.93190188436761501,-0.3668819861321726,{"$f":"+Spectre!C1173*N1174/L1174","v":1.2661057668903757},1.2946818452832738]
[4973,0.49730000000000002,4.0435524565410104,1.0178372778565963,0.14663396665112752,0.99582636053499229,4.5409542311265153E-3,0.16089226722579192,0.31206718810804596,0.56285593907161824,0.75019320261434974,0.71991124123788708,0.93548581980240342,0.70702061978461017,0.93206203796076526,-0.36598971028350968,{"$f":"+Spectre!C1174*N1175/L1175","v":1.2679586233011726},1.2965765207675086]
[4974,0.49740000000000001,4.0419267444430371,1.0178274885736849,0.14651467269625629,0.99582010849020797,4.5477707736020058E-3,0.16085021784109166,0.31191266131094997,0.5630161454478928,0.75029998104005147,0.72002839970803134,0.93563806091382329,0.70714200706854613,0.93222206226003157,-0.36509829991903109,{"$f":"+Spectre!C1175*N1176/L1176","v":1.2688478750002321},1.2974858429274474]
[4975,0.4975,4.040302012575439,1.0178177054893616,0.1463955003397055,0.99581384709965981,4.5545975485635458E-3,0.16080818789572165,0.31175828578399067,0.56317624052694593,0.75040667011363948,0.72014546252722567,0.93579017773199391,0.70726329633364426,0.93238195734151386,-0.36420775421476259,{"$f":"+Spectre!C1176*N1177/L1177","v":1.2682566047196147},1.2968812276433301]
[4976,0.49759999999999999,4.0386782601503297,1.017807928598327,0.14627644943237869,0.9958075763494364,4.5614345713716128E-3,0.16076617737679044,0.31160406138054075,0.56333622434003916,0.75051326989403266,0.72026242975383514,0.93594217033275762,0.70738448763755346,0.93254172328121043,-0.36331807234822877,{"$f":"+Spectre!C1177*N1178/L1178","v":1.2677373180901172},1.2963502206853887]
[4977,0.49769999999999998,4.037055486380611,1.0177981578952877,0.14615751982539299,0.9958012962256062,4.568281857409269E-3,0.16072418627141788,0.31144998795422013,0.56349609691840874,0.75061978044006883,0.72037930144614604,0.93609403879185427,0.70750558103784678,0.93270136015501948,-0.36242925349823096,{"$f":"+Spectre!C1178*N1179/L1179","v":1.2727244741430095},1.3014499371309842]
[4978,0.49780000000000002,4.0354336904799757,1.0177883933749556,0.14603871137007898,0.99579500671421672,4.575139422083133E-3,0.16068221456673495,0.31129606535889709,0.56365585829326459,0.75072620181050209,0.72049607766236579,0.93624578318492135,0.70762657659202022,0.93286086803873791,-0.36154129684500269,{"$f":"+Spectre!C1179*N1180/L1180","v":1.2786929420438444},1.3075531136881415]
[4979,0.49790000000000001,4.0338128716629127,1.0177786350320486,0.14592002391798087,0.99578870780129514,4.5820072808226515E-3,0.16064026224988326,0.31114229344868677,0.56381550849579065,0.75083253406400474,0.72061275846062312,0.93639740358749379,0.70774747435749386,0.93302024700806208,-0.36065420157010974,{"$f":"+Spectre!C1180*N1181/L1181","v":1.2796671388439804},1.3085492981648672]
[4980,0.498,4.0321930291446915,1.0177688828612901,0.145801457320855,0.99578239947284808,4.5888854490803476E-3,0.16059832930801596,0.31098867207795133,0.56397504755714423,0.75093877725916602,0.72072934389896803,0.93654890007500469,0.70786827439161071,0.93317949713858728,-0.35976796685657231,{"$f":"+Spectre!C1181*N1182/L1182","v":1.2716224851679798},1.3003230762027875]
[4981,0.49809999999999999,4.0305741621413738,1.0177591368574097,0.14568301143067061,0.99577608171486121,4.595773942332306E-3,0.16055641572829696,0.31083520110129986,0.5641344755084563,0.75104493145449303,0.7208458340353715,0.936700272722784,0.70798897675163763,0.93333861850580802,-0.35888259188869842,{"$f":"+Spectre!C1182*N1183/L1183","v":1.2640243021719859},1.2925534017890818]
[4982,0.49819999999999998,4.0289562698698056,1.0177493970151421,0.14556468609960865,0.99576975451329974,4.6026727760775698E-3,0.16051452149790188,0.31068188037358813,0.56429379238083022,0.7511509967084099,0.72096222892772521,0.936851521606059,0.70810958149476455,0.93349761118511754,-0.3579980758521728,{"$f":"+Spectre!C1183*N1184/L1184","v":1.2629812445283919},1.2914868022757868]
[4983,0.49830000000000002,4.027339351547619,1.0177396633292279,0.14544648118006187,0.99576341785410805,4.6095819658386258E-3,0.16047264660401678,0.31052870974991731,0.56445299820534345,0.75125697307925876,0.72107852863384281,0.93700264679995526,0.708230088678105,0.93365647525180828,-0.35711441793412346,{"$f":"+Spectre!C1184*N1185/L1185","v":1.2633263480949308},1.291839694849239]
[4984,0.49840000000000001,4.0257234063932348,1.0177299357944138,0.14532839652463472,0.99575707172321004,4.6165015271609237E-3,0.1604307910338387,0.31037568908563434,0.56461209301304605,0.75136286062529889,0.72119473321145877,0.93715364837949577,0.70835049835869635,0.93381521078107244,-0.35623161732295516,{"$f":"+Spectre!C1185*N1186/L1186","v":1.2636930212964064},1.2922146438855018]
[4985,0.4985,4.0241084336258526,1.0177202144054516,0.14521043198614234,0.99575071610650856,4.6234314756136048E-3,0.16038895477457651,0.31022281823633246,0.56477107683495997,0.75146865940470697,0.7213108427182281,0.93730452641959994,0.70847081059349815,0.93397381784799949,-0.35534967320849375,{"$f":"+Spectre!C1186*N1187/L1187","v":1.2640409727417652},1.2925704486145588]
[4986,0.49859999999999999,4.0224944324654563,1.0177104991570989,0.14509258741761052,0.99574435098988567,4.6303718267891418E-3,0.16034713781344917,0.31007009705784883,0.56492994970208099,0.75157436947557765,0.7214268572117275,0.93745528099508568,0.70859102543939456,0.93413229652757956,-0.35446858478186405,{"$f":"+Spectre!C1187*N1188/L1188","v":1.2643377680453176},1.292873942604811]
[4987,0.49869999999999998,4.0208814021328134,1.0177007900441188,0.14497486267227563,0.9957379763592028,4.6373225963032162E-3,0.16030534013768749,0.30991752540626638,0.56508871164537611,0.75167999089592252,0.72154277674945455,0.93760591218066802,0.70871114295319204,0.93429064689470032,-0.35358835123565635,{"$f":"+Spectre!C1188*N1189/L1189","v":1.2624787564076121},1.2909729729698498]
[4988,0.49880000000000002,4.0192693418494683,1.017691087061281,0.14485725760358362,0.9957315922003005,4.6442837997949672E-3,0.16026356173453257,0.30976510313791117,0.56524736269578579,0.75178552372367191,0.72165860138882842,0.93775642005096005,0.70883116319162154,0.93444886902415003,-0.35270897176371552,{"$f":"+Spectre!C1189*N1190/L1190","v":1.2597975515842186},1.2882312532027413]
[4989,0.49890000000000001,4.0176582508377514,1.0176813902033595,0.14473977206519065,0.9957251984989981,4.6512554529273553E-3,0.16022180259123669,0.3096128301093547,0.56540590288422132,0.75189096801667221,0.72177433118718848,0.93790680468047116,0.70895108621133629,0.93460696299061419,-0.35183044556129639,{"$f":"+Spectre!C1190*N1191/L1191","v":1.2583326630056464},1.2867333020065326]
[4990,{"$f":"+A1192/10000","v":0.499},{"$f":"+(1/B1192)^2","v":4.0160481283207687},{"$f":"0.23465+1.076*100/(146-C1192)+0.93161/(41-C1192)","v":1.0176716994651347},{"$f":"9.4977*0.001*C1192^2*D1192*EXP(-h/7.996/1000)","v":0.14462240591096176},{"$f":"+EXP(-0.0168*EXP(-15*ABS(B1192-0.59)))","v":0.99571879524109441},{"$f":"-2.5*LOG(F1192)","v":4.6582375713864373E-3},{"$f":"2.5*LOG(EXP(AOD*(B1192/0.55)^(-1.3)))","v":0.16018006269506388},{"$f":"+E1192+G1192+H1192","v":0.30946070617741206},{"$f":"10^(-0.4*I1192*ma)","v":0.56556433224156599},{"$f":"10^(-0.4*I1192)","v":0.751996323832688},{"$f":"10^(-0.4*I1192*ma_ref)","v":0.72188996620179535},{"$f":"+L1192/M$1","v":0.9380570661436084},{"$f":"10^(-0.4*I1192*ma_target)","v":0.70907091206891271},{"$f":"+N1192/O$1","v":0.93476492886867746},{"$f":"(O1192/M1192-1)*100","v":-0.35095277182496387},{"$f":"+Spectre!C1191*N1192/L1192","v":1.2602556984715805},1.2886997404911273]
[4991,0.49909999999999999,4.0144389735224069,1.0176620148413926,0.14450515899497124,0.99571238241236704,4.6652301708820952E-3,0.16013834203328797,0.30930873119914132,0.56572265079867523,0.75210159122940179,0.72200550648983097,0.93820720451467665,0.70919064082085082,0.93492276673282337,-0.35007594975272616,{"$f":"+Spectre!C1192*N1193/L1193","v":1.2623982310659541},1.2908906301667]
[4992,0.49919999999999998,4.0128307856673242,1.017652336326925,0.14438803117150156,0.99570595999857281,4.6722332671475571E-3,0.16009664059319439,0.30915690503184351,0.56588085858637649,0.7522067702644134,0.72212095210839855,0.93835721986787857,0.70931027252357437,0.9350804766574351,-0.34919997854386819,{"$f":"+Spectre!C1193*N1194/L1194","v":1.2553360800213749},1.2836690859757109]
[4993,0.49930000000000002,4.0112235639809617,1.0176426639165286,0.1442710222950439,0.99569952798544747,4.6792468759397562E-3,0.16005495836207947,0.30900522753306314,0.56603895563546736,0.75231186099524039,0.72223630311452192,0.93850711227731332,0.7094298072334293,0.93523805871679344,-0.34832485739905161,{"$f":"+Spectre!C1194*N1195/L1195","v":1.2449734778880039},1.2730725993291647]
[4994,0.49940000000000001,4.0096173076895321,1.0176329976050063,0.14415413222029713,0.99569308635870557,4.6862710130394633E-3,0.16001329532725056,0.30885369856058714,0.56619694197671733,0.7524168634793178,0.72235155956514563,0.93865688181697748,0.70954924500668537,0.93539551298507839,-0.347450585520237,{"$f":"+Spectre!C1195*N1196/L1196","v":1.2370929791798457},1.2650142373217874]
[4995,0.4995,4.0080120160200243,1.0176233373871664,0.14403736080216784,0.99568663510404076,4.6933056942509155E-3,0.15997165147602571,0.30870231797244446,0.5663548176408667,0.75252177777399831,0.72246672151713587,0.93880652856076552,0.70966858589953508,0.93555283953636825,-0.34657716211085043,{"$f":"+Spectre!C1196*N1197/L1197","v":1.2396990244069213},1.2676791011362605]
[4996,0.49959999999999999,4.0064076882001993,1.0176136832578231,0.14392070789576977,0.99568017420712551,4.7003509354021913E-3,0.15993002679573398,0.30855108562690592,0.56651258265862681,0.75262660393655234,0.72258178902727943,0.93895605258246873,0.70978782996809464,0.93571003844464085,-0.34570458637549484,{"$f":"+Spectre!C1197*N1198/L1198","v":1.2418289846144352},1.2698571346654948]
[4997,0.49969999999999998,4.0048043234585942,1.0176040352117957,0.14380417335642373,0.99567370365361119,4.7074067523450855E-3,0.1598884212737153,0.30840000138248413,0.56667023706067932,0.75273134202416792,0.72269676215228429,0.93910545395577616,0.70990697726840246,0.93586710978377141,-0.34483285752030524,{"$f":"+Spectre!C1198*N1199/L1199","v":1.2438752352477149},1.2719495692906946]
[4998,0.49980000000000002,4.0032019210245116,1.0175943932439093,0.14368775703965683,0.99566722342912806,4.7144731609551124E-3,0.15984683489732043,0.30824906509793237,0.56682778087767716,0.75283599209395113,0.72281164094877925,0.93925473275427396,0.71002602785642133,0.93602405362753516,-0.34396197475259349,{"$f":"+Spectre!C1199*N1200/L1200","v":1.245896647070716},1.2740166044922703]
[4999,0.49990000000000001,4.0016004801280314,1.0175847573489947,0.1435714588012027,0.99566073351928519,4.7215501771316337E-3,0.15980526765391151,0.30809827663224587,0.5669852141402425,0.75294055420292527,0.7229264254733142,0.93940388905144545,0.71014498178803565,0.9361808700496046,-0.34309193728112586,{"$f":"+Spectre!C1200*N1201/L1201","v":1.2469412403306428},1.2750847742808451]
[5000,0.5,4,1.0175751275218883,0.14345527849700082,0.99565423390967012,4.7286378167982158E-3,0.15976371953086071,0.30794763584465978,0.56714253687896843,0.75304502840803134,0.72304111578235952,0.93955292292067105,0.71026383911905366,0.93633755912355121,-0.34222274431594535,{"$f":"+Spectre!C1201*N1202/L1202","v":1.2446147312066229},1.272705755715001]
[5001,0.50009999999999999,3.9984004798720321,1.0175655037574314,0.14333921598319599,0.9956477245858496,4.7357360959017943E-3,0.1597221905155517,0.30779714259464952,0.56729974912441827,0.7531494147661284,0.72315571193230732,0.93970183443522914,0.7103825999052068,0.93649412092284556,-0.34135439506846055,{"$f":"+Spectre!C1202*N1203/L1203","v":1.2419739350603123},1.2700053566510905]
[5002,0.50019999999999998,3.9968019189765118,1.0175558860504719,0.14322327111613847,0.99564120553336877,4.7428450304136359E-3,0.15968068059537882,0.30764679674193096,0.56745685090712439,0.75325371333399294,0.72327021397947,0.93985062366829464,0.71050126420214899,0.93665055552085608,-0.340486888751379,{"$f":"+Spectre!C1203*N1204/L1204","v":1.2461320080218983},1.2742572775533627]
[5003,0.50029999999999997,3.9952043165465905,1.0175462743958625,0.14310744375238343,0.99563467673775163,4.7499646363287429E-3,0.15963918975774705,0.30749659814645924,0.56761384225758971,0.75335792416831981,0.72338462198008113,0.93999929069294008,0.71061983206545765,0.93680686299085003,-0.33962022457875163,{"$f":"+Spectre!C1204*N1205/L1205","v":1.2548728625224979},1.2831954136318227]
[5004,0.50039999999999996,3.9936076718161844,1.0175366687884617,0.14299173374869042,0.99562813818450069,4.7570949296663334E-3,0.15959771799007247,0.3073465466684292,0.56777072320628585,0.75346204732572075,0.72349893599029536,0.94014783558213544,0.71073830355063261,0.93696304340599279,-0.33875440176603933,{"$f":"+Spectre!C1205*N1206/L1206","v":1.2616578004717913},1.2901334880123687]
[5005,0.50049999999999994,3.9920119840199773,1.0175270692231331,0.14287614096202339,0.99562158985909721,4.7642359264694848E-3,0.15955626527978203,0.30719664216827491,0.56792749378365404,0.75356608286272586,0.72361315606618737,0.94029625840874664,0.71085667871309666,0.9371190968393478,-0.33788941952991314,{"$f":"+Spectre!C1206*N1207/L1207","v":1.2587866558197907},1.2871975414640349]
[5006,0.50060000000000004,3.9904172523934114,1.0175174756947469,0.14276066524954989,0.99561503174700094,4.7713876428054983E-3,0.15951483161431301,0.30704688450666839,0.56808415402010548,0.75367003083578288,0.72372728226375427,0.94044455924553905,0.7109749576081964,0.93727502336387825,-0.33702527708847629,{"$f":"+Spectre!C1207*N1208/L1208","v":1.2556353556088189},1.2839751162300017]
[5007,0.50070000000000003,3.9888234761727026,1.0175078881981776,0.14264530646864157,0.99560846383365031,4.7785500947656592E-3,0.15947341698111381,0.30689727354452101,0.56824070394601933,0.75377389130125727,0.72384131463891266,0.94059273816517308,0.71109314029120019,0.9374308230524443,-0.33616197366107547,{"$f":"+Spectre!C1208*N1209/L1209","v":1.2519475178013382},1.2802040437157194]
[5008,0.50080000000000002,3.9872306545948204,1.0174983067283057,0.14253006447687275,0.9956018861044621,4.7857232984655999E-3,0.15943202136764381,0.30674780914298216,0.56839714359174365,0.75387766431543235,0.72395525324750043,0.94074079524020726,0.71121122681729976,0.93758649597780475,-0.33529950846844514,{"$f":"+Spectre!C1209*N1210/L1210","v":1.2479926531611198},1.2761599175580611]
[5009,0.50090000000000001,3.985638786897499,1.0174887312800174,0.14241493913202088,0.99559529854483164,4.7929072700450635E-3,0.1593906447613726,0.30659849116343851,0.56855347298759629,0.75398134993450949,0.72406909814527676,0.94088873054309741,0.71132921724160991,0.93774204221261737,-0.3344378807325854,{"$f":"+Spectre!C1210*N1211/L1211","v":1.2441275993789973},1.2722076292946187]
[5010,0.501,3.9840478723192332,1.017479161848204,0.14229993029206595,0.99558870114013298,4.8001020256677853E-3,0.15934928714978122,0.30644931946751497,0.56870969216386236,0.75408494821460748,0.72418284938792099,0.94103654414619609,0.71144711161916774,0.93789746182943723,-0.33357708967688415,{"$f":"+Spectre!C1211*N1212/L1212","v":1.2416259775370126},1.269649545706913]
[5011,0.50109999999999999,3.9824579100992783,1.0174695984277626,0.14218503781519026,0.99558209387571828,4.8073075815220972E-3,0.15930794852036081,0.30630029391707314,0.56886580115079599,0.75418845921176347,0.72429650703103388,0.94118423612175328,0.71156491000493383,0.93805275490071871,-0.33271713452598384,{"$f":"+Spectre!C1212*N1213/L1213","v":1.2391187283465674},1.2670857077611757]
[5012,0.50119999999999998,3.9808688994776471,1.0174600410135959,0.14207026155977787,0.99557547673691815,4.8145239538205696E-3,0.15926662886061341,0.30615141437421184,0.56902179997861957,0.75429188298193206,0.72441007113013667,0.94133180654191595,0.71168261245379105,0.93820792149881349,-0.33185801450589247,{"$f":"+Spectre!C1213*N1214/L1214","v":1.2366813097976841},1.2645932765385088]
[5013,0.50129999999999997,3.9792808396951096,1.0174504896006116,0.14195560138441438,0.99556884970904169,4.8217511588000131E-3,0.15922532815805224,0.30600268070126663,0.56917768867752294,0.75439521958098565,0.72452354174067135,0.94147925547872791,0.71180021902054491,0.93836296169597144,-0.33099972884392814,{"$f":"+Spectre!C1214*N1215/L1215","v":1.2342900000071848},1.2621479947514971]
[5014,0.50139999999999996,3.9776937299931956,1.0174409441837231,0.14184105714788681,0.99556221277737644,4.8289892127214816E-3,0.15918404640020048,0.30585409276080877,0.56933346727766498,0.75449846906471529,0.72463691891800153,0.94162658300413127,0.7119177297599244,0.93851787556434163,-0.3301422767687523,{"$f":"+Spectre!C1215*N1216/L1216","v":1.2319843878185328},1.2597903447660279]
[5015,0.50149999999999995,3.9761075696141894,1.0174314047578492,0.14172662870918296,0.99555556592718797,4.836238131870757E-3,0.15914278357459261,0.30570565041564635,0.56948913580917104,0.75460163148882919,0.72475020271741042,0.94177378918996346,0.71203514472658069,0.93867266317597042,-0.32928565751021432,{"$f":"+Spectre!C1216*N1217/L1217","v":1.2304774868460728},1.2582494329538376]
[5016,0.50160000000000005,3.9745223578011282,1.0174218713179144,0.14161231592749113,0.9955489091437203,4.8434979325578682E-3,0.15910153966877355,0.30555735352882252,0.56964469430213471,0.75470470690895386,0.72486339319410298,0.94192087410796044,0.7121524639750878,0.93882732460280249,-0.32842987029962911,{"$f":"+Spectre!C1217*N1218/L1218","v":1.2291326184407367},1.2568742107929276]
[5017,0.50170000000000003,3.97293809379781,1.0174123438588483,0.14149811866220027,0.99554224241219569,4.8507686311173382E-3,0.15906031467029896,0.30540920196361654,0.56980014278661661,0.75480769538063319,0.72497649040320422,0.94206783782975412,0.71226968755994235,0.93898185991668037,-0.32757491436953279,{"$f":"+Spectre!C1218*N1219/L1219","v":1.2264841510762725},{"$f":"+Q1219/R$1","v":1.2541659673710381}]
[5018,0.50180000000000002,3.9713547768487807,1.017402822375586,0.14138403677289885,0.99553556571781454,4.8580502439083033E-3,0.15901910856673515,0.30526119558354231,0.56995548129264473,0.75491059695932961,0.72508949439976045,0.94221468042687428,0.71238681553556338,0.93913626918934467,-0.32672078895383816,{"$f":"+Spectre!C1219*N1220/L1220","v":1.2222707928637702},1.2498575134266259]
[5019,0.50190000000000001,3.9697724061993398,1.0173933068630685,0.14127007011937517,0.99552887904575549,4.8653427873143994E-3,0.15897792134565894,0.30511333425234854,0.57011070985021428,0.75501341170042346,0.72520240523873847,0.94236140197074725,0.71250384795629329,0.93929055249243443,-0.32586749328769038,{"$f":"+Spectre!C1220*N1221/L1221","v":1.2182301443165215},1.2457256672143291]
[5020,0.502,3.968190981095538,1.0173837973162414,0.14115621856161656,0.9955221823811754,4.8726462777437581E-3,0.15893675299465784,0.30496561783401815,0.57026582848928764,0.75511613965921309,0.72531522297502637,0.94250800253269718,0.71262078487639702,0.93944470989748718,-0.32501502660755577,{"$f":"+Spectre!C1221*N1222/L1222","v":1.2157824339162993},1.2432227118526598]
[5021,0.50209999999999999,3.9666105007841788,1.0173742937300565,0.14104248195980962,0.99551547570920906,4.8799607316293778E-3,0.1588956035013302,0.3048180461927692,0.5704208372397932,0.75521878089091443,0.7254279476634321,0.94265448218394399,0.71273762635006133,0.93959874147593681,-0.32416338815125512,{"$f":"+Spectre!C1222*N1223/L1223","v":1.2135743549834317},1.2409647964540456]
[5022,0.50219999999999998,3.9650309645128146,1.0173647960994703,0.14092886017433942,0.9955087590149696,4.8872861654286432E-3,0.15885447285328511,0.30467061919305316,0.57057573613162615,0.75532133545066149,0.72554057935868488,0.94280084099560535,0.71285437243139615,0.93975264729911645,-0.32331257715786377,{"$f":"+Spectre!C1223*N1224/L1224","v":1.2115260185123669},1.2388702289135842]
[5023,0.50229999999999997,3.9634523715297454,1.0173553044194454,0.14081535306578938,0.99550203228354806,4.8946225956238024E-3,0.15881336103814148,0.30452333669955467,0.57073052519464862,0.75542380339350679,0.72565311811543465,0.94294707903869601,0.71297102317443428,0.93990642743825703,-0.32246259286775603,{"$f":"+Spectre!C1224*N1225/L1225","v":1.209682736345391},1.2369853437643923]
[5024,0.50239999999999996,3.9618747210840199,1.0173458186849496,0.14070196049494085,0.99549529550001337,4.9019700387219808E-3,0.15877226804352945,0.30437619857719228,0.57088520445868884,0.75552618477442046,0.72576556398825232,0.94309319638412792,0.71308757863313044,0.94006008196448687,-0.32161343452271618,{"$f":"+Spectre!C1225*N1226/L1226","v":1.2079145925194252},1.2351772928327944]
[5025,0.50249999999999995,3.9602980124254361,1.0173363388909551,0.14058868232277288,0.99548854864941283,4.9093285112546941E-3,0.15873119385709006,0.30422920469111764,0.57103977395354033,0.75562847964829061,0.72587791703162852,0.94323919310270865,0.71320403886136219,0.94021361094883271,-0.32076510136559433,{"$f":"+Spectre!C1226*N1227/L1227","v":1.2030034018752147},1.2301552563394285]
[5026,0.50260000000000005,3.9587222448045325,1.0173268650324412,0.14047551841046174,0.99548179171677131,4.9166980297786966E-3,0.15869013846647403,0.30408235490671448,0.57119423370896394,0.75573068806992383,0.72599017729997606,0.94338506926514465,0.71332040391292983,0.94036701446221904,-0.31991759264078379,{"$f":"+Spectre!C1227*N1228/L1228","v":1.1975323317521438},1.2245607038558644]
[5027,0.50270000000000004,3.9571474174726018,1.0173173971043914,0.14036246861938115,0.99547502468709181,4.9240786108753825E-3,0.15864910185934322,0.30393564908959975,0.57134858375468511,0.75583281009404435,0.72610234484762715,0.94353082494203777,0.71343667384155585,0.9405202925754681,-0.31907090759378809,{"$f":"+Spectre!C1228*N1229/L1229","v":1.1945782507630012},1.2215399490925929]
[5028,0.50280000000000002,3.9555735296816743,1.0173079351017948,0.14024953281110111,0.99546824754535534,4.9314702711509058E-3,0.15860808402337018,0.30378908710562219,0.57150282412039533,0.75593484577529446,0.72621441972883527,0.94367646020388751,0.71355284870088498,0.94067344535929931,-0.31822504547155406,{"$f":"+Spectre!C1229*N1230/L1230","v":1.195867776785045},1.2228585797895062]
[5029,0.50290000000000001,3.9540005806845246,1.0172984790196458,0.14013671084738791,0.99546146027652049,4.9388730272366694E-3,0.15856708494623756,0.3036426688208621,0.57165695483575196,0.75603679516823497,0.72632640199777443,0.94382197512109001,0.71366892854448516,0.94082647288433119,-0.31738000552217205,{"$f":"+Spectre!C1230*N1231/L1231","v":1.1971199374689956},1.2241390018105431]
[5030,0.503,3.9524285697346739,1.0172890288529444,0.14002400259020448,0.99545466286552386,4.9462868957888435E-3,0.15852610461563874,0.30349639410163209,0.571810975930377,0.75613865832734428,0.72643829170853935,0.94396736976393847,0.71378491342584593,0.94097937522107877,-0.3165357869951535,{"$f":"+Spectre!C1231*N1232/L1232","v":1.1998392652875722},1.226919705010981]
[5031,0.50309999999999999,3.9508574960863796,1.017279584596696,0.13991140790170886,0.99544785529727986,4.9537118934886082E-3,0.15848514301927771,0.30335026281447519,0.5719648874338582,0.75624043530701945,0.7265500889151455,0.94411264420262309,0.71390080339837991,0.94113215243995552,-0.31569238914122,{"$f":"+Spectre!C1232*N1233/L1233","v":1.2030629079182424},1.2302161054371954]
[5032,0.50319999999999998,3.9492873589946442,1.0172701462459108,0.13979892664425483,0.99544103755668056,4.9611480370422775E-3,0.15844420014486879,0.30320427482616591,0.57211868937574784,0.75634212616157503,0.72666179367152894,0.94425779850723079,0.71401659851542187,0.94128480461127251,-0.31484981121239208,{"$f":"+Spectre!C1233*N1234/L1234","v":1.2049922970022304},1.2321890409413612]
[5033,0.50329999999999997,3.9477181577152098,1.0172607137956049,0.13968655868039137,0.99543420962859597,4.9685953431810636E-3,0.15840327598013682,0.30305843000370924,0.5722723817855635,0.75644373094524453,0.72677340603154639,0.94440283274774561,0.71413229883022888,0.94143733180523836,-0.31400805246201147,{"$f":"+Spectre!C1234*N1235/L1235","v":1.204044068922125},1.231219411300138]
[5034,0.50339999999999996,3.9461498915045552,1.0172512872407993,0.1395743038728619,0.99542737149787364,4.9760538286614366E-3,0.15836237051281721,0.30291272821434057,0.57242596469278717,0.75654524971217885,0.72688492604897514,0.9445477469940482,0.71424790439598085,0.94158973409195978,-0.31316711214463,{"$f":"+Spectre!C1235*N1236/L1236","v":1.203144128429761},1.2302991591002286]
[5035,0.50349999999999995,3.9445825596199011,1.0172418665765208,0.13946216208460477,0.99542052314933871,4.9835235102651324E-3,0.15832148373065583,0.30276716932552572,0.57257943812686518,0.75664668251644729,0.72699635377751293,0.94469254131591573,0.71436341526577907,0.9417420115414401,-0.31232698951615401,{"$f":"+Spectre!C1236*N1237/L1237","v":1.2031353998578207},1.2302902335239285]
[5036,0.50360000000000005,3.9430161613191999,1.0172324517978011,0.13935013317875194,0.99541366456779434,4.9910044047986679E-3,0.15828061562140897,0.30262175320495954,0.57273280211720912,0.756748029412038,0.72710768927077873,0.94483721578302338,0.71447883149264835,0.94189416422358152,-0.31148768383375547,{"$f":"+Spectre!C1237*N1238/L1238","v":1.2035018843930649},1.2306649896357524]
[5037,0.50370000000000004,3.9414506958611488,1.0172230428996771,0.13923821701862982,0.99540679573802082,4.9984965290943133E-3,0.15823976617284358,0.30247647972056768,0.57288605669319326,0.75684929045285576,0.72721893258231118,0.94498177046494147,0.71459415312953467,0.94204619220818253,-0.31064919435584981,{"$f":"+Spectre!C1238*N1239/L1239","v":1.204242162078963},1.231421975430671]
[5038,0.50380000000000003,3.9398861625051742,1.0172136398771916,0.13912641346775798,0.99539991664477623,5.0059999000093662E-3,0.15819893537273677,0.3023313487405041,0.57303920188415691,0.75695046569272506,0.72733008376557018,0.94512620543113857,0.71470938022930686,0.94219809556493994,-0.30981152034218473,{"$f":"+Spectre!C1239*N1240/L1240","v":1.2066321659021939},1.2338659217746597]
[5039,0.50390000000000001,3.9383225605114394,1.0172042427253924,0.13901472238984933,0.99539302727279644,5.0135145344261571E-3,0.15815812320887604,0.30218636013315153,0.57319223771940364,0.75705155518538803,0.72744114287393613,0.94527052075097939,0.71482451284475634,0.94234987436344841,-0.30897466105370697,{"$f":"+Spectre!C1240*N1241/L1241","v":1.2090303477509574},1.2363182307226774]
[5040,0.504,3.9367598891408417,1.0171948514393319,0.13890314364880951,0.99538612760679446,5.0210404492527783E-3,0.15811732966905942,0.30204151376712174,0.57334516422820048,0.7571525589845054,0.72755210996071018,0.94541471649372588,0.71493955102859641,0.94250152867319958,-0.30813861575271773,{"$f":"+Spectre!C1241*N1242/L1242","v":1.2098562856832933},1.2371628101206154]
[5041,0.50409999999999999,3.9351981476550097,1.0171854660140689,0.13879167710873697,0.99537921763146087,5.0285776614226018E-3,0.15807655474109564,0.30189680951125519,0.57349798143977726,0.75725347714365543,0.72766298507911342,0.94555879272853616,0.7150544948334624,0.94265305856358239,-0.30730338370276167,{"$f":"+Spectre!C1242*N1243/L1243","v":1.2100911366007294},1.2374029616364712]
[5042,0.50419999999999998,3.9336373353163063,1.0171760864446668,0.13868032263392224,0.99537229733146393,5.036126187894157E-3,0.15803579841280346,0.30175224723461985,0.57365068938332842,0.75735430971633522,0.72777376828228824,0.94570274952446587,0.71516934431191226,0.94280446410388374,-0.30646896416866021,{"$f":"+Spectre!C1243*N1244/L1244","v":1.2110856145309186},1.2384198849894965]
[5043,0.50429999999999997,3.9320774513878249,1.0171667127261943,0.138569080088848,0.99536536669144893,5.0436860456518646E-3,0.15799506067201197,0.30160782680651183,0.57380328808801095,0.75745505675595981,0.72788445962329695,0.94584658695046642,0.71528409951642591,0.94295574536328775,-0.3056353564164227,{"$f":"+Spectre!C1244*N1245/L1245","v":1.2148200331298065},1.2422385896262689]
[5044,0.50439999999999996,3.9305184951333896,1.0171573448537254,0.1384579493381885,0.99535842569603883,5.0512572517053145E-3,0.15795434150656124,0.30146354809645504,0.57395577758294491,0.75755571831586277,0.72799505915512275,0.94599030507538684,0.71539876049940532,0.94310690241087558,-0.30480255971349068,{"$f":"+Spectre!C1245*N1246/L1246","v":1.2186534267360316},1.2461585031418625]
[5045,0.50449999999999995,3.9289604658175539,1.01714798282234,0.13834693024680944,0.99535147432983395,5.0588398230896232E-3,0.1579136409043006,0.30131941097419968,0.57410815789721403,0.75765629444929583,0.72810556693066941,0.94613390396797259,0.71551332731317518,0.94325793531562674,-0.30397057332840483,{"$f":"+Spectre!C1246*N1247/L1247","v":1.2220422905050563},1.2496238537568198]
[5046,0.50460000000000005,3.9274033627055966,1.0171386266271218,0.13823602267976709,0.99534451257741163,5.0664337768658065E-3,0.1578729588530908,0.30117541530972369,0.57426042905986441,0.75775678520942935,0.72821598300276136,0.9462773836968662,0.71562780000998194,0.94340884414641735,-0.30313939653109356,{"$f":"+Spectre!C1247*N1248/L1248","v":1.2251821745433875},1.2528346051545536]
[5047,0.50470000000000004,3.925847185063533,1.017129276263161,0.13812522650230918,0.99533754042332689,5.0740391301200586E-3,0.15783229534080268,0.30103156097323192,0.57441259109990439,0.75785719064935131,0.72832630742414295,0.94642074433060619,0.71574217864199374,0.9435596289720205,-0.30230902859270659,{"$f":"+Spectre!C1248*N1249/L1249","v":1.2267976247896222},1.2544865162037349]
[5048,0.50480000000000003,3.9242919321580962,1.0171199317255526,0.13801454157987339,0.99533055785211177,5.0816558999644702E-3,0.15779165035531686,0.30088784783515476,0.57456464404630592,0.75795751082206875,0.7284365402474795,0.94656398593762825,0.7158564632613017,0.94371028986110772,-0.30147946878559262,{"$f":"+Spectre!C1249*N1250/L1250","v":1.2211882105153455},1.2487504971336887]
[5049,0.50490000000000002,3.9227376032567505,1.0171105930093969,0.13790396777808761,0.99532356484827555,5.0892841035367993E-3,0.15775102388452489,0.30074427576614926,0.57471658792800218,0.75805774578050678,0.72854668152535706,0.94670710858626506,0.71597065391991843,0.94386082688224704,-0.30065071638348817,{"$f":"+Spectre!C1250*N1251/L1251","v":1.2151082189472737},1.2425332798138504]
[5050,0.505,3.9211841976276833,1.0171012601097993,0.13779350496276951,0.99531656139630476,5.0969237580004694E-3,0.15771041591632842,0.30060084463709841,0.57486842277388928,0.75815789557750868,0.72865673131028152,0.94685011234474514,0.71608475066977884,0.9440112401039038,-0.29982277066126217,{"$f":"+Spectre!C1251*N1252/L1252","v":1.2119211762129467},1.2392743053456987]
[5051,0.50509999999999999,3.9196317145398076,1.0170919330218702,0.1376831529999262,0.99530954748066292,5.1045748805448165E-3,0.15766982643863944,0.30045755431911048,0.57502014861282502,0.75825796026583625,0.72876668965467972,0.94699299728119457,0.71619875356273965,0.94416152959444066,-0.29899563089516024,{"$f":"+Spectre!C1252*N1253/L1253","v":1.2111855506755957},1.2385220766985818]
[5052,0.50519999999999998,3.9180801532627583,1.0170826117407259,0.13757291175575412,0.99530252308579092,5.1122374883847245E-3,0.15762925543938006,0.30031440468351889,0.57517176547362947,0.75835793989817013,0.7288765566108989,0.94713576346363559,0.71631266265058002,0.94431169542211779,-0.2981692963625715,{"$f":"+Spectre!C1253*N1254/L1254","v":1.2101432509992553},1.237456252259904]
[5053,0.50529999999999997,3.916529513066894,1.017073296261487,0.1374627810966384,0.99529548819610647,5.1199115987612389E-3,0.15758870290648266,0.30017139560188233,0.57532327338508427,0.75845783452710869,0.7289863322312069,0.94727841095998744,0.71642647798500092,0.94446173765509234,-0.29734376634221737,{"$f":"+Spectre!C1254*N1255/L1255","v":1.2059087148055658},1.2331261423460778]
[5054,{"$f":"+A1256/10000","v":0.50539999999999996},{"$f":"+(1/B1256)^2","v":3.9149797932232957},{"$f":"0.23465+1.076*100/(146-C1256)+0.93161/(41-C1256)","v":1.0170639865792801},{"$f":"9.4977*0.001*C1256^2*D1256*EXP(-h/7.996/1000)","v":0.13735276088915296},{"$f":"+EXP(-0.0168*EXP(-15*ABS(B1256-0.59)))","v":0.99528844279600459},{"$f":"-2.5*LOG(F1256)","v":5.1275972289409584E-3},{"$f":"2.5*LOG(EXP(AOD*(B1256/0.55)^(-1.3)))","v":0.15754816882789052},{"$f":"+E1256+G1256+H1256","v":0.30002852694598448},{"$f":"10^(-0.4*I1256*ma)","v":0.57547467237593231},{"$f":"10^(-0.4*I1256)","v":0.75855764420516858},{"$f":"10^(-0.4*I1256*ma_ref)","v":0.72909601656779144},{"$f":"+L1256/M$1","v":0.9474209398380653},{"$f":"10^(-0.4*I1256*ma_target)","v":0.71654019961762527},{"$f":"+N1256/O$1","v":0.94461165636141853},{"$f":"(O1256/M1256-1)*100","v":-0.296519040113985},{"$f":"+Spectre!C1255*N1256/L1256","v":1.2014191944165735},1.2285352932293145]
[5055,0.50549999999999995,3.913430993003765,1.0170546826892364,0.13724285100005992,0.99528138686985712,5.1352943962166483E-3,0.15750765319155605,0.2998857985878326,0.57562596247487863,0.75865736898478597,0.72920560967276171,0.94756335016558224,0.71665382759999785,0.94476145160904768,-0.2956951169591937,{"$f":"+Spectre!C1256*N1257/L1257","v":1.2004518149220564},1.2275460799251789]
[5056,0.50560000000000005,3.9118831116808197,1.0170453845864926,0.13713305129630907,0.99527432040201314,5.1430031179067548E-3,0.15746715598544297,0.29974321039965879,0.57577714371058919,0.75875700891831432,0.72931511159814655,0.94770564201014684,0.71676736198358582,0.94491112346582873,-0.29487199616019533,{"$f":"+Spectre!C1257*N1258/L1258","v":1.2024848376687189},1.2296249881096166]
[5057,0.50570000000000004,3.9103361485277053,1.0170360922661905,0.13702336164503853,0.99526724337679817,5.1507234113562601E-3,0.15742667719752493,0.29960076225391974,0.57592821611169021,0.75885656405802582,0.72942452239589473,0.94784781543926389,0.71688080281977717,0.94506067199950616,-0.29404967700074058,{"$f":"+Spectre!C1258*N1259/L1259","v":1.2041614668855349},1.2313394589421873]
[5058,0.50580000000000003,3.908790102818378,1.0170268057234768,0.13691378191357306,0.99526015577851534,5.1584552939354673E-3,0.15738621681578499,0.29945845402329352,0.57607917970677114,0.75895603445611193,0.72953384211787742,0.94798987052033712,0.7169941501598841,0.94521009727772454,-0.29322815876574593,{"$f":"+Spectre!C1259*N1260/L1260","v":1.2031470199812391},1.2303021159141863]
[5059,0.50590000000000002,3.9072449738275146,1.0170175249535038,0.13680431196942494,0.99525305759144422,5.166198783041219E-3,0.15734577482821793,0.29931628558068413,0.57623003452437993,0.75905542016468108,0.72964307081588387,0.94813180732066371,0.71710740405513795,0.94535939936802216,-0.29240744074140457,{"$f":"+Spectre!C1260*N1261/L1261","v":1.201865336436245},1.228991504699471]
[5060,0.50600000000000001,3.9057007608305079,1.0170082499514286,0.136694951680293,0.99524594879984118,5.1739538960965384E-3,0.15730535122282735,0.29917425679921689,0.57638078059302666,0.75915472123576166,0.72975220854162548,0.94827362590744013,0.71722056455669392,0.94550857833783641,-0.29158752221519757,{"$f":"+Spectre!C1261*N1262/L1262","v":1.1989218731099234},1.2259816072402678]
[5061,0.50609999999999999,3.9041574631034672,1.0169989807124136,0.13658570091406261,0.99523882938793973,5.1817206505502637E-3,0.15726494598762752,0.29903236755224039,0.57653141794118179,0.7592539377212999,0.72986125534673318,0.94841532634775771,0.71733363171562836,0.94565763425450111,-0.29076840247576063,{"$f":"+Spectre!C1262*N1263/L1263","v":1.1940463721720029},1.220996065971871]
[5062,0.50619999999999998,3.9026150799232155,1.0169897172316262,0.13647655953880519,0.99523169933994993,5.1894990638776594E-3,0.15722455911064345,0.29889061771332631,0.57668194659727512,0.75935306967316019,0.72997021128275852,0.9485569087086051,0.71744660558293949,0.94580656718524703,-0.28995008081301732,{"$f":"+Spectre!C1263*N1264/L1264","v":1.1898752813314066},1.2167308333763269]
[5063,0.50629999999999997,3.9010736105672907,1.0169804595042393,0.13636752742277805,0.99522455864005877,5.1972891535800557E-3,0.15718419057990968,0.29874900715626779,0.57683236658969816,0.75945211714312622,0.73007907640117342,0.94869837305686711,0.71755948620954746,0.94595537719720191,-0.28913255651812353,{"$f":"+Spectre!C1264*N1265/L1265","v":1.19431059084832},1.2212662480785783]
[5064,0.50639999999999996,3.8995330543139453,1.0169712075254302,0.13625860443442422,0.99521740727242969,5.2050909371853344E-3,0.15714384038347073,0.29860753575508026,0.57698267794680158,0.75955108018289974,0.73018785075337023,0.94883971945932544,0.71767227364629416,0.94610406435739047,-0.28831582888348972,{"$f":"+Spectre!C1265*N1266/L1266","v":1.2004883334302228},1.2275834226581293]
[5065,0.50649999999999995,3.8979934104421408,1.0169619612903824,0.13614979044237172,0.99521024522120316,5.2129044322473273E-3,0.15710350850938215,0.29846620338400121,0.57713288069689617,0.7596499588441008,0.73029653439066156,0.94898094798265809,0.7177849679439432,0.94625262873273408,-0.28749989720276981,{"$f":"+Spectre!C1266*N1267/L1267","v":1.2024310575668422},1.2295699941878147]
[5066,0.50660000000000005,3.8964546782315508,1.0169527207942832,0.13604108531543346,0.995203072470496,5.2207296563465478E-3,0.15706319494570858,0.29832500991748856,0.57728297486825308,0.75974875317826918,0.73040512736428087,0.94912205869344013,0.71789756915318059,0.94640107039005184,-0.28668476077081673,{"$f":"+Spectre!C1267*N1268/L1268","v":1.1965388364916691},1.2235447853514643]
[5067,0.50670000000000004,3.8949168569625661,1.0169434860323259,0.13593248892260751,0.99519588900440181,5.2285666270897035E-3,0.15702289968052552,0.29818395523022273,0.57743296048910231,0.75984746323686159,0.73051362972538125,0.94926305165814218,0.71801007732461308,0.94654938939605837,-0.28587041888374909,{"$f":"+Spectre!C1268*N1269/L1269","v":1.1910715143203607},1.2179540654111447]
[5068,0.50680000000000003,3.8933799459162799,1.0169342569997089,0.13582400113307588,0.99518869480699079,5.2364153621099457E-3,0.15698262270191846,0.29804303919710429,0.5775828375876334,0.75994608907125438,0.73062204152503618,0.94940392694313158,0.71812249250876992,0.94669758581736618,-0.28505687083886233,{"$f":"+Spectre!C1269*N1270/L1270","v":1.1883003405343842},1.2151203460769056]
[5069,0.50690000000000002,3.891843944374497,1.0169250336916351,0.1357156218162047,0.99518148986230959,5.2442758790669942E-3,0.15694236399798256,0.29790226169325429,0.57773260619199607,0.76004463073274253,0.73073036281424042,0.94954468461467323,0.71823481475610185,0.9468456597204844,-0.28424411593479526,{"$f":"+Spectre!C1270*N1271/L1271","v":1.1857194914998765},1.2124812471344844]
[5070,0.50700000000000001,3.8903088516197304,1.0169158161033129,0.13560735084154385,0.99517427415438142,5.2521481956470141E-3,0.15690212355682398,0.29776162259401484,0.57788226633029827,0.76014308827253907,0.7308385936439078,0.94968532473892686,0.71834704411698114,0.94699361117181835,-0.28343215347130801,{"$f":"+Spectre!C1271*N1272/L1272","v":1.1856560110268652},1.2124163339036256]
[5071,0.5071,3.8887746669351997,1.0169066042299559,0.13549918807882669,0.99516704766720609,5.260032329562625E-3,0.15686190136655787,0.29762112177494715,0.57803181803060788,0.7602414617417762,0.73094673406487365,0.94982584738195031,0.71845918064170244,0.94714144023767144,-0.28262098274941527,{"$f":"+Spectre!C1272*N1273/L1273","v":1.1902044558180047},1.2170674373496075]
[5072,0.50719999999999998,3.8872413896048323,1.0168973980667826,0.13539113339796982,0.99515981038475965,5.2679282985532601E-3,0.15682169741531032,0.29748075911183341,0.57818126132095093,0.7603397511915041,0.73105478412789271,0.94996625260969647,0.71857122438048115,0.94728914698424216,-0.28181060307141959,{"$f":"+Spectre!C1273*N1274/L1274","v":1.1946593814512487},1.2216229109050389]
[5073,0.50729999999999997,3.8857090189132619,1.0168881976090163,0.13528318666907271,0.9951525622909948,5.2758361203846934E-3,0.15678151169121676,0.29734053448067416,0.57833059622931293,0.76043795667269254,0.73116274388364066,0.9501065404880159,0.71868317538345539,0.94743673147762753,-0.28100101374073372,{"$f":"+Spectre!C1274*N1275/L1275","v":1.1960915760268716},1.2230874301928123]
[5074,0.50739999999999996,3.8841775541458241,1.0168790028518855,0.13517534776241727,0.99514530336984042,5.2837558128496394E-3,0.15674134418242366,0.29720044775769061,0.57847982278363697,0.76053607823622893,0.73127061338271282,0.95024671108265435,0.71879503370068343,0.94758419378381908,-0.28019221406214712,{"$f":"+Spectre!C1275*N1276/L1276","v":1.1965494702681316},1.2235556591328598]
[5075,0.50749999999999995,3.8826469945885616,1.016869813790624,0.13506761654846788,0.9951380336052017,5.2916873937675175E-3,0.15670119487708647,0.29706049881932184,0.57862894101182583,0.76063411593292007,0.73137839267562532,0.95038676445925474,0.71890679938214674,0.94773153396870724,-0.27938420334149283,{"$f":"+Spectre!C1276*N1277/L1277","v":1.1969009075672812},1.2239150283916238]
[5076,0.50760000000000005,3.8811173395282164,1.0168606304204706,0.13495999289787058,0.99513075298096054,5.2996308809840935E-3,0.15666106376337108,0.29692068754222578,0.57877795094174034,0.76073206981349162,0.73148608181281494,0.9505267006833571,0.71901847247774775,0.94787875209807804,-0.2785769808860028,{"$f":"+Spectre!C1277*N1278/L1278","v":1.1969369063374311},1.2239518396560414]
[5077,0.50770000000000004,3.8795885882522403,1.0168514527366692,0.13485247668145386,0.99512346148097452,5.307586292372571E-3,0.15662095082945376,0.2967810138032802,0.57892685260119825,0.76082993992858672,0.73159368084463738,0.95066651982039585,0.71913005303730992,0.94802584823761349,-0.27777054600399698,{"$f":"+Spectre!C1278*N1279/L1279","v":1.1969733250518821},1.2239890803429265]
[5078,0.50780000000000003,3.8780607400487797,1.0168422807344679,0.13474506777022674,0.99511615908907813,5.3155536458322607E-3,0.15658085606352054,0.29664147747957953,0.57907564601797701,0.76092772632876848,0.73170118982137022,0.95080622193570397,0.71924154111057914,0.94817282245289347,-0.27696489800511648,{"$f":"+Spectre!C1279*N1280/L1280","v":1.1987249917576659},1.2257802822648129]
[5079,0.50790000000000002,3.8765337942066829,1.0168331144091209,0.1346377660353798,0.99510884578908143,5.3235329592900369E-3,0.15654077945376726,0.29650207844843712,0.57922433121981076,0.76102542906451809,0.73180860879321008,0.95094580709450927,0.71935293674722256,0.94831967480939394,-0.27616003620007934,{"$f":"+Spectre!C1280*N1281/L1281","v":1.2011626138936282},1.2282729216695305]
[5080,0.50800000000000001,3.8750077500155005,1.016823953755887,0.13453057134828444,0.99510152156477116,5.3315242506991314E-3,0.15650072098839979,0.29636281658738339,0.57937290823439236,0.76112304818623588,0.73191593781027464,0.9510852753619371,0.71946423999682874,0.94846640537248728,-0.27535595990099138,{"$f":"+Spectre!C1281*N1282/L1282","v":1.2016084306420811},1.2287288005270787]
[5081,0.5081,3.8734826067654793,1.01681479877003,0.13442348358049247,0.99509418639990987,5.3395275380401048E-3,0.15646068065563426,0.29622369177416685,0.57952137708937157,0.76122058374424051,0.73202317692260133,0.95122462680300823,0.71957545090890784,0.94861301420744248,-0.27455266842104642,{"$f":"+Spectre!C1282*N1283/L1283","v":1.1921323824843957},{"$f":"+Q1283/R$1","v":1.2190388774293288}]
[5082,0.50819999999999999,3.8719583637475665,1.0168056494468185,0.13431650260373604,0.99508684027823646,5.347542839320242E-3,0.15642065844369635,0.29608470388675262,0.57966973781235609,0.76131803578877,0.73213032618014817,0.9513638614826404,0.71968656953289201,0.94875950137942577,-0.27375016107463734,{"$f":"+Spectre!C1283*N1284/L1284","v":1.1823795458403807},1.2090659187135402]
[5083,0.50829999999999997,3.8704350202534061,1.0167965057815265,0.13420962828992719,0.99507948318346573,5.3555701725740415E-3,0.15638065434082238,0.29594585280332364,0.5798179904309102,0.76141540436998001,0.73223738563279295,0.95150297946564732,0.71979759591813375,0.94890586695349821,-0.2729484371775337,{"$f":"+Spectre!C1284*N1285/L1285","v":1.1818124855031602},1.2084860597926044]
[5084,0.50839999999999996,3.8689125755753384,1.0167873677694326,0.13410286051115763,0.99507211509928861,5.3636095558629729E-3,0.15634066833525789,0.29580713840227851,0.57996613497255578,0.76151268953794626,0.73234435533033426,0.95164198081673945,0.7199085301139081,0.94905211099461895,-0.27214749604654864,{"$f":"+Spectre!C1285*N1286/L1286","v":1.185357403245394},1.212110986527726]
[5085,0.50849999999999995,3.8673910290064,1.0167782354058206,0.13399619913969854,0.99506473600937195,5.3716610072757302E-3,0.15630070041525879,0.29566856056223306,0.58011417146477195,0.76160989134266244,0.73245123532249024,0.95178086560052277,0.72001937216941103,0.94919823356764277,-0.27134733699972768,{"$f":"+Spectre!C1286*N1287/L1287","v":1.1888085606091234},1.2156400367073255]
[5086,0.50860000000000005,3.8658703798403202,1.0167691086859794,0.13388964404800002,0.99505734589735872,5.3797245449279827E-3,0.15626075056909064,0.29553011916201866,0.58026209993499445,0.76170700983404138,0.73255802565890016,0.95191963388150092,0.72013012213376026,0.94934423473732132,-0.27054795935642639,{"$f":"+Spectre!C1287*N1288/L1288","v":1.1920269583821963},1.2189310738992114]
[5087,0.50870000000000004,3.8643506273715271,1.0167599876052027,0.13378319510869119,0.99504994474686781,5.387800186962625E-3,0.15622081878502897,0.29539181408068282,0.5804099204106159,0.76180404506191501,0.73266472638912261,0.95205828572407247,0.7202407800559949,0.94949011456830268,-0.26974936243705505,{"$f":"+Spectre!C1288*N1289/L1289","v":1.1955682253716269},1.2225522674838336]
[5088,0.50880000000000003,3.8628317708951383,1.016750872158789,0.13367685219457948,0.99504253254149366,5.3958879515501445E-3,0.15618090505135968,0.29525364519748931,0.58055763291898499,0.76190099707603309,0.73277133756263679,0.95219682119253324,0.72035134598507489,0.94963587312513054,-0.26895154556337841,{"$f":"+Spectre!C1289*N1290/L1290","v":1.1916472037759327},1.2185427482101185]
[5089,0.50890000000000002,3.8613138097069641,1.0167417623420423,0.13357061517865065,0.9950351092648072,5.4039878568876536E-3,0.15614100935637812,0.29511561239191642,0.58070523748740732,0.76199786592606511,0.73287785922884197,0.95233524035107464,0.72046181996988223,0.94978151047224568,-0.26815450805827146,{"$f":"+Spectre!C1290*N1291/L1291","v":1.1824609047680223},1.2091491139167561]
[5090,0.50900000000000001,3.8597967431035083,1.0167326581502709,0.13346448393406837,0.9950276749003546,5.4120999212002238E-3,0.15610113168838935,0.29497771554365793,0.58085273414314498,0.76209465166159929,0.73298429143705768,0.95247354326378486,0.72057220205922001,0.94992702667398521,-0.2673582492458193,{"$f":"+Spectre!C1291*N1292/L1292","v":1.1755360812899103},1.2020679967831358]
[5091,0.5091,3.8582805703819636,1.0167235595787882,0.13335845833417392,0.99502022943165813,5.4202241627399235E-3,0.15606127203570888,0.29483995453262274,0.58100012291341552,0.76219135433214236,0.73309063423652343,0.95261172999464805,0.72068249230181258,0.95007242179458196,-0.26656276845136162,{"$f":"+Spectre!C1292*N1293/L1293","v":1.180443362789676},1.2070860359024467]
[5092,0.50919999999999999,3.8567652908402139,1.0167144666229129,0.13325253825248606,0.9950127728422159,5.4283605997861818E-3,0.15602143038666141,0.29470232923893369,0.58114740382539321,0.76228797398712045,0.73319688767639934,0.95274980060754499,0.72079269074630625,0.9502176958981664,-0.265768065001315,{"$f":"+Spectre!C1293*N1294/L1294","v":1.1865282390832463},1.2133082481963129]
[5093,0.50929999999999997,3.8552509037768319,1.0167053792779688,0.13314672356270052,0.99500530511550145,5.436509250646154E-3,0.15598160672958214,0.29456483954292878,0.58129457690620812,0.76238451067587809,0.73330305180576527,0.95288775516625246,0.72090279744126795,0.95036284904876389,-0.26497413822345051,{"$f":"+Spectre!C1294*N1295/L1295","v":1.1865667151576624},1.2133475926778932]
[5094,0.50939999999999996,3.8537374084910785,1.0166962975392835,0.13304101413868985,0.99499782623496424,5.4446701336542426E-3,0.15594180105281594,0.29442748532516005,0.58144164218294503,0.76248096444767866,0.73340912667362113,0.95302559373444307,0.72101281243518578,0.95050788131029607,-0.26418098744666052,{"$f":"+Spectre!C1295*N1296/L1296","v":1.1803212499633136},1.2069611669827229]
[5095,0.50949999999999995,3.8522248042829044,1.0166872214021907,0.13293540985450328,0.99499033618402943,5.4528432671723439E-3,0.15590201334471715,0.29429026646639278,0.58158859968264576,0.76257733535170513,0.73351511232888755,0.95316331637568663,0.72112273577647001,0.9506527927465821,-0.26338861200099206,{"$f":"+Spectre!C1296*N1297/L1297","v":1.1746199766798555},1.2011312156404899]
[5096,0.50960000000000005,3.8507130904529414,1.0166781508620284,0.13282991058436588,0.99498283494609752,5.4610286695902076E-3,0.1558622435936502,0.29415318284760628,0.58173544943230682,0.7626736234370588,0.73362100882040504,0.95330092315344872,0.72123256751345144,0.95079758342133625,-0.26259701121778001,{"$f":"+Spectre!C1297*N1298/L1298","v":1.1783317451652577},1.2049267589494406]
[5097,0.50970000000000004,3.8492022663025165,1.0166690859141398,0.13272451620267933,0.9949753225045449,5.4692263593248422E-3,0.15582249178798965,0.2940162343499938,0.58188219145887954,0.76276982875275956,0.73372681619693336,0.95343841413108998,0.72134230769438212,0.95094225339816885,-0.26180618442943615,{"$f":"+Spectre!C1298*N1299/L1299","v":1.1824463606070903},1.2091342414932935]
[5098,0.50980000000000003,3.8476923311336328,1.0166600265538732,0.13261922658402034,0.99496779884272346,5.4774363548209977E-3,0.15578275791611926,0.2938794208549606,0.58202882578927162,0.76286595134774737,0.7338325345071538,0.95357578937186915,0.72145195636743575,0.95108680274058721,-0.26101613096967125,{"$f":"+Spectre!C1299*N1300/L1300","v":1.1840178037754638},1.2107411522223905]
[5099,0.50990000000000002,3.8461832842489834,1.0166509727765809,0.13251404160314123,0.99496026394396031,5.4856586745514122E-3,0.15574304196643279,0.29374274224412544,0.5821753524503448,0.76296199127088027,0.73393816379966714,0.95371304893894038,0.72156151358070719,0.9512312315119944,-0.26022685017333957,{"$f":"+Spectre!C1300*N1301/L1301","v":1.1825488916113378},1.2092390866280756]
[5100,0.51,3.8446751249519413,1.016641924577621,0.13240896113496953,0.99495271779155847,5.4938933370160918E-3,0.15570334392733426,0.2936061983993199,0.58232177146891595,0.76305794857093534,0.73404370412299391,0.95385019289535333,0.72167097938221225,0.95137553977568967,-0.25943834137643895,{"$f":"+Spectre!C1301*N1302/L1302","v":1.181046409460893},1.207702693370962]
[5101,0.5101,3.8431678525465656,1.016632881952356,0.13230398505460744,0.99494516036879621,5.5021403607430335E-3,0.15566366378723678,0.29346978920258726,0.58246808287175689,0.76315382329660908,0.73414915552557536,0.95398722130405489,0.72178035381988814,0.95151972759486814,-0.25865060391624395,{"$f":"+Spectre!C1302*N1303/L1303","v":1.1770535939479749},1.2036197597872718]
[5102,0.51019999999999999,3.8416614663375954,1.0166238448961538,0.13219911323733194,0.99493759165892703,5.5103997642882334E-3,0.15562400153456374,0.29333351453618395,0.58261428668559345,0.76324961549651626,0.73425451805577213,0.95412413422788722,0.72188963694159269,0.95166379503262089,-0.25786363713117266,{"$f":"+Spectre!C1303*N1304/L1304","v":1.1723281623521764},1.1987876749344919]
[5103,0.51029999999999998,3.8401559656304509,1.0166148134043862,0.1320943455585939,0.99493001164518025,5.5186715662350824E-3,0.15558435715774771,0.29319737428257669,0.58276038293710708,0.76334532521919174,0.73435979176186605,0.9542609317295897,0.72199882879510613,0.95180774215193609,-0.25707744036080893,{"$f":"+Spectre!C1304*N1305/L1305","v":1.172832825035429},1.1993037278828991]
[5104,0.51039999999999996,3.8386513497312333,1.016605787472431,0.13198968189401855,0.99492242031075995,5.5269557851954634E-3,0.15554473064523169,0.29306136832444574,0.58290637165293213,0.76344095251308819,0.73446497669205757,0.95439761387179645,0.7221079294281284,0.95195156901569644,-0.25629201294593562,{"$f":"+Spectre!C1305*N1306/L1306","v":1.1811194210539044},1.2077773528397355]
[5105,0.51049999999999995,3.8371476179467239,1.0165967670956702,0.13188512211940462,0.99491481763884615,5.535252439808536E-3,0.15550512198546812,0.29292549654468125,0.583052252859658,0.76353649742657792,0.7345700728944683,0.95453418071703866,0.72221693888828153,0.95209527568668195,-0.25550735422849025,{"$f":"+Spectre!C1306*N1307/L1307","v":1.1887528831187077},1.2155831025728185]
[5106,0.51060000000000005,3.8356447695843792,1.0165877522694904,0.13178066611072417,0.99490720361259366,5.5435615487419536E-3,0.1554655311669188,0.29278975882638492,0.58319802658382836,0.76363196000795264,0.73467508041713969,0.95467063232774385,0.72232585722310838,0.95223886222756793,-0.25472346355167597,{"$f":"+Spectre!C1307*N1308/L1308","v":1.1861393872731696},1.212910619979005]
[5107,0.51070000000000004,3.8341428039523415,1.0165787429892841,0.131676313744123,0.99489957821513264,5.5518831306912682E-3,0.15542595817805582,0.29265415505287007,0.58334369285193921,0.763727340305422,0.73477999930803273,0.95480696876623461,0.72243468448007253,0.95238232870092565,-0.25394034025977286,{"$f":"+Spectre!C1308*N1309/L1309","v":1.1807382177876673},1.2073875457943319]
[5108,0.51080000000000003,3.8326417203594216,1.0165697392504471,0.13157206489591894,0.9948919414295686,5.560217204379922E-3,0.15538640300736065,0.29251868510765955,0.58348925169044252,0.76382263836711595,0.7348848296150291,0.95494319009473061,0.72254342070655919,0.95252567516922271,-0.25315798369828224,{"$f":"+Spectre!C1309*N1310/L1310","v":1.1779837905428623},1.2045709509716409]
[5109,0.51090000000000002,3.8311415181151118,1.0165607410483819,0.13146791944260305,0.99488429323898209,5.5685637885596224E-3,0.15534686564332459,0.29238334887448725,0.58363470312574217,0.76391785424108261,0.73498957138593024,0.95507929637534728,0.72265206594987441,0.95266890169482255,-0.25237639321389338,{"$f":"+Spectre!C1310*N1311/L1311","v":1.1819173947230575},1.2085933368194972]
[5110,0.51100000000000001,3.8296421965295777,1.0165517483784943,0.13136387726083842,0.99487663362642875,5.5769229020102189E-3,0.1553073460744486,0.29224814623729722,0.58378004718419618,0.7640129879752896,0.73509422466845753,0.955215287670096,0.72276062025724497,0.95281200833998381,-0.25159556815449458,{"$f":"+Spectre!C1311*N1312/L1312","v":1.1858775114990736},1.2126428336539539]
[5111,0.5111,3.8281437549136621,1.0165427612361952,0.1312599382274604,0.9948689625749394,5.5852945635397108E-3,0.15526784428924351,0.29211307708024359,0.5839252838921154,0.7641080396176233,0.73519878951025197,0.95535116404088349,0.72286908367581904,0.95295499516686177,-0.25081550786901774,{"$f":"+Spectre!C1312*N1313/L1313","v":1.1823672658454343},1.2090533615584169]
[5112,0.51119999999999999,3.8266461925788779,1.0165337796169012,0.1311561022194758,0.99486128006751984,5.5936787919843699E-3,0.15522836027622905,0.29197814128768917,0.58407041327576514,0.76420300921588979,0.73530326595887607,0.95548692554951498,0.72297745625266596,0.95309786223750792,-0.25003621170777146,{"$f":"+Spectre!C1313*N1314/L1314","v":1.1770845244101622},1.2036513883517308]
[5113,0.51129999999999998,3.825149508837415,1.0165248035160326,0.13105236911406323,0.99485358608715102,5.6020756062086195E-3,0.15518889402393532,0.2918433387442072,0.58421543536136245,0.76429789681781368,0.73540765406181074,0.95562257225768898,0.72308573803477572,0.95324060961386869,-0.24925767902204132,{"$f":"+Spectre!C1314*N1315/L1315","v":1.1741064998565283},1.2006061496163705]
[5114,0.51139999999999997,3.8236537030021349,1.0165158329290147,0.13094873878857247,0.9948458806167888,5.6104850251052852E-3,0.15514944552090207,0.29170866933457984,0.58436035017507792,0.76439270247103919,0.73551195386645762,0.95575810422700169,0.72319392906905933,0.95338323735778685,-0.24847990916442297,{"$f":"+Spectre!C1315*N1316/L1316","v":1.177361349143089},1.2039344610344547]
[5115,0.51149999999999995,3.8221587743865686,1.0165068678512788,0.13084521112052408,0.99483816363936384,5.6189070675957157E-3,0.15511001475567848,0.2915741329437983,0.58450515774303458,0.76448742622312904,0.73561616542013786,0.95589352151894424,0.72330202940234856,0.95352574553100033,-0.24770290148858898,{"$f":"+Spectre!C1316*N1317/L1317","v":1.1806630835476599},1.2073107157703002]
[5116,0.51160000000000005,3.820664722304917,1.0164979082782593,0.13074178598760927,0.99483043513778202,5.627341752629301E-3,0.1550706017168231,0.29143972945706165,0.58464985809130898,0.76458206812156593,0.73572028877009377,0.95602882419490554,0.72341003908139723,0.95366813419514462,-0.24692665534942204,{"$f":"+Spectre!C1317*N1318/L1318","v":1.1818201252430791},1.2084938719618832]
[5117,0.51170000000000004,3.8191715460720599,1.0164889542053963,0.13063846326769024,0.99482269509492371,5.6357890991843278E-3,0.15503120639290466,0.2913054587597792,0.58479445124592833,0.76467662821375071,0.73582432396348574,0.95616401231616788,0.72351795815287812,0.95381040341174816,-0.24615117010297061,{"$f":"+Spectre!C1318*N1319/L1319","v":1.1820026722677244},1.2086805390831452]
[5118,{"$f":"+A1320/10000","v":0.51180000000000003},{"$f":"+(1/B1320)^2","v":3.8176792450035353},{"$f":"0.23465+1.076*100/(146-C1320)+0.93161/(41-C1320)","v":1.0164800056281349},{"$f":"9.4977*0.001*C1320^2*D1320*EXP(-h/7.996/1000)","v":0.13053524283879858},{"$f":"+EXP(-0.0168*EXP(-15*ABS(B1320-0.59)))","v":0.99481494349364452},{"$f":"-2.5*LOG(F1320)","v":5.6442491262671309E-3},{"$f":"2.5*LOG(EXP(AOD*(B1320/0.55)^(-1.3)))","v":0.15499182877250106},{"$f":"+E1320+G1320+H1320","v":0.2911713207375668},{"$f":"10^(-0.4*I1320*ma)","v":0.58493893723287405},{"$f":"10^(-0.4*I1320)","v":0.76477110654700431},{"$f":"10^(-0.4*I1320*ma_ref)","v":0.73592827104739578},{"$f":"+L1320/M$1","v":0.95629908594391189},{"$f":"10^(-0.4*I1320*ma_target)","v":0.72362578666338651},{"$f":"+N1320/O$1","v":0.95395255324223727},{"$f":"(O1320/M1320-1)*100","v":-0.24537644510644885},{"$f":"+Spectre!C1319*N1320/L1320","v":1.1818077383354046},1.2084812054810055]
[5119,0.51190000000000002,3.8161878184155555,1.0164710625419242,0.13043212457913619,0.99480718031677451,5.6527218529129472E-3,0.15495246884420014,0.29103731527624926,0.58508331607807895,0.76486550316856594,0.73603213006882506,0.95643404513921293,0.72373352465943785,0.95409458374793321,-0.24460247971821447,{"$f":"+Spectre!C1320*N1321/L1321","v":1.1801718978373685},1.2068084439708924]
[5120,0.51200000000000001,3.814697265625,1.0164621249422183,0.13032910836707429,0.99479940554711888,5.661207298185188E-3,0.15491312659659895,0.29090344226185844,0.58522758780742823,0.76495981812559521,0.73613590107469495,0.95656888996304279,0.72384117218746913,0.95423649499005347,-0.24382927329775761,{"$f":"+Spectre!C1321*N1322/L1322","v":1.1784700102474324},1.2050681446822991]
[5121,0.5121,3.8132075859494132,1.0164531928244767,0.13022619408115363,0.99479161916745718,5.6697054811762938E-3,0.1548738020183042,0.29076970158063409,0.58537175244675888,0.76505405146516992,0.73623958411184687,0.95670362047626956,0.72394872929383758,0.95437828702971061,-0.24305682520583405,{"$f":"+Spectre!C1322*N1323/L1323","v":1.1782883912920785},1.2048824265769045]
[5122,0.51219999999999999,3.8117187787070073,1.0164442661841631,0.13012338160008394,0.99478382116054387,5.6782164210071344E-3,0.15483449509793235,0.29063609311902339,0.5855158100218596,0.76514820323428734,0.73634317922704184,0.95683823673965651,0.7240561960248213,0.95451995992791294,-0.24228513480427649,{"$f":"+Spectre!C1323*N1324/L1324","v":1.1789469858090156},1.2055558856091431]
[5123,0.51229999999999998,3.8102308432166603,1.0164353450167456,0.13002067080274377,0.99477601150910799,5.686740136827368E-3,0.15479520582410947,0.29050261676368061,0.58565976055847069,0.76524227347986384,0.73644668646696088,0.95697273881386302,0.72416357242661922,0.95466151374556418,-0.24151420145609448,{"$f":"+Spectre!C1324*N1325/L1325","v":1.1787463248971735},1.2053506957692308]
[5124,0.51239999999999997,3.8087437787979121,1.0164264293176979,0.12991806156817998,0.99476819019585339,5.6952766478152103E-3,0.15475593418547071,0.29036927240146593,0.58580360408228505,0.76533626224873574,0.73655010587820535,0.95710712675944531,0.72427085854535178,0.9548029485434647,-0.24074402452545218,{"$f":"+Spectre!C1325*N1326/L1326","v":1.1693992982774541},1.1957927062328182]
[5125,0.51249999999999996,3.8072575847709702,1.016417519082498,0.12981555377560808,0.99476035720345823,5.7038259731779176E-3,0.15471668017066115,0.29023605991944712,0.5859473406189456,0.76543016958765764,0.73665343750729606,0.95724140063685448,0.72437805442705949,0.95494426438230962,-0.2399746033776351,{"$f":"+Spectre!C1326*N1327/L1327","v":1.1598253209598974},1.1860026437085489]
[5126,0.51259999999999994,3.8057722604567021,1.0164086143066282,0.12971314730441111,0.9947525125145753,5.7123881321515481E-3,0.1546774437683355,0.29010297920489814,0.58609097019404688,0.76552399554330397,0.73675668140067374,0.95737556050643768,0.72448516011770348,0.95508546132268912,-0.23920593737917217,{"$f":"+Spectre!C1327*N1328/L1328","v":1.156236582995845},1.1823329077267368]
[5127,0.51270000000000004,3.8042878051766382,1.0163997149855764,0.12961084203414006,0.99474465611183205,5.7209631440008468E-3,0.15463822496715762,0.28997003014529854,0.58623449283313522,0.76561774016226813,0.73685983760469942,0.95750960642843885,0.72459217566316625,0.95522653942509006,-0.23843802589770258,{"$f":"+Spectre!C1328*N1329/L1329","v":1.1568442776867121},1.1829543181209672]
[5128,0.51280000000000003,3.8028042182529727,1.0163908211148347,0.12950863784451347,0.99473678797783027,5.7295510280196086E-3,0.15459902375580123,0.28983721262833428,0.58637790856170702,0.76571140349106304,0.73696290616565341,0.95764353846299644,0.72469910110925051,0.9553674987498938,-0.2376708683019646,{"$f":"+Spectre!C1329*N1330/L1330","v":1.1574555490505456},1.1835793859138739]
[5129,0.51290000000000002,3.8013214990085578,1.0163819326899,0.12940653461541687,0.99472890809514614,5.7381518035306885E-3,0.15455984012294913,0.28970452654189671,0.58652121740521024,0.76580498557612042,0.7370658871297362,0.95777735667014563,0.72480593650168024,0.95550833935737811,-0.23690446396186227,{"$f":"+Spectre!C1330*N1331/L1331","v":1.1589461440460793},1.1851036237223214]
[5130,0.51300000000000001,3.7998396467669062,1.0163730497062737,0.12930453222690266,0.99472101644633049,5.7467654898856312E-3,0.15452067405729403,0.28957197177408234,0.58666441938904357,0.76589848646379233,0.73716878054306856,0.95791106110981794,0.72491268188609959,0.95564906130771543,-0.23613881224857636,{"$f":"+Spectre!C1331*N1332/L1332","v":1.1605592040630288},1.186753090594608]
[5131,0.5131,3.7983586608521898,1.0163641721594621,0.12920263055918996,0.99471311301390819,5.7553921064654109E-3,0.15448152554753777,0.28943954821319318,0.58680751453855606,0.76599190620034896,0.73727158645169077,0.95804465184184018,0.725019337308074,0.95578966466097448,-0.23537391253429796,{"$f":"+Spectre!C1332*N1333/L1333","v":1.1616031501769006},1.1878205986310049]
[5132,0.51319999999999999,3.7968785405892391,1.0163553000449765,0.12910082949266438,0.99470519778037869,5.7640316726798252E-3,0.1544423945823919,0.28930725574773608,0.58695050287904715,0.76608524483198037,0.73737430490156275,0.95817812892593468,0.7251259028130892,0.95593014947711896,-0.23460976419233948,{"$f":"+Spectre!C1333*N1334/L1334","v":1.1620494303195601},1.1882769513415929]
[5133,0.51329999999999998,3.7953992853035423,1.0163464333583323,0.12899912890787743,0.99469727072821557,5.7726842079679815E-3,0.15440328115057741,0.28917509426642285,0.58709338443576664,0.7661785024047959,0.73747693593856423,0.95831149242171987,0.7252323784465512,0.95607051581600733,-0.23384636659730118,{"$f":"+Spectre!C1334*N1335/L1335","v":1.1625346189754815},1.1887730907327765]
[5134,0.51339999999999997,3.7939208943212441,1.01633757209505,0.12889752868554663,0.99468933183986674,5.7813497317980595E-3,0.15436418524082449,0.28904306365816917,0.5872361592339147,0.76627167896482429,0.73757947960849568,0.9584447423887108,0.72533876425378752,0.95621076373739466,-0.23308371912484915,{"$f":"+Spectre!C1335*N1336/L1336","v":1.163160858037587},1.1894134640457474]
[5135,0.51349999999999996,3.7924433669691462,1.0163287162506545,0.12879602870655502,0.99468138109775439,5.7900282636674395E-3,0.15432510684187298,0.28891116381209547,0.58737882729864155,0.76636477455801366,0.73768193595707632,0.95857787888631718,0.72544506028004607,0.95635089330093115,-0.23232182115170419,{"$f":"+Spectre!C1336*N1337/L1337","v":1.1638369527132282},1.1901048182162566]
[5136,0.51359999999999995,3.7909667025747038,1.0163198658206758,0.12869462885195096,0.99467341848427482,5.7987198231028211E-3,0.15428604594247225,0.288779394617526,0.58752138865504733,0.766457789230231,0.73778430502994585,0.95871090197384545,0.72555126657049474,0.95649090456616126,-0.23156067205594155,{"$f":"+Spectre!C1337*N1338/L1338","v":1.1633638734824783},1.1896210615606519]
[5137,0.51370000000000005,3.7894909004660269,1.0163110208006478,0.12859332900294779,0.99466544398179835,5.8074244296603492E-3,0.15424700253138091,0.28864775596398906,0.58766384332818145,0.76655072302726335,0.73788658687266329,0.95884381171049704,0.72565738317022255,0.95663079759252578,-0.2308002712165802,{"$f":"+Spectre!C1338*N1339/L1339","v":1.1610390367124197},1.1872437530938922]
[5138,0.51380000000000003,3.7880159599718835,1.0163021811861099,0.128492129040924,0.99465745757266977,5.816142102925137E-3,0.15420797659736687,0.28851624774121598,0.58780619134304379,0.76664357599481647,0.73798878153070802,0.95897660815536989,0.72576341012423928,0.95677057243936081,-0.23004061801387143,{"$f":"+Spectre!C1339*N1340/L1340","v":1.15879949037369},1.1849536600682951]
[5139,0.51390000000000002,3.7865418804216886,1.0162933469726056,0.12839102884742207,0.99464945923920745,5.8248728625122361E-3,0.15416896812920775,0.28838486983914202,0.58794843272458341,0.76673634817851621,0.73809088904947884,0.95910929136745737,0.72586934747747489,0.9569102291658973,-0.22928171182918788,{"$f":"+Spectre!C1340*N1341/L1341","v":1.1580884980694548},1.1842266206277512]
[5140,0.51400000000000001,3.7850686611455129,1.0162845181556834,0.12829002830414926,0.99464144896370421,5.8336167280656675E-3,0.15412997711569026,0.28825362214790518,0.58809056749769839,0.76682903962390714,0.7381929094742945,0.95924186140564871,0.72597519527477994,0.95704976783126161,-0.22852355204503461,{"$f":"+Spectre!C1341*N1342/L1342","v":1.1575920779039086},1.1837189962311387]
[5141,0.5141,3.7835963014740774,1.0162756947308962,0.12818912729297646,0.99463342672842658,5.8423737192592803E-3,0.15409100354561081,0.28812250455784655,0.58823259568723663,0.76692165037645366,0.7382948428503936,0.95937431832872899,0.72608095356092572,0.95718918849447554,-0.22776613804506018,{"$f":"+Spectre!C1342*N1343/L1343","v":1.1563258234377793},1.1824241623304665]
[5142,0.51419999999999999,3.7821248007387549,1.0162668766938012,0.12808832569593856,0.99462539251561533,5.851143855796141E-3,0.15405204740777478,0.28799151695950947,0.58837451731799495,0.76701418048153946,0.73839668922293444,0.95950666219537906,0.72618662238060405,0.95732849121445607,-0.22700946921403453,{"$f":"+Spectre!C1343*N1344/L1344","v":1.1537781942165819},1.1798190329744107]
[5143,0.51429999999999998,3.7806541582715667,1.0162580640399614,0.12798762339523384,0.99461734630748488,5.8599271574091508E-3,0.15401310869099705,0.28786065924364002,0.58851633241471946,0.76710662998446788,0.7384984486369951,0.95963889306417538,0.72629220177842713,0.95746767605001526,-0.22625354493785998,{"$f":"+Spectre!C1344*N1345/L1345","v":1.1513054118532928},1.1772904397740576]
[5144,0.51439999999999997,3.7791843734051849,1.016249256764943,0.12788702027322379,0.99460928808622362,5.8687236438608034E-3,0.15397418738410212,0.28772993130118674,0.58865804100210417,0.76719899893046106,0.73860012113757323,0.95977101099359008,0.7263976917989271,0.95760674305985949,-0.22549836460366013,{"$f":"+Spectre!C1345*N1346/L1346","v":1.1531930052500832},1.1792206362600139]
[5145,0.51449999999999996,3.777715445472928,1.0162404548643178,0.12778651621243289,0.99460121783399391,5.8775333349430636E-3,0.15393528347592378,0.28759933302329976,0.58879964310479271,0.76729128736466101,0.73870170676958657,0.95990301604199124,0.72650309248655787,0.95774569230259243,-0.22474392759950224,{"$f":"+Spectre!C1346*N1347/L1347","v":1.1565758788924951},{"$f":"+Q1347/R$1","v":1.182679861550864}]
[5146,0.51459999999999995,3.7762473738087645,1.0162316583336619,0.12768611109554839,0.99459313553293172,5.8863562504778647E-3,0.15389639695530458,0.28746886430133084,0.58894113874737741,0.76738349533212957,0.7388032055778726,0.96003490826764282,0.72660840388569281,0.95788452383671108,-0.22399023331475254,{"$f":"+Spectre!C1347*N1348/L1348","v":1.1581321785097398},1.184271286938031]
[5147,0.51470000000000005,3.774780157747307,1.0162228671685558,0.12758580480541984,0.99458504116514701,5.8951924103166171E-3,0.15385752781109704,0.28733852502683349,0.58908252795439864,0.76747562287784743,0.73890461760718829,0.96016668772870395,0.72671362604062606,0.95802323772060827,-0.22323728113980978,{"$f":"+Spectre!C1348*N1349/L1349","v":1.155254005596968},1.181328153500685]
[5148,0.51480000000000004,3.7733137966238193,1.0162140813645852,0.12748559722505939,0.99457693471272313,5.9040418343409458E-3,0.15381867603216282,0.28720831509156319,0.58922381075034447,0.76756767004671456,0.73900594290221022,0.96029835448322953,0.72681875899557158,0.95816183401257093,-0.22248507046628285,{"$f":"+Spectre!C1349*N1350/L1350","v":1.1524400904345402},1.1784507281147234]
[5149,0.51490000000000002,3.7718482897742054,1.0162053009173393,0.12738548823764059,0.99456881615771764,5.9129045424617267E-3,0.15377984160737274,0.28707823438747504,0.58936498715965269,0.76765963688355165,0.7391071815075354,0.9604299085891711,0.72692380279466484,0.95830031277078287,-0.22173360068685755,{"$f":"+Spectre!C1350*N1351/L1351","v":1.1496420765822839},1.1755895629323987]
[5150,0.51500000000000001,3.7703836365350174,1.0161965258224133,0.12728547772649912,0.99456068548216126,5.9217805546202904E-3,0.15374102452560681,0.28694828280672624,0.58950605720670801,0.76775152343309738,0.73920833346767989,0.9605613501043746,0.72702875748196094,0.95843867405332162,-0.22098287119529658,{"$f":"+Spectre!C1351*N1352/L1352","v":1.1468784922912221},1.1727636043884015]
[5151,0.5151,3.7689198362434486,1.0161877560754056,0.12718556557513178,0.99455254266805859,5.9306698907875908E-3,0.15370222477575479,0.28681846024167412,0.58964702091584353,0.76784332974001079,0.73930939882707947,0.96069267908658218,0.72713362310143548,0.95857691791816002,-0.22023288138656172,{"$f":"+Spectre!C1352*N1353/L1353","v":1.1441910442032082},1.1700155004458388]
[5152,0.51519999999999999,3.7674568882373367,1.0161789916719204,0.12708575166719663,0.99454438769738773,5.9395725709646859E-3,0.15366344234671542,0.28668876658487674,0.58978787831133972,0.76793505584887034,0.73941037763009021,0.96082389559343206,0.72723839969698445,0.95871504442316602,-0.21948363065674714,{"$f":"+Spectre!C1353*N1354/L1354","v":1.1419494376479755},1.1677233007045364]
[5153,0.51529999999999998,3.7659947918551628,1.0161702326075652,0.12698603588651269,0.99453622055210045,5.9484886151825013E-3,0.15362467722739659,0.28655920172909177,0.58992862941742541,0.76802670180417387,0.73951126992098737,0.96095499968245746,0.72734308731242436,0.95885305362610251,-0.21873511840300175,{"$f":"+Spectre!C1354*N1355/L1355","v":1.1394227115272613},1.165139546233118]
[5154,0.51539999999999997,3.7645335464360485,1.0161614788779538,0.12688641811705975,0.99452804121412186,5.9574180435021957E-3,0.15358592940671556,0.28642976556727751,0.59006927425827649,0.76811826765033875,0.73961207574396592,0.96108599141108753,0.7274476859914919,0.95899094558462761,-0.21798734402359576,{"$f":"+Spectre!C1355*N1356/L1356","v":1.1405338678124379},1.1662757813781675]
[5155,0.51549999999999996,3.7630731513197579,1.0161527304787026,0.12678689824297784,0.99451984966535056,5.9663608760150491E-3,0.15354719887359886,0.28630045799259174,0.59020981285801632,0.76820975343170184,0.73971279514314059,0.96121687083664686,0.7275521957778438,0.9591287203562936,-0.21724030691800955,{"$f":"+Spectre!C1356*N1357/L1357","v":1.1433630333960805},1.1691688013882084]
[5156,0.51559999999999995,3.761613605846692,1.0161439874054339,0.12668747614856707,0.99451164588765861,5.9753171328424583E-3,0.15350848561698224,0.28617127889839178,0.59035024524071567,0.76830115919251973,0.73981342816254603,0.96134763801635614,0.72765661671505755,0.95926637799854864,-0.21649400648676709,{"$f":"+Spectre!C1357*N1358/L1358","v":1.1452002701069204},1.1710475046349793]
[5157,0.51570000000000005,3.760154909357893,1.0161352496537741,0.12658815171828755,0.99450342986289164,5.984286834135823E-3,0.15346978962581059,0.28604222817823399,0.59049057143039263,0.76839248497696888,0.73991397484613652,0.96147829300733156,0.72776094884663101,0.95940391856873564,-0.21574844213150257,{"$f":"+Spectre!C1358*N1359/L1359","v":1.1427409203719578},1.1685326472381299]
[5158,0.51580000000000004,3.7586970611950461,1.0161265172193541,0.12648892483675939,0.9944952015728683,5.993270000077159E-3,0.1534311108890381,0.28591330572587464,0.59063079145101172,0.76848373082914423,0.74001443523778521,0.96160883586658397,0.72786519221598134,0.95954134212409126,-0.21500361325502704,{"$f":"+Spectre!C1359*N1360/L1360","v":1.1400158963099865},1.1657461192297631]
[5159,0.51590000000000003,3.7572400607004672,1.0161177900978093,0.12638979538876144,0.99448696099938083,6.0022666508784909E-3,0.15339244939562841,0.28578451143526834,0.59077090532648469,0.76857489679306135,0.74011480938128582,0.96173926665102094,0.72796934686644699,0.95967864872174846,-0.21425951926118403,{"$f":"+Spectre!C1360*N1361/L1361","v":1.1367384564773877},1.1623947073957459]
[5160,0.51600000000000001,3.755783907217114,1.01610906828478,0.12629076325923211,0.99447870812419459,6.0112768067823417E-3,0.15335380513455391,0.28565584520056836,0.59091091308067034,0.76866598291265475,0.74021509732035129,0.96186958541744505,0.72807341284128624,0.95981583841873441,-0.21351615955497172,{"$f":"+Spectre!C1361*N1362/L1362","v":1.133039437711145},1.1586122015678335]
[5161,0.5161,3.7543286000885794,1.0161003517759106,0.12619182833326864,0.99447044292904818,6.0203004880616182E-3,0.15331517809479639,0.28552730691612666,0.59105081473737331,0.76875698923177893,0.74031529909861438,0.96199979222255461,0.72817739018367744,0.9599529112719708,-0.21277353354254291,{"$f":"+Spectre!C1362*N1363/L1363","v":1.1300334530827325},1.1555383716972336]
[5162,0.51619999999999999,3.752874138659092,1.0160916405668503,0.12609299049612685,0.99446216539565369,6.0293377150193693E-3,0.15327656826534689,0.28539889647649308,0.59119061032034603,0.76884791579420797,0.74041541475962735,0.96212988712294367,0.72828127893671957,0.96008986733827506,-0.21203164063107183,{"$f":"+Spectre!C1363*N1364/L1364","v":1.132524519180609},1.1580856612970927]
[5163,0.51629999999999998,3.751420522273516,1.0160829346532525,0.12599424963322092,0.99445387550569586,6.0383885079896386E-3,0.15323797563520539,0.28527061377641594,0.591330299853286,0.76893876264363559,0.74051544434686223,0.96225987017510162,0.7283850791434312,0.96022670667435817,-0.21129048022895391,{"$f":"+Spectre!C1364*N1365/L1365","v":1.135632743242863},1.161264038151308]
[5164,0.51639999999999997,3.7499677502773485,1.0160742340307756,0.12589560563012328,0.99444557324083305,6.0474528873365003E-3,0.1531994001933811,0.28514245871084087,0.59146988335983797,0.76902952982367467,0.74061538790371073,0.96238974143541367,0.72848879084675189,0.96036342933682717,-0.21055005174558383,{"$f":"+Spectre!C1365*N1366/L1366","v":1.1340265050541842},1.1596215470763398]
[5165,0.51649999999999996,3.7485158220167212,1.0160655386950819,0.12579705837256414,0.99443725858269627,6.056530873455028E-3,0.1531608419288929,0.2850144311749121,0.59160936086359139,0.76912021737785796,0.74071524547348311,0.96251950096015926,0.72859241408954023,0.96050003538218243,-0.20981035459149977,{"$f":"+Spectre!C1366*N1367/L1367","v":1.1270724637795417},1.1525105526988775]
[5166,0.51659999999999995,3.7470647368383982,1.0160568486418387,0.12569860774643132,0.99442893151289002,6.0656224867704613E-3,0.15312230083076775,0.28488653106396955,0.59174873238808423,0.76921082534963858,0.74081501709941111,0.96264914880551555,0.72869594891457623,0.96063652486682061,-0.20907138817837234,{"$f":"+Spectre!C1367*N1368/L1368","v":1.1205551619758496},1.1458461550267967]
[5167,0.51670000000000005,3.7456144940897755,1.0160481638667174,0.12560025363777014,0.99442059201299138,6.0747277477391625E-3,0.15308377688804278,0.28475875827355207,0.59188799795679747,0.76930135378238784,0.74091470282464456,0.96277868502755348,0.72879939536455873,0.96077289784703135,-0.20833315191899349,{"$f":"+Spectre!C1368*N1369/L1369","v":1.1174075276020248},1.1426274783680612]
[5168,0.51680000000000004,3.744165093118883,1.0160394843653942,0.12550199593278313,0.99441224006455076,6.0838466768477857E-3,0.15304527008976385,0.28463111269939478,0.59202715759315916,0.76939180271939789,0.7410143026922531,0.96290810968223972,0.72890275348210742,0.96090915437900015,-0.20759564522716545,{"$f":"+Spectre!C1369*N1370/L1370","v":1.114272716593975},1.1394219144991875]
[5169,0.51690000000000003,3.7427165332743781,1.0160308101335498,0.1254038345178296,0.99440387564909127,6.0929792946140034E-3,0.15300678042498547,0.2845035942374291,0.59216621132054359,0.76948217220388027,0.74111381674522669,0.96303742282543747,0.72900602330976216,0.96104529451880683,-0.20685886751793392,{"$f":"+Spectre!C1370*N1371/L1371","v":1.1143528472309019},1.1395038536890982]
[5170,0.51700000000000002,3.7412688139055472,1.0160221411668688,0.12530576927942524,0.99439549874810895,6.1021256215862659E-3,0.15296830788277213,0.28437620278378362,0.59230515916226933,0.76957246227896592,0.74121324502647401,0.96316662451290425,0.72910920488998265,0.96118131832242604,-0.20612281820731049,{"$f":"+Spectre!C1371*N1372/L1372","v":1.1182968472289412},1.1435368699889923]
[5171,0.5171,3.7398219343623107,1.0160134774610412,0.12520780010424273,0.99438710934307284,6.1112856783436861E-3,0.15292985245219681,0.28424893823478325,0.59244400114160067,0.76966267298770563,0.74131258757882357,0.96329571480029319,0.72921229826514833,0.96131722584572643,-0.20538749671246137,{"$f":"+Spectre!C1372*N1373/L1373","v":1.1218290715912826},1.1471488168539234]
[5172,0.51719999999999999,3.7383758939952112,1.0160048190117608,0.12510992687911035,0.99437870741542456,6.1204594854965275E-3,0.15289141412234153,0.28412180048694841,0.59258273728174771,0.76975280437306992,0.74141184444502373,0.96342469374315376,0.72931530347755946,0.96145301714447207,-0.20465290245169632,{"$f":"+Spectre!C1373*N1374/L1374","v":1.1192915193088333},1.1445539918736902]
[5173,0.51729999999999998,3.7369306921554242,1.0159961658147261,0.12501214949101258,0.99437029294657875,6.1296470636857253E-3,0.15285299288229784,0.28399478943699619,0.5927213676058648,0.76984285647794892,0.74151101566774191,0.96355356139692983,0.72941822056943539,0.96158869227432053,-0.20391903484437979,{"$f":"+Spectre!C1374*N1375/L1375","v":1.1151188298845538},1.1402871246143391]
[5174,0.51739999999999997,3.7354863281947486,1.0159875178656397,0.12491446782708945,0.99436186591792264,6.1388484335833712E-3,0.15281458872116607,0.28386790498183889,0.59285989213705181,0.7699328293451525,0.74161010128956528,0.96368231781696112,0.7295210495829163,0.96172425129082517,-0.20318589331094206,{"$f":"+Spectre!C1375*N1376/L1376","v":1.1136646371243959},1.138800110641768]
[5175,0.51749999999999996,3.7340428014656122,1.015978875160209,0.12481688177463647,0.99435342631081614,6.1480636158925996E-3,0.1527762016280555,0.28374114701858455,0.59299831089835309,0.77002272301741037,0.74170910135300072,0.96381096305848302,0.72962379056006199,0.96185969424943318,-0.20245347727295693,{"$f":"+Spectre!C1376*N1377/L1377","v":1.1176770654707204},1.1429030997216181]
[5176,0.51759999999999995,3.7326001113210663,1.0159702376941457,0.12471939122110419,0.99434497410659184,6.1572926313475896E-3,0.15273783159208487,0.28361451544453664,0.5931366239127579,0.77011253753737152,0.74180801590047407,0.96393949717662564,0.72972644354285199,0.96199502120548597,-0.20172178615307512,{"$f":"+Spectre!C1377*N1378/L1378","v":1.1215508809355617},1.1468643474194511]
[5177,0.51770000000000005,3.7311582571147865,1.0159616054631664,0.12462199605409817,0.99433650928655493,6.1665355007136909E-3,0.1526994786023812,0.28348801015719305,0.59327483120320035,0.77020227294760535,0.74190684497433146,0.96406792022641552,0.72982900857318622,0.96213023221422,-0.20099081937509089,{"$f":"+Spectre!C1378*N1379/L1379","v":1.1197395709834257},1.1450121560997868]
[5178,0.51780000000000004,3.7297172382010761,1.0159529784629915,0.12452469616137878,0.99432803183198337,6.1757922447871864E-3,0.15266114264808148,0.28336163105424744,0.59341293279255825,0.77029192929060042,0.74200558861683774,0.96419623226277362,0.72993148569288424,0.96226532733076586,-0.20026057636383099,{"$f":"+Spectre!C1379*N1380/L1380","v":1.1163133952379334},1.1415086513749537]
[5179,0.51790000000000003,3.7282770539348586,1.0159443566893456,0.12442749143086052,0.99431954172412751,6.1850628843957752E-3,0.15262282371833108,0.28323537803358734,0.59355092870365456,0.77038150660876559,0.74210424687017762,0.96432443334051643,0.73003387494368588,0.96240030661014886,-0.19953105654517689,{"$f":"+Spectre!C1380*N1381/L1381","v":1.1135452191052397},1.1386779973512009]
[5180,0.51800000000000002,3.7268377036716802,1.015935740137959,0.1243303817506124,0.99431103894421013,6.194347440398467E-3,0.15258452180228452,0.28310925099329537,0.59368881895925574,0.77047100494442877,0.7422028197764553,0.9644525235143564,0.73013617636725026,0.96253517010728806,-0.1988022593462313,{"$f":"+Spectre!C1381*N1382/L1382","v":1.1130181426719681},1.1381390247731757]
[5181,0.5181,3.7253991867677096,1.0159271288045648,0.12423336700885709,0.99430252347342651,6.2036459336855731E-3,0.15254623688910537,0.28298324983164802,0.59382660358207295,0.77056042433983807,0.7423013073776944,0.96458050283890073,0.73023839000515711,0.96266991787699796,-0.19807418419506284,{"$f":"+Spectre!C1382*N1383/L1383","v":1.1123467291562701},1.1374524574166529]
[5182,{"$f":"+A1384/10000","v":0.51819999999999999},{"$f":"+(1/B1384)^2","v":3.7239615025797366},{"$f":"0.23465+1.076*100/(146-C1384)+0.93161/(41-C1384)","v":1.0159185226849017},{"$f":"9.4977*0.001*C1384^2*D1384*EXP(-h/7.996/1000)","v":0.12413644709397113},{"$f":"+EXP(-0.0168*EXP(-15*ABS(B1384-0.59)))","v":0.99429399529294438},{"$f":"-2.5*LOG(F1384)","v":6.2129583851787181E-3},{"$f":"2.5*LOG(EXP(AOD*(B1384/0.55)^(-1.3)))","v":0.15250796896796617},{"$f":"+E1384+G1384+H1384","v":0.28285737444711601},{"$f":"10^(-0.4*I1384*ma)","v":0.59396428259476086},{"$f":"10^(-0.4*I1384)","v":0.7706497648371613},{"$f":"10^(-0.4*I1384*ma_ref)","v":0.74239970971583802},{"$f":"+L1384/M$1","v":0.9647083713686524},{"$f":"10^(-0.4*I1384*ma_target)","v":0.73034051589890558},{"$f":"+N1384/O$1","v":0.96280454997398646},{"$f":"(O1384/M1384-1)*100","v":-0.19734683052090585},{"$f":"+Spectre!C1383*N1384/L1384","v":1.1120447970432954},1.1371437106789011]
[5183,0.51829999999999998,3.7225246504651728,1.0159099217747125,0.12403962189448461,0.99428545438390403,6.2222848158307205E-3,0.15246971802804865,0.282731624738364,0.59410185601991805,0.77073902647848613,0.74249802683274857,0.9648361291580092,0.73044255408991476,0.96293906645285643,-0.19662019775402717,{"$f":"+Spectre!C1384*N1385/L1385","v":1.1118530447022072},1.1369476304766861]
[5184,0.51839999999999997,3.721088629782046,1.015901326069744,0.12394289129908057,0.99427690072741781,6.2316252466262058E-3,0.15243148405854301,0.28260600060424979,0.59423932388008727,0.77082820930582008,0.74259625877020818,0.96496377626126484,0.7305445046195238,0.96307346736810484,-0.19589428532581499,{"$f":"+Spectre!C1385*N1386/L1386","v":1.112520143800207},1.1376297860388602]
[5185,0.51849999999999996,3.7196534398890062,1.0158927355657477,0.12384625519659513,0.9942683343045704,6.2409796985812395E-3,0.15239326704864892,0.28248050194382529,0.59437668619775397,0.77091731336108993,0.74269440556991806,0.96509131273260773,0.73064636752899126,0.96320775277412285,-0.19516909266872329,{"$f":"+Spectre!C1386*N1387/L1387","v":1.1159237030399207},1.1411101638021068]
[5186,0.51859999999999995,3.7182190801453205,1.0158841502584794,0.12374971347601733,0.99425975509641906,6.2503481927430977E-3,0.15235506698757473,0.28235512865633516,0.59451394299534766,0.77100633868614321,0.74279246727349946,0.96521873862612251,0.73074814285949596,0.96334192272519614,-0.19444461921634959,{"$f":"+Spectre!C1387*N1388/L1388","v":1.1195311637958276},1.144799045150239]
[5187,0.51870000000000005,3.7167855499108726,1.0158755701436994,0.12365326602648841,0.99425116308399286,6.2597307501911122E-3,0.1523168838645379,0.28222988064121746,0.5946510942952411,0.77109528532274618,0.74289044392249204,0.96534605399578777,0.73084983065213616,0.96347597727550449,-0.19372086440324621,{"$f":"+Spectre!C1388*N1389/L1389","v":1.1179219125049069},1.143153472967142]
[5188,0.51880000000000004,3.7153528485461673,1.0158669952171726,0.12355691273730229,0.99424255824829344,6.2691273920358311E-3,0.15227871766876472,0.28210475779810285,0.59478814011975012,0.77118415331258572,0.74298833555835586,0.96547325889547841,0.73095143094793014,0.96360991647912209,-0.19299782766516449,{"$f":"+Spectre!C1389*N1390/L1390","v":1.1127437000516733},1.1378583879674999]
[5189,0.51890000000000003,3.7139209754123201,1.0158584254746676,0.12346065349790447,0.99423394057029413,6.2785381394199896E-3,0.15224056838949038,0.2819797600268148,0.59492508049113357,0.77127294269726809,0.74308614222246983,0.96560035337896422,0.7310529437878156,0.96374374039001687,-0.1922755084389105,{"$f":"+Spectre!C1390*N1391/L1391","v":1.1080149944248301},1.1330229551886104]
[5190,0.51900000000000002,3.7124899298710652,1.0158498609119579,0.12336448819789245,0.99422531003094095,6.2879630135174256E-3,0.15220243601595898,0.28185488722736884,0.59506191543159348,0.77136165351831965,0.74318386395613234,0.96572733749991035,0.73115436921265042,0.96387744906205164,-0.19155390616234502,{"$f":"+Spectre!C1391*N1392/L1392","v":1.1049127049153091},1.1298506468303173]
[5191,0.51910000000000001,3.7110597112847499,1.0158413015248213,0.12326841672701522,0.99421666661115138,6.2974020355344145E-3,0.15216432053742368,0.28173013929997331,0.59519864496327457,0.77145028581718655,0.74328150080056143,0.96585421131187721,0.7312557072632121,0.96401104254898307,-0.19083302027441684,{"$f":"+Spectre!C1392*N1393/L1393","v":1.1014983713675375},1.1263592515822738]
[5192,0.51919999999999999,3.7096303190163367,1.0158327473090396,0.12317243897517308,0.99420801029181527,6.3068552267087057E-3,0.15212622194314634,0.28160551614502816,0.59533526910826406,0.77153883963523473,0.74337905279689409,0.96598097486832024,0.73135695798019751,0.96414452090446179,-0.19011285021517388,{"$f":"+Spectre!C1393*N1394/L1394","v":1.1024019406367109},1.1272832144606895]
[5193,0.51929999999999998,3.7082017524294009,1.0158241982603993,0.12307655483241745,0.99419934105379459,6.3163226083097664E-3,0.15208814022239814,0.28148101766312539,0.5954717878885919,0.77162731501374981,0.74347651998618691,0.96610762822259022,0.7314581214042235,0.96427788418203286,-0.18939339542568545,{"$f":"+Spectre!C1394*N1395/L1395","v":1.1065564953461275},1.131531537703643]
[5194,0.51939999999999997,3.7067740108881297,1.0158156543746912,0.1229807641889504,0.99419065887792291,6.3258042016393979E-3,0.15205007536445828,0.2813566437550481,0.59560820132623105,0.77171571199393796,0.74357390240941612,0.96623417142793355,0.73155919757582699,0.96441113243513565,-0.18867465534816441,{"$f":"+Spectre!C1395*N1396/L1396","v":1.109837937109097},1.1348870417918244]
[5195,0.51949999999999996,3.7053470937573239,1.0158071156477104,0.12288506693512484,0.99418196374500578,6.3353000280312478E-3,0.15201202735861596,0.28123239432177205,0.59574450944309554,0.77180403061692382,0.74367120010747656,0.96636060453749084,0.7316601865354635,0.96454426571710283,-0.18795662942585611,{"$f":"+Spectre!C1396*N1397/L1397","v":1.1039362375784967},1.1288521405707745]
[5196,0.51959999999999995,3.7039210004023948,1.0157985820752562,0.12278946296144386,0.99417325563582093,6.3448101088506943E-3,0.15197399619416802,0.28110826926446253,0.59588071226104311,0.77189227092375379,0.74376841312118336,0.96648692760429911,0.73176108832350939,0.96467728408116216,-0.18723931710309394,{"$f":"+Spectre!C1397*N1398/L1398","v":1.0971005132492475},1.1218621335588199]
[5197,0.51970000000000005,3.7024957301893604,1.0157900536531321,0.12269395215856052,0.99416453453111742,6.3543344654957059E-3,0.15193598186042123,0.28098426848447744,0.59601680980187222,0.77198043295539265,0.74386554149126993,0.96661314068128945,0.73186190298025977,0.96481018758043446,-0.18652271782527707,{"$f":"+Spectre!C1398*N1399/L1399","v":1.0940414415547723},1.1187340184440895]
[5198,0.51980000000000004,3.7010712824848575,1.0157815303771469,0.12259853441727839,0.99415580041161655,6.3638731193958646E-3,0.15189798434669086,0.28086039188336509,0.59615280208732369,0.77206851675272536,0.74396258525838976,0.96673924382128862,0.73196263054592958,0.96494297626793502,-0.18580683103888163,{"$f":"+Spectre!C1399*N1400/L1400","v":1.0950230216464996},1.1197377528537131]
[5199,0.51990000000000003,3.6996476566561229,1.0157730122431121,0.12250320962854989,0.99414705325801112,6.3734260920132266E-3,0.15186000364230046,0.28073663936286358,0.59628868913908084,0.77215652235655763,0.74405954446311562,0.96686523707701888,0.73206327106065383,0.9650756501965736,-0.18509165619144952,{"$f":"+Spectre!C1400*N1401/L1401","v":1.0958170446183391},1.1205496969687008]
[5200,0.52,3.698224852071005,1.0157644992468449,0.12240797768347732,0.99413829305096568,6.3829934048419638E-3,0.15182203973658343,0.2806130108249027,0.59642447097876772,0.77224444980761386,0.74415641914593911,0.96699112050109681,0.73216382456448637,0.96520820941915297,-0.18437719273161068,{"$f":"+Spectre!C1401*N1402/L1402","v":1.0957913972237558},1.1205234707109788]
[5201,0.52010000000000001,3.6968028680979628,1.0157559913841663,0.12231283847331215,0.99412951977111641,6.3925750794086023E-3,0.1517840926188809,0.28048950617160162,0.59656014762795095,0.77233229914653923,0.74425320934727157,0.96711689414603474,0.73226429109740132,0.96534065398837088,-0.18366344010899427,{"$f":"+Spectre!C1402*N1403/L1403","v":1.0956188232313664},1.1203470017138717]
[5202,0.5202,3.6953817041060573,1.0157474886509013,0.12221779188945454,0.99412073339907114,6.4021711372719125E-3,0.15174616227854382,0.28036612530527028,0.59669571910813735,0.77242007041389837,0.74434991510744319,0.96724255806423975,0.73236467069929156,0.96547298395681791,-0.18295039777440625,{"$f":"+Spectre!C1403*N1404/L1404","v":1.0942617954148441},1.1189593457031808]
[5203,0.52029999999999998,3.6939613594649581,1.0157389910428796,0.12212283782345353,0.99411193391540942,6.4117816000229151E-3,0.1517082487049311,0.28024286812840754,0.5968311854407764,0.77250776365017637,0.74444653646670411,0.96736811230801456,0.73246496340997047,0.96560519937697986,-0.18223806517961849,{"$f":"+Spectre!C1404*N1405/L1405","v":1.0907927504467603},1.1154120041949904]
[5204,0.52039999999999997,3.6925418335449409,1.0157304985559348,0.12202797616700665,0.99410312130068212,6.4214064892852392E-3,0.1516703518874109,0.28011973454370276,0.59696654664725812,0.77259537889577778,0.7445430734652233,0.96749355692955674,0.73256516926917026,0.96573730030123561,-0.1815264417775353,{"$f":"+Spectre!C1405*N1406/L1406","v":1.0871208349689248},1.1116572133782292]
[5205,0.52049999999999996,3.6911231257168864,1.0157220111859055,0.12193320681195971,0.99409429553541173,6.4310458267148943E-3,0.15163247181536013,0.27999672445403473,0.59710180274891345,0.77268291619102702,0.74463952614308881,0.9676188919809583,0.73266528831654254,0.96586928678185746,-0.18081552702210457,{"$f":"+Spectre!C1406*N1407/L1407","v":1.0914676936622227},1.1161021809167999]
[5206,0.52059999999999995,3.6897052353522763,1.0157135289286339,0.12183852965030624,0.99408545660009229,6.4406996340002666E-3,0.15159460847816425,0.27987383776247077,0.59723695376701502,0.77277037557616901,0.74473589454030842,0.96774411751420741,0.73276532059165944,0.96600115887101345,-0.18010532036826232,{"$f":"+Spectre!C1407*N1408/L1408","v":1.0971465796721038},1.1219092397034318]
[5207,0.52070000000000005,3.6882881618231997,1.0157050517799664,0.12174394457418793,0.99407660447518897,6.450367932862619E-3,0.15155676186521788,0.27975107437226843,0.59737199972277533,0.77285775709136795,0.74483217869680873,0.96786923358118648,0.73286526613401082,0.96613291662076262,-0.17939582127219911,{"$f":"+Spectre!C1408*N1409/L1409","v":1.1029701730541468},1.127864271915757]
[5208,0.52080000000000004,3.6868719045023481,1.0156965797357544,0.1216494514758939,0.99406773914113855,6.4600507450555955E-3,0.15151893196592411,0.27962843418687361,0.59750694063734788,0.77294506077670821,0.74492837865243566,0.96799424023367298,0.73296512498300725,0.96626456008305994,-0.17868702919094925,{"$f":"+Spectre!C1409*N1410/L1410","v":1.1087436732720801},1.1337680803584402]
[5209,0.52090000000000003,3.6854564627630135,1.0156881127918529,0.12155505024786048,0.99405886057834925,6.4697480923653601E-3,0.15148111876969483,0.27950591710992068,0.59764177653182748,0.7730322866721947,0.74502449444695462,0.96811913752334022,0.73306489717797874,0.96639608930975385,-0.17797894358273503,{"$f":"+Spectre!C1410*N1411/L1411","v":1.1146508627350133},{"$f":"+Q1411/R$1","v":1.1398085954199046}]
[5210,0.52100000000000002,3.6840418359790892,1.0156796509441213,0.12146074078267109,0.99404996876720031,6.47945999661108E-3,0.15144332226595042,0.27938352304523262,0.59777650742724886,0.77311943481775147,0.74512052612005009,0.96824392550175575,0.7331645827581742,0.96652750435258616,-0.1772715639068001,{"$f":"+Spectre!C1411*N1412/L1412","v":1.1137681062182494},1.1389059150388914]
[5211,0.52110000000000001,3.6826280235250697,1.0156711941884236,0.12136652297305615,0.99404106368804235,6.4891864796445655E-3,0.15140554244412049,0.27926125189682122,0.59791113334458701,0.77320650525322299,0.74521647371132538,0.96836860422038207,0.7332641817627622,0.96665880526319248,-0.17656488962342065,{"$f":"+Spectre!C1412*N1413/L1413","v":1.1104410729802441},1.1355037904735172]
[5212,0.5212,3.6812150247760491,1.0156627425206273,0.12127239671189252,0.99403214532119721,6.4989275633503983E-3,0.15136777929364328,0.27913910356888622,0.59804565430475709,0.77329349801837355,0.74531233726030344,0.96849317373057708,0.73336369423083037,0.9667899920931019,-0.17585892019399418,{"$f":"+Spectre!C1413*N1414/L1414","v":1.1066190180672464},1.1315954715660952]
[5213,0.52129999999999999,3.6798028391077229,1.0156542959366051,0.12117836189220366,0.994023213646958,6.5086832696459361E-3,0.15133003280396512,0.27901707796581471,0.5981800703286152,0.77338041315288764,0.7454081168064266,0.96861763408359403,0.73346312020138626,0.96692106489373786,-0.17515365508096181,{"$f":"+Spectre!C1414*N1415/L1415","v":1.1012170189319925},1.126071549006429]
[5214,0.52139999999999997,3.6783914658963823,1.0156458544322329,0.12108441840715896,0.99401426864558884,6.5184536204815537E-3,0.15129230296454177,0.2788951749921823,0.59831438143695637,0.77346725069636968,0.74550381238905572,0.9687419853305802,0.73356245971335676,0.96705202371641752,-0.17444909374769724,{"$f":"+Spectre!C1415*N1416/L1416","v":1.0957264759124352},1.120457084122009]
[5215,0.52149999999999996,3.6769809045189179,1.015637418003392,0.12099056615007396,0.99400531029732486,6.5282386378406583E-3,0.15125458976483744,0.27877339455275207,0.59844858765051578,0.77355401068834395,0.74559942404747126,0.96886622752257834,0.73366171280558712,0.96718286861235037,-0.17374523565883981,{"$f":"+Spectre!C1416*N1417/L1417","v":1.0945605276888308},1.1192648203813989]
[5216,0.52159999999999995,3.6755711543528182,1.0156289866459667,0.12089680501440978,0.99399633858237257,6.5380383437393177E-3,0.15121689319432505,0.27865173655247411,0.59858268898996891,0.77364069316825479,0.74569495182087275,0.96899036071052624,0.73376087951684299,0.96731359963264119,-0.17304208027988377,{"$f":"+Spectre!C1417*N1418/L1418","v":1.0959587780630944},1.1206946293452784]
[5217,0.52170000000000005,3.6741622147761648,1.0156205603558466,0.12080313489377296,0.99398735348090905,6.5478527602271224E-3,0.1511792132424859,0.27853020089648595,0.59871668547593038,0.7737272981754667,0.74579039574837913,0.96911438494525681,0.73385995988580899,0.96744421682828741,-0.17233962707753347,{"$f":"+Spectre!C1418*N1419/L1419","v":1.0971416120094697},1.1219041599203725]
[5218,0.52180000000000004,3.6727540851676408,1.0156121391289243,0.12070955568191545,0.99397835497308273,6.5576819093863389E-3,0.15114154989881046,0.27840878749011222,0.5988505771289544,0.77381382574926405,0.74588575586902772,0.96923830027749702,0.7339589539510889,0.96757472025018043,-0.17163787551939258,{"$f":"+Spectre!C1419*N1420/L1420","v":1.0977282652921714},1.1225040540006714]
[5219,0.52190000000000003,3.671346764906521,1.0156037229610981,0.12061606727273433,0.99396934303901274,6.5675258133326385E-3,0.15110390315279737,0.27828749623886434,0.59898436396953447,0.77390027592885136,0.7459810322217757,0.96936210675786938,0.7340578617512058,0.96770510994910497,-0.17093682507420827,{"$f":"+Spectre!C1420*N1421/L1421","v":1.0980624850187399},1.1228458170852726]
[5220,0.52200000000000002,3.6699402533726748,1.0155953118482695,0.12052266956027116,0.99396031765878912,6.5773844942148656E-3,0.15106627299395442,0.27816632704844046,0.59911804601810315,0.77398664875335277,0.74607622484549918,0.96948580443689159,0.73415668332460171,0.96783538597573904,-0.17023647521183793,{"$f":"+Spectre!C1421*N1422/L1422","v":1.1019137679390425},1.1267840236777689]
[5221,0.52210000000000001,3.6685345499465658,1.0155869057863443,0.12042936243871226,0.99395127881247292,6.5872579742149136E-3,0.1510286594117978,0.27804527982472493,0.59925162329503301,0.77407294426181283,0.74617133377899303,0.96960939336497531,0.73425541870963873,0.96796554838065518,-0.16953682540298276,{"$f":"+Spectre!C1422*N1423/L1423","v":1.107966750171697},1.1329736220599698]
[5222,0.5222,3.6671296540092508,1.0155785047712325,0.12033614580238822,0.99394222648009578,6.5971462755482196E-3,0.15099106239585186,0.27792435447378827,0.59938509582063493,0.77415916249319661,0.74626635906097205,0.96973287359242843,0.73435406794459746,0.96809559721431848,-0.16883787511963178,{"$f":"+Spectre!C1423*N1424/L1424","v":1.1132888304663922},1.1384158220063494]
[5223,0.52229999999999999,3.6657255649423792,1.0155701087988487,0.12024301954577386,0.99393316064166037,6.6070494204632834E-3,0.15095348193565056,0.27780355090188769,0.5995184636151587,0.77424530348638843,0.74636130073006923,0.96985624516945246,0.73445263106767789,0.96822553252708787,-0.16813962383462888,{"$f":"+Spectre!C1424*N1425/L1425","v":1.1137540457983524},1.1388915372745261]
[5224,0.52239999999999998,3.6643222821281913,1.0155617178651111,0.12014998356348777,0.9939240812771396,6.616967431242517E-3,0.15091591802073562,0.27768286901546591,0.59965172669879296,0.77433136728019281,0.74645615882483707,0.96997950814614409,0.73455110811699897,0.96835535436921538,-0.16744207102198372,{"$f":"+Spectre!C1425*N1426/L1426","v":1.1138688315957672},1.1390089137938468]
[5225,0.52249999999999996,3.6629198049495213,1.0155533319659427,0.12005703775029239,0.99391498836647763,6.6269003302011648E-3,0.15087837064065776,0.27756230872115129,0.59978488509166539,0.77441735391333466,0.74655093338374712,0.97010266257249522,0.7346494991305994,0.96848506279084723,-0.16674521615666071,{"$f":"+Spectre!C1426*N1427/L1427","v":1.1116146259160575},1.1367038305651189]
[5226,0.52259999999999995,3.6615181327897894,1.0155449510972698,0.11996418200109332,0.99390588188958884,6.6368481396883892E-3,0.15084083978497623,0.27744186992575792,0.59991793881384159,0.77450326342445863,0.74664562444519011,0.97022570849839251,0.73474780414643637,0.96861465784202228,-0.16604905871476783,{"$f":"+Spectre!C1427*N1428/L1428","v":1.1069298243835908},1.1319132927984861]
[5227,0.52270000000000005,3.6601172650330072,1.0155365752550241,0.11987141621093955,0.99389676182635844,6.646810882086681E-3,0.15080332544325897,0.27732155253628521,0.60005088788532612,0.77458909585212976,0.74674023204747542,0.97034864597361681,0.73484602320238668,0.96874413957267314,-0.16535359817334561,{"$f":"+Spectre!C1428*N1429/L1429","v":1.1027622285389767},1.12765163408118]
[5228,0.52280000000000004,3.6587172010637783,1.0155282044351401,0.11977874027502318,0.99388762815664211,6.6567885798122176E-3,0.15076582760508206,0.27720135645991745,0.60018373232606181,0.77467485123483304,0.74683475622883211,0.97047147504784481,0.73494415633624632,0.9688735080326264,-0.16465883401051151,{"$f":"+Spectre!C1429*N1430/L1430","v":1.1036149334492498},1.1285235845892532]
[5229,0.52290000000000003,3.6573179402672933,1.0155198386335578,0.11968615408867905,0.99387848086026587,6.6667812553149932E-3,0.15072834626003095,0.27708128160402501,0.60031647215592876,0.77476052961097286,0.74692919702740712,0.97059419577064654,0.73504220358572936,0.96900276327160006,-0.16396476570549323,{"$f":"+Spectre!C1430*N1431/L1431","v":1.1053125357675042},1.1302595018873418]
[5230,0.52300000000000002,3.6559194820293275,1.01551147784622,0.11959365754738432,0.99386931991702654,6.6767889310783406E-3,0.15069088139769898,0.27696132787616168,0.60044910739474611,0.77484613101887512,0.74702355448126778,0.9707168081914882,0.73514016498847012,0.96913190533920757,-0.16327139273846214,{"$f":"+Spectre!C1431*N1432/L1432","v":1.1039640359639897},1.1288805663673922]
[5231,0.52310000000000001,3.654521825736246,1.0155031220690747,0.11950125054675871,0.99386014530669109,6.6868116296196593E-3,0.15065343300768796,0.27684149518406631,0.60058163806227138,0.77493165549678478,0.74711782862839993,0.97083931235973042,0.73523804058202169,0.96926093428495463,-0.16257871459071094,{"$f":"+Spectre!C1432*N1433/L1433","v":1.0974649099063625},1.1222347546689877]
[5232,0.5232,3.6531249707750004,1.0154947712980735,0.11940893298256401,0.99385095700899717,6.6968493734898132E-3,0.15061600107960904,0.27672178343566289,0.60071406417819817,0.77501710308286709,0.74721201950670801,0.97096170832462803,0.73533583040385575,0.96938985015824031,-0.16188673074449822,{"$f":"+Spectre!C1433*N1434/L1434","v":1.091074341919448},1.1156999512030596]
[5233,0.52329999999999999,3.6517289165331261,1.0154864255291725,0.1193167047507038,0.99384175500365235,6.7069021852739913E-3,0.15057858560308113,0.27660219253905893,0.60084638576215965,0.77510247381520736,0.7473061271540159,0.97108399613533103,0.73543353449136351,0.96951865300835705,-0.1611954406831595,{"$f":"+Spectre!C1434*N1435/L1435","v":1.0931500244384511},1.1178224819932996]
[5234,0.52339999999999998,3.6503336623987455,1.0154780847583311,0.11922456574722334,0.99383253927033477,6.7169700875909736E-3,0.15054118656773188,0.27648272240254623,0.60097860283372528,0.77518776773181131,0.74740015160806628,0.97120617584088409,0.73553115288185511,0.96964734288449073,-0.16050484389101838,{"$f":"+Spectre!C1435*N1436/L1436","v":1.0964596127953607},1.1212067679456301]
[5235,0.52349999999999997,3.6489392077605642,1.0154697489815145,0.11913251586830957,0.99382330978869293,6.7270531030933899E-3,0.15050380396319765,0.27636337293460062,0.60111071541240269,0.77527298487060459,0.74749409290652091,0.97132824749022662,0.73562868561255934,0.96977591983571987,-0.1598149398535198,{"$f":"+Spectre!C1436*N1437/L1437","v":1.0995137707432483},1.1243298584102359]
[5236,0.52359999999999995,3.6475455520078723,1.0154614181946899,0.11904055501029029,0.99381406653834525,6.7371512544682002E-3,0.15046643777912319,0.27624414404388165,0.60124272351763641,0.7753581252694326,0.7475879510869603,0.97145021113219243,0.73572613272062448,0.96990438391101697,-0.15912572805700798,{"$f":"+Spectre!C1437*N1438/L1438","v":1.1018439996234801},1.1267126806873988]
[5237,0.52370000000000005,3.6461526945305405,1.0154530923938305,0.11894868306963449,0.99380480949888061,6.7472645644360988E-3,0.15042908800516142,0.27612503563923202,0.60137462716880907,0.7754431889660619,0.74768172618688455,0.971572066815511,0.73582349424311755,0.97003273515924715,-0.15843720798903727,{"$f":"+Spectre!C1438*N1439/L1439","v":1.104154568192129},1.1290753989186404]
[5238,0.52380000000000004,3.6447606347190269,1.0154447715749122,0.11885689994295209,0.99379553864985781,6.7573930557521238E-3,0.15039175463097457,0.27600604762967879,0.60150642638523899,0.7755281759981778,0.74777541824371163,0.97169381458880466,0.73592077021702385,0.97016097362916809,-0.1577493791380391,{"$f":"+Spectre!C1439*N1440/L1440","v":1.1042349731438879},1.1291576186146843]
[5239,0.52390000000000003,3.6433693719643667,1.0154364557339159,0.11876520552699334,0.99378625397080578,6.7675367512054167E-3,0.15035443764623282,0.27588717992443157,0.6016381211861821,0.77561308640338666,0.747869027294779,0.9718154545005917,0.73601796067924863,0.97028909936943175,-0.15706224099351074,{"$f":"+Spectre!C1440*N1441/L1441","v":1.1034643352451379},1.1283695873752015]
[5240,0.52400000000000002,3.6419789056581777,1.0154281448668261,0.1186735997186489,0.99377695544122358,6.7776956736192318E-3,0.15031713704061439,0.27576843243288252,0.60176971159083215,0.77569792021921502,0.74796255337734363,0.97193698659928551,0.73611506566661578,0.97041711242858286,-0.15637579304605964,{"$f":"+Spectre!C1441*N1442/L1442","v":1.1022156523559716},1.1270927216429729]
[5241,0.52410000000000001,3.6405892351926585,1.0154198389696321,0.1185820824149497,0.99376764304058018,6.7878698458511801E-3,0.15027985280380701,0.2756498050646079,0.60190119761831828,0.77578267748310881,0.74805599652858012,0.97205841093319245,0.73621208521586756,0.97054501285505879,-0.15569003478719257,{"$f":"+Spectre!C1442*N1443/L1443","v":1.0993418002769337},1.1241540065608211]
[5242,0.5242,3.6392003599605864,1.015411538038326,0.11849065351306634,0.99375831674831461,6.7980592907931139E-3,0.15024258492550588,0.27553129772936535,0.60203257928770704,0.77586735823243502,0.74814935678558347,0.9721797275505154,0.73630901936366577,0.97067280069719031,-0.1550049657095709,{"$f":"+Spectre!C1443*N1444/L1444","v":1.0962950274003291},1.1210384678489729]
[5243,0.52429999999999999,3.6378122793553169,1.0154032420689052,0.11839931291030917,0.99374897654383565,6.8082640313713739E-3,0.1502053333954152,0.27541291033709575,0.60216385661800143,0.7759519625044804,0.74824263418536674,0.97230093649935079,0.73640586814659059,0.97080047600320107,-0.15432058530684412,{"$f":"+Spectre!C1444*N1445/L1445","v":1.0981647223791211},1.1229503619486296]
[5244,0.52439999999999998,3.6364249927707872,1.0153949510573708,0.11830806050412823,0.99373962240652214,6.8184840905465534E-3,0.15016809820324772,0.27529464279792248,0.60229502962814052,0.77603649033645139,0.74833582876486116,0.97242203782768899,0.73650263160114127,0.97092803882120782,-0.15363689307357209,{"$f":"+Spectre!C1445*N1446/L1446","v":1.1023929223166018},1.127273992596588]
[5245,0.52449999999999997,3.6350384996015088,1.0153866649997276,0.11821689619211259,0.99373025431572259,6.8287194913138616E-3,0.15013087933872407,0.27517649502215052,0.60242609833699978,0.77612094176547541,0.74842894056091824,0.97254303158341637,0.73659930976373578,0.97105548919922025,-0.15295388850550262,{"$f":"+Spectre!C1446*N1447/L1447","v":1.1058683870796731},1.1308278987948999]
[5246,{"$f":"+A1448/10000","v":0.52459999999999996},{"$f":"+(1/B1448)^2","v":3.6336527992425727},{"$f":"0.23465+1.076*100/(146-C1448)+0.93161/(41-C1448)","v":1.0153783838919852},{"$f":"9.4977*0.001*C1448^2*D1448*EXP(-h/7.996/1000)","v":0.1181258198719905},{"$f":"+EXP(-0.0168*EXP(-15*ABS(B1448-0.59)))","v":0.99372087225075556},{"$f":"-2.5*LOG(F1448)","v":6.8389702567027691E-3},{"$f":"2.5*LOG(EXP(AOD*(B1448/0.55)^(-1.3)))","v":0.15009367679157365},{"$f":"+E1448+G1448+H1448","v":0.27505846692026692},{"$f":"10^(-0.4*I1448*ma)","v":0.60255706276339138},{"$f":"10^(-0.4*I1448)","v":0.77620531682859961},{"$f":"10^(-0.4*I1448*ma_ref)","v":0.74852196961030781},{"$f":"+L1448/M$1","v":0.97266391781431338},{"$f":"10^(-0.4*I1448*ma_target)","v":0.73669590267071094},{"$f":"+N1448/O$1","v":0.97118282718514104},{"$f":"(O1448/M1448-1)*100","v":-0.15227157109934941},{"$f":"+Spectre!C1447*N1448/L1448","v":1.1048805512567044},1.1298177674618288]
[5247,0.52470000000000006,3.6322678910896427,1.0153701077301565,0.11803483144162878,0.99371147619090894,6.8492364097777429E-3,0.15005649055153442,0.27494055840294096,0.60268792292606277,0.77628961556279141,0.74861491594971807,0.97278469656805433,0.73679241035832244,0.97131005282676586,-0.15158994035278095,{"$f":"+Spectre!C1448*N1449/L1449","v":1.1039933437879668},1.1289105356706053]
[5248,0.52480000000000004,3.6308837745389639,1.015361836510259,0.11794393079903334,0.99370206611544065,6.859517973637516E-3,0.15001932060835271,0.27482276938102357,0.60281867884369744,0.77637383800493787,0.74870777961575641,0.97290536789220861,0.73688883286274431,0.97143716617178277,-0.15090899576457595,{"$f":"+Spectre!C1449*N1450/L1450","v":1.1030019585609407},1.1278967748232276]
[5249,0.52490000000000003,3.6295004489873524,1.0153535702283139,0.11785311784234799,0.9936926420035781,6.8698149714157058E-3,0.14998216695178274,0.27470509976554641,0.60294933053491517,0.77645798419184719,0.74880056064494949,0.97302593183424069,0.73698517022006993,0.97156416726777339,-0.15022873683455673,{"$f":"+Spectre!C1450*N1451/L1451","v":1.1019623742822968},1.1268337270689253]
[5250,0.52500000000000002,3.6281179138321993,1.0153453088803468,0.11776239246985509,0.99368320383451858,6.8801274262803276E-3,0.14994502957158792,0.27458754946772335,0.60307987801827101,0.77654205416024713,0.74889325907374193,0.97314638844150825,0.73708142246631092,0.97169105616221196,-0.1495491630634338,{"$f":"+Spectre!C1451*N1452/L1452","v":1.0996681308663914},1.124487702450043]
[5251,0.52510000000000001,3.626736168471469,1.015337052462387,0.11767175457997459,0.99367375158742854,6.890455361434655E-3,0.14990790845753921,0.27447011839894842,0.60321032131225627,0.77662604794678591,0.748985874938498,0.97326673776126471,0.73717758963739832,0.97181783290246593,-0.14887027395301677,{"$f":"+Spectre!C1452*N1453/L1453","v":1.0901256666227994},1.114729864251591]
[5252,0.5252,3.6253552123037016,1.015328800970468,0.11758120407126454,0.99366428524144434,6.9007988001163695E-3,0.14987080359941676,0.27435280647079768,0.60334066043529633,0.7767099655880314,0.7490784082755001,0.97338697984065725,0.73727367176918079,0.97194449753579448,-0.1481920690061922,{"$f":"+Spectre!C1453*N1454/L1454","v":1.0796153361556065},1.1039823150344168]
[5253,0.52529999999999999,3.6239750447280059,1.0153205544006274,0.11749074084242034,0.99365480477567147,6.91115776559842E-3,0.1498337149870082,0.27423561359502696,0.60347089540575372,0.77679380712047263,0.74917085912094983,0.97350711472672768,0.73736966889742661,0.97207105010935091,-0.14751454772674588,{"$f":"+Spectre!C1454*N1455/L1455","v":1.0745003497301628},1.0987518830775693]
[5254,0.52539999999999998,3.6225956651440661,1.015312312748907,0.11740036479227478,0.99364531016918523,6.9215322811882977E-3,0.14979664261011044,0.27411853968357353,0.6036010262419248,0.77687757258051782,0.74926322751096741,0.97362714246641247,0.73746558105782234,0.97219749067018046,-0.14683770961955167,{"$f":"+Spectre!C1455*N1456/L1456","v":1.0755164673575499},1.0997909345369759]
[5255,0.52549999999999997,3.6212170729521342,1.0153040760113516,0.11731007581979766,0.99363580140103014,6.9319223702286447E-3,0.14975958645852824,0.27400158464855456,0.60373105296204155,0.77696126200449611,0.74935551348159191,0.97374706310654224,0.73756140828597305,0.97232381926522138,-0.14616155419050481,{"$f":"+Spectre!C1456*N1457/L1457","v":1.07616791371859},1.1004570840790366]
[5256,0.52559999999999996,3.619839267553036,1.0152958441840116,0.11721987382409581,0.99362627845021989,6.9423280560973856E-3,0.14972254652207448,0.27388474840226767,0.60386097558427099,0.7770448754286563,0.74944771706878088,0.97386687669384209,0.73765715061740278,0.97245003594130452,-0.14548608094645532,{"$f":"+Spectre!C1457*N1458/L1458","v":1.0781771395823478},1.1025116582835832]
[5257,0.52569999999999995,3.6184622483481634,1.0152876172629404,0.11712975870441264,0.99361674129573785,6.9527493622071213E-3,0.14968552279057101,0.27376803085719076,0.60399079412671486,0.77712841288916801,0.74953983830841109,0.97398658327493193,0.73775280808755384,0.97257614074515364,-0.14481128939536347,{"$f":"+Spectre!C1458*N1459/L1459","v":1.0804453283550524},1.1048310402045016]
[5258,0.52580000000000005,3.6170860147394808,1.0152793952441954,0.11703973036012809,0.9936071899165364,6.9631863120058635E-3,0.14964851525384743,0.2736514319259814,0.60412050860740996,0.77721187442212025,0.74963187723627756,0.97410618289632522,0.73784838073178738,0.97270213372338488,-0.1441371790460888,{"$f":"+Spectre!C1459*N1460/L1460","v":1.0805434713954327},1.1049313983388251]
[5259,0.52590000000000003,3.6157105661295197,1.0152711781238384,0.11694978869075832,0.99359762429153731,6.9736389289766802E-3,0.14961152390174204,0.27353495152147705,0.60425011904432735,0.77729526006352312,0.74972383388809427,0.97422567560443074,0.73794386858538297,0.97282801492250737,-0.14346374940860107,{"$f":"+Spectre!C1460*N1461/L1461","v":1.0775318138667742},1.1018517675303017]
[5260,0.52600000000000002,3.6143359019213803,1.0152629658979351,0.1168599335959557,0.99358804439963133,6.9841072366380553E-3,0.14957454872410095,0.27341858955669474,0.60437962545537294,0.77737856984930642,0.74981570829949407,0.97434506144555111,0.73803927168353878,0.97295378438892266,-0.14279099999381373,{"$f":"+Spectre!C1461*N1462/L1462","v":1.0747366026522795},1.0989934682414304]
[5261,0.52610000000000001,3.6129620215187299,1.0152547585625551,0.11677016497550823,0.99357845021967839,6.9945912585437807E-3,0.14953758971077941,0.27330234594483138,0.60450902785838656,0.77746180381532004,0.74990750050602784,0.97446434046588293,0.73813459006137139,0.97307944216892461,-0.14211893031367273,{"$f":"+Spectre!C1462*N1463/L1463","v":1.0788725055616946},1.1032227187122068]
[5262,0.5262,3.6115889243257993,1.0152465561137718,0.11668048272933945,0.99356884173050786,7.0050910182825922E-3,0.14950064685163991,0.27318622059926195,0.60463832627114344,0.7775449619973348,0.74999921054316632,0.97458351271151844,0.73822982375391644,0.97320498830870072,-0.14144753988114545,{"$f":"+Spectre!C1463*N1464/L1464","v":1.0846402045889627},1.1091205950310252]
[5263,0.52629999999999999,3.6102166097473898,1.0152383585476628,0.11659088675750862,0.99355921891091759,7.0156065394792709E-3,0.14946372013655429,0.27307021343354221,0.60476752071135131,0.77762804443104083,0.75009083844629754,0.97470257822844253,0.73832497279612708,0.97333042285432947,-0.14077682821019843,{"$f":"+Spectre!C1464*N1465/L1465","v":1.0873368992301216},1.1118781542219576]
[5264,0.52639999999999998,3.608845077188866,1.01523016586031,0.11650137696021008,0.99354958173967478,7.0261378457936747E-3,0.14942680955540161,0.27295432436140538,0.60489661119665383,0.77771105115204919,0.75018238425072925,0.97482153706253583,0.73842003722287597,0.9734557458517834,-0.14010679481579746,{"$f":"+Spectre!C1465*N1466/L1466","v":1.0842366586489314},1.1087079410364229]
[5265,0.52649999999999997,3.6074743260561566,1.0152219780477987,0.11641195323777306,0.99353993019551567,7.0366849609211062E-3,0.14938991509807006,0.27283855329676421,0.60502559774462727,0.77779398219589102,0.75027384799168761,0.9749403892595726,0.73851501706895373,0.97358095734692685,-0.1394374392139186,{"$f":"+Spectre!C1466*N1467/L1467","v":1.0811965799625389},1.1055992476030363]
[5266,0.52659999999999996,3.6061043557557544,1.0152137951062183,0.11632261549066168,0.99353026425714519,7.047247908592685E-3,0.14935303675445574,0.27272290015371009,0.60515448037278208,0.77787683759801718,0.75036522970431707,0.97505913486522133,0.73860991236906937,0.97370605738551641,-0.13876876092155932,{"$f":"+Spectre!C1467*N1468/L1468","v":1.0790085759885377},1.1033618602562396]
[5267,0.52669999999999995,3.6047351656947164,1.0152056170316626,0.1162333636194746,0.99352058390323728,7.0578267125749865E-3,0.14931617451446305,0.27260736484651266,0.60528325909856284,0.7779596173937996,0.75045652942368091,0.97517777392504479,0.73870472315785041,0.97383104601320147,-0.13810075945668299,{"$f":"+Spectre!C1468*N1469/L1469","v":1.0771881777507424},1.1015003755277972]
[5268,0.52680000000000005,3.603366755280661,1.0151974438202291,0.11614419752494487,0.99351088911243457,7.0684213966704153E-3,0.14927932836800425,0.27249194728961956,0.60541193393934734,0.77804232161852993,0.75054774718476136,0.97529630648450061,0.73879944946984311,0.97395592327552416,-0.13743343433831878,{"$f":"+Spectre!C1469*N1470/L1470","v":1.0755151637145319},1.0997896014706616]
[5269,0.52690000000000003,3.6019991239217726,1.015189275468019,0.11605511710793986,0.99350117986334863,7.0790319847169594E-3,0.14924249830500033,0.27237664739765716,0.60554050491244693,0.77812495030742046,0.75063888302245874,0.97541473258893963,0.73889409133951145,0.97408068921791835,-0.13676678508642848,{"$f":"+Spectre!C1470*N1471/L1471","v":1.0745076797825142},1.0987593785696146]
[5270,0.52700000000000002,3.6006322710267922,1.0151811119711374,0.11596612226946058,0.99349145613455958,7.0896585005885684E-3,0.14920568431538059,0.27226146508542975,0.60566897203510583,0.77820750349560264,0.75072993697159207,0.97553305228360754,0.73898864880123816,0.97420534388571034,-0.13610081122205075,{"$f":"+Spectre!C1471*N1472/L1472","v":1.0731984659406986},1.0974206156977298]
[5271,0.52710000000000001,3.599266196005023,1.0151729533256939,0.11587721291064196,0.99348171790461659,7.1003009681946672E-3,0.14916888638908204,0.2721464002679187,0.60579733532450308,0.77828998121812976,0.75082090906689936,0.97565126561364435,0.73908312188932446,0.97432988732411951,-0.13543551226715689,{"$f":"+Spectre!C1472*N1473/L1473","v":1.075354895642467},1.0996257161391931]
[5272,0.5272,3.5979008982663294,1.0151647995278017,0.11578838893275248,0.99347196515203717,7.1109594114808911E-3,0.14913210451605019,0.27203145286028357,0.60592559479774932,0.77837238350997451,0.75091179934303676,0.97576937262408392,0.73917751063798998,0.97445431957825746,-0.13477088774470625,{"$f":"+Spectre!C1473*N1474/L1474","v":1.0789311310378278},1.1032826673686349]
[5273,0.52729999999999999,3.5965363772211361,1.0151566505735781,0.11569965023719403,0.99346219785530732,7.1216338544289708E-3,0.14909533868623889,0.27191662277786188,0.60605375047188847,0.7784547104060292,0.75100260783457895,0.9758873733598542,0.73927181508137185,0.97457864069312683,-0.13410693717877953,{"$f":"+Spectre!C1474*N1475/L1475","v":1.0812819305764696},{"$f":"+Q1475/R$1","v":1.1056865245851255}]
[5274,0.52739999999999998,3.5951726322804229,1.0151485064591439,0.11561099672550133,0.99345241599288214,7.1323243210560088E-3,0.14905858888960988,0.27180190993616721,0.60618180236389807,0.77853696194110789,0.75109333457601979,0.97600526786577813,0.73936603525352651,0.97470285071362417,-0.13344366009436781,{"$f":"+Spectre!C1475*N1476/L1476","v":1.078053278217642},1.1023850013609073]
[5275,0.52749999999999997,3.593809662855731,1.0151403671806243,0.11552242829934227,0.99344261954318458,7.1430308354159412E-3,0.149021855116133,0.27168731425089121,0.60630975049068814,0.77861913814994388,0.75118397960177086,0.97612305618657158,0.73946017118842844,0.97482694968453787,-0.13278105601738366,{"$f":"+Spectre!C1476*N1477/L1477","v":1.0745091810489464},1.0987609137197147]
[5276,0.52759999999999996,3.5924474683591603,1.0151322327341483,0.11543394486051758,0.99343280848460658,7.1537534215982065E-3,0.14898513735578667,0.27157283563790247,0.60643759486910098,0.7787012390671908,0.7512745429461628,0.97624073836684544,0.73955422291996997,0.97495093765054797,-0.13211912447489427,{"$f":"+Spectre!C1477*N1478/L1478","v":1.0725498172844257},1.0967573270047901]
[5277,0.52769999999999995,3.5910860482033646,1.0151241031158487,0.11534554631096015,0.99342298279550822,7.1644921037287215E-3,0.14894843559855742,0.2714584740132463,0.60656533551591174,0.77878326472742287,0.75136502464344435,0.9763583144511041,0.73964819048196162,0.97507481465622692,-0.13145786499485501,{"$f":"+Spectre!C1478*N1479/L1479","v":1.071808195993279},1.0959989672793771]
[5278,0.52780000000000005,3.5897254018015534,1.0151159783218624,0.11525723255273529,0.99341314245421808,7.1752469059695274E-3,0.14891174983443969,0.2713442292931445,0.60669297244782827,0.77886521516513418,0.75145542472778337,0.97647578448374683,0.73974207390813296,0.97519858074604004,-0.13079727710626488,{"$f":"+Spectre!C1479*N1480/L1480","v":1.0712878751837758},1.0954669027999286]
[5279,0.52790000000000004,3.5883655285674978,1.01510785834833,0.11516900348804071,0.99340328743903317,7.1860178525187893E-3,0.14887508005343605,0.27123010139399556,0.60682050568149071,0.77894709041473975,0.75154574323326551,0.97659314850906609,0.73983587323213107,0.9753222359643442,-0.13013736033906653,{"$f":"+Spectre!C1480*N1481/L1481","v":1.0727992219797666},1.0970123607781372]
[5280,0.52800000000000002,3.5870064279155183,1.015099743191396,0.11508085901920564,0.99339341772821854,7.1968049676112899E-3,0.14883842624555738,0.27111609023237432,0.60694793523347101,0.779028890510574,0.75163598019389555,0.97671040657124941,0.73992958848752111,0.9754457803553882,-0.12947811422432398,{"$f":"+Spectre!C1481*N1482/L1482","v":1.0745283218842561},1.0987804865647544]
[5281,0.52810000000000001,3.5856480992604922,1.0150916328472088,0.1149927990486912,0.99338353330000762,7.2076082755180692E-3,0.14880178840082273,0.27100219572503198,0.60707526112027388,0.77911061548689231,0.75172613564359603,0.97682755871437699,0.74002321970778706,0.97556921396331386,-0.12881953829386728,{"$f":"+Spectre!C1482*N1483/L1483","v":1.0755923973233479},1.099868578246374]
[5282,0.5282,3.5842905420178495,1.0150835273119212,0.1149048234790899,0.99337363413260216,7.218427800546429E-3,0.14876516650925928,0.27088841778889561,0.60720248335833515,0.7791922653778699,0.75181620961620865,0.97694460498242452,0.74011676692633033,0.97569253683215407,-0.12816163208076992,{"$f":"+Spectre!C1483*N1484/L1484","v":1.0757732621959837},1.1000535252493608]
[5283,0.52829999999999999,3.5829337556035741,1.015075426581689,0.1148169322131256,0.99336372020417185,7.2292635670404316E-3,0.148728560560902,0.27077475634106801,0.60732960196402364,0.77927384021760271,0.7519062021454932,0.97706154541926105,0.74021023017647114,0.97581574900583468,-0.12750439511891587,{"$f":"+Spectre!C1484*N1485/L1485","v":1.0760389717121706},1.1003252318442776]
[5284,0.52839999999999998,3.5815777394342025,1.015067330652673,0.11472912515365324,0.99335379149285474,7.2401155993804082E-3,0.14869197054579425,0.27066121129882792,0.60745661695363928,0.77935534004010654,0.75199611326512794,0.97717838006864954,0.74030360949144747,0.9759388505281732,-0.12684782694325492,{"$f":"+Spectre!C1485*N1486/L1486","v":1.0744015285740212},1.0986508315223737]
[5285,0.52849999999999997,3.5802224929268238,1.0150592395210363,0.11464140220365862,0.99334384797675657,7.2509839219836985E-3,0.14865539645398773,0.27054778257963008,0.60758352834341345,0.77943676487931757,0.75208594300870912,0.97729510897424654,0.74039690490441501,0.97606184144287866,-0.12619192708969162,{"$f":"+Spectre!C1486*N1487/L1487","v":1.0725463806313968},1.0967538127863092]
[5286,0.52859999999999996,3.5788680154990762,1.0150511531829476,0.11455376326625824,0.99333388963395153,7.2618685593038076E-3,0.14861883827554173,0.27043447010110377,0.60771033614950964,0.77951811476909239,0.75217569140975249,0.97741173217960398,0.7404901164484482,0.97618472179355287,-0.12553669509520748,{"$f":"+Spectre!C1487*N1488/L1488","v":1.0716627298180721},1.0958502179244114]
[5287,0.52869999999999995,3.5775143065691504,1.0150430716345782,0.114466208244699,0.99332391644248164,7.2727695358311374E-3,0.14858229600052381,0.27032127378105397,0.60783704038802289,0.77959938974320797,0.75226535850169129,0.97752824972816654,0.74058324415653953,0.97630749162368968,-0.12488213049763885,{"$f":"+Spectre!C1488*N1489/L1489","v":1.0722010616263258},1.0964006999118652]
[5288,0.52880000000000005,3.5761613655557865,1.0150349948721038,0.11437873704235817,0.99331392838035659,7.2836868760931123E-3,0.14854576961900978,0.27020819353746106,0.60796364107497891,0.77968058983536115,0.75235494431787708,0.9776446616632728,0.74067628806159891,0.97643015097667418,-0.12422823283587681,{"$f":"+Spectre!C1489*N1490/L1490","v":1.0727862947438889},1.0969991417738183]
[5289,0.52890000000000004,3.5748091918782765,1.0150269228917042,0.11429134956274321,0.99330392542555435,7.2946206046535841E-3,0.14850925912108326,0.27009522928848007,0.60809013822633484,0.77976171507916958,0.75244444889158046,0.97776096802815604,0.74076924819645462,0.97655269989578375,-0.12357500164984492,{"$f":"+Spectre!C1490*N1491/L1491","v":1.0752969372925953},1.099566449666104]
[5290,0.52900000000000003,3.5734577849564566,1.0150188556895625,0.11420404570949116,0.99329390755602043,7.3055707461135554E-3,0.14847276449683625,0.26998238095244098,0.60821653185797897,0.77984276550817044,0.75253387225598967,0.97787716886594267,0.74086212459385292,0.97667513842418741,-0.12292243648036605,{"$f":"+Spectre!C1491*N1492/L1492","v":1.0783934880898181},1.1027328897890394]
[5291,0.52910000000000001,3.5721071442107162,1.0150107932618659,0.11411682538636905,0.99328387474966839,7.3165373251107097E-3,0.14843628573636844,0.26986964844784822,0.60834282198573097,0.77992374115582197,0.75262321444421187,0.9779932642196536,0.74095491728645824,0.97679746660494671,-0.12227053686929557,{"$f":"+Spectre!C1492*N1493/L1493","v":1.0811307493305109},1.1055319311699396]
[5292,0.5292,3.5707572690619873,1.0150027356048055,0.11402968849727306,0.99327382698437927,7.3275203663200165E-3,0.14839982282978775,0.26975703169338083,0.60846900862534081,0.78000464205550257,0.75271247548927234,0.9781092541322034,0.74104762630685261,0.97691968448101441,-0.12161930235946583,{"$f":"+Spectre!C1493*N1494/L1494","v":1.0830258663981507},1.10746982113642]
[5293,0.52929999999999999,3.5694081589317532,1.0149946827145764,0.11394263494622901,0.99326376423800211,7.3385198944531356E-3,0.1483633757672102,0.26964453060789234,0.60859509179248972,0.7800854682405105,0.75280165542411448,0.97822513864640026,0.74114025168753639,0.97704179209523545,-0.1209687324946751,{"$f":"+Spectre!C1494*N1495/L1495","v":1.0851173491627311},1.1096085087846688]
[5294,0.52939999999999998,3.5680598132420407,1.0149866345873766,0.11385566463739143,0.99325368648835333,7.3495359342591465E-3,0.14832694453875944,0.26953214511041002,0.60872107150278931,0.78016621974406475,0.75289075428160046,0.97834091780494681,0.74123279346092785,0.97716378949034688,-0.12031882681968753,{"$f":"+Spectre!C1495*N1496/L1496","v":1.0824267873670632},1.1068572208578953]
[5295,0.52949999999999997,3.5667122314154236,1.0149785912194096,0.11376877747504402,0.99324359371321702,7.3605685105241911E-3,0.14829052913456808,0.26941987512013632,0.60884694777178106,0.78024689659930413,0.75297977209450995,0.97845659165043841,0.74132525165936225,0.97728567670897593,-0.11966958488034418,{"$f":"+Spectre!C1496*N1497/L1497","v":1.0780007482692546},1.1023312858086294]
[5296,0.52959999999999996,3.5653654128750198,1.0149705526068811,0.11368197336359895,0.9932334858903451,7.37161764807136E-3,0.14825412954477546,0.26930772055644575,0.60897272061493868,0.78032749883928865,0.753068708895542,0.97857216022536586,0.74141762631509434,0.97740745379364402,-0.1190210062233521,{"$f":"+Spectre!C1497*N1498/L1498","v":1.0739646991222174},1.0982041428052656]
[5297,0.52969999999999995,3.5640193570444931,1.0149625187460016,0.113595252207597,0.99322336299745662,7.3826833717614239E-3,0.14821774575952995,0.26919568133888838,0.60909839004766431,0.78040802649699725,0.75315756471731299,0.97868762357211214,0.74150991746029538,0.97752912078676224,-0.11837309039645083,{"$f":"+Spectre!C1498*N1499/L1499","v":1.0715756101157434},1.0957611319254996]
[5298,0.52980000000000005,3.5626740633480498,1.014954489632985,0.11350861391170722,0.9932132250122383,7.3937657064922328E-3,0.14818137776898743,0.26908375738718687,0.60922395608529123,0.78048847960533052,0.75324633959235787,0.97880298173295499,0.74160212512705481,0.97765067773063419,-0.11772583694837913,{"$f":"+Spectre!C1499*N1500/L1500","v":1.0689530342735358},1.0930793643989809]
[5299,0.52990000000000004,3.5613295312104407,1.0149464652640492,0.11342205838072672,0.99320307191234447,7.4048646771988445E-3,0.14814502556331205,0.26897194862123763,0.60934941874308268,0.78056885819710842,0.75333503355313014,0.97891823475006567,0.74169424934738049,0.97777212466745533,-0.11707924542880832,{"$f":"+Spectre!C1500*N1501/L1501","v":1.0694893704722228},1.0936278057358477]
[5300,0.53,3.5599857600569589,1.0149384456354156,0.11333558551958049,0.99319290367539637,7.4159803088542572E-3,0.14810868913267544,0.26886025496111021,0.60947477803623173,0.78064916230507164,0.7534236466320009,0.97903338266550877,0.74178629015319741,0.97789346163931257,-0.11643331538835344,{"$f":"+Spectre!C1501*N1502/L1502","v":1.0716938834021028},1.0958820746465865]
[5301,0.53010000000000002,3.55864274931344,1.01493043074331,0.11324919523332135,0.99318272027898302,7.4271126264684427E-3,0.14807236846725788,0.26874867632704769,0.6096000339798614,0.78072939196188085,0.75351217886125987,0.97914842552124315,0.74187824757634835,0.97801468868818398,-0.11578804637872864,{"$f":"+Spectre!C1502*N1503/L1503","v":1.0738000235738858},1.0980357505205431]
[5302,0.5302,3.5573004984062586,1.0149224205839615,0.11316288742712935,0.9931725217006605,7.4382616550892049E-3,0.14803606355724705,0.26863721263946561,0.60972518658902464,0.78080954720011764,0.75360063027311508,0.97926336335912123,0.74197012164859444,0.97813580585593995,-0.11514343795253623,{"$f":"+Spectre!C1503*N1504/L1504","v":1.0756285445338274},1.0999055413014276]
[5303,0.53029999999999999,3.5559590067623317,1.0149144151536031,0.11307666200631197,0.99316230791795235,7.4494274198016984E-3,0.14799977439283898,0.26852586381895266,0.60985023587870379,0.78088962805228312,0.75368900089969271,0.9793781962208894,0.74206191240161401,0.97825681318434221,-0.11449948966336665,{"$f":"+Spectre!C1504*N1505/L1505","v":1.0774710462888848},1.1017896284247604]
[5304,0.53039999999999998,3.5546182738091172,1.0149064144484718,0.1129905188763039,0.99315207890834889,7.4606099457291634E-3,0.14796350096423727,0.26841462978627034,0.60997518186381072,0.78096963455079915,0.75377729077303657,0.97949292414818678,0.74215361986700323,0.97837771071504354,-0.11385620106577621,{"$f":"+Spectre!C1505*N1506/L1506","v":1.078028831083423},1.1023600024534934]
[5305,0.53049999999999997,3.5532782989746128,1.014898418464808,0.11290445794266661,0.99314183464930805,7.4718092580320777E-3,0.14792724326165405,0.26830351046235273,0.61010002455918677,0.78104956672800774,0.75386549992510921,0.97960754718254706,0.74224524407627623,0.97849849848958892,-0.11321357171530932,{"$f":"+Spectre!C1506*N1507/L1507","v":1.0772545377289733},1.1015682332544703]
[5306,0.53059999999999996,3.5519390816873537,1.0148904271988559,0.11281847911108833,0.99313157511825456,7.4830253819090217E-3,0.14789100127530844,0.26819250576830578,0.61022476397960279,0.78112942461617141,0.75395362838779156,0.97972206536539774,0.74233678506086465,0.97861917654941477,-0.11257160116850962,{"$f":"+Spectre!C1507*N1508/L1508","v":1.0763338487918399},1.1006267643162255]
[5307,0.53069999999999995,3.5506006213764127,1.0148824406468642,0.11273258228738378,0.99312130029258039,7.4942583425961842E-3,0.14785477499542832,0.26808161562540828,0.61034940013975869,0.78120920824747286,0.75404167619288187,0.9798364787380589,0.74242824285211784,0.97873974493584848,-0.11193028898279778,{"$f":"+Spectre!C1508*N1509/L1509","v":1.0688377422851563},1.092961470263937]
[5308,0.53080000000000005,3.5492629174714021,1.0148744588050842,0.11264676737749395,0.99311101014964431,7.505508165367868E-3,0.1478185644122493,0.26797083995511112,0.6104739330542831,0.78128891765401465,0.75412964337209698,0.9799507873417449,0.74251961748130257,0.97886020369010918,-0.11128963471667142,{"$f":"+Spectre!C1509*N1510/L1510","v":1.0607124695108996},1.0846528096260177]
[5309,0.53090000000000004,3.5479259694024732,1.0148664816697723,0.11256103428748625,0.99310070466677236,7.5167748755360017E-3,0.14778236951601481,0.26786017867903705,0.61059836273773405,0.78136855286782037,0.75421752995707192,0.98006499121756374,0.74261090897960358,0.97898055285330732,-0.11064963792953852,{"$f":"+Spectre!C1510*N1511/L1511","v":1.0571308482079362},1.0809903509287357]
[5310,{"$f":"+A1512/10000","v":0.53100000000000003},{"$f":"+(1/B1512)^2","v":3.5465897766003094},{"$f":"0.23465+1.076*100/(146-C1512)+0.93161/(41-C1512)","v":1.0148585092371873},{"$f":"9.4977*0.001*C1512^2*D1512*EXP(-h/7.996/1000)","v":0.11247538292355364},{"$f":"+EXP(-0.0168*EXP(-15*ABS(B1512-0.59)))","v":0.99309038382125714},{"$f":"-2.5*LOG(F1512)","v":7.5280584984508767E-3},{"$f":"2.5*LOG(EXP(AOD*(B1512/0.55)^(-1.3)))","v":0.14774619029697592},{"$f":"+E1512+G1512+H1512","v":0.26774963171898042},{"$f":"10^(-0.4*I1512*ma)","v":0.6107226892045986},{"$f":"10^(-0.4*I1512)","v":0.78144811392083346},{"$f":"10^(-0.4*I1512*ma_ref)","v":0.75430533597935967},{"$f":"+L1512/M$1","v":0.98017909040651685},{"$f":"10^(-0.4*I1512*ma_target)","v":0.74270211737812297},{"$f":"+N1512/O$1","v":0.97910079246644477},{"$f":"(O1512/M1512-1)*100","v":-0.1100102981818174},{"$f":"+Spectre!C1511*N1512/L1512","v":1.0590112919847938},1.0829132364274354]
[5311,0.53110000000000002,3.5452543384961328,1.0148505415035927,0.11238981319201499,0.99308004759035851,7.5393590595004244E-3,0.14771002674539205,0.26763919899690747,0.61084691246929212,0.7815276008449179,0.75439306147043139,0.98029308494949918,0.74279324270788083,0.97922092257041515,-0.10937161503482562,{"$f":"+Spectre!C1512*N1513/L1513","v":1.0603808441731577},1.084313699485745]
[5312,0.53120000000000001,3.5439196545217007,1.0148425784652555,0.11230432499931484,0.99306969595130268,7.5506765841111935E-3,0.1476738788515303,0.26752888043495632,0.61097103254615837,0.78160701367185759,0.75448070646167598,0.98040697488729911,0.74288428499981396,0.9793409432060024,-0.10873358805094657,{"$f":"+Spectre!C1513*N1514/L1514","v":1.0535240383005224},1.0773021351187839]
[5313,0.53129999999999999,3.5425857241093044,1.0148346201184464,0.1122189182520229,0.99305932888128323,7.5620110977472604E-3,0.1476377466056657,0.26741867595543589,0.61109504944947057,0.78168635243335716,0.75456827098440105,0.98052076026059898,0.74297524428477779,0.97946085441388298,-0.10809621679344072,{"$f":"+Spectre!C1514*N1515/L1515","v":1.0447864058848522},1.0683672938478914]
[5314,0.53139999999999998,3.5412525466917693,1.0148266664594399,0.11213359285683416,0.99304894635745977,7.5733626259116976E-3,0.14760162999808096,0.26730858548082681,0.6112189631934295,0.78176561716104109,0.75465575506983151,0.98063444110997411,0.74306612059354449,0.97958065623462376,-0.10745950082658995,{"$f":"+Spectre!C1515*N1516/L1516","v":1.0407327897376715},1.0642221873562026]
[5315,0.53149999999999997,3.5399201217024543,1.0148187174845142,0.11204834872056851,0.99303854835695926,7.5847311941451175E-3,0.14756552901906678,0.26719860893378039,0.61134277379216495,0.78184480788645494,0.75474315874911091,0.98074801747589369,0.74315691395680417,0.97970034870868328,-0.1068234397156087,{"$f":"+Spectre!C1516*N1517/L1517","v":1.0449183888288405},1.0685022556543513]
[5316,0.53159999999999996,3.5385884485752519,1.0148107731899509,0.11196318575017063,0.99302813485687491,7.5961168280268953E-3,0.14752944365892193,0.26708874623711942,0.61146648125973413,0.78192392464106353,0.75483048205330028,0.98086148939871987,0.74324762440516423,0.97981993187641125,-0.10618803302666624,{"$f":"+Spectre!C1517*N1518/L1518","v":1.0488808000548673},1.0725540987246844]
[5317,0.53169999999999995,3.5372575267445856,1.0148028335720363,0.1118781038527098,0.99301770583426652,7.6075195531748081E-3,0.14749337390795253,0.26697899731383712,0.61159008561012307,0.78200296745625253,0.75491772501337917,0.98097485691870889,0.74333825196914949,0.97993940577804828,-0.10555328032698652,{"$f":"+Spectre!C1518*N1519/L1519","v":1.0500443941437261},1.0737439551975954]
[5318,0.53180000000000005,3.5359273556454109,1.0147948986270592,0.11179310293537965,0.99300726126616057,7.6189393952449218E-3,0.14745731975647314,0.26686936208709772,0.6117135868572452,0.78208193636332812,0.75500488766024476,0.9810881200760101,0.74342879667920259,0.9800587704537268,-0.10491918118461507,{"$f":"+Spectre!C1519*N1520/L1520","v":1.0502153539464421},1.0739187735726772]
[5319,0.53190000000000004,3.5345979347132186,1.0147869683513131,0.11170818290549837,0.99299680112955002,7.6303763799318424E-3,0.1474212811948056,0.26675984048023582,0.61183698501494199,0.78216083139351633,0.75509197002471229,0.98120127891066611,0.74351925856568291,0.98017802594346959,-0.10428573516868545,{"$f":"+Spectre!C1520*N1521/L1521","v":1.0506072556003341},1.0743195204689469]
[5320,0.53200000000000003,3.5332692633840241,1.0147790427410943,0.11162334367050765,0.9929863254013942,7.6418305329688371E-3,0.14738525821327977,0.26665043241675623,0.61196028009698311,0.7822396525779638,0.75517897213751495,0.98131433346261299,0.74360963765886789,0.98029717228719104,-0.10365294184920826,{"$f":"+Spectre!C1521*N1522/L1522","v":1.0517625540018611},1.0755008940203963]
[5321,0.53210000000000002,3.5319413410943734,1.0147711217927042,0.11153858513797324,0.99297583405861878,7.6533018801278434E-3,0.14734925080223368,0.26654113782033478,0.61208347211706482,0.78231839994773689,0.75526589402930377,0.98142728377168031,0.74369993398895184,0.98041620952469632,-0.10302080079721554,{"$f":"+Spectre!C1522*N1523/L1523","v":1.0529444313087519},1.076709446364599]
[5322,0.53220000000000001,3.5306141672813465,1.0147632055024463,0.11145390721558458,0.99296532707811602,7.6647904472192333E-3,0.14731325895201269,0.2664319566148165,0.612206561088812,0.78239707353382304,0.75535273573064821,0.98154012987759132,0.74379014758604711,0.98053513769568235,-0.1023893115846719,{"$f":"+Spectre!C1523*N1524/L1524","v":1.0530806498102578},1.0768487393253479]
[5323,0.5323,3.5292877413825465,1.0147552938666287,0.11136930981115446,0.99295480443674433,7.6762962600923045E-3,0.1472772826529701,0.26632288872421689,0.61232954702577647,0.78247567336712964,0.75543949727203497,0.98165287181996175,0.74388027848018279,0.98065395683973633,-0.10175847378447456,{"$f":"+Spectre!C1524*N1525/L1525","v":1.0528227301545343},1.0765849984084834]
[5324,0.53239999999999998,3.5279620628361088,1.0147473868815631,0.11128479283261902,0.99294426611132824,7.6878193446352858E-3,0.1472413218954669,0.2662139340727212,0.61245242994143745,0.78255419947848426,0.75552617868386895,0.98176550963830134,0.74397032670130547,0.98077266699633681,-0.1011282869705088,{"$f":"+Spectre!C1525*N1526/L1526","v":1.051321945158451},1.0750503406106007]
[5325,0.53249999999999997,3.5266371310806939,1.0147394845435649,0.11120035618803742,0.99293371207865866,7.6993597267750995E-3,0.14720537666987218,0.26610509258468473,0.612575209849201,0.78263265189863473,0.75561277999647292,0.98187804337201268,0.74406029227927906,0.98089126820485306,-0.10049875071763692,{"$f":"+Spectre!C1526*N1527/L1527","v":1.0449998029046432},1.0685855072504253]
[5326,0.53259999999999996,3.5253129455554904,1.0147315868489533,0.11111599978559171,0.99292314231549283,7.7109174324773702E-3,0.14716944696656253,0.26599636418463163,0.612697886762401,0.78271103065824943,0.75569930124008788,0.98199047306039244,0.74415017524388494,0.9810097605045458,-9.9869864601664915E-2,{"$f":"+Spectre!C1527*N1528/L1528","v":1.0382124555339889},1.0616449690677427]
[5327,0.53269999999999995,3.5239895057002122,1.0147236937940503,0.11103172353358653,0.99291255679855361,7.7224924877472784E-3,0.14713353277592234,0.26588774879725618,0.61282046069429752,0.78278933578791665,0.75578574244487184,0.98210279874262929,0.74423997562482147,0.98112814393456638,-9.9241628199286946E-2,{"$f":"+Spectre!C1528*N1529/L1529","v":1.0381770848698053},1.0616088000856785]
[5328,0.53280000000000005,3.5226668109550983,1.0147158053751832,0.11094752734044919,0.99290195550453042,7.7340849186284776E-3,0.14709763408834373,0.26577924634742139,0.61294293165807856,0.78286756731814566,0.75587210364090174,0.98221502045780662,0.74432969345170463,0.98124641853395733,-9.8614041088251891E-2,{"$f":"+Spectre!C1529*N1530/L1530","v":1.0433960946834138},1.0669456032444142]
[5329,0.53290000000000004,3.5213448607609177,1.0147079215886814,0.11086341111472932,0.99289133841007837,7.7456947512040625E-3,0.14706175089422693,0.26567085676016033,0.61306529966685741,0.78294572527936479,0.75595838485817124,0.98232713824489959,0.7444193287540668,0.98136458434165097,-9.7987102847263419E-2,{"$f":"+Spectre!C1530*N1531/L1531","v":1.0478708448032297},1.0715213487261948]
[5330,0.53300000000000003,3.5200236545589578,1.0147000424308792,0.11077937476509855,0.99288070549181884,7.7573220115959816E-3,0.14702588318397947,0.26556257996067401,0.61318756473367519,0.78302380970192409,0.75604458612659253,0.98243915214277733,0.74450888156135853,0.9814826413964719,-9.7360813055868967E-2,{"$f":"+Spectre!C1531*N1532/L1532","v":1.048469463048026},1.0721334778184559]
[5331,0.53310000000000002,3.5187031917910341,1.0146921678981136,0.11069541820035061,0.99287005672633877,7.7689667259657619E-3,0.14699003094801683,0.26545441587433322,0.61330972687149887,0.78310182061609268,0.75613070747599531,0.98255106219020216,0.74459835190294699,0.98160058973713471,-9.6735171294681788E-2,{"$f":"+Spectre!C1532*N1533/L1533","v":1.0487787166386102},1.0724497112799789]
[5332,0.53320000000000001,3.5173834718994832,1.0146842979867254,0.11061154132940081,0.99285939209019114,7.7806289205140317E-3,0.14695419417676203,0.26534636442667686,0.61343178609322246,0.78317975805206053,0.75621674893612734,0.98266286842582951,0.74468773980811676,0.98171842940224507,-9.6110177145225517E-2,{"$f":"+Spectre!C1533*N1534/L1534","v":1.0500044873164702},1.0737031476710031]
[5333,0.5333,3.5160644943271637,1.0146764326930602,0.11052774406128607,0.99284871155989496,7.7923086214805298E-3,0.1469183728606461,0.2652384255434127,0.61355374241166605,0.7832576220399381,0.75630271053665399,0.98277457088820785,0.74477704530606958,0.98183616043029964,-9.5485830189934173E-2,{"$f":"+Spectre!C1534*N1535/L1535","v":1.0522686996526991},1.0760184634070507]
[5334,0.53339999999999999,3.5147462585174605,1.0146685720134654,0.11044402630516487,0.9928380151119347,7.8040058551447121E-3,0.14688256699010779,0.26513059915041737,0.61367559583957543,0.78333541260975559,0.75638859230715805,0.98288616961577868,0.74486626842592385,0.98195378285968493,-9.4862130012296486E-2,{"$f":"+Spectre!C1535*N1536/L1536","v":1.0543784352130234},1.0781758158176704]
[5335,0.53349999999999997,3.5134287639142761,1.0146607159442937,0.11036038797031672,0.99282730272276054,7.8157206478255276E-3,0.14684677655559286,0.26502288517373512,0.61379734638962347,0.78341312979146371,0.75647439427714058,0.98299766464687699,0.74495540919671577,0.98207129672867932,-9.4239076196633853E-2,{"$f":"+Spectre!C1536*N1537/L1537","v":1.0522978758096531},1.0760482980715087]
[5336,0.53359999999999996,3.5121120099620358,1.0146528644819006,0.11027682896614224,0.99281657436878878,7.827453025880924E-3,0.14681100154755602,0.26491528353957916,0.61391899407440798,0.78349077361493347,0.75656011647602006,0.98310905601973031,0.74504446764739785,0.98218870207545084,-9.3616668328300179E-2,{"$f":"+Spectre!C1537*N1538/L1538","v":1.0497113083135556},1.0734033516014978]
[5337,0.53369999999999995,3.5107959961056854,1.0146450176226451,0.11019334920216275,0.99280583002640088,7.8392030157089544E-3,0.14677524195645833,0.26480779417433004,0.61404053890645394,0.78356834410995635,0.75664575893313313,0.98322034377246015,0.74513344380684032,0.98230599893805881,-9.2994905993615262E-2,{"$f":"+Spectre!C1538*N1539/L1539","v":1.0473140138823762},{"$f":"+Q1539/R$1","v":1.070951950100129}]
[5338,0.53380000000000005,3.509480721790688,1.0146371753628904,0.11010994858802027,0.99279506967194397,7.8509706437471793E-3,0.14673949777276959,0.26470041700453706,0.6141619808982105,0.78364584130624337,0.75673132167773327,0.98333152794307976,0.74522233770383028,0.98242318735445311,-9.2373788779731569E-2,{"$f":"+Spectre!C1539*N1540/L1540","v":1.0452639362699951},1.0688556021206941]
[5339,0.53390000000000004,3.5081661864630318,1.0146293376990034,0.11002662703347756,0.99278429328173101,7.8627559364725479E-3,0.14670376898696649,0.26459315195691657,0.61428332006205388,0.78372326523342684,0.75681680473899249,0.98344260856949672,0.74531114936707177,0.98254026736247435,-9.1753316274845176E-2,{"$f":"+Spectre!C1540*N1541/L1541","v":1.0433234181723725},1.0668712864204299]
[5340,0.53400000000000003,3.5068523895692181,1.0146215046273539,0.1099433844484172,0.99277350083204008,7.8745589204021332E-3,0.14666805558953419,0.26448599895835351,0.61440455641028491,0.7838006159210581,0.75690220814599973,0.98355358568951046,0.74539987882518532,0.98265723899985269,-9.1133488068106949E-2,{"$f":"+Spectre!C1541*N1542/L1542","v":1.0444272484839339},1.0680000302442274]
[5341,0.53410000000000002,3.5055393305562683,1.0146136761443156,0.1098602207428421,0.99276269229911485,7.8863796220926471E-3,0.14663235757096491,0.26437895793589966,0.61452568995513035,0.78387789339860992,0.75698753192776203,0.98366445934081403,0.74548852610670913,0.98277410230421003,-9.0514303749533731E-2,{"$f":"+Spectre!C1542*N1543/L1543","v":1.0464974396281268},1.0701169457190187]
[5342,0.53420000000000001,3.5042270088717213,1.0146058522462662,0.10977713582687507,0.99275186765916446,7.8982180681405802E-3,0.14659667492175835,0.26427202881677397,0.61464672070874282,0.78395509769547478,0.75707277611320456,0.98377522956099417,0.74557709124009852,0.9828908573130587,-8.9895762910208177E-2,{"$f":"+Spectre!C1543*N1544/L1544","v":1.04784053376376},1.0714903535648588]
[5343,0.5343,3.5029154239636338,1.0145980329295867,0.10969412961075874,0.99274102688836319,7.9100742851825681E-3,0.1465610076324225,0.26416521152836381,0.61476764868319866,0.78403222884096524,0.75715794073116882,0.98388589638752888,0.74566557425372471,0.98300750406380055,-8.9277865142034507E-2,{"$f":"+Spectre!C1544*N1545/L1545","v":1.0471360823145539},1.0707700026068101]
[5344,0.53439999999999999,3.5016045752805769,1.0145902181906619,0.10961120200485505,0.99273016996285079,7.9219482998950236E-3,0.14652535569347291,0.264058505998223,0.61488847389050039,0.78410928686431447,0.75724302581041458,0.98399645985778994,0.7457539751758766,0.98312404259372854,-8.8660610037916143E-2,{"$f":"+Spectre!C1545*N1546/L1546","v":1.046213284490364},1.0698263771838092]
[5345,0.53449999999999998,3.5002944622716385,1.0145824080258796,0.10952835291964547,0.99271929685873217,7.9338401389945218E-3,0.14648971909543207,0.26395191215407204,0.61500919634257589,0.78418627179467582,0.75732803137961979,0.98410692000904265,0.74584229403476021,0.9832404729400267,-8.8043997191689094E-2,{"$f":"+Spectre!C1546*N1547/L1547","v":1.0493763893640522},1.0730608735124607]
[5346,0.53459999999999996,3.4989850843864234,1.0145746024316324,0.1094455822657307,0.99270840755207757,7.9457498292375573E-3,0.14645409782883068,0.26384542992379895,0.61512981605127715,0.78426318366112246,0.75741295746737902,0.98421727687844429,0.7459305308584977,0.98335679513976815,-8.7428026198166364E-2,{"$f":"+Spectre!C1547*N1548/L1548","v":1.0538356311451607},1.0776207606314565]
[5347,0.53469999999999995,3.4976764410750478,1.0145668014043152,0.10936288995383026,0.99269750201892204,7.9576773974211548E-3,0.14641849188420686,0.26373905923545826,0.61525033302838139,0.78434002249264878,0.75749780410220513,0.98432753050304567,0.74601868567512852,0.98347300922991743,-8.6812696653071342E-2,{"$f":"+Spectre!C1548*N1549/L1549","v":1.0574208651592809},1.0812869135789893]
[5348,0.53480000000000005,3.4963685317881428,1.0145590049403275,0.10928027589478255,0.99268658023526601,7.9696228703822741E-3,0.14638290125210673,0.26363280001727157,0.61537074728559005,0.78441678831816797,0.75758257131252782,0.98443768091978978,0.74610675851260866,0.9835891152473285,-8.6198008153082206E-2,{"$f":"+Spectre!C1549*N1550/L1550","v":1.0575314528510893},1.0813999972412238]
[5349,0.53490000000000004,3.4950613559768566,1.0145512130360714,0.10919773999954477,0.99267564217707494,7.9815862749981793E-3,0.14634732592308342,0.26352665219762639,0.61549105883452959,0.78449348116651463,0.75766725912669475,0.98454772816551273,0.74619474939881103,0.98370511322874621,-8.5583960295809725E-2,{"$f":"+Spectre!C1550*N1551/L1551","v":1.0577944701985036},1.0816689509049673]
[5350,0.53500000000000003,3.4937549130928467,1.0145434256879535,0.10911528217919243,0.99266468782027917,7.9935676381865644E-3,0.14631176588769773,0.26342061570507674,0.61561126768675123,0.78457010106644332,0.75775186757297119,0.98465767227694379,0.74628265836152574,0.98382100321080623,-8.4970552679775047E-2,{"$f":"+Spectre!C1551*N1552/L1552","v":1.0528129087023979},1.0765749552856196]
[5351,0.53510000000000002,3.4924492025882818,1.0145356428923835,0.10903290234491922,0.99265371714077411,8.0055669869054415E-3,0.14627622113651867,0.26331469046834333,0.61573137385372967,0.78464664804662854,0.7578363966795395,0.98476751329070433,0.74637048542845885,0.98393678523003325,-8.4357784904487421E-2,{"$f":"+Spectre!C1552*N1553/L1553","v":1.0444460740841708},1.0680192807393207]
[5352,0.53520000000000001,3.4911442239158461,1.0145278646457747,0.10895060040803713,0.99264273011441984,8.0175843481535072E-3,0.14624069166012227,0.26320887641631291,0.61585137734686424,0.78472312213566509,0.75792084647449975,0.98487725124330905,0.7464582306272336,0.98405245932284291,-8.3745656570388682E-2,{"$f":"+Spectre!C1553*N1554/L1554","v":1.0377253598223091},1.0611468795784451]
[5353,0.5353,3.4898399765287325,1.0145200909445442,0.10886837627997596,0.99263172671704158,8.0296197489696727E-3,0.14620517744909192,0.26310317347803758,0.61597127817747899,0.78479952336206837,0.75800521698586976,0.98498688617116548,0.74654589398539006,0.98416802552554106,-8.3134167278864357E-2,{"$f":"+Spectre!C1554*N1555/L1555","v":1.0398369147694417},1.0633060924395359]
[5354,0.53539999999999999,3.4885364598806445,1.0145123217851126,0.10878622987228323,0.99262070692442916,8.0416732164336636E-3,0.14616967849401927,0.26299758158273617,0.61609107635682125,0.78487585175427332,0.75808950824158405,0.98509641811057291,0.74663347553038473,0.98428348387432352,-8.2523316632154842E-2,{"$f":"+Spectre!C1555*N1556/L1556","v":1.0426591105692982},1.0661919853573787]
[5355,0.53549999999999998,3.4872336734257976,1.014504557163904,0.10870416109662412,0.99260967071233708,8.0537447776659228E-3,0.14613419478550294,0.26289210065979296,0.61621077189606255,0.78495210734063547,0.75817372026949525,0.98520584709772452,0.74672097528959069,0.98439883440527609,-8.191310423357745E-2,{"$f":"+Spectre!C1556*N1557/L1557","v":1.0445580216600368},1.0681337549782726]
[5356,0.53559999999999997,3.4859316166189145,1.0144967970773455,0.10862216986478102,0.99259861805648486,8.0658344598272345E-3,0.14609872631414939,0.26278673063875763,0.61633036480629833,0.78502829014943099,0.75825785309737304,0.98531517316870554,0.74680839329029802,0.98451407715437511,-8.1303529687271059E-2,{"$f":"+Spectre!C1557*N1558/L1558","v":1.0451799635140966},1.0687697340949704]
[5357,0.53569999999999995,3.4846302889152279,1.014489041521869,0.10854025608865367,0.99258754893255641,8.077942290119473E-3,0.14606327307057246,0.26268147144934562,0.61644985509854777,0.78510440020885541,0.75834190675290469,0.98542439635949386,0.74689572955971328,0.98462921215748711,-8.0694592598318238E-2,{"$f":"+Spectre!C1558*N1559/L1559","v":1.0459087163293974},1.0695149349023141]
[5358,0.53580000000000005,3.4833296897704771,1.0144812904939087,0.10845841968025864,0.99257646331620031,8.0900682957852372E-3,0.14602783504539368,0.26257632302143757,0.61656924278375369,0.78518043754702527,0.75842588126369503,0.98553351670596068,0.74698298412495956,0.98474423945036804,-8.0086292572845164E-2,{"$f":"+Spectre!C1559*N1560/L1560","v":1.0393283477829793},1.0627860470675758]
[5359,0.53590000000000004,3.4820298186409135,1.0144735439899033,0.1083766605517297,0.99256536118302963,8.1022125041081069E-3,0.14599241222924214,0.26247128528507996,0.61668852787278183,0.78525640219197645,0.75850977665726538,0.98564253424386827,0.74707015701307622,0.98485915906866384,-7.9478629217777375E-2,{"$f":"+Spectre!C1560*N1561/L1561","v":1.0318963382152908},1.0551862966258017]
[5360,0.53600000000000003,3.4807306749832918,1.0144658020062944,0.10829497861531696,0.99255424250862201,8.1143749424125236E-3,0.14595700461275418,0.2623663581704837,0.61680771037642179,0.78533229417166561,0.75859359296105522,0.98575144900887302,0.7471572482510197,0.98497397104791118,-7.887160214103961E-2,{"$f":"+Spectre!C1561*N1562/L1562","v":1.0307340500770239},1.053997775578861]
[5361,0.53610000000000002,3.479432258254874,1.0144580645395271,0.10821337378338711,0.99254310726851946,8.1265556380640414E-3,0.14592161218657371,0.26226154160802484,0.61692679030538689,0.78540811351396977,0.75867733020242145,0.98586026103652347,0.74724425786566295,0.9850886754235364,-7.8265210951478092E-2,{"$f":"+Spectre!C1562*N1563/L1563","v":1.0378138719584873},1.0612373894385168]
[5362,0.53620000000000001,3.4781345679134295,1.0144503315860511,0.10813184596842322,0.99253195543822859,8.1387546184690865E-3,0.14588623494135258,0.26215683552824487,0.61704576767031261,0.78548386024668526,0.75876098840863748,0.98596897036226017,0.74733118588379477,0.98520327223085513,-7.7659455258893839E-2,{"$f":"+Spectre!C1563*N1564/L1564","v":1.0444238228902436},1.0679965273346947]
[5363,0.5363,3.4768376034172306,1.0144426031423182,0.10805039508302433,0.99252078699321999,8.1509719110755829E-3,0.14585087286774931,0.26205223986184922,0.61716464248175862,0.78555953439752957,0.75884456760689512,0.98607757702141718,0.74741803233212134,0.985317761505074,-7.7054334673987146E-2,{"$f":"+Spectre!C1564*N1565/L1565","v":1.0435606631283514},1.0671138860084133]
[5364,0.53639999999999999,3.4755413642250574,1.0144348792047841,0.1079690210399056,0.99250960190892901,8.1632075433722175E-3,0.14581552595643082,0.26194775453970864,0.61728341475020665,0.78563513599413992,0.75892806782430233,0.98618608104922012,0.74750479723726471,0.9854321432812887,-7.6449848808379794E-2,{"$f":"+Spectre!C1565*N1566/L1566","v":1.0405687868143585},1.0640544828776832]
[5365,0.53649999999999998,3.4742458497961923,1.014427159769909,0.1078877237518979,0.99249840016075486,8.1754615428893031E-3,0.14578019419807098,0.26184337949285819,0.61740208448606149,0.78571066506407372,0.75901148908788518,0.98629448248078766,0.7475914806257633,0.9855464175944848,-7.5845997274692767E-2,{"$f":"+Spectre!C1566*N1567/L1567","v":1.0374077971352949},1.0608221494837182]
[5366,0.53659999999999997,3.4729510595904229,1.0144194448341552,0.1078065031319477,0.99248718172406125,8.187733937198181E-3,0.14574487758335108,0.261739114652497,0.6175206516996512,0.78578612163480854,0.75909483142458634,0.98640278135113035,0.74767808252407264,0.98566058447953842,-7.5242779686335304E-2,{"$f":"+Spectre!C1567*N1568/L1568","v":1.0336795849636209},1.0570097913535712]
[5367,0.53669999999999995,3.4716569930680383,1.0144117343939898,0.10772535909311695,0.99247594657417559,8.2000247539120719E-3,0.14570957610296029,0.26163495994998931,0.61763911640122571,0.78586150573374181,0.75917809486126608,0.98651097769515184,0.74776460295856362,0.98577464397121417,-7.4640195657837971E-2,{"$f":"+Spectre!C1568*N1569/L1569","v":1.0298205765161204},1.0530636848682935]
[5368,0.53680000000000005,3.470363649689832,1.0144040284458822,0.10764429154858274,0.99246469468638998,8.2123340206849953E-3,0.14567428974759458,0.26153091531686234,0.6177574786009582,0.78593681738819199,0.75926127942470234,0.98661907154764861,0.74785104195552465,0.98588859610416801,-7.4038244804530695E-2,{"$f":"+Spectre!C1569*N1570/L1570","v":1.0292778642141867},1.0525087235191708]
[5369,0.53690000000000004,3.4690710289171003,1.0143963269863063,0.10756330041163747,0.9924534260359601,8.2246617652129844E-3,0.14563901850795818,0.26142698068480863,0.6178757383089436,0.78601205662539675,0.75934438514158897,0.9867270629433077,0.74793739954115923,0.98600244091294376,-7.3436926742687092E-2,{"$f":"+Spectre!C1570*N1571/L1571","v":1.0298977414439219},1.0531425914128569]
[5370,0.53700000000000003,3.4677791302116376,1.0143886300117388,0.10748238559568814,0.99244214059810587,8.2370080152333724E-3,0.14560376237476202,0.26132315598568356,0.61799389553519979,0.78608722347251447,0.75942741203853836,0.98683495191671056,0.74802367574158857,0.98611617843197708,-7.2836241089502263E-2,{"$f":"+Spectre!C1571*N1572/L1572","v":1.0308345646376895},1.0541005587588159]
[5371,0.53710000000000002,3.4664879530357431,1.0143809375186605,0.10740154701425675,0.99243083834801105,8.2493727985252802E-3,0.14556852133872519,0.26121944115150719,0.61811195028966615,0.78616231795662328,0.75951036014207896,0.9869427385023295,0.74810987058284872,0.98622980869559107,-7.2236187463148305E-2,{"$f":"+Spectre!C1572*N1573/L1573","v":1.0331904181031346},1.0565095839695222]
[5372,0.53720000000000001,3.4651974968522143,1.0143732495035553,0.10732078458097973,0.99241951926082328,8.261756142909497E-3,0.14553329539057347,0.26111583611446271,0.61822990258220478,0.7862373401047219,0.75959322947865704,0.98705042273453003,0.74819598409089316,0.98634333173800004,-7.1636765482663289E-2,{"$f":"+Spectre!C1573*N1574/L1574","v":1.0357049109801446},1.0590808290922378]
[5373,0.5373,3.4639077611243483,1.0143655659629105,0.10724009820960782,0.99240818331165415,8.274158076248506E-3,0.14549808452104049,0.26101234080689684,0.61834775242259965,0.78631228994372881,0.75967602007463597,0.98715800464756986,0.74828201629159108,0.98645674759330737,-7.1037974768062284E-2,{"$f":"+Spectre!C1574*N1575/L1575","v":1.0346337423147502},1.0579854840897989]
[5374,{"$f":"+A1576/10000","v":0.53739999999999999},{"$f":"+(1/B1576)^2","v":3.4626187453159427},{"$f":"0.23465+1.076*100/(146-C1576)+0.93161/(41-C1576)","v":1.014357886893217},{"$f":"9.4977*0.001*C1576^2*D1576*EXP(-h/7.996/1000)","v":0.10715948781400612},{"$f":"+EXP(-0.0168*EXP(-15*ABS(B1576-0.59)))","v":0.99239683047557892},{"$f":"-2.5*LOG(F1576)","v":8.286578626446708E-3},{"$f":"2.5*LOG(EXP(AOD*(B1576/0.55)^(-1.3)))","v":0.14546288872086732},{"$f":"+E1576+G1576+H1576","v":0.26090895516132018},{"$f":"10^(-0.4*I1576*ma)","v":0.61846549982055643},{"$f":"10^(-0.4*I1576)","v":0.78638716750048265},{"$f":"10^(-0.4*I1576*ma_ref)","v":0.75975873195629573},{"$f":"+L1576/M$1","v":0.98726548427559857},{"$f":"10^(-0.4*I1576*ma_target)","v":0.74836796721072807},{"$f":"+N1576/O$1","v":0.98657005629550587},{"$f":"(O1576/M1576-1)*100","v":-7.0439814940248535E-2},{"$f":"+Spectre!C1575*N1576/L1576","v":1.0315294430580333},1.0548111206242023]
[5375,0.53749999999999998,3.4613304488912924,1.0143502122909693,0.1070789533081536,0.99238546072763678,8.2990178214502105E-3,0.14542770798080212,0.26080567911040592,0.61858314478570287,0.78646197280174279,0.75984136514983447,0.98737286165265903,0.74845383687400613,0.98668325787847855,-6.984228562108008E-2,{"$f":"+Spectre!C1576*N1577/L1577","v":1.0287184120360899},1.0519366444739384]
[5376,0.53759999999999997,3.4600428713151929,1.0143425421526655,0.10699849460614336,0.99237407404283029,8.3114756892474217E-3,0.14539254229160112,0.2607025125869919,0.61870068732758765,0.78653670587418734,0.75992391968136552,0.98748013681268421,0.74853962530704243,0.98679635237599639,-6.9245386433280931E-2,{"$f":"+Spectre!C1577*N1578/L1578","v":1.0270961426239429},1.0502777603498863]
[5377,0.53769999999999996,3.4587560120529348,1.0143348764748068,0.10691811162218186,0.99236267039612591,8.3239522578684652E-3,0.14535739164402686,0.26059945552407715,0.6188181274556821,0.78661136674441612,0.76000639557692129,0.98758730978950182,0.748625332535372,0.98690933982172202,-6.8649117000529891E-2,{"$f":"+Spectre!C1578*N1579/L1579","v":1.0254749936191896},1.0486200219208859]
[5378,0.53779999999999994,3.4574698705703075,1.014327215253898,0.10683780427058934,0.99235124976245381,8.3364475553854237E-3,0.14532225602885041,0.26049650785482514,0.61893546517937825,0.78668595543894804,0.7600887928624499,0.98769438061683001,0.74871095858444447,0.98702222024920572,-6.8053476947449454E-2,{"$f":"+Spectre!C1579*N1580/L1580","v":1.0276450905821746},1.0508390980944204]
[5379,0.53790000000000004,3.4561844463335945,1.0143195584864475,0.10675757246579916,0.99233981211670719,8.3489616099130717E-3,0.1452871354368494,0.2603936695125616,0.61905270050798977,0.78676047198422239,0.76017111156381723,0.98780134932828012,0.74879650347962634,0.98713499369188784,-6.7458465899583597E-2,{"$f":"+Spectre!C1580*N1581/L1581","v":1.0336560086945372},1.0569856829667679]
[5380,0.53800000000000003,3.4548997388095799,1.0143119061689667,0.10667741612235811,0.99232835743374326,8.3614944496077995E-3,0.14525202985880922,0.26029094043077516,0.61916983345075138,0.78683491640659853,0.76025335170680564,0.98790821595735501,0.74888196724619993,0.98724766018309795,-6.6864083483397785E-2,{"$f":"+Spectre!C1581*N1582/L1582","v":1.0394035476542689},1.0628629442041913]
[5381,0.53810000000000002,3.4536157474655376,1.0143042582979711,0.10659733515492573,0.99231688568838239,8.3740461026685815E-3,0.14521693928552268,0.26018832054311697,0.61928686401681909,0.78690928873235599,0.76033551331711469,0.98801498053744974,0.74896734990936376,0.98736021975605537,-6.6270329326201249E-2,{"$f":"+Spectre!C1582*N1583/L1583","v":1.0363617921281425},1.0597525360847035]
[5382,0.53820000000000001,3.4523324717692421,1.0142966148699792,0.10651732947827469,0.99230539685540842,8.3866165973366276E-3,0.14518186370778946,0.26008580978340079,0.6194037922152702,0.78698358898769427,0.760417596420361,0.9881216431018518,0.74905265149423261,0.9874726724438686,-6.5677203056291322E-2,{"$f":"+Spectre!C1583*N1584/L1584","v":1.0329593928578404},1.0562733444714436]
[5383,0.5383,3.4510499111889561,1.0142889758815135,0.10643739900728993,0.99229389090956854,8.3992059618955006E-3,0.14514680311641734,0.25998340808560277,0.61952061805510228,0.78705781719873291,0.76049960104207792,0.98822820368374042,0.7491378720258367,0.98758501827953482,-6.5084704302920127E-2,{"$f":"+Spectre!C1584*N1585/L1585","v":1.0297572737964324},1.0529989534026607]
[5384,0.53839999999999999,3.449768065193441,1.0142813413290988,0.1063575436569692,0.99228236782557311,8.4118142246713806E-3,0.14511175750222052,0.25988111538386111,0.61963734154523442,0.78713197339151209,0.76058152720771599,0.98833466231618705,0.74922301152912296,0.98769725729594171,-6.4492832696116942E-2,{"$f":"+Spectre!C1585*N1586/L1586","v":1.0271296570331854},1.0503120311812311]
[5385,0.53849999999999998,3.448486933251949,1.0142737112092646,0.10627776334242242,0.99227082757809582,8.4244414140328214E-3,0.14507672685602158,0.25977893161247684,0.61975396269450578,0.78720605759199092,0.76066337494264236,0.9884410190321552,0.7493080700289535,0.98780938952586461,-6.3901587867032372E-2,{"$f":"+Spectre!C1586*N1587/L1587","v":1.0246283907911864},1.0477543112194228]
[5386,0.53859999999999997,3.4472065148342264,1.014266085518543,0.10619805797887177,0.99225927014177351,8.4370875583909995E-3,0.14504171116864945,0.25967685670591223,0.61987048151167679,0.78728006982604959,0.76074514427214135,0.98854727386450025,0.74939304755010694,0.98792141500196917,-6.3310969447560872E-2,{"$f":"+Spectre!C1587*N1588/L1588","v":1.0264509641808366},1.0496180201930199]
[5387,0.53869999999999996,3.4459268094105098,1.0142584642534698,0.10611842748165126,0.99224769549120617,8.4497526861997251E-3,0.14500671043094107,0.25957489059879207,0.61998689800542783,0.7873540101194878,0.76082683522141381,0.98865342684596946,0.74947794411727775,0.98803333375681002,-6.2720977070562789E-2,{"$f":"+Spectre!C1588*N1589/L1589","v":1.0294435165297919},1.0526781146168593]
[5388,0.53879999999999995,3.4446478164515288,1.0142508474105847,0.10603887176620687,0.99223610360095682,8.4624368259555681E-3,0.14497172463374056,0.25947303322590298,0.62010321218435971,0.78742787849802554,0.76090844781557787,0.98875947800920239,0.74956275975507591,0.98814514582283031,-6.2131610369897672E-2,{"$f":"+Spectre!C1589*N1590/L1590","v":1.0312025017576671},1.0544768002402924]
[5389,0.53890000000000005,3.4433695354285017,1.0142432349864299,0.10595939074809595,0.9922244944455515,8.4751400061978729E-3,0.14493675376789877,0.2593712845221926,0.62021942405699437,0.78750167498730295,0.76098998207966839,0.98886542738673056,0.74964749448802803,0.98825685123236351,-6.1542868980191123E-2,{"$f":"+Spectre!C1590*N1591/L1591","v":1.0303082906491627},1.0535624067367586]
[5390,0.53900000000000003,3.4420919658131424,1.0142356269775517,0.10587998434298773,0.99221286799947928,8.4878622555087518E-3,0.14490179782427465,0.25926964442277112,0.62033553363177274,0.7875753996128797,0.76107143803863675,0.98897127501097692,0.74973214834057578,0.98836845001763074,-6.0954752537123458E-2,{"$f":"+Spectre!C1591*N1592/L1592","v":1.0294235203912399},1.0526576671643351]
[5391,0.53910000000000002,3.44081510707765,1.0142280233804992,0.10580065246666247,0.99220122423719215,8.500603602513224E-3,0.14486685679373423,0.25916811286290992,0.62045154091705634,0.78764905240023586,0.76115281571735105,0.98907702091425631,0.74981672133707689,0.98847994221074287,-6.0367260677185453E-2,{"$f":"+Spectre!C1592*N1593/L1593","v":1.032025564356251},1.0553184394080339]
[5392,0.53920000000000001,3.439538958694714,1.0142204241918258,0.1057213950350116,0.9921895631331048,8.5133640758794683E-3,0.14483193066715017,0.25906668977804126,0.620567445921127,0.78772263337477177,0.76123411514059702,0.98918266512877639,0.74990121350180527,0.98859132784370007,-5.9780393037855983E-2,{"$f":"+Spectre!C1593*N1594/L1594","v":1.0359408622074686},1.0593221057520377]
[5393,0.5393,3.438263520137514,1.0142128294080874,0.10564221196403753,0.99217788466159507,8.5261437043183397E-3,0.14479701943540338,0.25896537510375928,0.62068324865218605,0.78779614256180697,0.76131533633307624,0.9892882076866355,0.74998562485895037,0.98870260694839096,-5.9194149257468798E-2,{"$f":"+Spectre!C1594*N1595/L1595","v":1.0390200924981676},1.0624708344436427]
[5394,0.53939999999999999,3.4369887908797168,1.0142052390258438,0.1055631031698535,0.99216618879700302,8.538942516584342E-3,0.14476212308938149,0.2588641687758193,0.6207989491183542,0.78786957998658202,0.76139647931940724,0.98939364861982404,0.7500699554326169,0.988813779556593,-5.8608528975290231E-2,{"$f":"+Spectre!C1595*N1596/L1596","v":1.0379504633015197},1.0613770636558466]
[5395,0.53949999999999998,3.4357147703954767,1.0141976530416581,0.10548406856868332,0.99215447551363212,8.5517605414744367E-3,0.14472724161997957,0.25876307073013732,0.62091454732767271,0.78794294567425649,0.76147754412412549,0.98949898796022462,0.75015420524682597,0.98892484569997285,-5.8023531831530306E-2,{"$f":"+Spectre!C1596*N1597/L1597","v":1.0372476774795012},1.0606584159182846]
[5396,0.53959999999999997,3.4344414581594367,1.0141900714520971,0.10540510807686142,0.99214274478574782,8.5645978078294979E-3,0.1446923750180997,0.25866208090279064,0.62103004328810152,0.78801623964991063,0.76155853077168312,0.98960422573961149,0.75023837432551421,0.98903580541008618,-5.7439157467265023E-2,{"$f":"+Spectre!C1597*N1598/L1598","v":1.0337137857149041},1.0570447640177352]
[5397,0.53969999999999996,3.4331688536467242,1.0141824942537301,0.10532622161083227,0.99213099658757875,8.5774543445331017E-3,0.14465752327465128,0.25856119923001664,0.62114543700752101,0.78808946193854468,0.76163943928644906,0.98970936198965065,0.750322462692534,0.98914665871837737,-5.6855405524514069E-2,{"$f":"+Spectre!C1598*N1599/L1599","v":1.0286609318739683},1.0518778669813238]
[5398,0.53979999999999995,3.4318969563329556,1.014174921443131,0.10524740908715079,0.99211923089331566,8.5903301805126363E-3,0.1446226863805512,0.25846042564821464,0.62126072849372982,0.78816261256507814,0.76172026969270856,0.98981439674189953,0.75040647037165287,0.98925740565617926,-5.627227564618531E-2,{"$f":"+Spectre!C1599*N1600/L1600","v":1.02538252578447},1.0485254670819342]
[5399,0.53990000000000005,3.4306257656942289,1.0141673530168756,0.10516867042248144,0.9921074476771119,8.6032253447388216E-3,0.14458786432672358,0.25835976009394385,0.62137591775444623,0.78823569155435136,0.76180102201466349,0.98991933002780719,0.75049039738655476,0.98936804625471408,-5.568976747606369E-2,{"$f":"+Spectre!C1600*N1601/L1601","v":1.0307995629066569},1.0540647670367447]
[5400,0.54,3.4293552812071324,1.0141597889715446,0.10509000553359903,0.9920956469130835,8.6161398662255844E-3,0.14455305710409924,0.25825920250392387,0.62149100479730812,0.7883086989311241,0.76188169627643276,0.99002416187871489,0.75057424376083837,0.98947858054509186,-5.5107880658966657E-2,{"$f":"+Spectre!C1601*N1602/L1602","v":1.0371577006193935},1.0605664082753818]
[5401,0.54010000000000002,3.4280855023487353,1.0141522293037206,0.1050114143373875,0.99208382857530875,8.6290737740305733E-3,0.14451826470361714,0.2581587528150352,0.62160598962987168,0.78838163472007639,0.76196229250205172,0.9901288923258551,0.75065800951801875,0.98958900855831256,-5.4526614840455512E-2,{"$f":"+Spectre!C1602*N1603/L1603","v":1.0379308745348994},{"$f":"+Q1603/R$1","v":1.0613570327696615}]
[5402,0.54020000000000001,3.4268164285965912,1.0141446740099913,0.10493289675084067,0.99207199263782797,8.6420270972553861E-3,0.14448348711622236,0.25805841096431842,0.62172087225961203,0.78845449894580788,0.76204281071547197,0.99023352140035181,0.75074169468152585,0.98969933032526369,-5.3945969667101856E-2,{"$f":"+Spectre!C1603*N1604/L1604","v":1.0327946016405456},1.0561048339071029]
[5403,0.5403,3.4255480594287366,1.0141371230869463,0.10485445269106124,0.99206013907464441,8.654999865044621E-3,0.14444872433286798,0.25795817688897382,0.62183565269392405,0.78852729163283852,0.76212325094056266,0.99033804913322154,0.75082529927470609,0.98980954587672276,-5.3365944786365471E-2,{"$f":"+Spectre!C1604*N1605/L1605","v":1.0281251025063303},1.051329943914711]
[5404,0.54039999999999999,3.4242803943236941,1.0141295765311789,0.10477608207526146,0.99204826785972289,8.667992106587339E-3,0.144413976344514,0.25785805052636279,0.6219503309401202,0.78860001280560788,0.76220361320110797,0.99044247555537068,0.75090882332081987,0.98991965524335368,-5.2786539846627623E-2,{"$f":"+Spectre!C1605*N1606/L1606","v":1.0266801603406279},1.0498523893230327]
[5405,0.54049999999999998,3.4230134327604635,1.0141220343392858,0.10469778482076217,0.99203637896699082,8.6810038511159759E-3,0.14437924314212774,0.25775803181400592,0.62206490700543193,0.78867266248847534,0.76228389752080972,0.99054680069759837,0.75099226684304454,0.99002965845571134,-5.2207754497091141E-2,{"$f":"+Spectre!C1606*N1607/L1607","v":1.025326271032972},1.0484679426575301]
[5406,0.54059999999999997,3.4217471742185319,1.0141144965078679,0.10461956084499345,0.99202447237033775,8.6940351279068337E-3,0.14434452471668341,0.25765812068958371,0.62217938089700953,0.78874524070572083,0.76236410392328624,0.9906510245905954,0.75107562986447229,0.99013955554423771,-5.1629588388002468E-2,{"$f":"+Spectre!C1607*N1608/L1608","v":1.0257835722165656},1.0489355651545662]
[5407,0.54069999999999996,3.4204816181778628,1.014106963033528,0.10454141006549361,0.99201254804361505,8.7070859662804617E-3,0.14430982105916282,0.25755831709093691,0.6222937526219211,0.78881774748154365,0.76244423243207182,0.99075514726494329,0.7511589124081105,0.99024934653926366,-5.1052041170407403E-2,{"$f":"+Spectre!C1608*N1609/L1609","v":1.0286215600114184},1.0518376064936208]
[5408,0.54079999999999995,3.4192167641189042,1.0140994339128733,0.10446333239990971,0.99200060596063633,8.7201563956011661E-3,0.14427513216055457,0.25745862095606542,0.62240802218715352,0.78889018284006318,0.76252428307061759,0.99085916875111557,0.7512421144968825,0.99035903147100868,-5.0475112496284336E-2,{"$f":"+Spectre!C1609*N1610/L1610","v":1.03129798483656},1.0545744383776481]
[5409,0.54090000000000005,3.4179526115225807,1.0140919091425136,0.10438532776599692,0.99198864609517712,8.7332464452773949E-3,0.14424045801185478,0.25735903222312911,0.62252218959961148,0.78896254680531863,0.76260425586229075,0.99096308907947661,0.75132523615362656,0.99046861036958056,-4.989880201848873E-2,{"$f":"+Spectre!C1610*N1611/L1611","v":1.0303454969193946},1.053600452754603]
[5410,0.54100000000000004,3.4166891598703018,1.0140843887190627,0.10430739608161889,0.99197666842097476,8.746356144761859E-3,0.14420579860406627,0.25725955083044705,0.62263625486611796,0.78903483940126906,0.76268415083037544,0.99106690828028299,0.75140827740109628,0.99057808326497498,-4.9323109390886355E-2,{"$f":"+Spectre!C1611*N1612/L1612","v":1.0284490267989221},1.0516611791968113]
[5411,0.54110000000000003,3.4154264086439521,1.0140768726391374,0.10422953726474697,0.99196467291172863,8.7594855235513022E-3,0.1441711539281994,0.25716017671649766,0.62275021799341357,0.78910706065179359,0.76276396799807178,0.99117062638368181,0.75149123826196096,0.99068745018707705,-4.8748034268086826E-2,{"$f":"+Spectre!C1612*N1613/L1613","v":1.0274568709523857},1.0506466303369975]
[5412,0.54120000000000001,3.4141643573258951,1.0140693608993578,0.10415175123346042,0.99195265954109968,8.7726346111869861E-3,0.14413652397527152,0.25706090981991891,0.62286407898815732,0.78917921058069085,0.76284370738849661,0.99127424341971238,0.75157411875880498,0.99079671116565948,-4.8173576305732269E-2,{"$f":"+Spectre!C1613*N1614/L1614","v":1.0283933513846288},1.0516042471852851]
[5413,0.5413,3.4129030053989737,1.0140618534963477,0.10407403790594623,0.99194062828271101,8.7858034372541027E-3,0.14410190873630702,0.25696175007950733,0.62297783785692562,0.78925128921167986,0.76292336902468305,0.99137775941830475,0.75165691891412811,0.99090586623038368,-4.7599735160286372E-2,{"$f":"+Spectre!C1614*N1615/L1615","v":1.0293190154569274},1.0525508035477755]
[5414,0.54139999999999999,3.4116423523465071,1.0140543504267336,0.1039963972004988,0.99192857911014698,8.7989920313827474E-3,0.14406730820233771,0.25686269743421924,0.62309149460621249,0.78932329656839895,0.76300295292958031,0.99148117440928041,0.75173963875034489,0.99101491541079867,-4.7026510489167617E-2,{"$f":"+Spectre!C1615*N1616/L1616","v":1.0282059366566227},1.0514126024963235]
[5415,0.54149999999999998,3.4103823976522931,1.0140468516871455,0.10391882903551991,0.99191651199695385,8.8122004232471969E-3,0.14403272236440248,0.25676375182316957,0.62320504924242937,0.78939523267440637,0.7630824591260541,0.99158448842235203,0.75182227828978554,0.99112385873634223,-4.6453901950671561E-2,{"$f":"+Spectre!C1616*N1617/L1617","v":1.0261274201316446},1.0492871737364342]
[5416,0.54159999999999997,3.4091231408006046,1.014039357274217,0.10384133332951857,0.9919044269166396,8.8254286425661632E-3,0.14399815121354689,0.25666491318563162,0.62331850177190584,0.78946709755318079,0.76316188763688664,0.99168770148712393,0.75190483755469573,0.99123269623634069,-4.5881909203970839E-2,{"$f":"+Spectre!C1617*N1618/L1618","v":1.0234851121875557},1.0465852287533846]
[5417,0.54169999999999996,3.4078645812761903,1.0140318671845852,0.10376391000111077,0.99189232384267334,8.8386767191034089E-3,0.14396359474082401,0.25656618146103816,0.62343185220088815,0.78953889122812004,0.76324123848477621,0.99179081363309118,0.75198731656723561,0.99134142794000779,-4.531053190917067E-2,{"$f":"+Spectre!C1618*N1619/L1619","v":1.0169343256575758},1.0398865906028598]
[5418,0.54179999999999995,3.406606718564277,1.0140243814148897,0.10368655896901939,0.99188020274848598,8.8519446826670276E-3,0.14392905293729388,0.25646755658898029,0.6235451005355398,0.78961061372254204,0.76332051169233717,0.99189382488963995,0.75206971534948086,0.99145005387644558,-4.4739769727242251E-2,{"$f":"+Spectre!C1619*N1620/L1620","v":1.0102832739909291},1.0330854243258927]
[5419,0.54190000000000005,3.405349552150561,1.0140168999617738,0.10360928015207382,0.99186806360746982,8.8652325631099326E-3,0.14389452579402379,0.25636903850920756,0.62365824678194182,0.78968226505968431,0.76339970728210071,0.99199673528604848,0.75215203392342234,0.99155857407464476,-4.4169622320111568E-2,{"$f":"+Spectre!C1620*N1621/L1621","v":1.0081787118930308},1.030933362143037]
[5420,0.54200000000000004,3.4040930815212205,1.0140094228218841,0.10353207346921037,0.9918559063929786,8.8785403903297502E-3,0.14386001330208778,0.25627062716162791,0.62377129094609196,0.78975384526270476,0.76347882527651389,0.99209954485148522,0.75223427231096585,0.99166698856348356,-4.3600089350548377E-2,{"$f":"+Spectre!C1621*N1622/L1622","v":1.0086026825558494},1.0313669018475691]
[5421,0.54210000000000003,3.4028373061629016,1.0140019499918711,0.10345493883947147,0.99184373107832724,8.8918681942691865E-3,0.14382551545256766,0.25617232248630833,0.6238842330339045,0.78982535435467993,0.7635578656979396,0.9922022536150098,0.75231643053393205,0.99177529737172798,-4.3031170482255021E-2,{"$f":"+Spectre!C1622*N1623/L1623","v":1.0088833963086499},1.0316539513255638]
[5422,0.54220000000000002,3.401582225562727,1.0139944814683874,0.10337787618200579,0.99183153763679188,8.9052160049159172E-3,0.14379103223655137,0.2560741244234731,0.62399707305121133,0.78989679235860755,0.76363682856865744,0.99230486160557319,0.75239850861405699,0.99188350052803265,-4.2462865379777615E-2,{"$f":"+Spectre!C1623*N1624/L1624","v":1.0086514945628298},1.0314168155442933]
[5423,0.5423,3.4003278392082894,1.0139870172480898,0.10330088541606805,0.99181932604161016,8.9185838523023527E-3,0.14375656364513464,0.25597603291350501,0.62410981100376062,0.78996815929740394,0.76371571391086324,0.99240736885201775,0.75248050657299181,0.99199159806094006,-4.1895173708617062E-2,{"$f":"+Spectre!C1624*N1625/L1625","v":1.008316817198688},1.031074584493213]
[5424,0.54239999999999999,3.3990741465876564,1.013979557327638,0.10322396646101895,0.99180709626598063,8.9319717665062547E-3,0.14372210966941976,0.25587804789694496,0.62422244689721718,0.79003945519390606,0.76379452174666873,0.9925097753830765,0.75256242443230226,0.99209958999888037,-4.1328095135162446E-2,{"$f":"+Spectre!C1625*N1626/L1626","v":1.0096437496348585},1.0324314658691243]
[5425,0.54249999999999998,3.3978211471893647,1.0139721017036951,0.1031471192363248,0.99179484828306308,8.945379777650378E-3,0.14368767030051655,0.25578016931449171,0.6243349807371622,0.79011068007086993,0.76387325209810164,0.99261208122737321,0.75264426221346914,0.99220747637017148,-4.0761629326679927E-2,{"$f":"+Spectre!C1626*N1627/L1627","v":1.0127874036172146},1.035646072298732]
[5426,0.54259999999999997,3.3965688405024261,1.0139646503729274,0.10307034366155769,0.99178258206597836,8.9588079159027174E-3,0.14365324552954159,0.25568239710700202,0.62444741252909353,0.79018183395097163,0.76395190498710586,0.99271428641342285,0.75272601993788846,0.99231525720301983,-4.0195775951268331E-2,{"$f":"+Spectre!C1627*N1628/L1628","v":1.0157405997674303},1.0386659222522119]
[5427,0.54269999999999996,3.3953172260163198,1.0139572033320043,0.10299363965639496,0.99177029758780821,8.9722562114766518E-3,0.14361883534761843,0.25558473121549008,0.62455974227842503,0.79025291685680721,0.76403048043554178,0.99281639096963181,0.75280769762687094,0.99242293252551905,-3.9630534678070095E-2,{"$f":"+Spectre!C1628*N1629/L1629","v":1.0159954545060323},1.038926529076603]
[5428,0.54279999999999995,3.3940663032209968,1.0139497605775989,0.1029170071406193,0.99175799482159532,8.9857246946309366E-3,0.14358443974587809,0.25548717158112833,0.6246719699904868,0.79032392881089153,0.76410897846518511,0.99291839492429634,0.75288929530164184,0.99253050236565044,-3.9065905176982607E-2,{"$f":"+Spectre!C1629*N1630/L1630","v":1.016004275046211},1.0389355486968697]
[5429,0.54290000000000005,3.3928160716068758,1.0139423221063872,0.10284044603411839,0.99174567374034339,8.9992133956695985E-3,0.14355005871545792,0.25538971814524591,0.62478409567052517,0.79039486983566054,0.76418739909772826,0.99302029830560468,0.75297081298334179,0.99263796675128357,-3.8501887118869149E-2,{"$f":"+Spectre!C1630*N1631/L1631","v":1.015564096795105},1.0384854355978705]
[5430,0.54300000000000004,3.3915665306648486,1.0139348879150485,0.10276395625688507,0.99173333431701705,9.0127223449420653E-3,0.14351569224750294,0.2552923708493301,0.62489611932370226,0.79046573995346869,0.7642657423547794,0.99312210114163557,0.75305225069302617,0.9927453257101756,-3.7938480175481182E-2,{"$f":"+Spectre!C1631*N1632/L1632","v":1.014435400310217},1.0373312643698156]
[5431,0.54310000000000003,3.3903176798862722,1.0139274580002655,0.10268753772901681,0.99172097652454139,9.0262515728436552E-3,0.14348134033316465,0.25519512963502511,0.62500804095509643,0.79053653918659095,0.76434400825786264,0.99322380346035821,0.7531336084516651,0.99285257926997139,-3.7375684019402833E-2,{"$f":"+Spectre!C1632*N1633/L1633","v":1.0133451703607701},1.0362164278690706]
[5432,0.54320000000000002,3.3890695187629731,1.0139200323587241,0.10261119037071581,0.99170860033580244,9.0398011098151102E-3,0.14344700296360194,0.25509799444413284,0.62511986056970115,0.79060726755722122,0.76442219682841805,0.99332540528963298,0.75321488628014321,0.99295972745820305,-3.6813498324173022E-2,{"$f":"+Spectre!C1633*N1634/L1634","v":1.0094997162231498},1.0322841816152097]
[5433,0.54330000000000001,3.3878220467872451,1.0139126109871133,0.10253491410228863,0.99169620572364681,9.0533709863429533E-3,0.14341268012998076,0.25500096521861237,0.62523157817242569,0.79067792508747348,0.76450030808780156,0.99342690665721056,0.75329608419925975,0.99306677030229007,-3.6251922764229949E-2,{"$f":"+Spectre!C1634*N1635/L1635","v":1.0048456493967048},1.0275250722386429]
[5434,0.54339999999999999,3.3865752634518493,1.0139051938821257,0.10245870884414629,0.99168379266088191,9.0669612329592666E-3,0.14337837182347354,0.25490404190057908,0.62534319376809566,0.79074851179938144,0.76457834205728537,0.9935283075907333,0.7533772022297297,0.99317370782954106,-3.5690957014811175E-2,{"$f":"+Spectre!C1635*N1636/L1636","v":1.0019441137496925},1.0245580487688299]
[5435,0.54349999999999998,3.3853291682500131,1.0138977810404566,0.10238257451680383,0.99167136112027565,9.0805718802420624E-3,0.14334407803526039,0.2548072244323063,0.62545470736145092,0.79081902771489843,0.7646562987580573,0.99362960811773338,0.75345824039218146,0.99328054006715016,-3.5130600752175667E-2,{"$f":"+Spectre!C1636*N1637/L1637","v":1.0030812440848369},1.0257208441996162]
[5436,0.54359999999999997,3.3840837606754306,1.0138903724588049,0.10230651104088044,0.99165891107455617,9.0942029588155313E-3,0.14330979875652741,0.25471051275622336,0.62556611895714798,0.79088947285589728,0.76473417821122147,0.99373080826563465,0.75353919870715902,0.99338726704220048,-3.4570853653392852E-2,{"$f":"+Spectre!C1637*N1638/L1638","v":1.0042365134038673},1.0269021880121754]
[5437,0.54369999999999996,3.3828390402222608,1.0138829681338726,0.10223051833709908,0.99164644249641232,9.1078544993495603E-3,0.14327553397846896,0.25461390681491758,0.62567742855975694,0.79095984724417034,0.76481198043779686,0.99383190806175004,0.75362007719512025,0.99349388878166167,-3.401171539637593E-2,{"$f":"+Spectre!C1638*N1639/L1639","v":1.0011375277682302},1.0237332580963856]
[5438,{"$f":"+A1640/10000","v":0.54379999999999995},{"$f":"+(1/B1640)^2","v":3.3815950063851283},{"$f":"0.23465+1.076*100/(146-C1640)+0.93161/(41-C1640)","v":1.0138755680623652},{"$f":"9.4977*0.001*C1640^2*D1640*EXP(-h/7.996/1000)","v":0.10215459632628643},{"$f":"+EXP(-0.0168*EXP(-15*ABS(B1640-0.59)))","v":0.99163395535849341},{"$f":"-2.5*LOG(F1640)","v":9.1215265325599974E-3},{"$f":"2.5*LOG(EXP(AOD*(B1640/0.55)^(-1.3)))","v":0.14324128369228531},{"$f":"+E1640+G1640+H1640","v":0.25451740655113175},{"$f":"10^(-0.4*I1640*ma)","v":0.62578863617376468},{"$f":"10^(-0.4*I1640)","v":0.79103015090142981},{"$f":"10^(-0.4*I1640*ma_ref)","v":0.76488970545871926},{"$f":"+L1640/M$1","v":0.99393290753328456},{"$f":"10^(-0.4*I1640*ma_target)","v":0.7537008758764383},{"$f":"+N1640/O$1","v":0.99360040531239135},{"$f":"(O1640/M1640-1)*100","v":-3.3453185660026197E-2},{"$f":"+Spectre!C1639*N1640/L1640","v":0.9959394892362502},1.0184178995422846]
[5439,0.54390000000000005,3.3803516586591198,1.013868172240991,0.10207874492937258,0.99162144963340904,9.1352190892088937E-3,0.14320704788918395,0.25442101190776545,0.62589974180357266,0.79110038384930781,0.76496735329484045,0.99403380670733388,0.75378159477140094,0.99370681666113503,-3.2895264124066514E-2,{"$f":"+Spectre!C1640*N1641/L1641","v":0.99125892164412721},1.0136316912762673]
[5440,0.54400000000000004,3.379108996539792,1.0138607806664617,0.10200296406739139,0.99160892529372879,9.1489322001047559E-3,0.14317282656037983,0.25432472282787599,0.62601074545349611,0.79117054610935511,0.76504492396692669,0.99413460561088263,0.75386223390020923,0.99381312285452339,-3.2337950469163435E-2,{"$f":"+Spectre!C1641*N1642/L1642","v":0.98972408966512171},1.0120622180531422]
[5441,0.54410000000000003,3.3778670195231593,1.0138533933354923,0.10192725366147955,0.99159638231198299,9.1626658961018268E-3,0.1431386196970941,0.25422853925467548,0.62612164712776652,0.79124063770304276,0.76512241749566146,0.99423530427080797,0.75394279328298031,0.993919323919077,-3.1781244376827278E-2,{"$f":"+Spectre!C1642*N1643/L1643","v":0.98768101093619198},1.0099730269223519]
[5442,0.54420000000000002,3.3766257271057007,1.0138460102448008,0.10185161363287695,0.99158382066066175,9.176420208101067E-3,0.14310442729055528,0.25413246113153332,0.62623244683052948,0.79131065865176142,0.76519983390164303,0.99433590271387617,0.75402327293974525,0.99402541988120263,-3.1225145529401033E-2,{"$f":"+Spectre!C1643*N1644/L1644","v":0.99044394334739572},1.0127983188735259]
[5443,0.54430000000000001,3.3753851187843589,1.0138386313911087,0.10177604390292652,0.99157124031221555,9.1901951670495564E-3,0.14307024933199886,0.2540364884019749,0.62634314456584539,0.79138060897682094,0.76527717320538591,0.99443640096674468,0.75410367289044922,0.99413141076719402,-3.066965361023799E-2,{"$f":"+Spectre!C1644*N1645/L1645","v":0.99613013224782299},1.0186128453773546]
[5444,0.5444,3.3741451940565375,1.0138312567711403,0.10170054439307377,0.99155864123905468,9.2039908039411103E-3,0.14303608581266711,0.25394062100968195,0.62645374033768864,0.79145048869945112,0.76535443542732007,0.99453679905596126,0.75418399315495221,0.99423729660323223,-3.0114768303524109E-2,{"$f":"+Spectre!C1645*N1646/L1646","v":1.0009141606091325},1.02350484952794]
[5445,0.54449999999999998,3.3729059524201022,1.0138238863816236,0.10162511502486701,0.99154602341354958,9.2178071498159198E-3,0.14300193672380879,0.25384485889849173,0.626564234149949,0.79152029784080091,0.76543162058779124,0.9946370970079641,0.75426423375302853,0.99434307741538597,-2.9560489294300218E-2,{"$f":"+Spectre!C1646*N1647/L1647","v":1.0001286527206752},1.0227016126822455]
[5446,0.54459999999999997,3.3716673933733792,1.0138165202192895,0.10154975571995692,0.99153338680803083,9.2316442357605645E-3,0.14296780205668069,0.25374920201239815,0.62667462600642931,0.79159003642193904,0.76550872870706077,0.99473729484908158,0.75434439470436687,0.99444875322961046,-2.9006816268495328E-2,{"$f":"+Spectre!C1647*N1648/L1648","v":0.99870774331800438},1.0212486332744126]
[5447,0.54469999999999996,3.3704295164151552,1.0138091582808721,0.1014744664000965,0.99152073139478847,9.2455020929087528E-3,0.14293368180254534,0.25365365029555059,0.6267849159108474,0.7916597044638537,0.76558575980530552,0.99483739260553261,0.75442447602857021,0.99455432407174849,-2.8453748912948829E-2,{"$f":"+Spectre!C1648*N1649/L1649","v":0.99672933153449872},1.0192255686256428]
[5448,0.54479999999999995,3.369192321044677,1.0138018005631086,0.10139924698714085,0.99150805714607271,9.2593807524405918E-3,0.14289957595267275,0.25355820369225418,0.62689510386683533,0.79172930198745239,0.76566271390261853,0.99493739030342687,0.75450447774515605,0.99465978996752968,-2.7901286915399393E-2,{"$f":"+Spectre!C1649*N1650/L1650","v":0.99408503643771384},1.0165215916397492]
[5449,0.54490000000000005,3.3679558067616484,1.0137944470627396,0.10132409740304701,0.99149536403409355,9.2732802455829742E-3,0.14286548449833966,0.25346286214696967,0.62700518987793885,0.79179882901356269,0.7657395910190079,0.99503728796876401,0.75458439987355619,0.9947651509425709,-2.7349429964440564E-2,{"$f":"+Spectre!C1650*N1651/L1651","v":0.99148578951159771},1.0138636795642706]
[5450,0.54500000000000004,3.3667199730662398,1.0137870977765089,0.10124901756987431,0.99148265203102071,9.2872006036096976E-3,0.14283140743082987,0.25336762560431386,0.6271151739476174,0.79186828556293087,0.76581639117439726,0.99513708562743342,0.75466424243311636,0.99487040702237572,-2.6798177749509655E-2,{"$f":"+Spectre!C1651*N1652/L1652","v":0.98943023597768542},1.0117617320714476]
[5451,0.54510000000000003,3.3654848194590716,1.0137797527011629,0.10117400740978326,0.99146992110898324,9.3011418578418433E-3,0.14279734474143402,0.2532724940090591,0.62722505607924406,0.79193767165622286,0.76589311438862573,0.99523678330521514,0.75474400544309639,0.99497555823233408,-2.6247529961009874E-2,{"$f":"+Spectre!C1652*N1653/L1653","v":0.9873881287587184},1.0096735343776546]
[5452,0.54520000000000002,3.3642503454412251,1.0137724118334519,0.10109906684503606,0.99145717124007027,9.3151040396470559E-3,0.14276329642144925,0.25317746730613233,0.62733483627610653,0.79200698731402486,0.76596976068144862,0.99533638102778021,0.75482368892267138,0.99508060459772452,-2.5697486290165994E-2,{"$f":"+Spectre!C1653*N1654/L1654","v":0.98673335363756243},1.0090039809451747]
[5453,0.54530000000000001,3.3630165505142409,1.0137650751701293,0.10102419579799651,0.99144440239633025,9.3290871804402771E-3,0.14272926246218007,0.25308254544061687,0.62744451454140482,0.79207623255684123,0.76604633007253575,0.99543587882068829,0.75490329289092917,0.99518554614371035,-2.5148046429124271E-2,{"$f":"+Spectre!C1654*N1655/L1655","v":0.98876893864794313},1.0110855092237667]
[5454,0.5454,3.3617834341801132,1.0137577427079512,0.10094939419112937,0.99143161454977113,9.3430913116836403E-3,0.14269524285493743,0.25298772835775041,0.62755409087825365,0.79214540740509687,0.76612282258147346,0.9955352767093909,0.754982817366873,0.99529038289534366,-2.4599210070863631E-2,{"$f":"+Spectre!C1655*N1656/L1656","v":0.99066606044353756},1.0130254491650243]
[5455,0.54549999999999998,3.3605509959412951,1.0137504144436769,0.10087466194700068,0.99141880767236046,9.3571164648863503E-3,0.14266123759103946,0.25289301600292646,0.62766356528968015,0.7922145118791355,0.76619923822776281,0.99563457471922867,0.75506226236941942,0.99539511487756194,-2.4050976909295585E-2,{"$f":"+Spectre!C1656*N1657/L1657","v":0.99170335759357486},1.0140861581700988]
[5456,0.54559999999999997,3.3593192353006947,1.0137430903740694,0.10079999898827735,0.99140598173602512,9.3711626716049459E-3,0.14262724666181104,0.25279840832169331,0.62777293777862508,0.79228354599922035,0.76627557703082039,0.9957337728754323,0.75514162791739969,0.99549974211519032,-2.3503346639153211E-2,{"$f":"+Spectre!C1657*N1658/L1658","v":0.99247717332439112},1.0148774389654964]
[5457,0.54569999999999996,3.3580881517616756,1.0137357704958945,0.10072540523772709,0.99139313671265106,9.3852299634436601E-3,0.14259327005858369,0.25270390525975445,0.62788220834794228,0.79235250978553395,0.76635183900997828,0.9958328712031228,0.75522091402955827,0.9956042646329395,-2.2956318956124377E-2,{"$f":"+Spectre!C1658*N1659/L1659","v":0.99350458811866893},1.0159280425694859]
[5458,0.54579999999999995,3.3568577448280563,1.0137284548059211,0.10065088061821828,0.9913802725740839,9.3993183720537093E-3,0.14255930777269588,0.25260950676296789,0.62799137700039886,0.79242140325817856,0.76642802418448408,0.9959318697273114,0.75530012072455477,0.99570868245540856,-2.240989355667411E-2,{"$f":"+Spectre!C1659*N1660/L1660","v":0.99519431610109066},1.0176559078075391]
[5459,0.54590000000000005,3.3556280140041088,1.0137211433009212,0.10057642505271962,0.99136738929212831,9.4134279291340304E-3,0.14252535979549302,0.25251521277734668,0.6281004437386748,0.7924902264371757,0.7665041325735007,0.99603076847289929,0.75537924802096212,0.99581299560708181,-2.1864070138255531E-2,{"$f":"+Spectre!C1660*N1661/L1661","v":0.9969264186309339},1.0194271039889333]
[5460,0.54600000000000004,3.3543989587945631,1.0137138359776703,0.10050203846430057,0.99135448683854799,9.427558666431286E-3,0.1424914261183273,0.25242102324905913,0.62820940856536212,0.79255897934246577,0.76658016419610586,0.99612956746467696,0.75545829593726688,0.99591720411233031,-2.1318848399121126E-2,{"$f":"+Spectre!C1661*N1662/L1662","v":0.99583193892592969},1.018307921815409]
[5461,0.54610000000000003,3.3531705787045971,1.0137065328329466,0.10042772077613034,0.99134156518506611,9.441710615739396E-3,0.14245750673255753,0.25232693812442725,0.62831827148296682,0.79262766199390899,0.76665611907129338,0.99622826672732578,0.75553726449187053,0.99602130799541233,-2.0774228038455966E-2,{"$f":"+Spectre!C1662*N1663/L1663","v":0.99310787886967022},1.0155223795704176]
[5462,0.54620000000000002,3.3519428732398446,1.0136992338635316,0.10035347191147832,0.99132862430336455,9.4558838089003859E-3,0.14242360162954934,0.25223295734992807,0.62842703249390719,0.7926962744112851,0.76673199721797203,0.99632686628541667,0.75561615370308766,0.99612530728047222,-2.023020875627779E-2,{"$f":"+Spectre!C1663*N1664/L1664","v":0.99076770075907306},1.0131293835082]
[5463,0.54630000000000001,3.3507158419063905,1.0136919390662102,0.10027929179371385,0.99131566416508432,9.4700782778039169E-3,0.1423897108006757,0.25213908087219344,0.62853569160051337,0.79276481661429254,0.76680779865496562,0.99642536616341026,0.75569496358914745,0.99622920199154119,-1.9686790253481412E-2,{"$f":"+Spectre!C1664*N1665/L1665","v":0.99168557616946518},1.0140679754182467]
[5464,0.5464,3.3494894842107747,1.0136846484377702,0.10020518034630607,0.99130268474182526,9.4842940543876601E-3,0.1423558342373156,0.25204530863800934,0.62864424880502834,0.79283328862254931,0.76688352340101318,0.99652376638565687,0.75577369416819185,0.99633299215253579,-1.9143972231894235E-2,{"$f":"+Spectre!C1665*N1666/L1666","v":0.99267212564432417},1.015076791370259]
[5465,0.54649999999999999,3.3482637996599842,1.0136773619750019,0.10013113749282349,0.99128968600514633,9.4985311706369396E-3,0.14232197193085511,0.25195164059431552,0.62875270410960815,0.79290169045559311,0.76695917147476989,0.99662206697639788,0.75585234545827817,0.99643667778726086,-1.8601754394165226E-2,{"$f":"+Spectre!C1666*N1667/L1667","v":0.99135621168522081},{"$f":"+Q1667/R$1","v":1.013731177159062}]
[5466,0.54659999999999997,3.3470387877614591,1.0136700796747,0.10005716315693423,0.9912766679265651,9.5127896585853501E-3,0.14228812387268716,0.25185807668820676,0.62886105751631993,0.79297002213288048,0.76703474289480478,0.99672026795976276,0.75593091747737629,0.99654025891940612,-1.8060136443809327E-2,{"$f":"+Spectre!C1667*N1668/L1668","v":0.98832673184132702},1.0106333217846457]
[5467,0.54669999999999996,3.3458144480230909,1.0136628015336615,9.9983257262405756E-2,0.99126363047755794,9.5270695503145205E-3,0.14225429005421164,0.25176461686693191,0.6289693090271431,0.79303828367378693,0.76711023767960274,0.99681836935977153,0.75600941024337009,0.9966437355725476,-1.7519118085285168E-2,{"$f":"+Spectre!C1668*N1669/L1669","v":0.98595088009794674},1.0082038469337462]
[5468,0.54679999999999995,3.3445907799532191,1.0136555275486865,9.9909419733104507E-2,0.99125057362955993,9.5413708779542479E-3,0.14222047046683484,0.25167126107789362,0.62907745864396947,0.7931064750976079,0.7671856558475636,0.99691637120033394,0.75608782377405748,0.99674710777014841,-1.6978699023839638E-2,{"$f":"+Spectre!C1669*N1670/L1670","v":0.98897403195495892},1.0112952314982611]
[5469,0.54690000000000005,3.343367783060633,1.0136482577165786,9.9835650492996045E-2,0.99123749735396482,9.5556936736825079E-3,0.14218666510196987,0.25157800926864843,0.62918550636860304,0.7931745964235577,0.76726099741700249,0.9970142735052494,0.75616615808715026,0.99685037553555778,-1.643887896563001E-2,{"$f":"+Spectre!C1670*N1671/L1671","v":0.99289245492576428},1.0153020934959773]
[5470,0.54700000000000004,3.3421454568545723,1.013640992034144,9.9761949466144778E-2,0.99122440162212511,9.5700379697254596E-3,0.14215287395103668,0.2514848613869069,0.62929345220275901,0.79324264767077024,0.76733626240614961,0.99711207629820708,0.75624441320027314,0.99695353889201033,-1.5899657617757246E-2,{"$f":"+Spectre!C1671*N1672/L1672","v":0.99435913978048851},1.0168018815103921]
[5471,0.54710000000000003,3.3409238008447253,1.0136337304981924,9.9688316576713856E-2,0.9912112864053515,9.5844037983579457E-3,0.14211909700546177,0.25139181738053357,0.6294012961480645,0.79331062885829795,0.76741145083315021,0.99720977960278578,0.75632258913096562,0.99705659786262835,-1.5361034688055053E-2,{"$f":"+Spectre!C1672*N1673/L1673","v":0.99223435232171509},1.0146291374791283]
[5472,0.54720000000000002,3.3397028145412264,1.0136264731055364,9.9614751748964933E-2,0.99119815167491343,9.5987911919030149E-3,0.14208533425667896,0.2512988771975469,0.62950903820605797,0.79337854000511288,0.76748656271606419,0.9973073834424534,0.75640068589667953,0.99715955247041843,-1.482300988534524E-2,{"$f":"+Spectre!C1673*N1674/L1674","v":0.99029125440704924},1.0126421837352051]
[5473,0.54730000000000001,3.3384824974546574,1.0136192198529921,9.9541254907258001E-2,0.99118499740203869,9.6132001827322899E-3,0.14205158569612802,0.2512060407861183,0.62961667837819002,0.79344638113010635,0.76756159807286706,0.99740488784056813,0.7564787035147813,0.99726240273827482,-1.4285582919271178E-2,{"$f":"+Spectre!C1674*N1675/L1675","v":0.98463216513240359},1.0068553684972366]
[5474,0.5474,3.337262849096049,1.0136119707373779,9.9467825976051472E-2,0.99117182355791333,9.6276308032661115E-3,0.14201785131525613,0.25111330809457372,0.62972421666582168,0.79351415225208843,0.76763655692144861,0.99750229282037672,0.75655664200255002,0.99736514868897619,-1.3748753500386623E-2,{"$f":"+Spectre!C1675*N1676/L1676","v":0.97811831405682692},1.0001944994363992]
[5475,0.54749999999999999,3.3360438689768777,1.0136047257555156,9.939446487990175E-2,0.99115863011368199,9.6420830859731688E-3,0.14198413110551653,0.25102067907139147,0.62983165307022659,0.79358185338978915,0.76771143927961483,0.99759959840501711,0.7566345013771798,0.99746779034518973,-1.3212521340033589E-2,{"$f":"+Spectre!C1676*N1677/L1677","v":0.97658935849475337},0.99863103526126673]
[5476,0.54759999999999998,3.3348255566090641,1.0135974849042311,9.9321171543463302E-2,0.99114541704044712,9.6565570633713703E-3,0.14195042505836972,0.25092815366520438,0.62993898759258815,0.79364948456185669,0.76778624516508509,0.99769680461751475,0.75671228165577642,0.99757032772946574,-1.2676886150542188E-2,{"$f":"+Spectre!C1677*N1678/L1678","v":0.98747556339813769},1.0097629424218049]
[5477,0.54769999999999996,3.3336079115049779,1.0135902481803516,9.9247945891488415E-2,0.99113218430926986,9.6710527680268759E-3,0.14191673316528247,0.25083573182479779,0.63004622023400203,0.7937170457868592,0.76786097459549496,0.997793911480786,0.7567899828553607,0.99767276086424272,-1.2141847645019688E-2,{"$f":"+Spectre!C1678*N1679/L1679","v":0.99804165882917739},1.0205675152211973]
[5478,0.54779999999999995,3.3323909331774311,1.0135830155807086,9.9174787848826995E-2,0.99111893189116895,9.6855702325553267E-3,0.14188305541772878,0.25074341349911111,0.63015335099547376,0.79378453708328323,0.76793562758839373,0.99789091901763538,0.75686760499286565,0.99777508977184348,-1.1607405537461535E-2,{"$f":"+Spectre!C1679*N1680/L1680","v":0.99938608976669674},1.0219422900406174]
[5479,0.54790000000000005,3.33117462113968,1.0135757871021367,9.9101697340426551E-2,0.99110565975712162,9.7001094896208753E-3,0.14184939180718881,0.25065119863723623,0.63026037987792083,0.79385195846953494,0.76801020416124677,0.99798782725075796,0.75694514808513846,0.99787731447447747,-1.1073559542795763E-2,{"$f":"+Spectre!C1680*N1681/L1681","v":0.9973442030146229},1.0198543177896677]
[5480,0.54800000000000004,3.3299589749054284,1.0135685627414728,9.9028674291331997E-2,0.99109236787806299,9.7146705719368068E-3,0.14181574232514985,0.25055908718841868,0.63036730688217035,0.79391930996393922,0.76808470433143328,0.99808463620273724,0.75702261214893951,0.9979794349942398,-1.0540309376738666E-2,{"$f":"+Spectre!C1681*N1682/L1682","v":0.99376904981648895},1.016198473182705]
[5481,0.54810000000000003,3.3287439939888208,1.0135613424955572,9.8955718626685479E-2,0.99107905622488601,9.7292535122656745E-3,0.14178210696310534,0.25046707910205646,0.63047413200896152,0.79398659158474028,0.76815912811624787,0.99818134589604657,0.75709999720094256,0.99808145135311155,-1.0007654755894713E-2,{"$f":"+Spectre!C1682*N1683/L1683","v":0.98488577038369551},1.0071146976333185]
[5482,0.54820000000000002,3.3275296779044439,1.0135541263612338,9.888283027172616E-2,0.99106572476844168,9.7438583434190599E-3,0.14174848571255599,0.25037517432770123,0.63058085525894247,0.79405380335010145,0.76823347553289956,0.99827795635304817,0.75717730325773447,0.998183363572959,-9.4755953977676555E-3,{"$f":"+Spectre!C1683*N1684/L1684","v":0.9756212990115094},0.99764112662102067]
[5483,0.54830000000000001,3.3263160261673295,1.0135469143353486,9.8810009151790279E-2,0.99105237347953878,9.758485098257828E-3,0.14171487856500878,0.25028337281505686,0.63068747663267299,0.79412094527810462,0.76830774659851253,0.99837446759599402,0.75725453033581547,0.99828517167553443,-8.9441310207605262E-3,{"$f":"+Spectre!C1684*N1685/L1685","v":0.97545966658623906},0.99747584614281815]
[5484,0.5484,3.325103038292951,1.0135397064147518,9.8737255192310885E-2,0.99103900232894393,9.7731338096921395E-3,0.14168128551197731,0.25019167451398033,0.63079399613062304,0.79418801738675138,0.76838194133012516,0.99847087964702452,0.75733167845159965,0.9983868756824763,-8.4132613439757975E-3,{"$f":"+Spectre!C1685*N1686/L1686","v":0.9818658300632982},1.0040265970899807]
[5485,0.54849999999999999,3.3238907137972209,1.0135325025962951,9.866456831881755E-2,0.99102561128738142,9.7878045106815741E-3,0.14164770654498213,0.25010007937448125,0.63090041375317274,0.79425501969396184,0.76845605974469144,0.9985671925281705,0.75740874762141353,0.99848847561530785,-7.882986087637267E-3,{"$f":"+Spectre!C1686*N1687/L1687","v":0.98736834700456988},1.0096533061482018]
[5486,0.54859999999999998,3.3226790521964973,1.013525302876835,9.8591948456936626E-2,0.99101220032553305,9.8024972342353987E-3,0.1416141416555502,0.25000858734672221,0.63100672950061165,0.79432195221757518,0.76853010185907888,0.99866340626135042,0.75748573786149676,0.99858997149543782,-7.3533049726459687E-3,{"$f":"+Spectre!C1687*N1688/L1688","v":0.98093503144785565},1.0030747902974186]
[5487,0.54869999999999997,3.3214680530075751,1.01351810725323,9.8519395532390655E-2,0.99099876941403842,9.8172120134121955E-3,0.14158059083521543,0.24991719838101828,0.63111294337314017,0.79438881497534919,0.76860406769006995,0.99875952086837205,0.75756264918800253,0.99869136334416087,-6.8242177207911148E-3,{"$f":"+Spectre!C1688*N1689/L1689","v":0.97430334865495682},0.99629343005076954]
[5488,0.54879999999999995,3.3202577157476911,1.0135109157223414,9.844690947099842E-2,0.99098531852349481,9.8319488813200084E-3,0.14154705407551793,0.24982591242783636,0.63121905537086864,0.79445560798496184,0.76867795725436261,0.99885553637093361,0.75763948161699757,0.99879265118265748,-6.2957240548167093E-3,{"$f":"+Spectre!C1689*N1690/L1690","v":0.97219371755712292},0.99413618446036456]
[5489,0.54890000000000005,3.3190480399345201,1.0135037282810344,9.8374490198674835E-2,0.99097184762445656,9.8467078711170671E-3,0.14151353136800437,0.24973472943779629,0.63132506549381739,0.79452233126400884,0.76875177056856892,0.99895145279062147,0.75771623516446129,0.99889383503199358,-5.7678236982328102E-3,{"$f":"+Spectre!C1690*N1691/L1691","v":0.97458154843833367},0.9965779088189094]
[5490,0.54900000000000004,3.3178390250861809,1.0134965449261768,9.8302137641431003E-2,0.99095835668743582,9.861489016010961E-3,0.14148002270422882,0.24964364936167077,0.63143097374191548,0.79458898483000528,0.76882550764921476,0.99904727014891026,0.75779290984628567,0.9989949149131192,-5.240516375493165E-3,{"$f":"+Spectre!C1691*N1692/L1692","v":0.97678938342616539},0.99883557476663465]
[5491,0.54910000000000003,3.3166306707212252,1.0134893656546393,9.8229851725373449E-2,0.99094484568290198,9.8762923492592483E-3,0.14144652807575137,0.24955267215038407,0.63153678011500225,0.7946555687003849,0.76889916851274143,0.99914298846716454,0.75786950567827616,0.99909589084687078,-4.7138018118952907E-3,{"$f":"+Spectre!C1692*N1693/L1693","v":0.97814970434765514},1.0002265982078573]
[5492,0.54920000000000002,3.3154229763586467,1.0134821904632958,9.815763237670462E-2,0.99093131458128159,9.8911179041695912E-3,0.14141304747413841,0.24946179775501262,0.63164248461282702,0.79472208289250079,0.76897275317550495,0.99923860776663798,0.75794602267615174,0.99919676285397052,-4.1876797335693716E-3,{"$f":"+Spectre!C1693*N1694/L1694","v":0.97936951856103216},1.00147394369666]
[5493,0.54930000000000001,3.314215941517876,1.0134750193490232,9.8085479521722502E-2,0.99091776335295878,9.905965714099272E-3,0.14137958089096381,0.24937102612678558,0.63174808723504761,0.79478852742362471,0.76904626165377477,0.99933412806847188,0.75802246085554348,0.99929753095502472,-3.6621498675226682E-3,{"$f":"+Spectre!C1694*N1695/L1695","v":0.97970867773161452},1.0018207577088043]
[5494,0.5494,3.313009565718779,1.0134678523087015,9.8013393086820264E-2,0.99090419196827451,9.920835812456074E-3,0.14134612831780716,0.2492803572170835,0.63185358798123203,0.79485490231094702,0.76911969396373581,0.99942954939369766,0.75809882023199582,0.99939819517052564,-3.1372119416617217E-3,{"$f":"+Spectre!C1695*N1696/L1696","v":0.97841210601616613},1.00049492229679]
[5495,0.54949999999999999,3.3118038484816625,1.0134606893392135,9.7941372998486598E-2,0.99089060039752719,9.9357282326975362E-3,0.14131268974625533,0.24918979097743946,0.63195898685085683,0.79492120757157736,0.76919305012148698,0.99952487176323501,0.75817510082096629,0.99949875552085077,-2.6128656846924336E-3,{"$f":"+Spectre!C1696*N1697/L1697","v":0.97708461536432056},0.99913747010624443]
[5496,0.54959999999999998,3.3105987893272655,1.013453530437445,9.7869419183305037E-2,0.99087698861097195,9.9506430083318321E-3,0.14127926516790126,0.24909932735953813,0.63206428384330804,0.79498744322254389,0.76926633014304158,0.99962009519789241,0.75825130263782492,0.99959921202626245,-2.0891108262310887E-3,{"$f":"+Spectre!C1697*N1698/L1698","v":0.97981944108411634},1.0019340209964041]
[5497,0.54969999999999997,3.3093943877767655,1.0134463756002852,9.7797531567954302E-2,0.9908633565788213,9.9655801729170435E-3,0.14124585457434502,0.24900896631521635,0.63216947895788023,0.79505360928079372,0.76933953404432742,0.99971521971836719,0.75832742569785427,0.99969956470690757,-1.5659470968154565E-3,{"$f":"+Spectre!C1698*N1699/L1699","v":0.98364467296656799},1.0058455885776594]
[5498,0.54979999999999996,3.3081906433517747,1.0134392248246258,9.7725710079207787E-2,0.99084970427124441,9.9805397600619093E-3,0.14121245795719239,0.24891870779646208,0.63227457219377781,0.7951197057631928,0.76941266184118684,0.99981024534524554,0.75840347001625108,0.99979981358282,-1.0433742276716451E-3,{"$f":"+Spectre!C1699*N1700/L1700","v":0.98569143403672221},1.0079385451603227]
[5499,0.54990000000000006,3.3069875555743389,1.0134320781073622,9.7653954643933602E-2,0.99083603165836764,9.99552180342533E-3,0.14117907530805657,0.24882855175541552,0.63237956355011327,0.79518573268652593,0.76948571354937634,0.99990517209900209,0.75847943560812348,0.99989995867391657,-5.2139195105826985E-4,{"$f":"+Spectre!C1700*N1701/L1701","v":0.9817910459954261},1.0039501251414893]
[5500,0.55000000000000004,3.3057851239669418,1.0134249354453917,9.7582265189094519E-2,0.99082233871027381,1.0010526336717132E-2,0.1411457066185568,0.24873849814436844,0.63248445302590783,0.7952516900674963,0.76955868918456638,1,0.75855532248849289,1,0,{"$f":"+Spectre!C1701*N1702/L1702","v":0.97792810759106163},1]
[5501,0.55010000000000003,3.3045833480524984,1.0134177968356157,9.7510641641747636E-2,0.99080862539700287,1.0025553393697331E-2,0.14111235188031926,0.24864854691576421,0.63258924062009136,0.79531757792272617,0.76963158876234217,1.0000947290684912,0.75863113067229315,1.0000999375807575,5.208018915681123E-4,{"$f":"+Spectre!C1702*N1703/L1703","v":0.97712455507143836},0.99917831125479906]
[5502,{"$f":"+A1704/10000","v":0.55020000000000002},{"$f":"+(1/B1704)^2","v":3.3033822273543567},{"$f":"0.23465+1.076*100/(146-C1704)+0.93161/(41-C1704)","v":1.0134106622749379},{"$f":"9.4977*0.001*C1704^2*D1704*EXP(-h/7.996/1000)","v":9.7439083929044198E-2},{"$f":"+EXP(-0.0168*EXP(-15*ABS(B1704-0.59)))","v":0.99079489168855117},{"$f":"-2.5*LOG(F1704)","v":1.0040603008176998E-2},{"$f":"2.5*LOG(EXP(AOD*(B1704/0.55)^(-1.3)))","v":0.14107901108497639},{"$f":"+E1704+G1704+H1704","v":0.2485586980221976},{"$f":"10^(-0.4*I1704*ma)","v":0.63269392633150201},{"$f":"10^(-0.4*I1704)","v":0.79538339626875654},{"$f":"10^(-0.4*I1704*ma_ref)","v":0.76970441229820308},{"$f":"+L1704/M$1","v":1.0001893593246165},{"$f":"10^(-0.4*I1704*ma_target)","v":0.75870686017437139},{"$f":"+N1704/O$1","v":1.000199771435762},{"$f":"(O1704/M1704-1)*100","v":1.0410139888339387E-3},{"$f":"+Spectre!C1703*N1704/L1704","v":0.97785017459859613},0.9999203080555098]
[5503,0.55030000000000001,3.3021817613962994,1.0134035317602654,9.7367591978229723E-2,0.99078113755487207,1.005567521401754E-2,0.14104568422416722,0.24846895141641448,0.63279851015888733,0.79544914512204723,0.76977715980756256,1.0002838907884046,0.7587825110094869,1.0002995015844707,1.5606365562526037E-3,{"$f":"+Spectre!C1704*N1705/L1705","v":0.97880651210128766},1.0008982301494429]
[5504,0.5504,3.3009819497025417,1.0133964052885081,9.729616571664372E-2,0.99076736296587509,1.0070770045131693E-2,0.1410123712895372,0.24837930705131261,0.63290299210090184,0.79551482449897615,0.76984983130574836,1.0003783234797732,0.75885808319231174,1.0003991280462257,2.0796698573022354E-3,{"$f":"+Spectre!C1705*N1706/L1706","v":0.98104176539769217},1.0031839332385082]
[5505,0.55049999999999999,3.2997827917977296,1.0133892828565787,9.7224805071719447E-2,0.99075356789142677,1.0085887535482537E-2,0.1409790722727387,0.2482897648799407,0.63300737215610892,0.79558043441584081,0.7699224268080026,1.0004726574185285,0.75893357673743023,1.0004986508402531,2.5981141545283748E-3,{"$f":"+Spectre!C1706*N1707/L1707","v":0.98347312538928411},1.0056701691619045]
[5506,0.55059999999999998,3.2985842872069431,1.0133821644613932,9.7153509970984001E-2,0.99073975230134959,1.0101027719084749E-2,0.1409457871654301,0.24820032485549887,0.63311165032297978,0.79564597488885658,0.76999494632948084,1.0005668926243647,0.75900899165933988,1.0005980699856654,3.1159697098104289E-3,{"$f":"+Spectre!C1707*N1708/L1708","v":0.98185557952808589},1.0040161151996121]
[5507,0.55069999999999997,3.2973864354556883,1.0133750500998702,9.708228034205775E-2,0.99072591616542294,1.0116190630003496E-2,0.14091251595927679,0.24811098693133804,0.63321582659989417,0.79571144593415788,0.77006738988525358,1.0006610291168647,0.7590843279724504,1.0006973855014583,3.6332367840508084E-3,{"$f":"+Spectre!C1708*N1709/L1709","v":0.97635411149833651},0.99839047872690523]
[5508,0.55079999999999996,3.2961892360699094,1.0133679397689319,9.7011116112655019E-2,0.99071205945338225,1.013137630235544E-2,0.1408792586459503,0.24802175106096075,0.63331990098513868,0.79577684756779754,0.77013975749030494,1.0007550669154996,0.75915958569108355,1.0007965974065125,4.1499156372859503E-3,{"$f":"+Spectre!C1709*N1710/L1710","v":0.97112854407184968},0.99304696994959951]
[5509,0.55089999999999995,3.2949926885759742,1.0133608334655027,9.6940017210582874E-2,0.99069818213491934,1.0146584770308364E-2,0.14084601521712847,0.24793261719801971,0.63342387347690898,0.79584217980574767,0.77021204915953334,1.0008490060396293,0.75923476482947461,1.0008957057195944,4.6660065287751351E-3,{"$f":"+Spectre!C1710*N1711/L1711","v":0.97063898457700581},0.99254636106941319]
[5510,0.55100000000000005,3.2937967925006832,1.0133537311865104,9.6868983563741851E-2,0.99068428417968224,1.0161816068081314E-2,0.14081278566449656,0.24784358529631972,0.63352774407330703,0.79590744266389779,0.7702842649077507,1.0009428465085011,0.75930986540176992,1.0009947104593528,5.1815097168228519E-3,{"$f":"+Spectre!C1711*N1712/L1712","v":0.97013600672478306},0.99203203097876702]
[5511,0.55110000000000003,3.2926015473712673,1.0133466329288858,9.6798015100125478E-2,0.99067036555727528,1.0177070229944615E-2,0.14077956997974522,0.24775465530981533,0.63363151277234353,0.79597263615805725,0.77035640474968381,1.0010365883412513,0.75938488742202948,1.001093611644323,5.6964254589564334E-3,{"$f":"+Spectre!C1712*N1713/L1713","v":0.9719146794701583},0.99385084846807781]
[5512,0.55120000000000002,3.2914069527153842,1.0133395386895625,9.6727111747820102E-2,0.99065642623725858,1.0192347290220349E-2,0.14074636815457225,0.24766582719261271,0.63373517957193559,0.79603776030395301,0.77042846869997261,1.0011302315569042,0.75945983090422464,1.0011924092929234,6.2107540117484206E-3,{"$f":"+Spectre!C1713*N1714/L1714","v":0.97639261227001983},0.99842984846317162]
[5513,0.55130000000000001,3.2902130080611203,1.0133324484654771,9.6656273435004811E-2,0.99064246618914875,1.0207647283281666E-2,0.14071318018068163,0.24757710089896812,0.63383874446990884,0.79610281511723102,0.77050045677317147,1.0012237761743721,0.75953469586223976,1.0012911034234575,6.7244956309941983E-3,{"$f":"+Spectre!C1714*N1715/L1715","v":0.98056808621845137},1.0026995630935416]
[5514,0.5514,3.2890197129369909,1.013325362253569,9.6585500089951357E-2,0.99062848538241799,1.0222970243553734E-2,0.14068000604978403,0.24748847638328914,0.63394220746399488,0.79616780061345571,0.77057236898374837,1.0013172222124553,0.75960948230987113,1.0013896940541134,7.2376505717119954E-3,{"$f":"+Spectre!C1715*N1716/L1716","v":0.97879754856783741},1.0008890643085384]
[5515,0.55149999999999999,3.2878270668719365,1.0133182800507807,9.6514791641023834E-2,0.99061448378649464,1.0238316205513166E-2,0.14064684575359648,0.24739995360013348,0.63404556855183358,0.79623271680811014,0.77064420534608546,1.001410569689843,0.75968419026082745,1.0014881812029626,7.7502190878320221E-3,{"$f":"+Spectre!C1716*N1717/L1717","v":0.97528180951094057},0.99729397482332349]
[5516,0.55159999999999998,3.2866350693953281,1.013311201854058,9.6444148016678888E-2,0.99060046137076285,1.0253685203688389E-2,0.14061369928384226,0.24731153250420954,0.63414882773097125,0.79629756371659544,0.77071596587447866,1.0015038186251117,0.7597588197287295,1.0015865648879616,8.2622014325961501E-3,{"$f":"+Spectre!C1717*N1718/L1718","v":0.97316576279775324},0.99513016881676553]
[5517,0.55169999999999997,3.2854437200369588,1.0133041276603489,9.6373569145465118E-2,0.9905864181045626,1.026907727265965E-2,0.14058056663225174,0.24722321305037651,0.63425198499886082,0.79636234135423123,0.77078765058313725,1.0015969690367257,0.75983337072711021,1.0016848451269509,8.7735978584024821E-3,{"$f":"+Spectre!C1718*N1719/L1719","v":0.97458768857907352},0.99658418754297118]
[5518,0.55179999999999996,3.284253018327052,1.0132970574666049,9.6303054956023357E-2,0.99057235395718957,1.0284492447059153E-2,0.1405474477905608,0.24713499519364332,0.63435504035286305,0.79642704973625644,0.77085925948618506,1.0016900209430379,0.75990784326941507,1.0017830219376553,9.2844086167387374E-3,{"$f":"+Spectre!C1719*N1720/L1720","v":0.97619260428589061},0.99822532628758764]
[5519,0.55189999999999995,3.2830629637962536,1.0132899912697799,9.6232605377086236E-2,0.99055826889789533,1.0299930761570824E-2,0.14051434275051247,0.24704687888916954,0.63445799379024492,0.79649168887782762,0.77093079259765962,1.0017829743622895,0.75998223736900139,1.001881095337684,9.7946339582266617E-3,{"$f":"+Spectre!C1720*N1721/L1721","v":0.97228024794856149},0.99422466784760632]
[5520,0.55200000000000005,3.2818735559756349,1.0132829290668313,9.6162220337478233E-2,0.99054416289588654,1.0315392250931305E-2,0.14048125150385593,0.24695886409226547,0.63456084530817969,0.79655625879401981,0.77100224993151134,1.0018758293126084,0.76005655303913822,1.0019790653445295,1.0304274132644231E-2,{"$f":"+Spectre!C1721*N1722/L1722","v":0.96636134255856077},0.98817217242994138]
[5521,0.55210000000000004,3.2806847943966946,1.0132758708547194,9.6091899766115582E-2,0.99053003592032618,1.0330876949928484E-2,0.14044817404234691,0.24687095075839099,0.6346635949037478,0.79662075949982658,0.77107363150160546,1.0019685858120118,0.76013079029300723,1.0020769319755689,1.0813329388903448E-2,{"$f":"+Spectre!C1722*N1723/L1723","v":0.96210213309403025},0.98381683236816286]
[5522,0.55220000000000002,3.2794966785913537,1.0132688166304067,9.602164359200592E-2,0.99051588794033207,1.034638489340323E-2,0.14041511035774748,0.24678313884315661,0.63476624257393544,0.79668519101016,0.77114493732172007,1.0020612438784031,0.76020494914370196,1.0021746952480637,1.1321799975161362E-2,{"$f":"+Spectre!C1723*N1724/L1724","v":0.96551361216424236},0.98730530871292776]
[5523,0.55230000000000001,3.2783092080919554,1.0132617663908596,9.5951451744248253E-2,0.99050171892497774,1.0361916116248426E-2,0.14038206044182616,0.24669542830232283,0.63486878831563553,0.79674955333985009,0.7712161674055471,1.0021538035295749,0.76027902960422766,1.0022723551791581,1.1829686138553619E-2,{"$f":"+Spectre!C1724*N1725/L1725","v":0.96910595493139096},0.99097873085844479]
[5524,0.5524,3.2771223824312679,1.0132547201330466,9.5881324152032821E-2,0.99048752884329216,1.0377470653409214E-2,0.14034902428635779,0.24660781909179982,0.63497123212564732,0.79681384650364584,0.77128732176669257,1.0022462647832069,0.76035303168750179,1.002369911785882,1.233698812554973E-2,{"$f":"+Spectre!C1725*N1726/L1726","v":0.97054680025044648},0.99245209613741692]
[5525,0.55249999999999999,3.2759362011424829,1.0132476778539399,9.5811260744641177E-2,0.99047331766425961,1.0393048539883255E-2,0.14031600188312376,0.24652031116764819,0.63507357400067588,0.79687807051621395,0.77135840041867543,1.0023386276568667,0.76042695540635363,1.0024673650851472,1.2843706181553394E-2,{"$f":"+Spectre!C1726*N1727/L1727","v":0.97045133249853988},0.99235447367297847]
[5526,0.55259999999999998,3.2747506637592125,1.0132406395505136,9.5741261451445583E-2,0.99045908535681937,1.0408649810720986E-2,0.14028299322391161,0.24643290448607819,0.63517581393733247,0.79694222539213988,0.77142940337492882,1.0024308921680096,0.76050080077352444,1.0025647150937511,1.3349840551302172E-2,{"$f":"+Spectre!C1727*N1728/L1728","v":0.97016534055893455},0.99206202687920575]
[5527,0.55269999999999997,3.2735657698154914,1.0132336052197455,9.5671326201909226E-2,0.99044483188986621,1.0424274501025146E-2,0.14024999830051582,0.24634559900345021,0.6352779519321341,0.79700631114592702,0.77150033064879864,1.0025230583339779,0.76057456780166721,1.0026619618283741,1.3855391478667656E-2,{"$f":"+Spectre!C1728*N1729/L1729","v":0.9680560416856544},0.98990512101168138]
[5528,0.55279999999999996,3.2723815188457768,1.0132265748586162,9.5601454925586207E-2,0.99043055723224982,1.0439922645951389E-2,0.14021701710473639,0.24625839467627397,0.63537998798150386,0.79707032779199716,0.77157118225354504,1.0026151261720027,0.76064825650334655,1.0027591053055795,1.4360359206477824E-2,{"$f":"+Spectre!C1729*N1730/L1730","v":0.96566341047017223},0.98745848797505054]
[5529,0.55289999999999995,3.2711979103849451,1.0132195484641091,9.5531647552120916E-2,0.99041626135277516,1.0455594280707935E-2,0.14018404962838057,0.24617129146120942,0.6354819220817699,0.79713427534469039,0.77164195820234138,1.0027070956992019,0.76072186689103916,1.0028561455418159,1.4864743976916728E-2,{"$f":"+Spectre!C1730*N1731/L1731","v":0.96598242037827331},{"$f":"+Q1731/R$1","v":0.98778469795472568}]
[5530,0.55300000000000005,3.2700149439682935,1.0132125260332103,9.546190401124828E-2,0.990401944220202,1.0471289440556059E-2,0.14015109586326124,0.2460842893150656,0.63558375422916724,0.79719815381826509,0.77171265850827442,1.002798966932581,0.76079539897713366,1.002953082553415,1.5368546031258035E-2,{"$f":"+Spectre!C1731*N1732/L1732","v":0.96999640912505702},0.99188928265336107]
[5531,0.55310000000000004,3.2688326191315422,1.0132055075629087,9.539222423279374E-2,0.99038760580324514,1.0487008160809878E-2,0.14011815580119816,0.24599738819480177,0.63568548441983497,0.79726196322689769,0.77178328318434419,1.002890739889033,0.7608688527739299,1.0030499163565914,1.5871765609887234E-2,{"$f":"+Spectre!C1732*N1733/L1733","v":0.97383052273620707},0.99580993242443128]
[5532,0.55320000000000003,3.2676509354108276,1.0131984930501967,9.5322608146672663E-2,0.99037324607057442,1.0502750476836343E-2,0.14008522943401752,0.24591058805752652,0.63578711264981813,0.7973257035846828,0.77185383224346438,1.0029824145853385,0.76094222829363933,1.0031466469674433,1.6374402952279432E-2,{"$f":"+Spectre!C1733*N1734/L1734","v":0.9731050178424443},0.99506805284439759]
[5533,0.55330000000000001,3.2664698923427058,1.0131914824920691,9.5253055682890553E-2,0.99035886499081416,1.0518516424055867E-2,0.1400523167535512,0.24582388886049761,0.63588863891506764,0.79738937490563333,0.77192430569846193,1.0030739910381652,0.7610155255483857,1.0032432744019539,1.6876458297310215E-2,{"$f":"+Spectre!C1734*N1735/L1735","v":0.97180419853399758},0.99373787397097202]
[5534,0.5534,3.2652894894641511,1.013184475885524,9.5183566771542799E-2,0.9903444625325436,1.053430603794185E-2,0.14001941775163793,0.24573729056112259,0.63599006321143869,0.79745297720368025,0.771994703562077,1.0031654692640686,0.7610887445502037,1.0033397986759882,1.7377931882722741E-2,{"$f":"+Spectre!C1735*N1736/L1736","v":0.97100745983962689},0.99292315283944288]
[5535,0.55349999999999999,3.2641097263125602,1.0131774732275614,9.5114141342814693E-2,0.99033003866429681,1.0550119354020811E-2,0.13998653242012288,0.24565079311695837,0.63609138553469202,0.79751651049267247,0.77206502584696335,1.0032568492794913,0.76116188531103979,1.0034362198052951,1.7878823945483013E-2,{"$f":"+Spectre!C1736*N1737/L1737","v":0.97121288784213289},0.99313321736352334]
[5536,0.55359999999999998,3.2629306024257412,1.0131704745151855,9.5044779326980966E-2,0.99031559335456232,1.0565956407872763E-2,0.1399536607508573,0.24556439648571105,0.6361926058804932,0.79757997478637743,0.77213527256568748,1.0033481311007628,0.76123494784275225,1.0035325378055073,1.83791347218909E-2,{"$f":"+Spectre!C1737*N1738/L1738","v":0.97140017018553459},0.99332472667995264]
[5537,0.55369999999999997,3.2617521173419246,1.0131634797454023,9.49754806544061E-2,0.99030112657178326,1.0581817235131108E-2,0.13992080273569893,0.24547810062523612,0.63629372424441255,0.79764337009848041,0.77220544373072941,1.0034393147441003,0.76130793215711023,1.0036287526921401,1.8878864447136046E-2,{"$f":"+Spectre!C1738*N1739/L1739","v":0.97035120354378701},0.99225208480208338]
[5538,0.55379999999999996,3.2605742705997542,1.0131564889152214,9.4906245255543711E-2,0.99028663828435726,1.0597701871482762E-2,0.13988795836651155,0.24539190549353801,0.63639474062192591,0.79770669644258463,0.77227553935448257,1.0035304002256085,0.76138083826579506,1.0037248644805929,1.9378013355719759E-2,{"$f":"+Spectre!C1739*N1740/L1740","v":0.96877179434322214},0.9906370282470004]
[5539,0.55389999999999995,3.2593970617382939,1.0131495020216548,9.4837073060936944E-2,0.9902721284606365,1.0613610352668053E-2,0.13985512763516539,0.24530581104877039,0.63649565500841288,0.79776995383221172,0.77234555944925354,1.0036213875612789,0.76145366618039889,1.0038208731861478,1.9876581681210759E-2,{"$f":"+Spectre!C1740*N1741/L1741","v":0.96700068643685022},0.98882594633553478]
[5540,0.55400000000000005,3.2582204902970191,1.0131425190617174,9.4767964001217786E-2,0.99025759706892746,1.0629542714481093E-2,0.13982231053353725,0.24521981724923614,0.63659646739915809,0.79783314228080093,0.77241550402726145,1.0037122767669899,0.76152641591242576,1.0039167788239702,2.0374569656467223E-2,{"$f":"+Spectre!C1741*N1742/L1742","v":0.96428959327811981},0.98605366365167912]
[5541,0.55410000000000004,3.2570445558158259,1.0131355400324273,9.4698918007107502E-2,0.99024304407749097,1.0645498992769667E-2,0.13978950705350984,0.24513392405338702,0.63669717778935075,0.79789626180170981,0.77248537310063947,1.0038030678585077,0.76159908747329075,1.0040125814091088,2.0871977513281514E-2,{"$f":"+Spectre!C1742*N1743/L1743","v":0.96147233760788053},0.98317282236245696]
[5542,0.55420000000000003,3.255869257835021,1.0131285649308053,9.4629935009416008E-2,0.9902284694545419,1.0661479223435615E-2,0.13975671718697269,0.24504813141982432,0.63679778617408334,0.79795931240821338,0.77255516668143243,1.0038937608514837,0.7616716808743198,1.0041082809564943,2.1368805482824271E-2,{"$f":"+Spectre!C1743*N1744/L1744","v":0.96016740675755785},0.98183843914942392]
[5543,0.55430000000000001,3.2546945958953288,1.0131215937538744,9.4561014939042051E-2,0.99021387316824971,1.067748344243423E-2,0.13972394092582097,0.24496243930729725,0.63689829254835439,0.79802229411350556,0.77262488478160007,1.0039843557614594,0.76174419612675104,1.0042038774809421,2.1865053795200318E-2,{"$f":"+Spectre!C1744*N1745/L1745","v":0.95965951506936653},0.9813190843172549]
[5544,0.5544,3.2535205695378853,1.0131146264986617,9.4492157726972892E-2,0.99019925518673779,1.0693511685775002E-2,0.13969117826195665,0.24487684767470455,0.63699869690706534,0.79808520693069751,0.77269452741301359,1.0040748526038605,0.76181663324173365,1.0042993709971499,2.2360722679914957E-2,{"$f":"+Spectre!C1745*N1746/L1746","v":0.95882102755157639},0.98046167208901291]
[5545,0.55449999999999999,3.2523471783042428,1.013107663162196,9.4423363304284399E-2,0.99018461547808334,1.0709563989521751E-2,0.13965842918728769,0.24479135648109385,0.63709899924502167,0.79814805087281815,0.77276409458745798,1.0041652513940009,0.76188899223032724,1.0043947615196978,2.2855812365363271E-2,{"$f":"+Spectre!C1746*N1747/L1747","v":0.95582116239072057},0.97739409980269687]
[5546,0.55459999999999998,3.2511744217363643,1.0131007037415098,9.4354631602140651E-2,0.99016995401031804,1.0725640389791912E-2,0.13962569369372824,0.2447059656856608,0.63719919955693383,0.79821082595281512,0.77283358631663102,1.0042555521470815,0.76196127310350381,1.0044900490630497,2.3350323079296409E-2,{"$f":"+Spectre!C1747*N1748/L1748","v":0.95258726844860986},0.97408721669236598]
[5547,0.55469999999999997,3.2500022993766269,1.013093748233638,9.4285962551793973E-2,0.99015527075142729,1.0741740922757394E-2,0.13959297177319921,0.24462067524775058,0.63729929783741479,0.79827353218355301,0.77290300261214318,1.0043457548781893,0.76203347587214532,1.0045852336415517,2.3844255048555141E-2,{"$f":"+Spectre!C1748*N1749/L1749","v":0.95086207557885738},0.97232308612247964]
[5548,0.55479999999999996,3.2488308107678212,1.0130867966356181,9.4217356084584841E-2,0.99014056566935016,1.075786562464459E-2,0.13956026341762734,0.24453548512685677,0.63739929408098217,0.79833616957781484,0.77297234348551802,1.0044358596022986,0.76210560054704524,1.0046803152694328,2.4337608499047647E-2,{"$f":"+Spectre!C1749*N1750/L1750","v":0.95072291156046362},0.97218078116436102]
[5549,0.55489999999999995,3.2476599554531482,1.013079848944491,9.4148812131941637E-2,0.9901258387319799,1.0774014531733907E-2,0.13952756861894566,0.24445039528262119,0.63749918828205687,0.79839873814830131,0.77304160894819185,1.0045258663342702,0.76217764713890868,1.004775293960805,2.4830383656015975E-2,{"$f":"+Spectre!C1750*N1751/L1751","v":0.95064613026135569},0.9721022669070124]
[5550,0.55500000000000005,3.2464897329762188,1.0130729051572998,9.4080330625380404E-2,0.99011108990716312,1.0790187680360636E-2,0.13949488736909374,0.24436540567483478,0.6375989804349631,0.79846123790763091,0.77311079901151403,1.0046157750888518,0.76224961565835059,1.0048701697296623,2.5322580743658563E-2,{"$f":"+Spectre!C1751*N1752/L1752","v":0.95266184392226805},0.97416347533866043]
[5551,0.55510000000000004,3.2453201428810607,1.0130659652710909,9.4011911496505285E-2,0.99009631916270069,1.0806385106913974E-2,0.13946221966001698,0.24428051626343625,0.63769867053392937,0.79852366886834014,0.77317991368674666,1.0047055858806784,0.76232150611589844,1.004964942589883,2.5814199985485509E-2,{"$f":"+Spectre!C1752*N1753/L1753","v":0.95506145116582875},0.97661724185271603]
[5552,0.55520000000000003,3.2441511847121056,1.0130590292829138,9.394355467700756E-2,0.9900815264663464,1.0822606847838508E-2,0.13942956548366725,0.24419572700851333,0.63779825857308647,0.79858603104288262,0.77324895298506435,1.0047952987242705,0.76239331852198911,1.0050596125552258,2.6305241604029916E-2,{"$f":"+Spectre!C1753*N1754/L1754","v":0.95682038997361141},0.97841588000835256]
[5553,0.55530000000000002,3.2429828580142002,1.0130520971898198,9.387526009866623E-2,0.99006671178580807,1.083885293963301E-2,0.13939692483200286,0.24411103787030208,0.63789774454646908,0.79864832444363054,0.77331791691755436,1.0048849136340352,0.7624650528869712,1.0051541796393335,2.6795705821136551E-2,{"$f":"+Spectre!C1754*N1755/L1755","v":0.95708425466782698},0.97868570014356215]
[5554,0.5554,3.2418151623325975,1.0130451689888638,9.3807027693347408E-2,0.99005187508874704,1.0855123418851049E-2,0.1393642976969878,0.24402644880918625,0.63799712844801493,0.79871054908287353,0.77338680549521732,1.0049744306242676,0.76253670922110439,1.0052486438557313,2.7285592857650975E-2,{"$f":"+Spectre!C1755*N1756/L1756","v":0.95770259859954587},0.9793180001326095]
[5555,0.55549999999999999,3.2406480972129614,1.0130382446771036,9.3738857393004582E-2,0.99003701634277763,1.0871418322101504E-2,0.13933168407059274,0.24394195978569883,0.63809641027156427,0.7987727049728186,0.77345561872896573,1.0050638497091477,0.76260828753455867,1.005343005217826,2.7774902933686008E-2,{"$f":"+Spectre!C1756*N1757/L1757","v":0.95213823511852858},0.97362804865476105]
[5556,0.55559999999999998,3.2394816622013654,1.0130313242515996,9.3670749129678196E-2,0.99002213551546803,1.0887737686047711E-2,0.13929908394479434,0.24385757076052025,0.63819559001086101,0.79883479212559083,0.77352435662962538,1.005153170902743,0.76267978783741508,1.0054372637389077,2.8263636268444081E-2,{"$f":"+Spectre!C1757*N1758/L1758","v":0.94479177349714227},0.96611577698125028]
[5557,0.55569999999999997,3.2383158568442894,1.0130244077094144,9.3602702835495516E-2,0.99000723257433942,1.0904081547408332E-2,0.13926649731157578,0.24377328169447965,0.63829466765955112,0.79889681055323269,0.773593019207934,1.0052423942190067,0.76275121013966529,1.0055314194321483,2.875179308032827E-2,{"$f":"+Spectre!C1758*N1759/L1759","v":0.94117040039527555},0.96241266928472724]
[5558,0.55579999999999996,3.2371506806886221,1.0130174950476143,9.3534718442670792E-2,0.98999230748686629,1.0920449942957124E-2,0.13923392416292599,0.24368909254855392,0.63839364321118386,0.79895876026770429,0.7736616064745423,1.0053315196717789,0.76282255445121183,1.0056254723106022,2.9239373586853468E-2,{"$f":"+Spectre!C1759*N1760/L1760","v":0.94750587872269065},0.96889113971444152]
[5559,0.55589999999999995,3.2359861332816613,1.0130105862632679,9.3466795883504844E-2,0.98997736022047655,1.0936842909522713E-2,0.13920136449084033,0.24360500328386789,0.63849251665921103,0.7990206412808839,0.77373011844001394,1.0054205472747864,0.76289382078186796,1.0057194223872061,2.9726378004690801E-2,{"$f":"+Spectre!C1760*N1761/L1761","v":0.95414814146648863},0.97568331870207681]
[5560,0.55600000000000005,3.2348222141711087,1.0130036813534471,9.3398935090385091E-2,0.98996239074255077,1.0953260483989572E-2,0.13916881828732031,0.24352101386169497,0.63859128799698661,0.79908245360456664,0.77379855511482409,1.0055094770416411,0.76296500914135745,1.005813269674779,3.0212806549756444E-2,{"$f":"+Spectre!C1761*N1762/L1762","v":0.95520729460674347},0.97676637698829771]
[5561,0.55610000000000004,3.2336589229050761,1.0129967803152256,9.3331135995785297E-2,0.98994739902042284,1.0969702703297179E-2,0.13913628554437374,0.2434371242434562,0.63868995721776722,0.79914419725046559,0.77386691650936101,1.0055983089858418,0.76303611953931472,1.0059070141860218,3.0698659437011777E-2,{"$f":"+Spectre!C1762*N1763/L1763","v":0.95270544486516739},0.97420806035729413]
[5562,0.55620000000000003,3.2324962590320792,1.0129898831456812,9.3263398532265604E-2,0.9899323850213797,1.0986169604440408E-2,0.13910376625401458,0.2433533343907206,0.63878852431471134,0.79920587223021144,0.77393520263392535,1.0056870431207741,0.76310715198528467,1.0060006559335175,3.1183936880618823E-2,{"$f":"+Spectre!C1763*N1764/L1764","v":0.9508504506494917},0.97231119881780415]
[5563,0.55630000000000002,3.2313342221010397,1.0129829898418932,9.319572263247225E-2,0.98991734871266102,1.1002661224469894E-2,0.13907126040826276,0.24326964426520492,0.63888698928088039,0.79926747855535196,0.77400341349873003,1.0057756794597088,0.76317810648872297,1.0060941949297313,3.1668639093918038E-2,{"$f":"+Spectre!C1764*N1765/L1765","v":0.953385453355858},0.9749034166778785]
[5564,0.55640000000000001,3.2301728116612858,1.0129761004009448,9.3128108229137599E-2,0.98990229006145936,1.1019177600491809E-2,0.13903876799914466,0.24318605382877406,0.63898535210923735,0.79932901623735286,0.77407154911390041,1.0058642180158033,0.76324898305899558,1.0061876311870106,3.2152766289406109E-2,{"$f":"+Spectre!C1765*N1766/L1766","v":0.95591932760971154},0.97749448061620348]
[5565,0.55649999999999999,3.2290120272625487,1.0129692148199214,9.3060555255079794E-2,0.98988720903492011,1.1035718769667991E-2,0.13900628901869252,0.2431025630434403,0.63908361279264736,0.79939048528759726,0.77413960948947413,1.0059526588021008,0.76331978170537906,1.0062809647175845,3.2636318678713749E-2,{"$f":"+Spectre!C1766*N1767/L1767","v":0.95821597829073457},0.97984296683231231]
[5566,{"$f":"+A1768/10000","v":0.55659999999999998},{"$f":"+(1/B1768)^2","v":3.2278518684549655},{"$f":"0.23465+1.076*100/(146-C1768)+0.93161/(41-C1768)","v":1.012962333095911},{"$f":"9.4977*0.001*C1768^2*D1768*EXP(-h/7.996/1000)","v":9.2993063643202867E-2},{"$f":"+EXP(-0.0168*EXP(-15*ABS(B1768-0.59)))","v":0.98987210560014149},{"$f":"-2.5*LOG(F1768)","v":1.1052284769215961E-2},{"$f":"2.5*LOG(EXP(AOD*(B1768/0.55)^(-1.3)))","v":0.13897382345894491},{"$f":"+E1768+G1768+H1768","v":0.24301917187136374},{"$f":"10^(-0.4*I1768*ma)","v":0.63918177132387743},{"$f":"10^(-0.4*I1768)","v":0.79945188571738579},{"$f":"10^(-0.4*I1768*ma_ref)","v":0.77420759463540156},{"$f":"+L1768/M$1","v":1.0060410018315318},{"$f":"10^(-0.4*I1768*ma_target)","v":0.76339050243706064},{"$f":"+N1768/O$1","v":1.0063741955335646},{"$f":"(O1768/M1768-1)*100","v":3.3119296472627902E-2},{"$f":"+Spectre!C1767*N1768/L1768","v":0.96018711685883418},0.98185859410879495]
[5567,0.55669999999999997,3.2266923347890777,1.0129554552260045,9.2925633326496504E-2,0.98985697972417408,1.1068875636409421E-2,0.1389413713119467,0.24293588027485263,0.6392798276955961,0.79951321753793614,0.77427550456154437,1.0061292471169105,0.76346114526313724,1.006467323646943,3.3601699881136149E-2,{"$f":"+Spectre!C1768*N1769/L1769","v":0.96181674533888661},0.98352500339532911]
[5568,0.55679999999999996,3.2255334258158284,1.0129485812072963,9.2858264238035892E-2,0.98984183137402137,1.1085491408577657E-2,0.13890893256974846,0.24285268821636202,0.63937778190037431,0.79957448076038384,0.77434333927767762,1.0062173946709394,0.7635317101926169,1.0065603490695954,3.4083529113315691E-2,{"$f":"+Spectre!C1769*N1770/L1770","v":0.95904915739212049},0.98069495083289315]
[5569,0.55689999999999995,3.2243751410865658,1.0129417110368824,9.2790956310981651E-2,0.98982666051663915,1.1102132123106279E-2,0.1388765072244075,0.24276959565849543,0.63947563393068341,0.79963567539578151,0.77441109879348757,1.006305444506205,0.76360219723441713,1.0066532718132775,3.4564784377488778E-2,{"$f":"+Spectre!C1770*N1771/L1771","v":0.95553407972770421},0.97710053766782423]
[5570,0.55700000000000005,3.2232174801530378,1.012934844711862,9.272370947857958E-2,0.98981146711893575,1.1118797817436878E-2,0.13884409526798669,0.24268660256400315,0.63957338377889739,0.79969680145509936,0.77447878311857354,1.0063933966351812,0.76367260639736656,1.0067460918896278,3.5045465881022864E-2,{"$f":"+Spectre!C1771*N1772/L1772","v":0.95206974017633272},0.97355800777786616]
[5571,0.55710000000000004,3.2220604425674004,1.0129279822293378,9.2656523674160995E-2,0.98979625114777192,1.1135488529067279E-2,0.13881169669255533,0.24260370889578359,0.63967103143729065,0.7997578589492248,0.77454639226244593,1.0064812510702266,0.76374293769020352,1.0068388093101666,3.5525573830597068E-2,{"$f":"+Spectre!C1772*N1773/L1773","v":0.94869429451365206},0.970106378116668]
[5572,0.55720000000000003,3.2209040278822059,1.0129211235864142,9.2589398831141839E-2,0.98978101256996076,1.1152204295551537E-2,0.13877931149018893,0.2425209146168823,0.63976857689803934,0.79981884788896229,0.77461392623452829,1.0065690078235858,0.76381319112157642,1.0069314240862943,3.6005108431869104E-2,{"$f":"+Spectre!C1773*N1774/L1774","v":0.945290266335581},0.96662552083109898]
[5573,0.55730000000000002,3.2197482356504108,1.0129142687801989,9.2522334883023194E-2,0.98976575135226752,1.1168945154500225E-2,0.13874693965296889,0.24243821969049231,0.63986602015322069,0.79987976828503404,0.77468138504415551,1.0066566669073898,0.76388336670004453,1.0070239362292952,3.6484069889852755E-2,{"$f":"+Spectre!C1774*N1775/L1775","v":0.94470187826202912},0.96602385280562297]
[5574,0.55740000000000001,3.2185930654253712,1.0129074178078021,9.245533176339088E-2,0.98975046746140982,1.1185711143580173E-2,0.13871458117298271,0.24235562407995376,0.63996336119481323,0.79994062014807954,0.77474876870057507,1.0067442283336547,0.76395346443407652,1.0071163457503332,3.6962458408562604E-2,{"$f":"+Spectre!C1775*N1776/L1776","v":0.94487795240258288},0.96620390094943531]
[5575,0.5575,3.2174385167608439,1.0129005706663372,9.238838940591533E-2,0.98973516086405733,1.1202502300514863E-2,0.13868223604232405,0.24227312774875426,0.64006060001469622,0.80000140348865534,0.77481607721294599,1.0068316921142824,0.76402348433205169,1.0072086526604547,3.7440274191280487E-2,{"$f":"+Spectre!C1776*N1777/L1777","v":0.94496537529130598},0.96629329697767552]
[5576,0.55759999999999998,3.2162845892109866,1.0128937273529197,9.2321507744351591E-2,0.98971983152683174,1.1219318663084439E-2,0.13864990425309293,0.24219073066052896,0.64015773660464936,0.80006211831723484,0.77488331059033944,1.0069190582610601,0.76409342640225875,1.0073008569705868,3.7917517440377857E-2,{"$f":"+Spectre!C1777*N1778/L1778","v":0.94474001563999133},0.96606285094635147]
[5577,0.55769999999999997,3.2151312823303559,1.0128868878646684,9.2254686712539113E-2,0.98970447941630668,1.123616026912584E-2,0.13861758579739503,0.24210843277905997,0.64025477095635352,0.80012276464420928,0.77495046884173846,1.007006326785661,0.7641632906528969,1.0073929586915384,3.8394188357426806E-2,{"$f":"+Spectre!C1778*N1779/L1779","v":0.94452404396690803},0.96584200478045557]
[5578,0.55779999999999996,3.213978595673908,1.0128800521987045,9.2187926244401613E-2,0.98968910449900793,1.1253027156532567E-2,0.13858528066734216,0.24202623406827634,0.64035170306139066,0.80018334247988687,0.77501755197603839,1.0070934976996444,0.76423307709207555,1.0074849578339999,3.8870287143111248E-2,{"$f":"+Spectre!C1779*N1780/L1780","v":0.94437849607997304},0.96569317186952364]
[5579,0.55789999999999995,3.2128265287969984,1.0128732203521518,9.2121226273947018E-2,0.98967370674141308,1.1269919363255068E-2,0.13855298885505279,0.24194413449225488,0.64044853291124226,0.80024385183449243,0.77508456000204562,1.007180571014453,0.76430278572781307,1.0075768544085424,3.9345813997404555E-2,{"$f":"+Spectre!C1780*N1781/L1781","v":0.94427999141186736},0.96559244394551669]
[5580,0.55800000000000005,3.2116750812553789,1.0128663923221375,9.2054586735267258E-2,0.98965828610995132,1.1286836927300993E-2,0.13852071035265079,0.24186213401521905,0.64054526049729077,0.80030429271816872,0.77515149292847896,1.0072675467414172,0.76437241656803834,1.0076686484256179,3.9820769119214283E-2,{"$f":"+Spectre!C1781*N1782/L1782","v":0.94358323907220631},0.9648799658663485]
[5581,0.55810000000000004,3.2105242526052034,1.012859568105791,9.198800756253829E-2,0.98964284257100388,1.130377988673471E-2,0.13848844515226619,0.24178023260153919,0.64064188581081938,0.80036466514097526,0.77521835076396906,1.0073544248917516,0.76444196962059052,1.007760339895561,4.0295152706848469E-2,{"$f":"+Spectre!C1782*N1783/L1783","v":0.94019491401275879},0.96141516611967381]
[5582,0.55820000000000003,3.2093740424030202,1.0128527477002445,9.1921488690019856E-2,0.98962737609090345,1.1320748279677937E-2,0.13845619324603545,0.24169843021573323,0.64073840884301048,0.8004249691128883,0.77528513351705797,1.0074412054765562,0.76451144489321743,1.0078519288285857,4.076896495761595E-2,{"$f":"+Spectre!C1783*N1784/L1784","v":0.9365390939346433},0.95767683397671]
[5583,0.55830000000000002,3.208224450205774,1.0128459311026328,9.1855030052055198E-2,0.98961188663593447,1.1337742144309517E-2,0.13842395462610105,0.24161672682246577,0.64083482958494742,0.80048520464380146,0.77535184119619949,1.0075278885068162,0.76458084239357749,1.0079434152347879,4.1242206068115017E-2,{"$f":"+Spectre!C1784*N1785/L1785","v":0.93580426505645697},0.95692541996939973]
[5584,0.55840000000000001,3.2070754755708082,1.0128391183100935,9.1788631583071351E-2,0.9895963741723327,1.1354761518865778E-2,0.13839172928461091,0.24153512238654803,0.64093114802761331,0.80054537174352569,0.77541847380975926,1.0076144739934025,0.76465016212923897,1.008034799124145,4.1714876234011378E-2,{"$f":"+Spectre!C1785*N1786/L1786","v":0.93800373784691771},0.95917453498448879]
[5585,0.5585,3.2059271180558615,1.0128323093197675,9.1722293217578674E-2,0.98958083866628554,1.1371806441640323E-2,0.13835951721371959,0.24145361687293859,0.64102736416189121,0.80060547042178831,0.77548503136601499,1.0077009619470716,0.76471940410767925,1.0081260805065142,4.2186975650126968E-2,{"$f":"+Spectre!C1786*N1787/L1787","v":0.94001459014161703},0.96123077232861498]
[5586,0.55859999999999999,3.2047793772190696,1.0128255041287975,9.1656014890170903E-2,0.98956528008393196,1.1388876950984027E-2,0.13832731840558751,0.24137221024674244,0.64112347797856395,0.80066550068823394,0.77555151387315524,1.0077873523784637,0.76478856833628572,1.0082172593916343,4.2658504510506567E-2,{"$f":"+Spectre!C1787*N1788/L1788","v":0.93953494865430964},0.96074030530595322]
[5587,0.55869999999999997,3.2036322526189611,1.0128187027343292,9.1589796535524834E-2,0.98954969839136198,1.1405973085305674E-2,0.13829513285238137,0.24129090247321189,0.64121948946831397,0.80072546255242427,0.77561792133928043,1.0078736452981052,0.7648576548223549,1.0083083357891245,4.3129463008306779E-2,{"$f":"+Spectre!C1788*N1789/L1789","v":0.93900838887610227},0.96020186104392624]
[5588,0.55879999999999996,3.2024857438144636,1.0128119051335114,9.1523638088400625E-2,0.98953409355461686,1.1423094883071708E-2,0.13826296054627346,0.24120969351774579,0.64131539862172326,0.80078535602383727,0.77568425377240247,1.007959840716407,0.76492666357309358,1.0083993097084851,4.3599851335929252E-2,{"$f":"+Spectre!C1789*N1790/L1790","v":0.93787853405703747},0.95904650533802671]
[5589,0.55889999999999995,3.201339850364894,1.0128051113234953,9.1457539483641034E-2,0.98951846553968947,1.1440242382805901E-2,0.13823080147944233,0.24112858334588927,0.64141120542927366,0.80084518111186875,0.77575051118044525,1.0080459386436658,0.76499559459561772,1.0084901811590974,4.4069669684820845E-2,{"$f":"+Spectre!C1790*N1791/L1791","v":0.93600271266152335},0.95712834654807755]
[5590,0.55900000000000005,3.2001945718299663,1.0127983213014344,9.1391500656171742E-2,0.9895028143125234,1.145741562309033E-2,0.13819865564407241,0.24104757192333448,0.64150690988134651,0.80090493782583094,0.77581669357124361,1.0081319390900625,0.76506444789695283,1.0085809501502228,4.4538918245717873E-2,{"$f":"+Spectre!C1791*N1792/L1792","v":0.93414723857060633},0.95523099430253511]
[5591,0.55910000000000004,3.1990499077697914,1.0127915350644858,9.1325521541001542E-2,0.98948713983901349,1.1474614642564778E-2,0.13816652303235455,0.24096665921592086,0.64160251196822127,0.80096462617495234,0.77588280095254381,1.0082178420656631,0.76513322348403345,1.0086716166910032,4.5007597208401862E-2,{"$f":"+Spectre!C1792*N1793/L1793","v":0.93249150055389862},0.95353788618563451]
[5592,0.55920000000000003,3.1979058577448667,1.0127847526098088,9.1259602073221271E-2,0.98947144208500559,1.1491839479927008E-2,0.13813440363648508,0.24088584518963335,0.64169801168007812,0.80102424616837931,0.7759488333320036,1.0083036475804181,0.76520192136370402,1.0087621807904616,4.5475706761921586E-2,{"$f":"+Spectre!C1793*N1794/L1794","v":0.93087712817837986},0.95188707733477174]
[5593,0.55930000000000002,3.1967624213160883,1.012777973934565,9.1193742188004565E-2,0.98945572101629653,1.1509090173932875E-2,0.13810229744866662,0.24080512981060406,0.64179340900699522,0.80108379781517425,0.77601479071719248,1.0083893556441641,0.76527054154271812,1.0088526424575013,4.5943247094393236E-2,{"$f":"+Spectre!C1794*N1795/L1795","v":0.93127088626302945},{"$f":"+Q1795/R$1","v":0.95228972256154565}]
[5594,0.55940000000000001,3.1956195980447406,1.0127711990359194,9.1127941820607239E-2,0.98943997659863392,1.1526366763396476E-2,0.13807020446110752,0.24072451304511122,0.64188870393895081,0.80114328112431688,0.77608067311559104,1.0084749662666215,0.7653390840277392,1.0089430017009064,4.6410218393178049E-2,{"$f":"+Spectre!C1795*N1796/L1796","v":0.93774198680476673},0.95890687620658976]
[5595,0.5595,3.1944773874925025,1.0127644279110393,9.1062200906367449E-2,0.98942420879771609,1.1543669287190288E-2,0.13803812466602253,0.24064399485958027,0.64198389646582044,0.80120269610470285,0.77614648053459068,1.008560479457395,0.7654075488253389,1.0090332585293407,4.6876620844793493E-2,{"$f":"+Spectre!C1796*N1797/L1797","v":0.94437445868305214},0.96568904334832706]
[5596,0.55959999999999999,3.1933357892214445,1.0127576605570947,9.0996519380705493E-2,0.98940841757919251,1.1560997784244683E-2,0.13800605805563199,0.24056357522058217,0.64207898657738016,0.80126204276514545,0.77621221298149512,1.0086458952259754,0.76547593594199914,1.0091234129513491,4.7342454634868858E-2,{"$f":"+Spectre!C1797*N1798/L1798","v":0.94618339799503115},0.96753881052235269]
[5597,0.55969999999999998,3.1921948027940261,1.0127508969712584,9.0930897179123546E-2,0.98939260290866282,1.1578352293549046E-2,0.13797400462216275,0.24048325409483534,0.64217397426330303,0.80132132111437382,0.77627787046351782,1.0087312135817363,0.76554424538411026,1.0092134649753557,4.7807719948211869E-2,{"$f":"+Spectre!C1798*N1799/L1799","v":0.94591171442170041},0.96726099503548635]
[5598,0.55979999999999996,3.1910544277731003,1.012744137150706,9.0865334237205747E-2,0.98937676475167746,1.1595732854151062E-2,0.13794196435784681,0.24040303144920361,0.64226885951316193,0.80138053116103458,0.77634345298778484,1.0088164345339374,0.7656124771579722,1.009303414609666,4.8272416968853094E-2,{"$f":"+Spectre!C1799*N1800/L1800","v":0.94509258695377019},0.96642337981451887]
[5599,0.55989999999999995,3.189914663721908,1.012737381092615,9.0799830490617892E-2,0.9893609030737377,1.1613139505156711E-2,0.13790993725492301,0.2403229072506976,0.64236364231642795,0.80143967291369045,0.77640896056133279,1.0089015580917227,0.76568063126979402,1.0093932618624653,4.8736545879912718E-2,{"$f":"+Spectre!C1800*N1801/L1801","v":0.94099505595868926},0.96223336731434184]
[5600,0.56000000000000005,3.1887755102040813,1.0127306287941669,9.0734385875107543E-2,0.98934501784029472,1.1630572285731281E-2,0.13787792330563553,0.24024288146647435,0.64245832266246972,0.80149874638082053,0.77647439319110889,1.0089865842641195,0.7657487077256937,1.0094830067418186,4.9200106863778181E-2,{"$f":"+Spectre!C1801*N1802/L1802","v":0.93658452492870481},0.95772329035086345]
[5601,0.56010000000000004,3.1876369667836433,1.0127238802525445,9.0669000326503713E-2,0.98932910901675053,1.1648031235098394E-2,0.13784592250223462,0.24016295406383673,0.64255290054055536,0.80155775157082132,0.77653975088397276,1.0090715130600416,0.76581670653169831,1.0095726492556718,4.9663100101837721E-2,{"$f":"+Spectre!C1802*N1803/L1803","v":0.93611472364192327},0.95724288562260718]
[5602,0.56020000000000003,3.1864990330250031,1.012717135464934,9.060367378071682E-2,0.98931317656845741,1.1665516392540621E-2,0.13781393483697665,0.2400831250102341,0.64264737593985033,0.80161668849200496,0.77660503364669375,1.0091563444882856,0.7658846276937441,1.0096621894118505,5.0125525774835644E-2,{"$f":"+Spectre!C1803*N1804/L1804","v":0.93899378790026689},0.96018693052324477]
[5603,0.56030000000000002,3.1853617084929606,1.0127103944285245,9.0538406173738581E-2,0.98929722046071777,1.1683027797399635E-2,0.13778196030212389,0.24000339427326212,0.64274174884941837,0.80167555715260097,0.77667024148595276,1.0092410785575325,0.76595247121767573,1.0097516272180598,5.0587384062583673E-2,{"$f":"+Spectre!C1804*N1805/L1805","v":0.94110958712408999},0.96235048345458951]
[5604,0.56040000000000001,3.184224992752704,1.012703657140507,9.0473197441641881E-2,0.9892812406587842,1.170056548907622E-2,0.13774999888994457,0.23992376182066266,0.64283601925822076,0.80173435756075451,0.77673537440834151,1.0093257152763484,0.76602023710924716,1.0098409626818847,5.1048675144005351E-2,{"$f":"+Spectre!C1805*N1806/L1806","v":0.93671028712168924},0.95785189100361934]
[5605,0.5605,3.1830888853698074,1.0126969235980758,9.040804752058057E-2,0.98926523712785963,1.1718129507030035E-2,0.13771805059271272,0.23984422762032331,0.64293018715511729,0.80179308972452779,0.77680043242036301,1.0094102546531831,0.76608792537412129,1.0099301958107909,5.1509399197291472E-2,{"$f":"+Spectre!C1806*N1807/L1807","v":0.93132650017443919},0.95234659168206492]
[5606,0.56059999999999999,3.1819533859102345,1.0126901937984276,9.034295634678953E-2,0.98924920983309683,1.1735719890780236E-2,0.13768611540270853,0.23976479164027831,0.64302425252886486,0.8018517536518992,0.77686541552843047,1.0094946966963707,0.76615553601786957,1.0100193266121231,5.1969556399789063E-2,{"$f":"+Spectre!C1807*N1808/L1808","v":0.92878997568139343},0.94975281768850006]
[5607,0.56069999999999998,3.1808184939403343,1.0126834677387615,9.0277923856584369E-2,0.98923315873959883,1.1753336679905021E-2,0.13765419331221757,0.23968545384870696,0.64311821536811897,0.80191034935076422,0.77693032373886883,1.0095790414141299,0.7662230690459727,1.0101083550931067,5.2429146927956971E-2,{"$f":"+Spectre!C1808*N1809/L1809","v":0.93130909463124889},0.95232879329478548]
[5608,0.56079999999999997,3.1796842090268438,1.0126767454162795,9.0212949986361451E-2,0.98921708381241824,1.1770979914042348E-2,0.13762228431353199,0.2396062142139358,0.64321207566143146,0.80196887682893336,0.77699515705791333,1.0096632888145629,0.76629052446381962,1.0101972812608457,5.2888170957454683E-2,{"$f":"+Spectre!C1809*N1810/L1810","v":0.93351569359654596},0.95458519532287789]
[5609,0.56089999999999995,3.178550530736886,1.0126700268281865,9.0148034672597702E-2,0.98920098501655773,1.1788649632889482E-2,0.13759038839894933,0.23952707270443652,0.64330583339725234,0.80202733609413479,0.77705991549170994,1.0097474389056564,0.7663579022767083,1.0102861051223244,5.3346628663075712E-2,{"$f":"+Spectre!C1810*N1811/L1811","v":0.9327334941400125},0.95378534158060202]
[5610,0.56100000000000005,3.1774174586379673,1.0126633119716897,9.0083177851850424E-2,0.98918486231696967,1.1806345876203373E-2,0.13755850556077351,0.2394480292888273,0.64339948856392837,0.80208572715401238,0.77712459904631526,1.0098314916952804,0.76642520248984491,1.0103748266844064,5.3804520218903029E-2,{"$f":"+Spectre!C1811*N1812/L1812","v":0.93126974700757748},0.95228855759303399]
[5611,0.56110000000000004,3.176284992297985,1.012656600843999,9.0018379460757539E-2,0.98916871567855646,1.1824068683800291E-2,0.13752663579131424,0.23936908393587208,0.64349304114970385,0.80214405001612621,0.77718920772769673,1.0099154471911891,0.76649242510834448,1.0104634459538342,5.4261845797998198E-2,{"$f":"+Spectre!C1812*N1813/L1813","v":0.93130269698162471},0.95232225124984937]
[5612,0.56120000000000003,3.1751531312852155,1.0126498934423271,8.9953639436036847E-2,0.98915254506616968,1.1841818095556832E-2,0.13749477908288657,0.23929023661448023,0.6435864911427206,0.80220230468795317,0.77725374154173299,1.0099993054010219,0.76655957013723119,1.0105519629372315,5.4718605572712242E-2,{"$f":"+Spectre!C1813*N1814/L1814","v":0.93478739352061768},0.95588559758578484]
[5613,0.56130000000000002,3.174021875168322,1.0126431897638888,8.9888957714486378E-2,0.9891363504446109,1.1859594151408949E-2,0.13746293542781199,0.23921148729370731,0.64367983853101718,0.80226049117688603,0.77731820049421285,1.0100830663323008,0.76662663758143701,1.0106403776411002,5.5174799714530209E-2,{"$f":"+Spectre!C1814*N1815/L1815","v":0.93834944576124701},0.95952804554589488]
[5614,0.56140000000000001,3.1728912235163524,1.0126364898059019,8.9824334232984249E-2,0.98912013177863078,1.1877396891353059E-2,0.13743110481841778,0.23913283594275508,0.64377308330252825,0.8023186094902337,0.77738258459083531,1.0101667299924315,0.76669362744580261,1.0107286900718215,5.5630428394159992E-2,{"$f":"+Spectre!C1815*N1816/L1816","v":0.93485602581160798},0.95595577891144423]
[5615,0.5615,3.1717611758987387,1.0126297935655875,8.9759768928488443E-2,0.98910388903292989,1.1895226355445095E-2,0.13739928724703715,0.23905428253097069,0.6438662254450862,0.80237665963522142,0.77744689383721033,1.0102502963887035,0.76676053973507685,1.0108169002356562,5.6085491781399099E-2,{"$f":"+Spectre!C1816*N1817/L1817","v":0.9274692433638837},0.94840227636827656]
[5616,0.56159999999999999,3.170631731885293,1.0126231010401678,8.9695261738036491E-2,0.98908762217215784,1.1913082583801483E-2,0.13736748270600893,0.23897582702784692,0.64395926494641997,0.80243464161899047,0.7775111282388586,1.0103337655282909,0.76682737445391769,1.0109050081387443,5.6539990045245681E-2,{"$f":"+Spectre!C1817*N1818/L1818","v":0.92122914351491969},0.9420213371146382]
[5617,0.56169999999999998,3.1695028910462151,1.012616412226869,8.9630812598745876E-2,0.98907133116091361,1.1930965616598802E-2,0.13733569118767822,0.23889746940302289,0.64405220179415457,0.80249255544859854,0.77757528780121066,1.0104171374182505,0.76689413160689046,1.0109930137871046,5.699392335383191E-2,{"$f":"+Spectre!C1818*N1819/L1819","v":0.92263797148690652},0.94346196241321689]
[5618,0.56179999999999997,3.1683746529520822,1.0126097271229191,8.9566421447813335E-2,0.98905501596374568,1.1948875494073663E-2,0.13730391268439518,0.23881920962628217,0.64414503597581285,0.8025504011310195,0.77763937252960846,1.0105004120655234,0.76696081119847026,1.0110809171866366,5.744729187457942E-2,{"$f":"+Spectre!C1819*N1820/L1820","v":0.92388640616931994},0.94473857433665231]
[5619,0.56189999999999996,3.1672470171738594,1.0126030457255493,8.9502088222515333E-2,0.98903867654515132,1.1966812256523469E-2,0.13727214718851705,0.23874104766755586,0.64423776747881167,0.80260817867314249,0.77770338242930315,1.0105835894769337,0.76702741323303858,1.0111687183431162,5.7900095773888438E-2,{"$f":"+Spectre!C1820*N1821/L1821","v":0.9254761664727672},0.94636421561959216]
[5620,0.56200000000000006,3.1661199832828859,1.0125963680319927,8.9437812860207203E-2,0.98902231286957709,1.1984775944305933E-2,0.13724039469240562,0.23866298349691875,0.64433039629046684,0.80266588808177386,0.77776731750545725,1.0106666696591897,0.76709393771488688,1.0112564172622012,5.8352335217537465E-2,{"$f":"+Spectre!C1821*N1822/L1822","v":0.92718100085268684},0.94810752820738475]
[5621,0.56210000000000004,3.1649935508508911,1.0125896940394856,8.9373595298323977E-2,0.9890059249014187,1.2002766597839221E-2,0.13720865518842934,0.23858501708459254,0.64442292239798848,0.80272352936363511,0.77783117776314314,1.0107496526188826,0.76716038464821379,1.0113440139494261,5.8804010370261395E-2,{"$f":"+Spectre!C1822*N1823/L1823","v":0.92849430711154157},0.94945047586239162]
[5622,0.56220000000000003,3.1638677194499776,1.0125830237452669,8.9309435474379334E-2,0.98898951260502044,1.2020784257602567E-2,0.13717692866896264,0.23850714840094456,0.64451534578848302,0.80278110252536372,0.77789496320734319,1.0108325383624868,0.76722675403712604,1.0114315084102052,5.9255121396151189E-2,{"$f":"+Spectre!C1823*N1824/L1824","v":0.92584630812056135},0.94674271138520216]
[5623,0.56230000000000002,3.1627424886526327,1.0125763571465776,8.9245333325966125E-2,0.98897307594467598,1.2038828964135448E-2,0.13714521512638511,0.23842937741648668,0.64460766644895384,0.80283860757351388,0.77795867384295059,1.0109153268963604,0.76729304588563907,1.011518900649832,5.9705668458365224E-2,{"$f":"+Spectre!C1824*N1825/L1825","v":0.92254145396321485},0.94336326648358515]
[5624,0.56240000000000001,3.1616178580317231,1.0125696942406617,8.9181288790756028E-2,0.98895661488462738,1.2056900758038679E-2,0.13711351455308235,0.23835170410187706,0.64469988436629933,0.8028960445145551,0.77802230967476849,1.0109980182267453,0.76735926019767631,1.0116061906734786,6.015565171928472E-2,{"$f":"+Spectre!C1825*N1826/L1826","v":0.92030796512711111},0.94107936767878908]
[5625,0.5625,3.1604938271604937,1.0125630350247661,8.9117301806499391E-2,0.98894012938906584,1.2074999679973594E-2,0.13708182694144622,0.2382741284279192,0.6447919995273137,0.8029534133548728,0.77808587070751023,1.011080612359766,0.76742539697706835,1.0116933784861948,6.0605071340313899E-2,{"$f":"+Spectre!C1826*N1827/L1827","v":0.91977951672622826},0.94053899216776649]
[5626,0.56259999999999999,3.1593703956125703,1.0125563794961392,8.9053372311025211E-2,0.98892361942213092,1.2093125770662896E-2,0.13705015228387391,0.23819665036556201,0.64488401191868705,0.80301071410076885,0.77814935694579923,1.0111631093014304,0.76749145622755499,1.0117804640929109,6.1053927482279668E-2,{"$f":"+Spectre!C1827*N1828/L1828","v":0.91912106875807897},0.93986568299193018]
[5627,0.56269999999999998,3.1582475629619551,1.012549727652033,8.8989500242240865E-2,0.98890708494791091,1.2111279070890319E-2,0.13701849057276869,0.23811926988589988,0.64497592152700489,0.80306794675845994,0.77821276839416886,1.0112455090576296,0.76755743795278286,1.0118674474984342,6.1502220304965327E-2,{"$f":"+Spectre!C1828*N1829/L1829","v":0.92319742339168742},0.94403404117896483]
[5628,0.56279999999999997,3.1571253287830316,1.0125430794897019,8.8925685538132349E-2,0.98889052593044269,1.2129459621500758E-2,0.13698684180053983,0.23804198696017292,0.64506772833874804,0.80312511133407938,0.77827610505706257,1.0113278116341371,0.7676233421563069,1.0119543287074511,6.1949949967421425E-2,{"$f":"+Spectre!C1829*N1830/L1830","v":0.92843124367226249},0.94938598907773986]
[5629,0.56289999999999996,3.156003692650561,1.0125364350064028,8.8861928136763857E-2,0.98887394233371151,1.2147667463400531E-2,0.13695520595960148,0.23796480155976585,0.64515943234029316,0.80318220783367633,0.77833936693883432,1.0114100170366109,0.76768916884159022,1.012041107724527,6.2397116627854743E-2,{"$f":"+Spectre!C1830*N1831/L1831","v":0.93175347219935278},0.9527832004896033]
[5630,{"$f":"+A1832/10000","v":0.56299999999999994},{"$f":"+(1/B1832)^2","v":3.1548826541396804},{"$f":"0.23465+1.076*100/(146-C1832)+0.93161/(41-C1832)","v":1.0125297941993947},{"$f":"9.4977*0.001*C1832^2*D1832*EXP(-h/7.996/1000)","v":8.8798227976277594E-2},{"$f":"+EXP(-0.0168*EXP(-15*ABS(B1832-0.59)))","v":0.98885733412165122},{"$f":"-2.5*LOG(F1832)","v":1.216590263755715E-2},{"$f":"2.5*LOG(EXP(AOD*(B1832/0.55)^(-1.3)))","v":0.13692358304237459},{"$f":"+E1832+G1832+H1832","v":0.23788771365620934},{"$f":"10^(-0.4*I1832*ma)","v":0.64525103351791158},{"$f":"10^(-0.4*I1832)","v":0.80323923626321514},{"$f":"10^(-0.4*I1832*ma_ref)","v":0.77840255404374747},{"$f":"+L1832/M$1","v":1.0114921252705913},{"$f":"10^(-0.4*I1832*ma_target)","v":0.76775491801200346},{"$f":"+N1832/O$1","v":1.0121277845541057},{"$f":"(O1832/M1832-1)*100","v":6.2843720443628293E-2},{"$f":"+Spectre!C1831*N1832/L1832","v":0.92911747463306726},0.95008770830993905]
[5631,0.56310000000000004,3.1537622128259026,1.0125231570659401,8.8734584994893867E-2,0.98884070125814383,1.2184165184999825E-2,0.13689197304128561,0.2378107232211793,0.64534253185777024,0.80329619662857632,0.77846566637597536,1.011574136341501,0.76782058967082478,1.0122143592005084,6.3289761571305725E-2,{"$f":"+Spectre!C1832*N1833/L1833","v":0.92670398513800478},0.94761974622118428]
[5632,0.56320000000000003,3.1526423682851235,1.0125165236033031,8.8670999130911102E-2,0.9888240437070196,1.2202455146819349E-2,0.13686037594876665,0.23773383022649711,0.6454339273459303,0.80335308893555568,0.77852870393960139,1.0116560502546463,0.76788618382124019,1.0123008316679352,6.3735240166518103E-2,{"$f":"+Spectre!C1833*N1834/L1834","v":0.92412740361005508},0.944985011103184]
[5633,0.56330000000000002,3.1515231200936098,1.0125098938087511,8.8607470322705384E-2,0.98880736143205716,1.2220772564168005E-2,0.13682879175725543,0.23765703464412882,0.64552521996834911,0.80340991318986521,0.7785916667386189,1.0117378670152162,0.76795170046634376,1.0123872019604654,6.4180156384274767E-2,{"$f":"+Spectre!C1834*N1835/L1835","v":0.9214437571958316},0.94224079463840305]
[5634,0.56340000000000001,3.150404467828007,1.012503267679554,8.8543998508730612E-2,0.98879065439698299,1.2239117478260184E-2,0.13679722045919582,0.23758033644618662,0.64561640971087741,0.80346666939713207,0.77865455477693057,1.0118195866282822,0.76801713960913631,1.0124734700820546,6.462451037851924E-2,{"$f":"+Spectre!C1835*N1836/L1836","v":0.92010407299118246},0.94087087368588107]
[5635,0.5635,3.1492864110653325,1.012496645212984,8.8480583627518053E-2,0.98877392256547192,1.2257489930371783E-2,0.13676566204703744,0.23750373560492727,0.64570749655926163,0.80352335756289917,0.77871736805834935,1.0119012090987987,0.76808250125252697,1.0125596360365379,6.5068302302506709E-2,{"$f":"+Spectre!C1836*N1837/L1837","v":0.9249747092871452},0.94585144051707748]
[5636,0.56359999999999999,3.1481689493829843,1.0124900264063157,8.8417225617676759E-2,0.98875716590114648,1.227588996184097E-2,0.13673411651323517,0.2374272320927529,0.64579848049914246,0.80357997769262524,0.77878010658659769,1.0119827344316032,0.76814778539933226,1.0126456998276285,6.5511532308670795E-2,{"$f":"+Spectre!C1837*N1838/L1838","v":0.93042132340134109},0.95142098501827055]
[5637,0.56369999999999998,3.1470520823587305,1.0124834112568266,8.8353924417892887E-2,0.98874038436757739,1.229431761406769E-2,0.13670258385025025,0.23735082588221082,0.64588936151605547,0.80363652979168421,0.77884277036530769,1.0120641626314153,0.76821299205227589,1.0127316614589168,6.5954200548512532E-2,{"$f":"+Spectre!C1838*N1839/L1839","v":0.92977395294655485},0.95075900337589714]
[5638,0.56379999999999997,3.1459358095707168,1.0124767997617965,8.8290679966930102E-2,0.98872357792828292,1.231277292851431E-2,0.13667106405054927,0.23727451694599366,0.64598013959542988,0.80369301386536574,0.77890535939802119,1.0121454937028371,0.76827812121398953,1.0128175209338726,6.6396307172889024E-2,{"$f":"+Spectre!C1839*N1840/L1840","v":0.92303359318986955},0.94386651332027449]
[5639,0.56389999999999996,3.1448201305974615,1.0124701919185084,8.8227492203629104E-2,0.98870674654672941,1.2331255946705137E-2,0.13663955710660489,0.23719830525693913,0.64607081472258976,0.80374942991887466,0.77896787368818954,1.012226727650354,0.76834317288701126,1.0129032782558411,6.683785233152495E-2,{"$f":"+Spectre!C1840*N1841/L1841","v":0.91675368277761171},0.937444864976689]
[5640,0.56399999999999995,3.1437050450178567,1.0124635877242472,8.8164361066907629E-2,0.98868989018633069,1.2349766710227039E-2,0.13660806301089515,0.23712219078802982,0.64616138688275337,0.80380577795733166,0.77903031323917393,1.0123078644783334,0.76840814707378791,1.0129889334280486,6.7278836173634282E-2,{"$f":"+Spectre!C1841*N1842/L1842","v":0.91566687572339434},0.93633352862611152]
[5641,0.56410000000000005,3.1425905524111664,1.0124569871763001,8.8101286495760225E-2,0.98867300881044817,1.2368305260729349E-2,0.1365765817559039,0.23704617351239349,0.64625185606103297,0.8038620579857727,0.77909267805424476,1.012388904191025,0.76847304377667247,1.0130744864535968,6.7719258847431796E-2,{"$f":"+Spectre!C1842*N1843/L1843","v":0.91471808740416349},0.93536332610113448]
[5642,0.56420000000000003,3.141476652357031,1.0124503902719573,8.803826842925852E-2,0.9886561023823911,1.2386871639923632E-2,0.13654511333412112,0.23697025340330327,0.64634222224243454,0.80391827000914917,0.7791549681365818,1.0124698467925608,0.7685378629979257,1.0131599373354661,6.8159120500377313E-2,{"$f":"+Spectre!C1843*N1844/L1844","v":0.91622182985626155},0.93690100810498056]
[5643,0.56430000000000002,3.1403633444354599,1.0124437970085121,8.7975306806550718E-2,0.98863917086541597,1.2405465889584308E-2,0.13651365773804211,0.23689443043417713,0.64643248541185805,0.80397441403232728,0.77921718348927449,1.0125506922869552,0.76860260473971509,1.0132452860765138,6.8598421279020272E-2,{"$f":"+Spectre!C1844*N1845/L1845","v":0.92096896512646009},0.94175528648531281]
[5644,0.56440000000000001,3.1392506282268351,1.0124372073832593,8.7912401566861489E-2,0.98862221422272667,1.2424088051548546E-2,0.13648221496016788,0.2368187045785779,0.64652264555409766,0.80403049006008953,0.77927932411532197,1.0126314406781056,0.76866726900411608,1.0133305326794759,6.9037161329110752E-2,{"$f":"+Spectre!C1845*N1846/L1846","v":0.92542378039238937},0.94631064718243285]
[5645,0.5645,3.1381385033119127,1.0124306213934966,8.7849552649492277E-2,0.98860523241747467,1.2442738167716048E-2,0.1364507849930052,0.23674307581021353,0.64661270265384063,0.80408649809713284,0.77934139001763225,1.0127120919697907,0.76873185579311087,1.0134156771469656,6.9475340795666085E-2,{"$f":"+Spectre!C1846*N1847/L1847","v":0.92228450261441175},0.94310051572838294]
[5646,0.56459999999999999,3.1370269692718171,1.0124240390365247,8.7786759993820657E-2,0.98858822541275837,1.2461416280049773E-2,0.13641936782906672,0.23666754410293717,0.64670265669566807,0.80414243814806996,0.77940338119902253,1.0127926461656716,0.76879636510858818,1.0135007194814729,6.9912959822726606E-2,{"$f":"+Spectre!C1847*N1848/L1848","v":0.91655370745637044},0.93724037620119616]
[5647,0.56469999999999998,3.1359160256880441,1.0124174603096459,8.7724023539300505E-2,0.98857119317162379,1.2480122430575245E-2,0.13638796346087073,0.23659210943074649,0.64679250766405472,0.80419831021742871,0.77946529766222006,1.0128731032692917,0.76886079695234455,1.0135856596853658,7.0350018553577698E-2,{"$f":"+Spectre!C1848*N1849/L1849","v":0.91204639385203934},0.93263133227522288]
[5648,0.56479999999999997,3.1348056721424618,1.0124108852101656,8.7661343225461971E-2,0.98855413565706363,1.2498856661381529E-2,0.13635657188094116,0.23651677176778466,0.64688225554336798,0.80425411430965177,0.77952713940986051,1.0129534632840762,0.76892515132608308,1.0136704977608901,7.0786517130727589E-2,{"$f":"+Spectre!C1849*N1850/L1850","v":0.9115180229529527},0.93209103601521648]
[5649,0.56489999999999996,3.1336959082173066,1.0124043137353924,8.7598718991911212E-2,0.98853705283201787,1.2517619014620644E-2,0.13632519308180757,0.23644153108833943,0.64697190031786889,0.80430985042909742,0.77958890644448897,1.0130337262133324,0.76898942823141381,1.0137552337101678,7.1222455695751918E-2,{"$f":"+Spectre!C1850*N1851/L1851","v":0.9106501426829231},0.93120356763866319]
[5650,0.56499999999999995,3.132586733495184,1.0123977458826359,8.7536150778330143E-2,0.98851994465937365,1.2536409532507701E-2,0.13629382705600512,0.23636638736684296,0.64706144197171256,0.80436551858003924,0.77965059876856035,1.01311389206025,0.76905362766985419,1.0138398675351996,7.165783438949358E-2,{"$f":"+Spectre!C1851*N1852/L1852","v":0.91188920851306243},0.93247059925430165]
[5651,0.56510000000000005,3.1314781475590698,1.0123911816492095,8.7473638524476718E-2,0.98850281110196458,1.2555228257321648E-2,0.13626247379607506,0.23629134057787343,0.64715088048894531,0.804421118766665,0.77971221638443744,1.0131939608278997,0.76911774964282753,1.0139243992378617,7.2092653351907288E-2,{"$f":"+Spectre!C1852*N1853/L1853","v":0.91401649679462071},0.93464590055206109]
[5652,0.56520000000000004,3.1303701499923116,1.0123846210324281,8.7411182170184662E-2,0.98848565212257156,1.2574075231404429E-2,0.13623113329456388,0.23621639069615297,0.64724021585350766,0.80447665099307841,0.77977375929439285,1.0132739325192346,0.76918179415166477,1.0140088288199087,7.2526912722103987E-2,{"$f":"+Spectre!C1853*N1854/L1854","v":0.91562205844684852},0.93628769982111248]
[5653,0.56530000000000002,3.12926274037862,1.0123780640296103,8.7348781655363097E-2,0.98846846768392216,1.2592950497161626E-2,0.13619980554402411,0.23614153769654883,0.64732944804923287,0.80453211526329804,0.77983522750060852,1.0133538071370896,0.76924576119760346,1.014093156282972,7.2960612638461875E-2,{"$f":"+Spectre!C1854*N1855/L1855","v":0.91447779195641998},0.93511760717161574]
[5654,0.56540000000000001,3.1281559183020766,1.0123715106380764,8.728643691999674E-2,0.98845125774869025,1.2611854097062943E-2,0.13616849053701369,0.23606678155407337,0.64741857705984607,0.80458751158125708,0.77989662100517432,1.0134335846841807,0.76930965078178726,1.0141773816285595,7.3393753238470971E-2,{"$f":"+Spectre!C1855*N1856/L1856","v":0.91304393935377903},0.93365139243506123]
[5655,0.5655,3.1270496833471317,1.012364960855149,8.7224147904145746E-2,0.98843402227949684,1.2630786073641258E-2,0.13613718826609605,0.23599212224388305,0.64750760286896625,0.80464283995080443,0.77995793981009054,1.0135132651631071,0.76937346290526742,1.0142615048580568,7.3826334658710913E-2,{"$f":"+Spectre!C1856*N1857/L1857","v":0.91419146713556843},0.93482481998344824]
[5656,0.56559999999999999,3.1259440350985996,1.0123584146781541,8.7161914547945488E-2,0.98841676123890931,1.2649746469493487E-2,0.13610589872384063,0.23591755974127959,0.64759652546010416,0.80469810037570311,0.78001918391726499,1.0135928485763479,0.7694371975690012,1.0143455259727261,7.4258357035117406E-2,{"$f":"+Spectre!C1857*N1858/L1858","v":0.91786810471475877},0.93858443947965753]
[5657,0.56569999999999998,3.1248389731416655,1.0123518721044191,8.70997367916065E-2,0.98839947458944144,1.2668735327280613E-2,0.13607462190282238,0.2358430940217095,0.64768534481666318,0.80475329285963171,0.780080353328515,1.0136723349262646,0.76950085477385255,1.0144294449737061,7.4689820502649162E-2,{"$f":"+Spectre!C1858*N1859/L1859","v":0.92088770095178185},{"$f":"+Q1859/R$1","v":0.94167218817363996}]
[5658,0.56579999999999997,3.1237344970618781,1.0123453331312751,8.7037614575414465E-2,0.98838216229355336,1.2687752689727681E-2,0.1360433577956221,0.23576872506076424,0.64777406092193812,0.80480841740618281,0.78014144804556629,1.0137517242151,0.76956443452059176,1.0145132618620125,7.5120725195532145E-2,{"$f":"+Spectre!C1859*N1860/L1860","v":0.91390661248210325},0.9345335361444278]
[5659,0.56589999999999996,3.1226306064451537,1.0123387977560543,8.6975547839729925E-2,0.9883648243136518,1.2706798599623596E-2,0.13601210639482569,0.23569445283417922,0.64786267375911777,0.80486347401886504,0.78020246807005433,1.0138310164449786,0.76962793680989594,1.0145969766385379,7.5551071247059731E-2,{"$f":"+Spectre!C1860*N1861/L1861","v":0.90538752783337617},0.92582217527587451]
[5660,0.56599999999999995,3.1215273008777737,1.0123322659760929,8.69135365249884E-2,0.98834746061208956,1.2725873099821724E-2,0.13598086769302514,0.23562027731783525,0.64795118331128154,0.80491846270110101,0.78026341340352234,1.0139102116179064,0.76969136164234842,1.0146805893040509,7.5980858789770345E-2,{"$f":"+Spectre!C1861*N1862/L1862","v":0.90121268873323757},0.92155310982235927]
[5661,0.56610000000000005,3.120424579946385,1.0123257377887283,8.6851580571700004E-2,0.98833007115116567,1.2744976233239684E-2,0.13594964168281812,0.23554619848775782,0.64803958956140117,0.80497338345622804,0.78032428404742216,1.0139893097357697,0.76975470901843901,1.0147640998591978,7.6410087955469663E-2,{"$f":"+Spectre!C1862*N1863/L1863","v":0.90549933573627317},0.92593650668943051]
[5662,0.56620000000000004,3.1193224432380013,1.0123192131913012,8.6789679920449683E-2,0.98831265589312534,1.2764108042859481E-2,0.13591842835680762,0.23547221632011678,0.64812789249234048,0.80502823628749876,0.78038508000311491,1.0140683108003372,0.76981797893856341,1.0148475083044999,7.683875887489755E-2,{"$f":"+Spectre!C1863*N1864/L1864","v":0.90931189363834686},0.92983511423785781]
[5663,0.56630000000000003,3.1182208903399977,1.0123126921811547,8.6727834511896695E-2,0.98829521480015958,1.2783268571727881E-2,0.13588722770760228,0.23539833079122685,0.64821609208685504,0.80508302119808006,0.78044580127187013,1.0141472148132586,0.76988117140302437,1.0149308146403564,7.7266871678194349E-2,{"$f":"+Spectre!C1864*N1865/L1865","v":0.90747353522364815},0.92795526397030881]
[5664,0.56640000000000001,3.1171199208401159,1.0123061747556341,8.6666044286774893E-2,0.98827774783440581,1.2802457862955826E-2,0.1358560397278166,0.23532454187754731,0.64830418832759185,0.80513773819105361,0.78050644785486578,1.0142260217760646,0.76994428641203028,1.015014018867042,7.769442649454561E-2,{"$f":"+Spectre!C1865*N1866/L1866","v":0.90396703737129303},0.92436962426414193]
[5665,0.5665,3.1160195343264605,1.0122996609120869,8.6604309185892278E-2,0.98826025495794689,1.2821675959719427E-2,0.13582486441007036,0.23525084955568207,0.64839218119709008,0.80519238726941589,0.78056701975318843,1.0143047316901672,0.77000732396569604,1.0150971209847082,7.8121423452359728E-2,{"$f":"+Spectre!C1866*N1867/L1867","v":0.90114686911739639},0.92148580465408536]
[5666,0.56659999999999999,3.1149197303874998,1.0122931506478638,8.6542629150131278E-2,0.98824273613281177,1.2840922905259369E-2,0.13579370174698935,0.23517725380238,0.64848007067777924,0.80524696843607757,0.78062751696783272,1.0143833445568589,0.77007028406404221,1.0151801209933822,7.854786267920133E-2,{"$f":"+Spectre!C1867*N1868/L1868","v":0.9002301470236832},0.92054839209114003]
[5667,0.56669999999999998,3.1138205086120649,1.012286643960318,8.6481004120448263E-2,0.98822519132097508,1.2860198742881284E-2,0.13576255173120449,0.23510375459453403,0.64856785675198125,0.8053014816938644,0.78068793949970239,1.0144618603773141,0.77013316670699605,1.0152630188929679,7.8973744301813475E-2,{"$f":"+Spectre!C1868*N1869/L1869","v":0.89932453348554331},0.91962233880449229]
[5668,0.56679999999999997,3.1127218685893498,1.0122801408468038,8.6419434037873569E-2,0.98820762048435717,1.2879503515955789E-2,0.13573141435535274,0.23503035190918209,0.64865553940190879,0.80535592704551617,0.78074828734960899,1.014540279152587,0.77019597189439037,1.0153458146832448,7.939906844611766E-2,{"$f":"+Spectre!C1869*N1870/L1870","v":0.8992336437349796},0.9195293976671447]
[5669,0.56689999999999996,3.1116238099089109,1.0122736413046798,8.6357918843511558E-2,0.988190023584824,1.2898837267918612E-2,0.13570028961207609,0.23495704572350626,0.64874311860966616,0.80541030449368789,0.78080856051827308,1.0146186008836144,0.77025869962596449,1.0154285083638697,7.9823835237191609E-2,{"$f":"+Spectre!C1870*N1871/L1871","v":0.89965900129660747},0.91996435557287015]
[5670,0.56699999999999995,3.1105263321606653,1.0122671453313061,8.6296458478540242E-2,0.98817240058418698,1.2918200042270723E-2,0.13566917749402282,0.23488383601483379,0.64883059435724799,0.80546461404094816,0.78086875900632269,1.0146968255712123,0.77032134990136336,1.0155110999343742,8.0248044799335894E-2,{"$f":"+Spectre!C1871*N1872/L1872","v":0.90003448981660628},0.92034831888989121]
[5671,0.56710000000000005,3.109429434934893,1.0122606529240452,8.6235052884211405E-2,0.98815475144420306,1.2937591882578366E-2,0.13563807799384611,0.23481072276063589,0.64891796662654033,0.80551885568978066,0.78092888281429473,1.0147749532160781,0.77038392272013756,1.0155935893941659,8.0671697255962904E-2,{"$f":"+Spectre!C1872*N1873/L1873","v":0.90023748404636539},0.92055589471083699]
[5672,0.56720000000000004,3.1083331178222369,1.0122541640802623,8.6173702001850441E-2,0.98813707612657453,1.2957012832473195E-2,0.13560699110420518,0.23473770593852883,0.64900523539931976,0.80557302944258313,0.78098893194263364,1.0148529838187896,0.77044641808174397,1.0156759767425287,8.1094792729707876E-2,{"$f":"+Spectre!C1873*N1874/L1874","v":0.9006205738808587},0.92094763090444831]
[5673,0.56730000000000003,3.1072373804136966,1.0122476787973251,8.6112405772856102E-2,0.98811937459294896,1.2976462935652404E-2,0.13557591681776454,0.23466478552627304,0.64909240065725393,0.80562713530166785,0.781048906391693,1.014930917379806,0.77050883598554498,1.0157582619786225,8.1517331342362276E-2,{"$f":"+Spectre!C1874*N1875/L1875","v":0.89848721719664537},0.91876612423984449]
[5674,0.56740000000000002,3.106142222300635,1.0122411970726037,8.6051164138700564E-2,0.98810164680491919,1.2995942235878759E-2,0.1355448551271943,0.23459196150177364,0.64917946238190061,0.80568117326926125,0.78110880616173362,1.0150087538994665,0.77057117643080897,1.0158404451014822,8.193931321482939E-2,{"$f":"+Spectre!C1875*N1876/L1876","v":0.89402508844269057},0.91420328498886272]
[5675,0.5675,3.1050476430747733,1.0122347189034706,8.59899770409292E-2,0.98808389272402342,1.301545077698048E-2,0.1355138060251706,0.23451923384308027,0.64926642055470851,0.80573514334750418,0.78116863125292479,1.0150864933779911,0.77063343941670981,1.0159225261100191,8.2360738467301964E-2,{"$f":"+Spectre!C1876*N1877/L1877","v":0.88997772388700302},0.91006457118743878]
[5676,0.56759999999999999,3.1039536423281939,1.0122282442873005,8.5928844421160597E-2,0.98806611231174457,1.3034988602851991E-2,0.1354827695043743,0.23444660252838689,0.6493532751570168,0.80578904553845199,0.78122838166534381,1.0151641358154799,0.77069562494232713,1.0160045050030195,8.2781607219062359E-2,{"$f":"+Spectre!C1877*N1878/L1878","v":0.89058965140536805},0.91069030994432187]
[5677,0.56769999999999998,3.102860219653337,1.0122217732214711,8.5867766221086356E-2,0.98804830552951073,1.3054555757453463E-2,0.1354517455574922,0.23437406753603202,0.64944002617005459,0.80584287984407366,0.78128805739897578,1.0152416812119138,0.7707577330066463,1.0160863817791463,8.3201919588660189E-2,{"$f":"+Spectre!C1878*N1879/L1879","v":0.8922547853576297},0.91239302606357053]
[5678,0.56779999999999997,3.1017673746430026,1.0122153057033623,8.580674238247106E-2,0.98803047233869512,1.3074152284810821E-2,0.13542073417721678,0.23430162884449868,0.64952667357494143,0.80589664626625279,0.78134765845371423,1.0153191295671544,0.77081976360855786,1.0161681564369367,8.3621675693645869E-2,{"$f":"+Spectre!C1879*N1880/L1880","v":0.89213611457725472},0.91227167687700583]
[5679,0.56789999999999996,3.1006751068903489,1.0122088417303561,8.5745772847152055E-2,0.98801261270061569,1.309377822901624E-2,0.13538973535624602,0.23422928643241431,0.64961321735268696,0.8059503448067874,0.78140718482936,1.0153964808809428,0.77088171674685846,1.0162498289748043,8.4040875650970293E-2,{"$f":"+Spectre!C1880*N1881/L1881","v":0.88811843234935306},0.9081633153351758]
[5680,0.56799999999999995,3.0995834159888913,1.0122023812998375,8.5684857557039459E-2,0.98799472657653498,1.3113433634228309E-2,0.13535874908728313,0.23415704027855089,0.64969965748419056,0.806003975467389,0.78146663652562198,1.0154737351529008,0.77094359242024935,1.016331399391037,8.4459519576540742E-2,{"$f":"+Spectre!C1881*N1882/L1882","v":0.88403512747629487},0.90398785004139603]
[5681,0.56810000000000005,3.0984923015325045,1.0121959244091936,8.5623996454116044E-2,0.98797681392766046,1.3133118544671658E-2,0.13532777536303703,0.23408489036182473,0.64978599395024172,0.8060575382496834,0.78152601354211704,1.0155508923825307,0.77100539062733819,1.0164128676837993,8.4877607585620574E-2,{"$f":"+Spectre!C1882*N1883/L1883","v":0.88374333218515166},0.90368946891411461]
[5682,0.56820000000000004,3.0974017631154211,1.0121894710558139,8.5563189480437146E-2,0.98795887471514443,1.3152833004637118E-2,0.13529681417622255,0.2340128366612968,0.64987222673151956,0.80611103315521049,0.78158531587836955,1.0156279525692145,0.77106711136663708,1.0164942338511296,8.5295139792451735E-2,{"$f":"+Spectre!C1883*N1884/L1884","v":0.88441829235452896},0.90437966297248973]
[5683,0.56830000000000003,3.0963118003322281,1.0121830212370906,8.5502436578130406E-2,0.98794090890008335,1.3172577058482456E-2,0.13526586551955913,0.23394087915617201,0.64995835580859329,0.80616446018542465,0.78164454353381196,1.015704915712214,0.77112875463656416,1.0165754978909425,8.5712116310676656E-2,{"$f":"+Spectre!C1884*N1885/L1885","v":0.88479094572194183},0.90476072714737144]
[5684,0.56840000000000002,3.0952224127778707,1.0121765749504181,8.544173768939585E-2,0.98792291644351848,1.3192350750631663E-2,0.13523492938577281,0.23386901782580033,0.65004438116192087,0.80621781934169312,0.7817036965077836,1.0157817818106716,0.77119032043544211,1.0166566598010272,8.6128537252960768E-2,{"$f":"+Spectre!C1885*N1886/L1886","v":0.884051089582501},0.90400417241323738]
[5685,0.56850000000000001,3.0941336000476496,1.0121701321931933,8.5381092756505725E-2,0.98790489730643527,1.3212154125575713E-2,0.13520400576759403,0.23379725264967546,0.65013030277185035,0.80627111062529833,0.7817627747995326,1.0158585508636098,0.77125180876149968,1.0167377195790481,8.6544402731170145E-2,{"$f":"+Spectre!C1886*N1887/L1887","v":0.88313477319720579},0.90306717471557185]
[5686,0.56859999999999999,3.0930453617372224,1.0121636929628151,8.532050172180429E-2,0.98788685144976374,1.3231987227872086E-2,0.13517309465775951,0.23372558360743589,0.65021612061861922,0.80632433403743586,0.78182177840821376,1.0159352228699301,0.77131321961287014,1.0168186772225447,8.6959712856393701E-2,{"$f":"+Spectre!C1887*N1888/L1888","v":0.88687115300650987},0.90688788482738969]
[5687,0.56869999999999998,3.0919576974426013,1.0121572572566859,8.525996452770801E-2,0.98786877883437796,1.3251850102145392E-2,0.13514219604901134,0.23365401067886474,0.65030183468235336,0.80637748957921518,0.7818807073328895,1.0160117978284147,0.77137455298759172,1.0168995327289307,8.7374467738809969E-2,{"$f":"+Spectre!C1888*N1889/L1889","v":0.89388707193883266},0.91406215344474762]
[5688,0.56879999999999997,3.0908706067601543,1.0121508250722091,8.5199481116705056E-2,0.9878506794210965,1.327174279308691E-2,0.13511130993409681,0.23358253384388877,0.65038744494306899,0.80643057725165979,0.7819395615725302,1.0160882757377254,0.77143580888360863,1.016980286095496,8.7788667487864736E-2,{"$f":"+Spectre!C1889*N1890/L1890","v":0.89993797924622077},0.9202496300705022]
[5689,0.56889999999999996,3.0897840892866033,1.012144396406792,8.513905143135557E-2,0.98783255317068175,1.3291665345455332E-2,0.13508043630576877,0.23351115308257966,0.65047295138067041,0.80648359705570716,0.78199834112601341,1.0161646565964035,0.77149698729876925,1.0170609373194039,8.8202312212115608E-2,{"$f":"+Spectre!C1890*N1891/L1891","v":0.89886368324147892},0.9191510871444909]
[5690,0.56899999999999995,3.0886981446190251,1.0121379712578429,8.5078675414291205E-2,0.98781440004384025,1.3311617804076414E-2,0.13504957515678578,0.2334398683751534,0.65055835397495132,0.80653654899220817,0.782057045992124,1.0162409404028705,0.77155808823082717,1.0171414863976933,8.8615402019298628E-2,{"$f":"+Spectre!C1891*N1892/L1892","v":0.89735401784505886},0.91760734851513615]
[5691,0.56910000000000005,3.0876127723548485,1.0121315496227734,8.5018353008215294E-2,0.98779622000122258,1.3331600213843125E-2,0.13501872647991159,0.23336867970197001,0.65064365270559432,0.80658943306192765,0.78211567616955424,1.0163171271554265,0.77161911167744102,1.0172219333272772,8.9027937016372682E-2,{"$f":"+Spectre!C1892*N1893/L1893","v":0.89486741818573323},0.91506462616159745]
[5692,0.56920000000000004,3.0865279720918601,1.0121251314989974,8.495808415590278E-2,0.98777801300342305,1.335161261971602E-2,0.13498789026791574,0.23329758704353454,0.65072884755216986,0.80664224926554395,0.7821742316569037,1.0163932168522518,0.77168005763617398,1.0173022781049437,8.9439917309475092E-2,{"$f":"+Spectre!C1893*N1894/L1894","v":0.89134036591427257},0.91145796812192936]
[5693,0.56930000000000003,3.0854437434281969,1.012118716883931,8.4897868800199908E-2,0.98775977901098011,1.3371655066722776E-2,0.13495706651357289,0.23322659038049559,0.65081393849413827,0.80669499760364927,0.78223271245267934,1.0164692094914067,0.77174092610449441,1.0173825207273548,8.9851343003788386E-2,{"$f":"+Spectre!C1894*N1895/L1895","v":0.88792400354700385},0.90796449826381853]
[5694,{"$f":"+A1896/10000","v":0.56940000000000002},{"$f":"+(1/B1896)^2","v":3.084360085962349},{"$f":"0.23465+1.076*100/(146-C1896)+0.93161/(41-C1896)","v":1.0121123057749928},{"$f":"9.4977*0.001*C1896^2*D1896*EXP(-h/7.996/1000)","v":8.4837706884024186E-2},{"$f":"+EXP(-0.0168*EXP(-15*ABS(B1896-0.59)))","v":0.98774151798437548},{"$f":"-2.5*LOG(F1896)","v":1.3391727599959191E-2},{"$f":"2.5*LOG(EXP(AOD*(B1896/0.55)^(-1.3)))","v":0.13492625520966328},{"$f":"+E1896+G1896+H1896","v":0.23315568969364664},{"$f":"10^(-0.4*I1896*ma)","v":0.65089892551084749},{"$f":"10^(-0.4*I1896)","v":0.80674767807674908},{"$f":"10^(-0.4*I1896*ma_ref)","v":0.78229111855529521},{"$f":"+L1896/M$1","v":1.0165451050708301},{"$f":"10^(-0.4*I1896*ma_target)","v":0.77180171707977518},{"$f":"+N1896/O$1","v":1.0174626611910476},{"$f":"(O1896/M1896-1)*100","v":9.0262214203828961E-2},{"$f":"+Spectre!C1895*N1896/L1896","v":0.88763637817053032},0.90767038116641552]
[5695,0.56950000000000001,3.0832769992931586,1.0121058981696036,8.4777598350364275E-2,0.98772322988403483,1.3411830264588458E-2,0.13489545634897276,0.23308488496392549,0.65098380858153393,0.80680029068526249,0.78234944996307232,1.01662090358834,0.77186243055929371,1.0175426994924324,9.0672531013158419E-2,{"$f":"+Spectre!C1896*N1897/L1897","v":0.88796623536838648},0.90800768325978587]
[5696,0.5696,3.0821944830198214,1.0120994940651868,8.4717543142280027E-2,0.98770491467032762,1.3431963105841317E-2,0.1348646699242925,0.23301417617241382,0.65106858768532294,0.8068528354295228,0.7824077066742392,1.0166966050416346,0.77192306654023257,1.0176226356277955,9.1082293534650027E-2,{"$f":"+Spectre!C1897*N1898/L1898","v":0.88800503288886523},0.90804735644248469]
[5697,0.56969999999999998,3.0811125367418821,1.0120930934591681,8.4657541202902184E-2,0.98768657230356638,1.3452126169016915E-2,0.13483389592841902,0.23294356330033811,0.65115326280122721,0.80690531230977591,0.78246588868693112,1.0167722094282912,0.77198362501967877,1.0177024695932966,9.1491501870266667E-2,{"$f":"+Spectre!C1898*N1899/L1899","v":0.88744283565081095},0.90747247038113688]
[5698,0.56979999999999997,3.0800311600592405,1.0120866963489761,8.4597592475432484E-2,0.98766820274400746,1.3472319499481994E-2,0.13480313435415431,0.2328730463290688,0.65123783390814804,0.80695772132618193,0.78252399599919087,1.0168477167457659,0.77204410599462348,1.0177822013849691,9.1900156121105248E-2,{"$f":"+Spectre!C1899*N1900/L1900","v":0.88686857314478607},0.90688524673804161]
[5699,0.56989999999999996,3.0789503525721447,1.0120803027320406,8.4537696903143306E-2,0.98764980595185026,1.3492543142671733E-2,0.13477238519430579,0.23280262524012083,0.65132230098487476,0.80701006247881402,0.78258202860896753,1.0169231269913941,0.77210450946196307,1.0178618309987215,9.2308256387552134E-2,{"$f":"+Spectre!C1900*N1901/L1901","v":0.88878281513718005},0.90884269327990386]
[5700,0.56999999999999995,3.0778701138811946,1.0120739126057949,8.4477854429377858E-2,0.98763138188723776,1.3512797144089178E-2,0.13474164844168657,0.2327323000151536,0.65140666401008396,0.8070623357676584,0.7826399865141177,1.0169984401623902,0.77216483541849745,1.0179413584303352,9.2715802769016697E-2,{"$f":"+Spectre!C1901*N1902/L1902","v":0.89180340547164494},0.91193145850816337]
[5701,0.57010000000000005,3.0767904435873392,1.0120675259676741,8.4418064997549752E-2,0.987612930510256,1.3533081549305865E-2,0.13471092408911498,0.23266207063597061,0.65149092296234046,0.80711454119261528,0.78269786971240429,1.0170736562558476,0.77222508386093192,1.0180207836754667,9.3122795364286581E-2,{"$f":"+Spectre!C1902*N1903/L1903","v":0.89439230013461024},0.91457878466932929]
[5702,0.57020000000000004,3.0757113412918797,1.0120611428151163,8.4358328551143349E-2,0.98759445178093408,1.3553396403961838E-2,0.13468021212941447,0.23259193708451967,0.65157507782009694,0.8071666787534979,0.78275567820149761,1.0171487752687387,0.77228525478587551,1.0181001067296458,9.3529234271128026E-2,{"$f":"+Spectre!C1903*N1904/L1904","v":0.89378531350815238},0.91395809832056174]
[5703,0.57030000000000003,3.0746328065964645,1.0120547631455612,8.4298645033713135E-2,0.98757594565924445,1.3573741753765299E-2,0.13464951255541441,0.23252189934289286,0.65165912856169317,0.80721874845003283,0.78281341197897447,1.0172237971979148,0.77234534818984157,1.018179327588276,9.3935119586596727E-2,{"$f":"+Spectre!C1904*N1905/L1905","v":0.89329277700184351},0.91345444523759411]
[5704,0.57040000000000002,3.0735548391030925,1.0120483869564509,8.4239014388883954E-2,0.98755741210510217,1.3594117644493489E-2,0.1346188253599491,0.23245195739332652,0.65174307516535679,0.80727075028185979,0.78287107104231868,1.0172987220401062,0.7724053640692482,1.0182584462466353,9.4340451406882408E-2,{"$f":"+Spectre!C1905*N1906/L1906","v":0.893353804050108},0.91351684966977154]
[5705,0.57050000000000001,3.07247743841411,1.0120420142452309,8.4179436560350887E-2,0.98753885107836537,1.3614524121992207E-2,0.1345881505358589,0.23238211121820201,0.65182691760920175,0.80732268424853137,0.78292865538891998,1.0173735497919212,0.77246530242041667,1.0183374626998742,9.4745229827353228E-2,{"$f":"+Spectre!C1906*N1907/L1907","v":0.89382351319689068},0.91399716017842403]
[5706,0.5706,3.0714006041322133,1.0120356450093477,8.4119911491879001E-2,0.98752026253883518,1.3634961232175844E-2,0.13455748807598877,0.23231236080004364,0.65191065587123098,0.80737455034951433,0.78298616501607599,1.0174482804498479,0.77252516323957365,1.0184163769430181,9.5149454942533573E-2,{"$f":"+Spectre!C1907*N1908/L1908","v":0.89410462895725651},0.91428462073731764]
[5707,0.57069999999999999,3.070324335860446,1.0120292792462513,8.406043912730346E-2,0.98750164644625527,1.3655429021027995E-2,0.13452683797318971,0.23224270612152115,0.65199428992933295,0.8074263485841876,0.78304359992098982,1.017522914010252,0.77258494652284915,1.0184951889709655,9.5553126846215086E-2,{"$f":"+Spectre!C1908*N1909/L1909","v":0.89299311064628462},0.91314801539553037]
[5708,0.57079999999999997,3.0692486332021991,1.0120229169533932,8.4001019410529176E-2,0.98748300276031198,1.3675927534601253E-2,0.13449620022031772,0.23217314716544815,0.65207781976128376,0.80747807895184331,0.78310096010077157,1.0175974504693783,0.77264465226627721,1.0185738987784876,9.5956245631212411E-2,{"$f":"+Spectre!C1909*N1910/L1910","v":0.89165279727858504},0.91177745107971253]
[5709,0.57089999999999996,3.068173495761211,1.0120165581282277,8.3941652285530896E-2,0.98746433144063439,1.3696456819017211E-2,0.13446557481023416,0.23210368391478226,0.65216124534474684,0.80752974145168732,0.78315824555243807,1.0176718898233506,0.7727042804657962,1.0186525063602305,9.6358811389607446E-2,{"$f":"+Spectre!C1910*N1911/L1911","v":0.89084825449597904},0.91095474972123758]
[5710,0.57099999999999995,3.0670989231415682,1.0120102027682114,8.3882337696353115E-2,0.98744563244679395,1.3717016920466854E-2,0.13443496173580613,0.23203431635262611,0.65224456665727149,0.80758133608283755,0.78321545627291211,1.0177462320681696,0.77276383111724822,1.0187310117107127,9.6760824212727137E-2,{"$f":"+Spectre!C1911*N1912/L1912","v":0.89092955256071182},0.91103788268786545]
[5711,0.57110000000000005,3.0660249149477021,1.0120038508708036,8.3823075587109802E-2,0.98742690573830472,1.3737607885210341E-2,0.13440436098990582,0.23196504446222596,0.6523277836762944,0.80763286284432545,0.78327259225902335,1.0178204771997161,0.77282330421637913,1.0188094148243256,9.716228419085482E-2,{"$f":"+Spectre!C1912*N1913/L1913","v":0.89099800055809275},0.91110787556039829]
[5712,0.57120000000000004,3.0649514707843912,1.0119975024334651,8.3763865901984466E-2,0.98740815127462311,1.3758229759577257E-2,0.13437377256541103,0.23189586822697275,0.65241089637913852,0.80768432173509541,0.7833296535075075,1.0178946252137482,0.77288269975883872,1.0188877156953351,9.7563191413696515E-2,{"$f":"+Spectre!C1913*N1914/L1914","v":0.89020053528458454},0.91029241145079964]
[5713,0.57130000000000003,3.0638785902567611,1.0119911574536595,8.370470858523002E-2,0.98738936901514762,1.3778882589967002E-2,0.13434319645520434,0.23182678763040138,0.65249390474301372,0.80773571275400458,0.78338664001500669,1.0179686761059024,0.77294201774018101,1.0189659143178793,9.7963545969981247E-2,{"$f":"+Spectre!C1914*N1915/L1915","v":0.88924646820547804},0.90931681102403961]
[5714,0.57140000000000002,3.0628062729702807,1.0119848159288534,8.3645603581168654E-2,0.9873705589192191,1.3799566422848452E-2,0.13431263265217414,0.23175780265619123,0.65257680874501578,0.80778703589982304,0.78344355177806946,1.018042629871694,0.77300125815586307,1.0190440106859699,9.836334794763868E-2,{"$f":"+Spectre!C1915*N1916/L1916","v":0.88871099347020444},0.90876925059386371]
[5715,0.57150000000000001,3.0617345185307658,1.0119784778565144,8.3586550834191697E-2,0.98735172094612067,1.3820281304760089E-2,0.13428208114921436,0.23168891328816615,0.65265960836212678,0.80783829117123329,0.78350038879315032,1.0181164865065155,0.77306042100124572,1.0191220047934906,9.8762597433754706E-2,{"$f":"+Spectre!C1916*N1917/L1917","v":0.88925923624142511},0.90932986723527631]
[5716,0.5716,3.0606633265443746,1.0119721432341138,8.3527550288759578E-2,0.98733285505507729,1.3841027282310518E-2,0.13425154193922406,0.23162011951029415,0.65274230357121499,0.80788947856683135,0.78355715105660972,1.0181902460056378,0.77311950627159376,1.0191998966341995,9.9161294514704679E-2,{"$f":"+Spectre!C1917*N1918/L1918","v":0.88979169003414904},0.90987433854005917]
[5717,0.57169999999999999,3.059592696617611,1.0119658120591239,8.3468601889401639E-2,0.98731396120525594,1.3861804402178232E-2,0.13422101501510739,0.23155142130668727,0.65282489434903512,0.80794059808512508,0.783613838564715,1.0182639083642102,0.7731785139620756,1.0192776862017265,9.9559439275909156E-2,{"$f":"+Spectre!C1918*N1919/L1919","v":0.89152851677866074},0.91165036556191259]
[5718,0.57179999999999997,3.0585226283573252,1.0119594843290207,8.3409705580716378E-2,0.98729503935576568,1.388261271111165E-2,0.13419050036977404,0.23148281866160206,0.65290738067222764,0.80799164972453608,0.78367045131363899,1.0183374735772597,0.77323744406776274,1.0193553734895751,9.9957031802011542E-2,{"$f":"+Spectre!C1919*N1920/L1920","v":0.89393040869106843},0.9141064683099196]
[5719,0.57189999999999996,3.0574531213707079,1.0119531600412817,8.3350861307370794E-2,0.98727608946565726,1.3903452255929479E-2,0.13415999799613898,0.23141431155943926,0.65298976251731866,0.80804263348339767,0.78372698929946072,1.0184109416396911,0.77329629658363064,1.019432958491121,0.10035407217683368,{"$f":"+Spectre!C1920*N1921/L1921","v":0.89575509780225637},0.91597234075700851]
[5720,0.57199999999999995,3.0563841752652943,1.0119468391933866,8.3292069014100717E-2,0.98725711149392315,1.3924323083520753E-2,0.13412950788712308,0.23134589998474453,0.65307203986071982,0.80809354935995603,0.78378345251816495,1.0184843125462872,0.77335507150455751,1.0195104411996123,0.10075056048330921,{"$f":"+Spectre!C1921*N1922/L1922","v":0.89399627209116028},0.91417381825065713]
[5721,0.57210000000000005,3.055315789648962,1.0119405217828181,8.3233328645710564E-2,0.98723810539949741,1.3945225240844968E-2,0.13409903003565138,0.2312775839222069,0.65315421267872908,0.80814439735237031,0.78383984096564252,1.0185575862917078,0.77341376882532531,1.01958782160817,0.10114649680368348,{"$f":"+Spectre!C1922*N1923/L1923","v":0.89205226879997013},{"$f":"+Q1923/R$1","v":0.91218593869581055}]
[5722,0.57220000000000004,3.0542479641299343,1.0119342078070608,8.3174640147073306E-2,0.98721907114125607,1.3966158774931731E-2,0.13406856443465512,0.23120936335666015,0.6532362809475295,0.80819517745871194,0.78389615463769047,1.0186307628704918,0.7734723885406195,1.019665099709788,0.1015418812192026,{"$f":"+Spectre!C1923*N1924/L1924","v":0.89136732932044771},0.91148554009369886]
[5723,0.57230000000000003,3.0531806983167722,1.0119278972636012,8.3116003463130167E-2,0.98720000867801627,1.3987123732881643E-2,0.13403811107707087,0.23114123827308269,0.65331824464318933,0.80824588967696431,0.78395239353001089,1.018703842277054,0.77353093064502854,1.0197422754973324,0.10193671381049096,{"$f":"+Spectre!C1924*N1925/L1925","v":0.89186510795984997},0.91199455362499871]
[5724,0.57240000000000002,3.0521139918183811,1.0119215901499292,8.3057418538890801E-2,0.9871809179685368,1.4008120161865829E-2,0.13400766995583971,0.23107320865659634,0.65340010374166291,0.80829653400502444,0.78400855763821276,1.0187768245056885,0.77358939513304403,1.0198193489635414,0.10233099465712936,{"$f":"+Spectre!C1925*N1926/L1926","v":0.89217061967899713},0.91230696076083584]
[5725,0.57250000000000001,3.0510478442440077,1.0119152864635363,8.2998885319433099E-2,0.98716179897151768,1.4029148109126312E-2,0.13397724106390915,0.23100527449246855,0.65348185821878857,0.80834711044070051,0.78406464695780931,1.0188497095505655,0.77364778199906059,1.0198963201010256,0.10272472383798803,{"$f":"+Spectre!C1926*N1927/L1927","v":0.89011704066071118},0.91020703234856781]
[5726,0.5726,3.0499822552032394,1.0119089862019164,8.2940403749902913E-2,0.98714265164560022,1.4050207621976054E-2,0.13394682439423092,0.23093743576610987,0.65356350805029095,0.80839761898171381,0.78412066148422055,1.0189224974057329,0.77370609123737644,1.0199731889022681,0.10311790143120447,{"$f":"+Spectre!C1927*N1928/L1928","v":0.88772713407440296},0.90776318543614476]
[5727,0.57269999999999999,3.0489172243060048,1.0119026893625653,8.288197377551422E-2,0.98712347594936722,1.407129874779872E-2,0.13391641993976278,0.2308696924630757,0.65364505321177924,0.80844805962569799,0.78417660121277222,1.0189951880651171,0.77376432284219254,1.0200499553596243,0.10351052751387257,{"$f":"+Spectre!C1928*N1929/L1929","v":0.88480956082348761},0.90477976239280644]
[5728,0.57279999999999998,3.0478527511625728,1.0118963959429823,8.2823595341548886E-2,0.98710427184134208,1.409242153404967E-2,0.13388602769346758,0.23080204456906614,0.6537264936787468,0.80849843237019847,0.78423246613869457,1.01906778152252,0.77382247680761229,1.0201266194653205,0.10390260216239788,{"$f":"+Spectre!C1929*N1930/L1930","v":0.88101824504731252},0.90090287640625444]
[5729,0.57289999999999996,3.0467888353835537,1.0118901059406678,8.2765268393356684E-2,0.98708503927998981,1.4113576028254887E-2,0.13385564764831298,0.23073449206992455,0.65380782942657334,0.80854873721267351,0.78428825625712473,1.0191402777716225,0.77388055312764326,1.0202031812114571,0.10429412545236438,{"$f":"+Spectre!C1930*N1931/L1931","v":0.87723988493779659},0.89703923849648703]
[5730,0.57299999999999995,3.0457254765798947,1.0118838193531248,8.2706992876354926E-2,0.98706577822371588,1.4134762278012228E-2,0.13382527979727291,0.23066703495164007,0.65388906043052131,0.8085989741504932,0.78434397156310387,1.019212676805981,0.77393855179619453,1.0202796405900045,0.10468509745846788,{"$f":"+Spectre!C1931*N1932/L1932","v":0.87742201711845513},0.89722548141071023]
[5731,0.57310000000000005,3.0446626743628831,1.0118775361778591,8.2648768736028652E-2,0.98704648863086708,1.4155980330990569E-2,0.1337949241333255,0.23059967320034472,0.65397018666573969,0.80864914318094017,0.78439961205158004,1.0192849786190308,0.77399647280707906,1.0203559975928063,0.10507551825462702,{"$f":"+Spectre!C1932*N1933/L1933","v":0.87898147922025749},0.89882014065988947]
[5732,0.57320000000000004,3.0436004283441496,1.0118712564123784,8.2590595917930623E-2,0.98702717045973065,1.4177230234930694E-2,0.13376458064945496,0.23053240680231629,0.65405120810726003,0.80869924430120832,0.78445517771740536,1.0193571832040822,0.77405431615401166,1.0204322522115767,0.10546538791391669,{"$f":"+Spectre!C1933*N1934/L1934","v":0.88025953830847725},0.90012704561363699]
[5733,0.57330000000000003,3.0425387381356575,1.0118649800541926,8.2532474367680672E-2,0.9870078236685349,1.4198512037644703E-2,0.13373424933865014,0.23046523574397551,0.65413212473000015,0.80874927750840475,0.78451066855533824,1.0194292905543243,0.77411208183061087,1.0205084044379031,0.10585470650859019,{"$f":"+Spectre!C1934*N1935/L1935","v":0.88032418178909555},0.90019314810124984]
[5734,0.57340000000000002,3.0414776033497133,1.0118587071008143,8.2474404030966356E-2,0.9869884482154484,1.4219825787016891E-2,0.13370393019390583,0.23039816001188906,0.65421293650876,0.80879924279954785,0.78456608456004162,1.0195013006628217,0.77416976983039687,1.0205844542632432,0.10624347411005708,{"$f":"+Spectre!C1935*N1936/L1936","v":0.88031769624367517},0.90018651617670442]
[5735,0.57350000000000001,3.0404170235989563,1.0118524375497582,8.2416384853542107E-2,0.98696904405858055,1.4241171531003143E-2,0.13367362320822129,0.23033117959276656,0.65429364341822538,0.80884914017156839,0.78462142572608407,1.0195732135225168,0.77422738014679304,1.0206604016789269,0.10663169078892754,{"$f":"+Spectre!C1936*N1937/L1937","v":0.88249131772790301},0.90240919642012452]
[5736,0.5736,3.0393569984963693,1.0118461713985407,8.2358416781229821E-2,0.98694961115598134,1.4262549317631216E-2,0.1336433283746018,0.23026429447346283,0.65437424543296518,0.80889896962130881,0.78467669204793933,1.0196450291262285,0.77428491277312506,1.0207362466761556,0.10701935661494577,{"$f":"+Spectre!C1937*N1938/L1938","v":0.88594391303501741},0.90593971699757192]
[5737,0.57369999999999999,3.0382975276552675,1.0118399086446814,8.2300499759918239E-2,0.98693014946564084,1.4283959195001363E-2,0.13361304568605714,0.23019750464097674,0.65445474252743308,0.80894873114552368,0.78473188351998635,1.0197167474666522,0.77434236770262133,1.0208119892460024,0.10740647165707884,{"$f":"+Spectre!C1938*N1939/L1939","v":0.88834235146334994},0.9083922883161738]
[5738,0.57379999999999998,3.0372386106893066,1.0118336492857019,8.2242633735563231E-2,0.98691065894548979,1.4305401211285623E-2,0.13358277513560296,0.23013081008245181,0.65453513467596536,0.80899842474087935,0.78478700013650882,1.0197883685363602,0.77439974492841257,1.0208876293794116,0.10779303598345003,{"$f":"+Spectre!C1939*N1940/L1940","v":0.88448022965487638},0.90444299820119067]
[5739,0.57389999999999997,3.0361802472124761,1.0118273933191257,8.2184818654187378E-2,0.9868911395533988,1.4326875414728817E-2,0.13355251671625995,0.23006421078517614,0.65461542185278265,0.80904805040395378,0.78484204189169537,1.0198598923278008,0.77445704444353125,1.0209631670671977,0.10817904966129444,{"$f":"+Spectre!C1940*N1941/L1941","v":0.87986941963080045},0.89972812193545604]
[5740,0.57399999999999995,3.0351224368391025,1.0118211407424789,8.2127054461880053E-2,0.98687159124717916,1.434838185364759E-2,0.13352227042105358,0.22999770673658121,0.6546956040319899,0.80909760813123777,0.7848970087796403,1.0199313188332999,0.7745142662409138,1.0210386023000491,0.10856451275718104,{"$f":"+Spectre!C1941*N1942/L1942","v":0.8768279413550466},0.89661799732389746]
[5741,0.57410000000000005,3.0340651791838487,1.0118148915532901,8.2069341104797397E-2,0.98685201398458178,1.4369920576431661E-2,0.13349203624301534,0.22993129792424438,0.65477568118757412,0.8091470979191322,0.78495190079434196,1.0200026480450586,0.77457141031339694,1.0211139350685223,0.10894942533665741,{"$f":"+Spectre!C1942*N1943/L1943","v":0.87604691071570917},0.89581933877908748]
[5742,0.57420000000000004,3.0330084738617149,1.01180864574909,8.2011678529162246E-2,0.98683240772329783,1.43914916315431E-2,0.13346181417518119,0.22986498433588654,0.65485565329340656,0.80919651976395091,0.78500671792970411,1.0200738799551554,0.7746284766537207,1.0211891653630465,0.10933378746449396,{"$f":"+Spectre!C1943*N1944/L1944","v":0.87502514323578828},0.89477450994965768]
[5743,0.57430000000000003,3.0319523204880325,1.0118024033274109,8.1954066681263593E-2,0.98681277242095844,1.4413095067516729E-2,0.13343160421059297,0.22979876595937329,0.65493552032324154,0.80924587366191891,0.78506146017953515,1.0201450145555444,0.77468546525452742,1.0212642931739224,0.10971759920481716,{"$f":"+Spectre!C1944*N1945/L1945","v":0.87588396138813618},0.89565271167602323]
[5744,0.57440000000000002,3.0308967186784703,1.0117961642857882,8.1896505507457015E-2,0.98679310803513443,1.4434730932960381E-2,0.13340140634229714,0.22973264278271455,0.65501528225071692,0.80929515960917309,0.78511612753754823,1.0202160518380563,0.77474237610836083,1.02133931849132,0.11010086062064328,{"$f":"+Spectre!C1945*N1946/L1946","v":0.87701587890507371},0.89681017663500251]
[5745,0.57450000000000001,3.0298416680490319,1.0117899286217598,8.1838994954164537E-2,0.98677341452333656,1.4456399276554665E-2,0.13337122056334585,0.22966661479406505,0.65509493904935279,0.8093443776017617,0.78517071999736099,1.0202869917943975,0.77479920920766698,1.0214142413052814,0.11048357177438906,{"$f":"+Spectre!C1946*N1947/L1947","v":0.877342930730312},0.89714461003833712]
[5746,0.5746,3.0287871682160525,1.0117836963328646,8.1781534967874048E-2,0.98675369184301509,1.4478100147053499E-2,0.13334104686679593,0.22960068198172348,0.65517449069255296,0.80939352763564443,0.7852252375524964,1.0203578344161515,0.77485596454479444,1.0214890616057193,0.11086573272749423,{"$f":"+Spectre!C1947*N1948/L1948","v":0.87603231500036083},0.89580441363762253]
[5747,0.57469999999999999,3.0277332187962043,1.0117774674166451,8.1724125495139868E-2,0.98673393995156011,1.4499833593283752E-2,0.13331088524570961,0.22953484433413324,0.65525393715360414,0.80944260970669313,0.7852796801963815,1.0204285796947772,0.77491264211199318,1.0215637793824173,0.11124734354066579,{"$f":"+Spectre!C1948*N1949/L1949","v":0.87471680378756556},0.89445921126274064]
[5748,0.57479999999999998,3.0266798194064903,1.0117712418706453,8.1666766482582157E-2,0.9867141588063012,1.4521599664145629E-2,0.13328073569315493,0.22946910183988273,0.65533327840567479,0.80949162381069006,0.78533404792234762,1.0204992276216087,0.77496924190141458,1.0216383946250285,0.11162840427372256,{"$f":"+Spectre!C1949*N1950/L1950","v":0.87698870840603282},0.8967823928962696]
[5749,0.57489999999999997,3.025626969664247,1.0117650196924115,8.160945787688699E-2,0.9866943483645072,1.4543398408612945E-2,0.13325059820220422,0.22940345448770416,0.65541251442181703,0.80954056994332957,0.78538834072363106,1.0205697781878573,0.7750257639051128,1.0217129073230777,0.1120089149857284,{"$f":"+Spectre!C1950*N1951/L1951","v":0.88099793268983162},0.90088210559772242]
[5750,0.57499999999999996,3.024574669187146,1.0117588008794927,8.1552199624806435E-2,0.98667450858338657,1.4565229875732773E-2,0.13322047276593518,0.22933790226647438,0.65549164517496539,0.8095894481002176,0.78544255859337275,1.0206402313846097,0.77508220811504347,1.0217873174659602,0.1123888757348368,{"$f":"+Spectre!C1951*N1952/L1952","v":0.8837361909039041},0.90368216645374755]
[5751,0.57509999999999994,3.0235229175931879,1.0117525854294398,8.1494991673158143E-2,0.98665463942008691,1.4587094114625958E-2,0.13319035937743121,0.22927244516521531,0.65557067063793584,0.80963825827687075,0.78549670152461737,1.0207105872028279,0.77513857452306334,1.0218616250429409,0.11276828657840188,{"$f":"+Spectre!C1952*N1953/L1953","v":0.87919473005122528},0.89903820457411021]
[5752,0.57520000000000004,3.0224717145007065,1.0117463733398058,8.1437833968825424E-2,0.986634740831695,1.4608991174487145E-2,0.13316025802978051,0.22920708317309307,0.65564959078342777,0.809687000468717,0.785550769510314,1.02078084563335,0.77519486312093133,1.0219358300431554,0.11314714757295619,{"$f":"+Spectre!C1953*N1954/L1954","v":0.87436741974087251},0.89410194159845657]
[5753,0.57530000000000003,3.0214210595283699,1.0117401646081463,8.138072645875731E-2,0.98661481277523688,1.4630921104584662E-2,0.13313016871607619,0.22914181627941815,0.65572840558402257,0.80973567467109597,0.78560476254331679,1.0208510066668899,0.77525107390030812,1.02200993245561,0.11352545877425513,{"$f":"+Spectre!C1954*N1955/L1955","v":0.87392492426032553},0.8936494589700178]
[5754,0.57540000000000002,3.0203709522951736,1.0117339592320191,8.1323669089968104E-2,0.98659485520767776,1.4652883954260681E-2,0.13310009142941684,0.22907664447364562,0.65580711501218325,0.80978428087925847,0.78565868061638366,1.020921070294037,0.77530720685275556,1.022083932269181,0.11390322023709931,{"$f":"+Spectre!C1955*N1956/L1956","v":0.87677328226274964},0.89656210457281205]
[5755,0.57550000000000001,3.0193213924204465,1.011727757208984,8.1266661809537538E-2,0.98657486808592143,1.467487977293184E-2,0.13307002616290647,0.22901156774537584,0.65588571904025506,0.80983281908836602,0.78571252372217604,1.0209910365052552,0.77536326196973693,1.0221578294726144,0.11428043201564542,{"$f":"+Spectre!C1956*N1957/L1957","v":0.87912517986654959},0.89896708463785324]
[5756,0.5756,3.0182723795238471,1.0117215585366031,8.120970456461063E-2,0.98655485136681076,1.4696908610088787E-2,0.1330399729096535,0.22894658608435292,0.65596421764046509,0.80988128929349146,0.78576629185326063,1.0210609052908857,0.77541923924261713,1.0222316240545264,0.11465709416298431,{"$f":"+Spectre!C1957*N1958/L1958","v":0.87737110855882006},0.89717342384202003]
[5757,0.57569999999999999,3.0172239132253647,1.0117153632124409,8.115279730239762E-2,0.98653480500712765,1.4718970515296182E-2,0.13300993166277225,0.22888169948046605,0.65604261078492243,0.80992969148961858,0.78581998500210748,1.0211306766411432,0.77547513866266249,1.0223053160034037,0.11503320673160733,{"$f":"+Spectre!C1958*N1959/L1959","v":0.87509656496566346},0.89484754367199448]
[5758,{"$f":"+A1960/10000","v":0.57579999999999998},{"$f":"+(1/B1960)^2","v":3.016175993145318},{"$f":"0.23465+1.076*100/(146-C1960)+0.93161/(41-C1960)","v":1.0117091712340642},{"$f":"9.4977*0.001*C1960^2*D1960*EXP(-h/7.996/1000)","v":8.1095939970173725E-2},{"$f":"+EXP(-0.0168*EXP(-15*ABS(B1960-0.59)))","v":0.98651472896359238},{"$f":"-2.5*LOG(F1960)","v":1.4741065538193477E-2},{"$f":"2.5*LOG(EXP(AOD*(B1960/0.55)^(-1.3)))","v":0.13297990241538166},{"$f":"+E1960+G1960+H1960","v":0.22881690792374887},{"$f":"10^(-0.4*I1960*ma)","v":0.65612089844561761},{"$f":"10^(-0.4*I1960)","v":0.80997802567164279},{"$f":"10^(-0.4*I1960*ma_ref)","v":0.78587360316109078},{"$f":"+L1960/M$1","v":1.0212003505461187},{"$f":"10^(-0.4*I1960*ma_target)","v":0.77553096022104051},{"$f":"+N1960/O$1","v":1.0223789053076022},{"$f":"(O1960/M1960-1)*100","v":0.11540876977307324},{"$f":"+Spectre!C1959*N1960/L1960","v":0.87103008259725168},0.89068928056773744]
[5759,0.57589999999999997,3.0151286189043565,1.0117029825990416,8.1039132515279305E-2,0.98649462319286407,1.4763193728494436E-2,0.1329498851606063,0.22875221140438004,0.65619908059442245,0.81002629183436947,0.78592714632248895,1.0212699269957783,0.77558670390881956,1.0224523919553474,0.11578378333800821,{"$f":"+Spectre!C1960*N1961/L1961","v":0.8641468749629535},0.88365071854986721]
[5760,0.57599999999999996,3.0140817901234569,1.0116967973049442,8.0982374885119501E-2,0.98647448765154033,1.4785355135987523E-2,0.13291987989157522,0.22868760991268225,0.65627715720309099,0.81007448997251574,0.78598061447848389,1.0213394059799628,0.7756423697169702,1.0225257759347361,0.1161582474765277,{"$f":"+Spectre!C1961*N1962/L1962","v":0.85725786881741517},0.87660622714803194]
[5761,0.57609999999999995,3.013035506423928,1.0116906153493457,8.0925667027164472E-2,0.98645432229615726,1.4807549810535926E-2,0.13288988660142315,0.22862310343912354,0.6563551282432577,0.81012262008070901,0.78603400762116193,1.021408787488389,0.77569795763636307,1.0225990572337329,0.11653216223748153,{"$f":"+Spectre!C1962*N1963/L1963","v":0.85985878695999129},0.87926584815941999]
[5762,0.57620000000000005,3.0119897674274023,1.0116844367298212,8.0869008888948712E-2,0.98643412708318934,1.4829777802077705E-2,0.13285990528328973,0.22855869197431614,0.65643299368643881,0.81017068215348809,0.7860873257425125,1.0214780715106473,0.7757534676577702,1.0226722358401725,0.11690552766925322,{"$f":"+Spectre!C1963*N1964/L1964","v":0.86500375578936484},0.8845269392247409]
[5763,0.57630000000000003,3.0109445727558475,1.0116782614439488,8.0812400418071903E-2,0.98641390196904954,1.4852039160625691E-2,0.13282993593031964,0.22849437550901724,0.65651075350403154,0.81021867618530208,0.78614056883442951,1.0215472580362044,0.77580889977186529,1.0227453117417604,0.11727834381927149,{"$f":"+Spectre!C1964*N1965/L1965","v":0.86786648890756823},0.88745428439048646]
[5764,0.57640000000000002,3.0098999220315523,1.0116720894893085,8.0755841562197797E-2,0.98639364691008879,1.4874333936268113E-2,0.13279997853566292,0.22843015403412881,0.6565884076673143,0.81026660217051139,0.78619373688871008,1.0216163470544013,0.77586425396922187,1.0228182849260696,0.11765061073405469,{"$f":"+Spectre!C1965*N1966/L1966","v":0.86270652541294479},0.88217786022947731]
[5765,0.57650000000000001,3.0088558148771365,1.0116659208634822,8.0699332269054722E-2,0.98637336186259639,1.4896662179168144E-2,0.13277003309247459,0.22836602754069746,0.65666595614744583,0.81031446010338637,0.78624682989705497,1.0216853385544533,0.77591953024031524,1.0228911553805435,0.11802232845938843,{"$f":"+Spectre!C1966*N1967/L1967","v":0.85763258188265368},0.87698939750823512]
[5766,0.5766,3.0078122509155483,1.0116597555640545,8.0642872486435618E-2,0.98635304678279967,1.4919023939564277E-2,0.13274009959391447,0.22830199601991435,0.65674339891546674,0.81036224997810891,0.78629984785106899,1.0217542325254514,0.77597472857552152,1.0229639230924952,0.11839349704025892,{"$f":"+Spectre!C1967*N1968/L1968","v":0.85577373450160354},0.87508859583721144]
[5767,0.57669999999999999,3.0067692297700588,1.011653593588612,8.0586462162197323E-2,0.98633270162686371,1.4941419267770725E-2,0.13271017803314822,0.22823805946311626,0.65682073594229673,0.81040997178877061,0.78635279074225972,1.0218230289563601,0.77602984896511662,1.0230365880491055,0.11876411652071983,{"$f":"+Spectre!C1968*N1969/L1969","v":0.85572285240015844},0.87503656532387397]
[5768,0.57679999999999998,3.0057267510642682,1.0116474349347435,8.0530101244261035E-2,0.98631232635089194,1.4963848214176706E-2,0.13268026840334576,0.22817421786178349,0.65689796719873805,0.81045762552937439,0.78640565856203914,1.02189172783602,0.77608489139927861,1.0231091502374261,0.11913418694406985,{"$f":"+Spectre!C1969*N1970/L1970","v":0.85619308679887673},0.87551741293942786]
[5769,0.57689999999999997,3.0046848144221028,1.0116412796000402,8.0473789680612084E-2,0.98629192091092521,1.498631082924756E-2,0.13265037069768257,0.22811047120754221,0.6569750926554716,0.81050521119383323,0.78645845130172209,1.0219603291531447,0.77613985586808509,1.0231816096443762,0.1195037083526973,{"$f":"+Spectre!C1970*N1971/L1971","v":0.86011745008020712},0.87953034932081209]
[5770,0.57699999999999996,3.0036434194678145,1.0116351275820954,8.041752741929975E-2,0.98627148526294239,1.5008807163524054E-2,0.13262048490933939,0.22804681949216321,0.65705211228305949,0.81055272877597062,0.78651116895252648,1.022028832896323,0.77619474236151476,1.0232539662567453,0.11987268078830216,{"$f":"+Spectre!C1971*N1972/L1972","v":0.86441452121430817},0.88392440559217345]
[5771,0.57709999999999995,3.0026025658259816,1.0116289788785042,8.0361314408437245E-2,0.98625101936285986,1.5031337267622999E-2,0.13259061103150141,0.22798326270756164,0.65712902605194445,0.8106001782695208,0.78656381150557442,1.0220972390540179,0.7762495508694468,1.0233262200611906,0.12024110429160739,{"$f":"+Spectre!C1972*N1973/L1973","v":0.86632426734994605},0.88587725480553958]
[5772,0.57720000000000005,3.0015622531215045,1.0116228334868647,8.0305150596201455E-2,0.98623052316653159,1.5053901192237165E-2,0.13256074905735946,0.22791980084579808,0.65720583393244869,0.81064755966812829,0.78661637895189063,1.022165547614567,0.77630428138166097,1.0233983710442389,0.12060897890258104,{"$f":"+Spectre!C1973*N1974/L1974","v":0.86530299363214169},0.88483293088246506]
[5773,0.57730000000000004,3.0005224809796127,1.0116166914047764,8.0249035930833268E-2,0.98620999662974906,1.5076498988135411E-2,0.13253089898010906,0.22785643389907773,0.65728253589477459,0.81069487296534748,0.78666887128240337,1.0222337585661818,0.7763589338878375,1.0234704191922861,0.12097630466036957,{"$f":"+Spectre!C1974*N1975/L1975","v":0.86446733371341178},0.88397841007235312]
[5774,0.57740000000000002,2.9994832490258578,1.0116105526298416,8.0192970360636995E-2,0.98618943970824124,1.5099130706162728E-2,0.13250106079295143,0.22779316185975115,0.6573591319090043,0.81074211815464359,0.78672128848794343,1.0223018718969474,0.77641350837755618,1.0235423644915946,0.12134308160323126,{"$f":"+Spectre!C1975*N1976/L1976","v":0.86818920865804383},0.88778428794388731]
[5775,0.57750000000000001,2.9984445568861151,1.0116044171596641,8.013695383398052E-2,0.98616885235767449,1.5121796397240364E-2,0.1324712344890919,0.22772998472031278,0.65743562194510108,0.81078929522939214,0.78677363055924576,1.0223698875948246,0.77646800484029876,1.023614206928299,0.12170930976866945,{"$f":"+Spectre!C1976*N1977/L1977","v":0.87263710598030342},0.89233257455895976]
[5776,0.5776,2.9974064041865849,1.0115982849918508,8.0080986299295304E-2,0.98614823453365197,1.5144496112366472E-2,0.1324414200617417,0.22766690247340349,0.65751200597290549,0.81083640418287806,0.7868258974869472,1.0224378056476464,0.77652242326544529,1.0236859464883987,0.12207498919327708,{"$f":"+Spectre!C1977*N1978/L1978","v":0.87497650824376905},0.89472477726313226]
[5777,0.57769999999999999,2.9963687905537917,1.01159215612401,8.0025067705076114E-2,0.9861275861917147,1.5167229902615029E-2,0.13241161750411681,0.22760391511180794,0.65758828396213975,0.81088344500829745,0.78687808926158842,1.0225056260431207,0.77657676364227757,1.0237575831577637,0.12244011991286996,{"$f":"+Spectre!C1978*N1979/L1979","v":0.87334607976018441},0.8930575499169412]
[5778,0.57779999999999998,2.9953317156145811,1.0115860305537527,7.9969197999880934E-2,0.98610690728734007,1.5189997819137453E-2,0.13238182680943777,0.22754102262845616,0.65766445588240519,0.81093041769875596,0.78693020587361273,1.0225733487688293,0.7766310259599768,1.0238291169221321,0.1228047019624201,{"$f":"+Spectre!C1979*N1980/L1980","v":0.87176545161542707},0.89144124690602677]
[5779,0.57789999999999997,2.9942951789961216,1.0115799082786918,7.9913377132330987E-2,0.98608619777594309,1.5212799913161268E-2,0.1323520479709312,0.22747822501642345,0.65774052170318165,0.81097732224726937,0.7869822473133663,1.0226409738122275,0.77668521020762449,1.0239005477671097,0.12316873537607798,{"$f":"+Spectre!C1980*N1981/L1981","v":0.87596381911214727},0.89573437179335824]
[5780,0.57799999999999996,2.9932591803259063,1.0115737892964425,7.9857605051110642E-2,0.98606545761287534,1.5235636235991248E-2,0.13232228098182769,0.22741552226892958,0.65781648139382942,0.81102415864676358,0.78703421357109837,1.0227085011606447,0.77673931637420213,1.0239718756781713,0.12353222018715027,{"$f":"+Spectre!C1981*N1982/L1982","v":0.88270849840283527},0.90263127887510908]
[5781,0.57809999999999995,2.9922237192317498,1.0115676736046222,7.9801881704967312E-2,0.98604468675342516,1.5258506839009301E-2,0.13229252583536363,0.22735291437934024,0.6578923349235869,0.81107092689007421,0.78708610463696016,1.0227759308012832,0.77679334444859094,1.0240431006406585,0.1238951564281221,{"$f":"+Spectre!C1982*N1983/L1983","v":0.88751184385126369},0.90754303610055642]
[5782,0.57820000000000005,2.9911887953417855,1.0115615612008499,7.9746207042711084E-2,0.98602388515281791,1.5281411773674133E-2,0.13226278252478024,0.22729040134116546,0.65796808226157222,0.81111762696994705,0.78713792050100673,1.0228432627212194,0.77684729441957201,1.0241142226397819,0.12425754413059042,{"$f":"+Spectre!C1983*N1984/L1984","v":0.8794249113117939},0.89927358103868038]
[5783,0.57830000000000004,2.9901544082844738,1.0115554520827479,7.9690581013215286E-2,0.98600305276621547,1.5304351091521892E-2,0.13223305104332356,0.22722798314806075,0.65804372337678207,0.81116425887903776,0.78718966115319466,1.0229104969074032,0.77690116627582684,1.0241852416606203,0.12461938332541944,{"$f":"+Spectre!C1984*N1985/L1985","v":0.87152082047285562},0.89119109442480393]
[5784,0.57840000000000003,2.9891205576885915,1.0115493462479397,7.9635003565415696E-2,0.9859821895487163,1.5327324844166046E-2,0.13220333138424456,0.2271656597938263,0.6581192582380927,0.81121082260991173,0.78724132658338442,1.0229776333466585,0.77695496000593645,1.02425615768812,0.12498067404258517,{"$f":"+Spectre!C1985*N1986/L1986","v":0.86736408100959395},0.88694053711798815]
[5785,0.57850000000000001,2.988087243183239,1.0115432436940515,7.9579474648310902E-2,0.98596129545535527,1.535033308329768E-2,0.13217362354079992,0.22710343127240851,0.65819468681425763,0.81125731815504376,0.78729291678133739,1.0230446720256805,0.77700867559838072,1.0243269707070941,0.12534141631124207,{"$f":"+Spectre!C1986*N1987/L1987","v":0.8659137896553194},{"$f":"+Q1987/R$1","v":0.88545751260625072}]
[5786,0.5786,2.9870544643978354,1.0115371444187113,7.9523994210961957E-2,0.98594037044110394,1.5373375860685132E-2,0.13214392750625051,0.22704129757789759,0.65827000907391087,0.81130374550681927,0.78734443173671897,1.0231116129310405,0.77706231304154039,1.0243976807022248,0.12570161015961201,{"$f":"+Spectre!C1987*N1988/L1988","v":0.86431689905787157},0.88382458009817355]
[5787,0.57869999999999999,2.9860222209621208,1.0115310484195499,7.9468562202492474E-2,0.98591941446086995,1.539645322817476E-2,0.13211424327386273,0.22697925870452995,0.65834522498556369,0.81135010465753254,0.78739587143909617,1.023178456049181,0.7771158723236955,1.0244682876580622,0.12606125561533954,{"$f":"+Spectre!C1988*N1989/L1989","v":0.86202353609343263},0.88147945580259712]
[5788,0.57879999999999998,2.9849905125061551,1.0115249556941992,7.9413178572088405E-2,0.9858984274694973,1.5419565237690596E-2,0.13208457083690772,0.22691731464668674,0.65842033451760607,0.81139639559938792,0.7874472358779383,1.0232452013664179,0.77716935343302507,1.0245387915590225,0.1264203527050034,{"$f":"+Spectre!C1989*N1990/L1990","v":0.85954760252176887},0.87894764027091887]
[5789,0.57889999999999997,2.9839593386603176,1.0115188662402943,7.9357843268998141E-2,0.98587740942176594,1.544271194123486E-2,0.13205491018866175,0.22685546539889476,0.65849533763830614,0.81144261832449904,0.78749852504261764,1.0233118488689414,0.77722275635760796,1.0246091923893899,0.12677890145436077,{"$f":"+Spectre!C1990*N1991/L1991","v":0.85976000650498385},0.87916483822398539]
[5790,0.57899999999999996,2.9829286990553072,1.0115127800554715,7.9302556242532102E-2,0.98585636027239232,1.5465893390887381E-2,0.13202526132240594,0.22679371095582543,0.65857023431581097,0.81148877282488963,0.78754973892240798,1.0233783985428131,0.7772760810854229,1.0246794901333172,0.12713690188854709,{"$f":"+Spectre!C1991*N1992/L1992","v":0.86445800048175381},0.88396886618913151]
[5791,0.57909999999999995,2.98189859332214,1.0115066971373703,7.9247317442062995E-2,0.98583527997602849,1.5489109638806581E-2,0.13199562423142658,0.22673205131229615,0.65864502451814499,0.81153485909249223,0.787600877506486,1.0234448503739686,0.77732932760434703,1.0247496847748228,0.1274943540316098,{"$f":"+Spectre!C1992*N1993/L1993","v":0.86909500531869277},0.88871052848612941]
[5792,0.57920000000000005,2.9808690210921513,1.0115006174836318,7.9192126817025449E-2,0.98581416848726255,1.5512360737229034E-2,0.13196599890901489,0.22667048646326937,0.65871970821321046,0.81158087711914928,0.78765194078392964,1.0235112043482155,0.77738249590215736,1.0248197762977929,0.12785125790690799,{"$f":"+Spectre!C1993*N1994/L1994","v":0.86983376698531478},0.88946596404513156]
[5793,0.57930000000000004,2.9798399819969981,1.011494541091899,7.9136984316916278E-2,0.98579302576061845,1.5535646738469709E-2,0.13193638534846719,0.22660901640385317,0.6587942853687877,0.81162682689661203,0.78770292874371972,1.0235774604512349,0.77743558596652973,1.0248897646859807,0.12820761353686816,{"$f":"+Spectre!C1994*N1995/L1995","v":0.86981676255408091},0.88944857582292802]
[5794,0.57940000000000003,2.9788114756686506,1.0114884679598173,7.9081889891293985E-2,0.98577185175055582,1.5558967694922144E-2,0.1319067835430843,0.22654764112930043,0.65886875595253513,0.81167270841654215,0.78775384137473903,1.0236436186685807,0.77748859778503998,1.0249596499230078,0.12856342094320627,{"$f":"+Spectre!C1995*N1996/L1996","v":0.86920313483502976},0.88882109849173374]
[5795,0.57950000000000002,2.9777835017393972,1.0114823980850343,7.9026843489778814E-2,0.98575064641147014,1.5582323659058329E-2,0.13187719348617241,0.22648636063500954,0.65894311993198917,0.81171852167050973,0.78780467866577186,1.0237096789856783,0.77754153134516246,1.0250294319923614,0.12891868014677232,{"$f":"+Spectre!C1996*N1997/L1997","v":0.86703646129346257},0.88660552300643103]
[5796,0.5796,2.9767560598418461,1.0114763314652,7.8971845062052931E-2,0.98572940969769218,1.5605714683429344E-2,0.13184761517104276,0.22642517491652503,0.65901737727456233,0.81176426664999413,0.78785544060550483,1.023775641387827,0.77759438663427016,1.0250991108773957,0.12927339116748371,{"$f":"+Spectre!C1997*N1998/L1998","v":0.86480745641489198},0.88432620936234185]
[5797,0.57969999999999999,2.9757291496089193,1.0114702680979659,7.8916894557859885E-2,0.98570814156348829,1.5629140820665029E-2,0.13181804859101146,0.22636408396953636,0.65909152794754566,0.81180994334638434,0.78790612718252584,1.0238415058601971,0.77764716363963571,1.0251686865613319,0.12962755402456949,{"$f":"+Spectre!C1998*N1999/L1999","v":0.86478955337916774},0.88430790225409406]
[5798,0.57979999999999998,2.9747027706738574,1.0114642079809861,7.8861991927004896E-2,0.98568684196306033,1.5652602123474118E-2,0.13178849373939933,0.22630308778987834,0.65916557191810743,0.81185555175097801,0.78795673838532543,1.0239072723878329,0.77769986234843058,1.0252381590272581,0.12998116873625953,{"$f":"+Spectre!C1999*N2000/L2000","v":0.86612800057216588},0.88567655827554248]
[5799,0.57989999999999997,2.973676922670216,1.0114581511119167,7.8807137119354553E-2,0.98566551085054532,1.5676098644644636E-2,0.1317589506095323,0.2262421863735315,0.6592395091532931,0.81190109185498249,0.78800727420229533,1.0239729409556499,0.77775248274772479,1.0253075282581292,0.13033423532009536,{"$f":"+Spectre!C2000*N2001/L2001","v":0.86733701893060233},0.88691286424635118]
[5800,0.57999999999999996,2.9726516052318672,1.0114520974884162,7.8752330084836869E-2,0.98564414818001567,1.5699630437043689E-2,0.13172941919474135,0.22618137971662189,0.65931333962002481,0.81194656364951379,0.78805773462172923,1.0240385115484365,0.77780502482448755,1.0253767942367666,0.13068675379273031,{"$f":"+Spectre!C2001*N2002/L2002","v":0.8681008829302721},0.88769396869947026]
[5801,0.58009999999999995,2.9716268179929992,1.0114460471081443,7.8697570773441056E-2,0.98562275390547882,1.5723197553617833E-2,0.13169989948836242,0.22612066781542131,0.6593870632851021,0.81199196712559696,0.78810811963182203,1.0241039841508526,0.77785748856558645,1.0254459569458578,0.13103872416997397,{"$f":"+Spectre!C2002*N2003/L2003","v":0.86887486969093741},0.88848542438487021]
[5802,0.58020000000000005,2.9706025605881123,1.0114399999687642,7.8642859135217458E-2,0.9856013279808773,1.5746800047393122E-2,0.13167039148373591,0.22606005066634649,0.65946068011520176,0.81203730227416615,0.78815842922067092,1.024169358747431,0.77790987395778821,1.0255150163679576,0.13139014646683655,{"$f":"+Spectre!C2003*N2004/L2004","v":0.86920527522481994},0.88882328719024184]
[5803,0.58030000000000004,2.9695788326520272,1.0114339560679402,7.8588195120277787E-2,0.98557987036008854,1.5770437971475242E-2,0.1316408951742081,0.22599952826596115,0.65953419007687597,0.81208256908606391,0.78820866337627338,1.0242346353225753,0.77796218098775705,1.0255839724854854,0.13174102069737348,{"$f":"+Spectre!C2004*N2005/L2005","v":0.86902647982715031},0.88864045637038735]
[5804,0.58040000000000003,2.9685556338198751,1.011427915403339,7.8533578678794513E-2,0.98555838099692517,1.5794111379049298E-2,0.13161141055312942,0.22593910061097322,0.65960759313655504,0.81212776755204252,0.78825882208652964,1.0242998138605623,0.77801440964205737,1.0256528252807291,0.13209134687501844,{"$f":"+Spectre!C2005*N2006/L2006","v":0.86887122523206517},0.88848169767035623]
[5805,0.58050000000000002,2.9675329637271024,1.0114218779726298,7.8479009761001098E-2,0.98553685984513417,1.5817820323380697E-2,0.13158193761385537,0.22587876769823717,0.65968088926054513,0.81217289766276213,0.78830890533924036,1.0243648943455397,0.77806655990715057,1.025721574735841,0.13244112501220595,{"$f":"+Spectre!C2006*N2007/L2007","v":0.86804200613105253},0.88763376304757979]
[5806,0.5806,2.9665108220094698,1.011415843773483,7.8424488317191857E-2,0.9855153068583975,1.5841564857814554E-2,0.13155247634974626,0.22581852952475268,0.65975407841502931,0.81221795940879271,0.78835891312210848,1.0244298767615281,0.77811863176939766,1.0257902208328404,0.13279035512052673,{"$f":"+Spectre!C2007*N2008/L2008","v":0.8670218878579955},0.88659062064770555]
[5807,0.58069999999999999,2.9654892083030493,1.0114098128035724,7.8370014297721793E-2,0.98549372199033181,1.5865345035775968E-2,0.13152302675416794,0.22575838608766569,0.65982716056606638,0.81226295278061178,0.78840884542273737,1.0244947610924189,0.77817062521505709,1.0258587635536125,0.13313903721081655,{"$f":"+Spectre!C2008*N2009/L2009","v":0.86729993400782912},0.88687494231478448]
[5808,0.58079999999999998,2.9644681222442304,1.0114037850605726,7.8315587653006682E-2,0.98547210519448813,1.5889160910770417E-2,0.13149358882049056,0.22569833738426764,0.6599001356795916,0.81230787776860625,0.7884587022286319,1.0245595473219751,0.77822254023028592,1.0259272028799078,0.13348717129302301,{"$f":"+Spectre!C2009*N2010/L2010","v":0.87020930074058345},0.88984997361838514]
[5809,0.58089999999999997,2.9634475634697122,1.0113977605421614,7.8261208333522916E-2,0.98545045642435214,1.5913012536383525E-2,0.13146416254208898,0.22563838341199544,0.65997300372141698,0.81235273436307176,0.78850848352719838,1.0246242354338322,0.7782743768011402,1.0259955387933442,0.13383475737633876,{"$f":"+Spectre!C2010*N2011/L2011","v":0.87314639398813865},0.89285335722578563]
[5810,0.58099999999999996,2.9624275316165081,1.0113917392460179,7.820687628980727E-2,0.98542877563334363,1.5936899966281604E-2,0.13143474791234391,0.22557852416843277,0.66004576465722942,0.81239752255421183,0.78855818930574362,1.0246888254114956,0.77832613491357272,1.0260637712754033,0.13418179546902387,{"$f":"+Spectre!C2011*N2012/L2012","v":0.87109951066749258},0.89076027563342997]
[5811,0.58109999999999995,2.9614080263219429,1.0113857211698238,7.815259147245697E-2,0.98540706277481682,1.5960823254211404E-2,0.13140534492464023,0.2255187596513086,0.660118418452592,0.8124422423321388,0.78860781955147574,1.0247533172383436,0.77837781455343513,1.0261319003074334,0.13452828557851682,{"$f":"+Spectre!C2012*N2013/L2013","v":0.86692515772755985},0.88649170731278371]
[5812,0.58120000000000005,2.9603890472236523,1.0113797063112626,7.8098353832129583E-2,0.98538531780206018,1.5984782454000288E-2,0.13137595357236753,0.22545908985849739,0.66019096507294484,0.81248689368687388,0.78865737425150439,1.0248177108976253,0.77842941570647772,1.0261999258706491,0.13487422771150115,{"$f":"+Spectre!C2013*N2014/L2014","v":0.86398012226937992},0.88348020223861778]
[5813,0.58130000000000004,2.9593705939595871,1.0113736946680201,7.8044163319542989E-2,0.98536354066829634,1.6008777619556359E-2,0.13134657384892107,0.22539951478802042,0.66026340448360199,0.81253147660834601,0.78870685339283908,1.0248820063724604,0.77848093835834742,1.0262678479461289,0.13521962187370562,{"$f":"+Spectre!C2014*N2015/L2015","v":0.86942747242547369},0.88905049939421577]
[5814,0.58140000000000003,2.9583526661680062,1.0113676862377843,7.7990019885475187E-2,0.9853417313266819,1.6032808804868747E-2,0.1313172057477002,0.22534003443804412,0.66033573664975431,0.81257599108639322,0.78875625696239138,1.0249462036458414,0.77853238249459056,1.0263356665148187,0.13556446807010403,{"$f":"+Spectre!C2015*N2016/L2016","v":0.87506259042117085},0.89481280232012117]
[5815,0.58150000000000002,2.9573352634874817,1.0113616810182451,7.7935923480764238E-2,0.98531988973030715,1.605687606400787E-2,0.13128784926210971,0.22528064880688181,0.6604079615364673,0.81262043711076093,0.78880558494697217,1.0250103027006296,0.7785837481006499,1.0264033815575275,0.1359087663048264,{"$f":"+Spectre!C2016*N2017/L2017","v":0.87437618193426037},0.89411090155504214]
[5816,0.58160000000000001,2.9563183855568949,1.0113556790070946,7.7881874056308253E-2,0.98529801583219678,1.608097945112473E-2,0.13125850438555889,0.22522135789299186,0.66048007910868267,0.81266481467110363,0.78885483733329487,1.02507430351956,0.77863503516186716,1.0264709930549316,0.13625251658111459,{"$f":"+Spectre!C2017*N2018/L2018","v":0.86882864859452458},0.88843816007571086]
[5817,0.58169999999999999,2.9553020320154371,1.0113496802020263,7.7827871563065074E-2,0.98527610958530865,1.6105119020452283E-2,0.13122917111146218,0.22516216169497955,0.66055208933121645,0.81270912375698368,0.78890401410797195,1.0251382060852359,0.77868624366348105,1.0265385009875712,0.13659571890143329,{"$f":"+Spectre!C2018*N2019/L2019","v":0.86351992558014934},0.88300961888421947]
[5818,0.58179999999999998,2.9542862025026118,1.0113436846007373,7.7773915952052672E-2,0.98525417094253476,1.6129294826304371E-2,0.13119984943323898,0.22510306021159604,0.66062399216876022,0.81275336435787138,0.78895311525751732,1.0252020103801329,0.77873737359062789,1.0266059053358514,0.13693837326731462,{"$f":"+Spectre!C2019*N2020/L2020","v":0.85914690618628387},0.87853790019659783]
[5819,0.58189999999999997,2.9532708966582297,1.0113376922009256,7.7720007174348543E-2,0.98523219985670041,1.6153506923076717E-2,0.131170539344313,0.22504405344173825,0.66069578758588077,0.81279753646314568,0.78900214076834541,1.0252657163865975,0.77878842492834255,1.0266732060800439,0.13728047967964674,{"$f":"+Spectre!C2020*N2021/L2021","v":0.85488470031768438},0.87417949610174195]
[5820,0.58199999999999996,2.9522561141224126,1.0113317030002913,7.7666145181089871E-2,0.98521019628056472,1.6177755365246349E-2,0.13114124083811315,0.22498514138444936,0.66076747554702009,0.81284164006209325,0.78905109062677115,1.0253293240868466,0.77883939766155641,1.0267404032002836,0.13762203813820761,{"$f":"+Spectre!C2021*N2022/L2022","v":0.8527906119241071},0.87203814401530322]
[5821,0.58209999999999995,2.9512418545355912,1.0113257169965371,7.76123299234735E-2,0.98518816016681998,1.6202040207372346E-2,0.13111195390807368,0.22492632403891952,0.66083905601649362,0.81288567514390853,0.78909996481900957,1.0253928334629674,0.77889029177509872,1.0268074966765715,0.13796304864219788,{"$f":"+Spectre!C2022*N2023/L2023","v":0.85492326525556805},0.87421893145244345]
[5822,{"$f":"+A2024/10000","v":0.58220000000000005},{"$f":"+(1/B2024)^2","v":2.9502281175385034},{"$f":"0.23465+1.076*100/(146-C2024)+0.93161/(41-C2024)","v":1.0113197341873676},{"$f":"9.4977*0.001*C2024^2*D2024*EXP(-h/7.996/1000)","v":7.7558561352755656E-2},{"$f":"+EXP(-0.0168*EXP(-15*ABS(B2024-0.59)))","v":0.98516609146809175},{"$f":"-2.5*LOG(F2024)","v":1.6226361504095774E-2},{"$f":"2.5*LOG(EXP(AOD*(B2024/0.55)^(-1.3)))","v":0.13108267854763256},{"$f":"+E2024+G2024+H2024","v":0.22486760140448397},{"$f":"10^(-0.4*I2024*ma)","v":0.66091052895849323},{"$f":"10^(-0.4*I2024)","v":0.81292964169769433},{"$f":"10^(-0.4*I2024*ma_ref)","v":0.78914876333117667},{"$f":"+L2024/M$1","v":1.0254562444969184},{"$f":"10^(-0.4*I2024*ma_target)","v":0.77894110725369625},{"$f":"+N2024/O$1","v":1.0268744864887724},{"$f":"(O2024/M2024-1)*100","v":0.13830351118977458},{"$f":"+Spectre!C2023*N2024/L2024","v":0.85661683888522644},0.8759507291342078]
[5823,0.58230000000000004,2.9492149027721997,1.0113137545704896,7.75048394202522E-2,0.98514399013693921,1.6250719310139307E-2,0.13105341475023372,0.22480897348062523,0.66098189433708399,0.81297353971246089,0.78919748614928797,1.0255195571705273,0.77899184408197275,1.0269413726166161,0.13864342577840638,{"$f":"+Spectre!C2024*N2025/L2025","v":0.86080453664781931},0.88023294347091241]
[5824,0.58240000000000003,2.9482022098780338,1.0113077781436113,7.7451164077338056E-2,0.98512185612585423,1.6275113680308255E-2,0.13102416250932555,0.22475044026697186,0.66105315211620586,0.81301736917712653,0.78924613325925963,1.0255827714654933,0.77904250224444926,1.0270081550396968,0.13898279240462941,{"$f":"+Spectre!C2025*N2026/L2026","v":0.86569368609315722},0.885232441294307]
[5825,0.58250000000000002,2.9471900384976699,1.0113018049044438,7.7397535275447488E-2,0.98509968938726222,1.6299544669489727E-2,0.13099492181836059,0.22469200176329779,0.66112430225967433,0.81306113008051806,0.78929470464690887,1.0256458873633862,0.77909308172554526,1.0270748337374747,0.1393216110642026,{"$f":"+Spectre!C2026*N2027/L2027","v":0.86755343131556173},0.88713416107101495]
[5826,0.58260000000000001,2.9461783882730788,1.0112958348507,7.734395296607402E-2,0.98507748987352117,1.6324012332653653E-2,0.13096569267079755,0.22463365796952522,0.6611953447311768,0.81310482241136861,0.78934320029795124,1.0257089048456445,0.77914358250957494,1.0271414086892712,0.13965988175195232,{"$f":"+Spectre!C2027*N2028/L2028","v":0.86081334602741533},0.88024195167870156]
[5827,0.5827,2.945167258846539,1.0112898679800948,7.7290417100770142E-2,0.98505525753692225,1.6348516724852179E-2,0.1309364750600987,0.22457540888572103,0.66126627949427719,0.81314844615832016,0.78939162019800413,1.0257718238935785,0.77919400458075216,1.0272078798742756,0.13999760446199438,{"$f":"+Spectre!C2028*N2029/L2029","v":0.85369456477893235},0.87296249913692037]
[5828,0.58279999999999998,2.944156649860636,1.011283904290345,7.7236927631147367E-2,0.98503299232968922,1.63730579012203E-2,0.13090726897973187,0.22451725451209953,0.66133710651241195,0.81319200130992164,0.78943996433258379,1.0258346444883675,0.77924434792318598,1.0272742472715388,0.14033477918746762,{"$f":"+Spectre!C2029*N2030/L2030","v":0.85392574740323601},0.87319889956606145]
[5829,0.58289999999999997,2.9431465609582608,1.0112779437791699,7.718348450887616E-2,0.9850106942039788,1.6397635916975555E-2,0.13087807442316948,0.22445919484902122,0.66140782574889201,0.81323548785463029,0.78948823268710688,1.0258973666110613,0.77929461252088339,1.0273405108599776,0.1406714059208003,{"$f":"+Spectre!C2030*N2031/L2031","v":0.85936696638616672},0.87876292716757309]
[5830,0.58299999999999996,2.9421369917826117,1.0112719864442905,7.71300876856858E-2,0.98498836311188009,1.6422250827418633E-2,0.13084889138388883,0.22440122989699327,0.66147843716690191,0.81327890578080986,0.78953642524688983,1.0259599902425793,0.77934479835774761,1.0274066706183715,0.14100748465348811,{"$f":"+Spectre!C2031*N2032/L2032","v":0.86398443545234926},0.88348461277036938]
[5831,0.58309999999999995,2.941127941977193,1.0112660322834301,7.7076737113364338E-2,0.98496599900541515,1.6446902687932807E-2,0.13081971985537186,0.22434335965666902,0.66154894072950055,0.81332225507673261,0.78958454199714934,1.0260225153637115,0.77939490541757961,1.0274727265253654,0.14134301537620519,{"$f":"+Spectre!C2032*N2033/L2033","v":0.86001293262660528},0.87942347290240197]
[5832,0.58320000000000005,2.9401194111858131,1.011260081294314,7.7023432743758391E-2,0.98494360183653784,1.6471591553985167E-2,0.13079055983110566,0.22428558412884922,0.66161933639961912,0.81336553573057735,0.78963258292300087,1.0260849419551159,0.77944493368407597,1.0275386785594665,0.14167799807884851,{"$f":"+Spectre!C2033*N2034/L2034","v":0.85580095369132447},0.87511642936557577]
[5833,0.58330000000000004,2.9391113990525888,1.0112541334746692,7.6970174528773402E-2,0.9849211715571351,1.6496317481125327E-2,0.1307614113045816,0.22422790331448034,0.66168962414006371,0.81340874773043115,0.78968054800946075,1.0261472699973224,0.77949488314083082,1.0276045266990472,0.14201243275038244,{"$f":"+Spectre!C2034*N2035/L2035","v":0.85284444267918336},0.8720931897335501]
[5834,0.58340000000000003,2.9381039052219391,1.0112481888222251,7.6916962420373117E-2,0.98489870811902558,1.6521080524986898E-2,0.13073227426929657,0.22417031721465658,0.66175980391351241,0.81345189106428706,0.78972843724144404,1.0262094994707289,0.77954475377133425,1.0276702709223424,0.14234631937892761,{"$f":"+Spectre!C2035*N2036/L2036","v":0.85150677417996845},0.87072532998104746]
[5835,0.58350000000000002,2.9370969293385873,1.0112422473347134,7.6863796370579704E-2,0.98487621147396054,1.6545880741286552E-2,0.13070314871875152,0.22411282583061778,0.66182987568251794,0.81349496572004709,0.78977625060376588,1.0262716303556032,0.77959454555897356,1.0277359112074516,0.14267965795184967,{"$f":"+Spectre!C2036*N2037/L2037","v":0.85015559430680432},0.86934365390212542]
[5836,0.58360000000000001,2.9360904710475642,1.0112363090098673,7.6810676331473815E-2,0.98485368157362307,1.6570718185824895E-2,0.13067403464645252,0.22405542916375124,0.66189983940950559,0.81353797168551933,0.78982398808114096,1.0263336626320831,0.77964425848703234,1.0278014475323378,0.14301244845564831,{"$f":"+Spectre!C2037*N2038/L2038","v":0.84958935686255055},0.86876463644689694]
[5837,0.5837,2.9350845299942017,1.0112303738454222,7.6757602255194249E-2,0.98483111836962844,1.6595592914486139E-2,0.1306449320459106,0.22399812721559098,0.66196969505677328,0.81358090894841906,0.78987164965818302,1.0263955962801752,0.77969389253869026,1.0278668798748269,0.14334469087591284,{"$f":"+Spectre!C2038*N2039/L2039","v":0.84923211261334208},0.86839932917488438]
[5838,0.58379999999999999,2.9340791058241353,1.0112244418391159,7.670457409393798E-2,0.98480852181352385,1.6620504983238374E-2,0.1306158409106411,0.22394091998781746,0.66203944258649261,0.81362377749636938,0.78991923531940567,1.0264574312797554,0.77974344769702408,1.0279322082126088,0.1436763851974554,{"$f":"+Spectre!C2039*N2040/L2040","v":0.8489305043365547},0.86809091358232071]
[5839,0.58389999999999997,2.9330741981833066,1.0112185129886879,7.6651591799960186E-2,0.98478589185678822,1.6645454448133819E-2,0.13058676123416477,0.22388380748225878,0.66210908196070739,0.81366657731689951,0.78996674504922137,1.0265191676105687,0.77979292394500588,1.0279974325232359,0.14400753140422218,{"$f":"+Spectre!C2040*N2041/L2041","v":0.84880184997706565},0.86795935548669956]
[5840,0.58399999999999996,2.9320698067179589,1.0112125872918798,7.6598655325574069E-2,0.9847632284508322,1.6670441365308881E-2,0.13055769301000633,0.22382678970088929,0.66217861314133464,0.81370930839744637,0.79001417883194236,1.0265808052522296,0.77984232126550479,1.0280625527841245,0.14433812947933777,{"$f":"+Spectre!C2041*N2042/L2042","v":0.84878785135499901},0.86794504091494529]
[5841,0.58409999999999995,2.9310659310746372,1.0112066647464355,7.6545764623150631E-2,0.98474053154699825,1.6695465790984049E-2,0.13052863623169608,0.22376986664583076,0.66224803609016325,0.81375197072535344,0.79006153665177969,1.0266423441842212,0.77989163964128549,1.0281275689725535,0.14466817940501642,{"$f":"+Spectre!C2042*N2043/L2043","v":0.84701622950466637},0.86613343345977489]
[5842,0.58420000000000005,2.9300625709001884,1.0112007453501002,7.6492919645118715E-2,0.98471780109656037,1.6720527781464281E-2,0.13049959089276847,0.22371303831935146,0.66231735076885601,0.81379456428787145,0.79010881849284398,1.0267037843858962,0.77994087905500964,1.0281924810656657,0.14499768116273959,{"$f":"+Spectre!C2043*N2044/L2044","v":0.84455554231325269},0.86361720842000678]
[5843,0.58430000000000004,2.9290597258417668,1.0111948291006219,7.6440120343965232E-2,0.98469503705072403,1.6745627393139041E-2,0.13047055698676335,0.22365630472386763,0.66238655713894601,0.81383708907215735,0.79015602433914411,1.0267651258364752,0.77999003948923373,1.0282572890404655,0.14532663473301177,{"$f":"+Spectre!C2044*N2045/L2045","v":0.84306950046272666},0.86209762652130606]
[5844,0.58440000000000003,2.9280573955468228,1.0111889159957506,7.6387366672234544E-2,0.98467223936062598,1.6770764682482571E-2,0.13044153450722437,0.22359966586194149,0.6624556551618408,0.81387954506527549,0.79020315417458897,1.0268263685150483,0.78003912092641126,1.0283219928738214,0.14565504009562691,{"$f":"+Spectre!C2045*N2046/L2046","v":0.84704080283930328},0.86615856141595715]
[5845,0.58450000000000002,2.9270555796631106,1.0111830060332376,7.6334658582528664E-2,0.98464940797733458,1.6795939706053559E-2,0.13041252344770082,0.22354312173628305,0.66252464479881878,0.81392193225419696,0.79025020798298595,1.0268875124005741,0.78008812334889099,1.0283865925424638,0.14598289722944635,{"$f":"+Spectre!C2046*N2047/L2047","v":0.85145634751006394},0.87067376517836614]
[5846,0.58460000000000001,2.9260542778386855,1.0111770992108371,7.6281996027507168E-2,0.98462654285184892,1.6821152520496128E-2,0.13038352380174636,0.22348667234974967,0.6625935260110305,0.8139642506257988,0.7902971857480412,1.02694855747188,0.78013704673891793,1.0284510880229865,0.14631020611250989,{"$f":"+Spectre!C2047*N2048/L2048","v":0.85190529129830261},0.87113284165316396]
[5847,0.5847,2.9250534897219032,1.0111711955263047,7.6229378959887059E-2,0.98460364393509969,1.6846403182538904E-2,0.13035453556291948,0.22343031770534544,0.66266229875949889,0.81400650016686538,0.79034408745335982,1.0270095037076612,0.78018589107863245,1.0285154792918452,0.14663696672203574,{"$f":"+Spectre!C2048*N2049/L2049","v":0.8484626976351175},0.86761254845731217]
[5848,0.58479999999999999,2.9240532149614213,1.0111652949773986,7.6176807332442836E-2,0.98458071117794843,1.6871691748995901E-2,0.13032555872478316,0.22337405780622188,0.66273096300511858,0.81404868086408744,0.79039091308244602,1.0270703510864827,0.78023465635007105,1.0285797663253586,0.14696317903435396,{"$f":"+Spectre!C2049*N2050/L2050","v":0.84538697376645577},0.86446740532788702]
[5849,0.58489999999999998,2.9230534532061969,1.0111593975618782,7.6124281098006133E-2,0.9845577445311875,1.6897018276766533E-2,0.13029659328090526,0.22331789265567792,0.66279951870865583,0.81409079270406215,0.79043766261870207,1.0271310995867766,0.78028334253516562,1.0286439490997077,0.14728884302497303,{"$f":"+Spectre!C2050*N2051/L2051","v":0.84598688360567442},{"$f":"+Q2051/R$1","v":0.86508085516592925}]
[5850,0.58499999999999996,2.9220542041054864,1.0111535032775061,7.6071800209465884E-2,0.9845347439455403,1.6922382822835421E-2,0.1302676392248589,0.22326182225716021,0.66286796583074825,0.81413283567329298,0.79048433604542911,1.0271917491868434,0.78033194961574326,1.028708027590935,0.14761395866857985,{"$f":"+Spectre!C2051*N2052/L2052","v":0.84723227695995862},0.86635435711828845]
[5851,0.58509999999999995,2.9210554673088476,1.0111476121220457,7.6019364619768243E-2,0.9845117093716611,1.6947785444272646E-2,0.13023869655022091,0.22320584661426179,0.66293630433190565,0.81417480975819023,0.79053093334582758,1.0272522998648532,0.78038047757352746,1.0287720017749473,0.14793852593895096,{"$f":"+Spectre!C2052*N2053/L2053","v":0.84621179403612889},0.86531084183745299]
[5852,0.58520000000000005,2.9200572424661351,1.011141724093263,7.5966974281916178E-2,0.98448864076013431,1.6973226198234527E-2,0.13020976525057362,0.22314996573072432,0.66300453417250838,0.81421671494507009,0.79057745450299499,1.0273127515988421,0.78042892639013595,1.0288358716275106,0.14826254480906353,{"$f":"+Spectre!C2053*N2054/L2054","v":0.84021062770555699},0.85917422884515993]
[5853,0.58530000000000004,2.9190595292275061,1.0111358391889258,7.5914629148969931E-2,0.98446553806147574,1.6998705141962302E-2,0.13018084531950361,0.22309417961043584,0.66307265531280934,0.81425855122015567,0.79062389949992895,1.0273731043667162,0.78047729604708338,1.028899637124256,0.14858601525107318,{"$f":"+Spectre!C2054*N2055/L2055","v":0.83436781085036438},0.85319953928481462]
[5854,0.58540000000000003,2.918062327243415,1.0111299574068044,7.5862329174046575E-2,0.98444240122613103,1.7024222332783862E-2,0.13015193675060271,0.22303848825743317,0.66314066771293068,0.81430031856957519,0.79067026831952403,1.0274333581462485,0.78052558652577786,1.0289632982406742,0.14890893723620291,{"$f":"+Spectre!C2055*N2056/L2056","v":0.83455862030304295},0.85339465531757552]
[5855,0.58550000000000002,2.9170656361646126,1.0111240787446707,7.5810074310319803E-2,0.98441923020447641,1.7049777828112934E-2,0.13012303953746696,0.22298289167589969,0.66320857133286726,0.81434201697936426,0.79071656094457388,1.0274935129150795,0.78057379780752423,1.0290268549521191,0.149231310734943,{"$f":"+Spectre!C2056*N2057/L2057","v":0.83691538778213836},0.8558046151712716]
[5856,0.58560000000000001,2.9160694556421514,1.0111182032002985,7.575786451102029E-2,0.98439602494681866,1.7075371685449228E-2,0.13009415367369737,0.22292738987016689,0.6632763661324842,0.81438364643546379,0.79076277735777012,1.0275535686507182,0.78062192987352164,1.0290903072338056,0.14955313571682893,{"$f":"+Spectre!C2057*N2058/L2058","v":0.83887926723250439},0.85781281949132493]
[5857,0.5857,2.9150737853273787,1.011112330771464,7.5705699729435208E-2,0.98437278540339446,1.7101003962379083E-2,0.13006527915289925,0.22287198284471355,0.66334405207151792,0.81442520692372122,0.79080891754170302,1.0276135253305418,0.78066998270486476,1.0291536550608111,0.14987441215061903,{"$f":"+Spectre!C2058*N2059/L2059","v":0.83954914133090897},0.85849781268581926]
[5858,0.58579999999999999,2.9140786248719404,1.0111064614559451,7.565357991890842E-2,0.98434951152437089,1.7126674716574995E-2,0.13003641596868312,0.22281667060416654,0.6634116291095753,0.81446669842988983,0.79085498147886035,1.0276733829317941,0.78071795628254304,1.0292168984080741,0.15019514000416123,{"$f":"+Spectre!C2059*N2060/L2060","v":0.84005982984586469},0.85902002746929018]
[5859,0.58589999999999998,2.9130839739277823,1.0111005952515213,7.5601505032840327E-2,0.98432620325984488,1.715238400579628E-2,0.13000756411466402,0.22276145315330062,0.66347909720613318,0.81450812093962877,0.79090096915162844,1.0277331414315867,0.78076585058744097,1.0292800372503945,0.15051531924454853,{"$f":"+Spectre!C2060*N2061/L2061","v":0.84422417868646382},0.86327836589751794]
[5860,0.58599999999999997,2.9120898321471422,1.0110947321559753,7.5549475024687632E-2,0.9843028605598434,1.7178131887888838E-2,0.12997872358446161,0.22270633049703809,0.66354645632053999,0.81454947443850312,0.79094688054229123,1.0277928008068988,0.78081366560033771,1.0293430715624337,0.15083494983791912,{"$f":"+Spectre!C2061*N2062/L2062","v":0.85128563923655343},0.87049920400951797]
[5861,0.58609999999999995,2.9110961991825586,1.011088872167091,7.5497489847963492E-2,0.98427948337432336,1.7203918420785315E-2,0.12994989437170018,0.22265130264044899,0.66361370641201411,0.81459075891198396,0.79099271563303075,1.0278523610345771,0.78086140130190762,1.0294060013187147,0.15115403174963404,{"$f":"+Spectre!C2062*N2063/L2063","v":0.85786204048975678},0.87722403500901047]
[5862,0.58620000000000005,2.9101030746868637,1.0110830152826535,7.5445549456237229E-2,0.98425607165317119,1.7229743662505629E-2,0.1299210764700085,0.22259636958875134,0.66368084743964439,0.81463197434544821,0.79103847440592734,1.0279118220913355,0.7809090576727199,1.0294688264936223,0.15147256494423278,{"$f":"+Spectre!C2063*N2064/L2064","v":0.85446547043719789},0.87375080417926598]
[5863,0.58630000000000004,2.9091104583131884,1.0110771615004517,7.5393653803134536E-2,0.98423262534620337,1.7255607671156373E-2,0.12989226987302097,0.22254153134731186,0.66374787936238888,0.81467312072417797,0.79108415684295796,1.0279711839537544,0.78095663469323739,1.0295315470614002,0.15179054938527781,{"$f":"+Spectre!C2064*N2065/L2065","v":0.85039528784282448},0.86958875733473928]
[5864,0.58640000000000003,2.9081183497149574,1.0110713108182749,7.5341802842337116E-2,0.98420914440316576,1.7281510504931593E-2,0.12986347457437528,0.222486787921644,0.6638148021390774,0.81471419803336176,0.7911297629259989,1.0280304465982828,0.78100413234381894,1.0295941629961558,0.15210798503559886,{"$f":"+Spectre!C2065*N2066/L2066","v":0.84746409325753147},0.86659140552274005]
[5865,0.58650000000000002,2.9071267485458914,1.0110654632339156,7.5289996527582712E-2,0.98418562877373361,1.7307452222112812E-2,0.12983469056771499,0.22243213931741052,0.66388161572840787,0.81475520625809272,0.79117529263682262,1.0280896100012351,0.78105155060471687,1.029656674271856,0.15242487185713749,{"$f":"+Spectre!C2066*N2067/L2067","v":0.84624991735511434},0.86534982560189289]
[5866,0.58660000000000001,2.9061356544600057,1.011059618745167,7.5238234812664992E-2,0.9841620784075118,1.7333432881068818E-2,0.12980591784668741,0.22237758554042122,0.66394832008894988,0.81479614538337108,0.79122074595710046,1.0281486741387944,0.78109888945607875,1.0297190808623293,0.15274120981096928,{"$f":"+Spectre!C2067*N2068/L2068","v":0.8449026764425035},0.86397217738608534]
[5867,0.5867,2.905145067111611,1.0110537773498258,7.518651765143361E-2,0.98413849325403435,1.7359452540256184E-2,0.12977715640494489,0.22232312659663467,0.66401491517914146,0.81483701539410103,0.79126612286840026,1.0282076389870087,0.78114614887794609,1.0297813827412645,0.15305699885737045,{"$f":"+Spectre!C2068*N2069/L2069","v":0.83999027430442008},0.85894890205536178]
[5868,0.58679999999999999,2.9041549861553126,1.0110479390456892,7.5134844997793937E-2,0.9841148732627647,1.7385511258219053E-2,0.12974840623614484,0.22226876249215782,0.66408140095729062,0.81487781627509293,0.79131142335218796,1.0282665045217942,0.78119332885025439,1.0298435798822108,0.15337223895568464,{"$f":"+Spectre!C2069*N2070/L2070","v":0.83380948401700306},0.85262861098341147]
[5869,0.58689999999999998,2.9031654112460092,1.0110421038305573,7.508321680570712E-2,0.98409121838309532,1.7411609093589533E-2,0.12971966733394846,0.2222144932332451,0.66414777738157527,0.81491854801106267,0.7913566473898267,1.0283252707189334,0.78124042935283455,1.0299056722585791,0.15368693006452272,{"$f":"+Spectre!C2070*N2071/L2071","v":0.82709686535442961},0.84576448813995553]
[5870,0.58699999999999997,2.9021763420388949,1.0110362717022319,7.5031633029189929E-2,0.98406752856434765,1.7437746105087863E-2,0.12969093969202244,0.22216031882630022,0.66421404441004184,0.81495921058663101,0.7914017949625769,1.0283839375540749,0.78128745036541025,1.0299676598436394,0.15400107214151859,{"$f":"+Spectre!C2071*N2072/L2072","v":0.81778486510046144},0.83624231551633954]
[5871,0.58709999999999996,2.9011877781894566,1.0110304426585166,7.4980093622314808E-2,0.98404380375577227,1.7463922351522176E-2,0.1296622233040374,0.22210623927787437,0.664280202000607,0.81499980398632432,0.79144686605159675,1.0284425050027353,0.78133439186760045,1.0300295426105235,0.15431466514348458,{"$f":"+Spectre!C2072*N2073/L2073","v":0.80834987172591632},0.82659437381049539]
[5872,0.58720000000000006,2.9001997193534734,1.0110246166972174,7.4928598539209509E-2,0.98402004390654829,1.7490137891789291E-2,0.12963351816366878,0.22205225459466757,0.66434625011105641,0.81504032819457417,0.79149186063794097,1.0285009730402956,0.78138125383891777,1.0300913205322229,0.15462770902647804,{"$f":"+Spectre!C2073*N2074/L2074","v":0.80252460993781438},0.82063763553609259]
[5873,0.58730000000000004,2.8992121651870191,1.0110187938161419,7.4877147734057362E-2,0.98399624896578397,1.7516392784873994E-2,0.12960482426459749,0.22199836478352886,0.66441218869904395,0.81508078319571664,0.79153677870256145,1.0285593416420042,0.78142803625876811,1.0301529935815883,0.15494020374555717,{"$f":"+Spectre!C2074*N2075/L2075","v":0.79860840030254043},0.816633036829015]
[5874,0.58740000000000003,2.8982251153464613,1.0110129740130998,7.4825741161097109E-2,0.98397241888251596,1.7542687089849924E-2,0.12957614160050751,0.22194456985145455,0.66447801772209358,0.81512116897399423,0.79158162022630774,1.0286176107829763,0.7814747391064526,1.030214561731333,0.15525214925506958,{"$f":"+Spectre!C2075*N2076/L2076","v":0.79364997351541378},0.81156269807032988]
[5875,0.58750000000000002,2.8972385694884562,1.0110071572859027,7.4774378774622535E-2,0.98394855360570976,1.7569020865879127E-2,0.129547470165089,0.22189086980559064,0.66454373713759729,0.81516148551355305,0.79162638518992612,1.0286757804381923,0.78152136236116521,1.0302760249540279,0.15556354550838591,{"$f":"+Spectre!C2076*N2077/L2077","v":0.78259159591656013},0.80025473226689892]
[5876,0.58760000000000001,2.8962525272699549,1.0110013436323646,7.4723060528982768E-2,0.98392465308425914,1.7595394172212685E-2,0.12951880995203532,0.22183726465323078,0.6646093469028167,0.81520173279844543,0.79167107357405986,1.0287338505824994,0.78156790600199433,1.0303373832221059,0.15587439245812185,{"$f":"+Spectre!C2077*N2078/L2078","v":0.77068367826390316},0.7880780522428531]
[5877,0.5877,2.8952669883482005,1.0109955330503004,7.4671786378582031E-2,0.98390071726698636,1.7621807068190519E-2,0.12949016095504587,0.22178375440181841,0.66467484697488088,0.81524191081262753,0.79171568535924863,1.02879182119061,0.78161437000792122,1.0303986365078575,0.15618469005593827,{"$f":"+Spectre!C2078*N2079/L2079","v":0.76375638962494585},0.78099441430956851]
[5878,0.58779999999999999,2.8942819523807262,1.0109897255375282,7.4620556277879557E-2,0.98387674610264186,1.7648259613241769E-2,0.1294615231678235,0.22173033905894482,0.66474023731078835,0.81528201953996127,0.79176022052592965,1.0288496922371031,0.78166075435782156,1.0304597847834351,0.15649443825278553,{"$f":"+Spectre!C2079*N2080/L2080","v":0.76381526346656869},0.78105461693710909]
[5879,0.58789999999999998,2.8932974190253575,1.010983921091867,7.456937018138958E-2,0.98385273953990449,1.7674751866884605E-2,0.12943289658407611,0.22167701863235029,0.66480551786740594,0.81532205896421273,0.79180467905443652,1.0289074636964235,0.78170705903046434,1.0305208280208498,0.15680363699861477,{"$f":"+Spectre!C2080*N2081/L2081","v":0.76357060595187509},0.78080443748854389]
[5880,0.58799999999999997,2.8923133879402103,1.0109781197111389,7.4518228043681231E-2,0.98382869752738122,1.7701283888726473E-2,0.1294042811975164,0.22162379312992411,0.66487068860146814,0.81536202906905331,0.7918490609249994,1.0289651355428813,0.78175328400451183,1.0305817661919718,0.15711228624257778,{"$f":"+Spectre!C2081*N2082/L2082","v":0.76007480618925927},0.77722973732860368]
[5881,0.58809999999999996,2.8913298587836915,1.0109723213931665,7.4467129819378391E-2,0.9838046200136068,1.7727855738464641E-2,0.12937567700186117,0.2215706625597042,0.66493574946957845,0.81540192983805859,0.79189336611774563,1.0290227077506531,0.78179942925852008,1.0306425992685324,0.15742038593300478,{"$f":"+Spectre!C2082*N2083/L2083","v":0.75606146562808074},0.77312581544515901]
[5882,0.58819999999999995,2.8903468312144973,1.0109665261357759,7.4416075463159703E-2,0.98378050694704411,1.775446747588574E-2,0.1293470839908325,0.22151762692987795,0.66500070042820736,0.81544176125470891,0.79193759461269808,1.0290801802937795,0.78184549477093823,1.0307033272221204,0.15772793601733781,{"$f":"+Spectre!C2083*N2084/L2084","v":0.7547115083390521},0.77174538954416516]
[5883,0.58830000000000005,2.8893643048916151,1.0109607339367939,7.4365064929758501E-2,0.98375635827608388,1.7781119160866148E-2,0.12931850215815618,0.22146468624878085,0.66506554143369501,0.81548152330238943,0.79198174638977736,1.0291375531461684,0.78189148052010882,1.0307639500241854,0.15803493644217514,{"$f":"+Spectre!C2084*N2085/L2085","v":0.75956414614228462},0.77670755165563776]
[5884,0.58840000000000003,2.8883822794743237,1.0109549447940498,7.431409817396277E-2,0.98373217394904455,1.7807810853372158E-2,0.1292899314975636,0.22141184052489854,0.66513027244224743,0.81552121596438965,0.79202582142879929,1.0291948262815918,0.78193738648426714,1.030824467646035,0.15834138715320467,{"$f":"+Spectre!C2085*N2086/L2086","v":0.76447195798439915},0.78172613308715422]
[5885,0.58850000000000002,2.8874007546221869,1.0109491587053747,7.4263175150614785E-2,0.98370795391417232,1.7834542613460003E-2,0.12926137200278995,0.22135908976686475,0.66519489340993976,0.81556083922390354,0.79206981970947665,1.0292519996736875,0.78198321264154258,1.0308848800588373,0.15864728809538153,{"$f":"+Spectre!C2086*N2087/L2087","v":0.76637175169802751},0.78366880525178617]
[5886,{"$f":"+A2088/10000","v":0.58860000000000001},{"$f":"+(1/B2088)^2","v":2.8864197299950618},{"$f":"0.23465+1.076*100/(146-C2088)+0.93161/(41-C2088)","v":1.0109433756686022},{"$f":"9.4977*0.001*C2088^2*D2088*EXP(-h/7.996/1000)","v":7.4212295814611501E-2},{"$f":"+EXP(-0.0168*EXP(-15*ABS(B2088-0.59)))","v":0.98368369811964063},{"$f":"-2.5*LOG(F2088)","v":1.7861314501276381E-2},{"$f":"2.5*LOG(EXP(AOD*(B2088/0.55)^(-1.3)))","v":0.12923282366757499},{"$f":"+E2088+G2088+H2088","v":0.22130643398346289},{"$f":"10^(-0.4*I2088*ma)","v":0.66525940429271446},{"$f":"10^(-0.4*I2088)","v":0.81560039306402954},{"$f":"10^(-0.4*I2088*ma_ref)","v":0.79211374121141886},{"$f":"+L2088/M$1","v":1.0293090732959589},{"$f":"10^(-0.4*I2088*ma_target)","v":0.78202895896995683},{"$f":"+N2088/O$1","v":1.0309451872336182},{"$f":"(O2088/M2088-1)*100","v":0.15895263921266167},{"$f":"+Spectre!C2087*N2088/L2088","v":0.76659403718810204},0.78389610773787799]
[5887,0.5887,2.8854392052530926,1.0109375956815667,7.4161460120904146E-2,0.98365940651355077,1.7888126577057881E-2,0.12920428648566387,0.22125387318362588,0.66532380504638089,0.81563987746777011,0.79215758591413032,1.0293660471217732,0.78207462544742457,1.0310053891412627,0.15925744044826828,{"$f":"+Spectre!C2088*N2089/L2089","v":0.76736852794234423},0.78468807879201818]
[5888,0.58879999999999999,2.884459180056711,1.0109318187421057,7.4110668024498089E-2,0.98363507904393133,1.7914978901131619E-2,0.12917576045080512,0.22120140737643482,0.66538809562661716,0.81567929241803272,0.79220135379701329,1.0294229211243646,0.78212021205175419,1.0310654857525159,0.15956169174446977,{"$f":"+Spectre!C2089*N2090/L2090","v":0.77165633740775086},0.78907266435830159]
[5889,0.58889999999999998,2.883479654066639,1.0109260448480579,7.4059919480453096E-2,0.98361071565873781,1.7941871533915632E-2,0.12914724555675289,0.22114903657112162,0.66545227598896706,0.81571863789762811,0.79224504483936464,1.0294796952768306,0.78216571876064556,1.0311254770379794,0.15986539304266856,{"$f":"+Spectre!C2090*N2091/L2091","v":0.77609231068871187},0.79360875780579254]
[5890,0.58899999999999997,2.8825006269438864,1.010920273997264,7.4009214443883045E-2,0.98358631630585347,1.7968804535918086E-2,0.12911874179726543,0.22109676077706655,0.66551634608884247,0.81575791388927166,0.79228865902037759,1.029536369552134,0.78221114555169247,1.0311853629681156,0.16016854428357874,{"$f":"+Spectre!C2091*N2092/L2092","v":0.77935795936361896},0.79694811235502561]
[5891,0.58909999999999996,2.8815220983497496,1.0109145061875673,7.3958552869955826E-2,0.98356188093308838,1.7995777967738234E-2,0.12909024916610551,0.22104458000379956,0.6655803058815225,0.81579712037558294,0.79233219631914187,1.0295929439231029,0.78225649240238115,1.0312451435132444,0.16047114540684859,{"$f":"+Spectre!C2092*N2093/L2093","v":0.78145262646627145},0.79909005621203599]
[5892,0.58919999999999995,2.8805440679458134,1.0109087414168119,7.3907934713893342E-2,0.98353740948817947,1.802279189006651E-2,0.12906176765704017,0.22099249426100001,0.66564415532215293,0.81583625733908571,0.79237565671464283,1.0296494183624301,0.78230175929009038,1.0313048186435443,0.16077319635132703,{"$f":"+Spectre!C2093*N2094/L2094","v":0.78361796263895822},0.80130426414396738]
[5893,0.58930000000000005,2.879566535393947,1.0109029796828448,7.3857359930971256E-2,0.98351290191879082,1.8049846363684147E-2,0.12903329726384191,0.22094050355849731,0.66570789436574607,0.81587532476220714,0.79241904018576104,1.0297057928426716,0.78234694619209133,1.0313643883290522,0.16107469705515243,{"$f":"+Spectre!C2094*N2095/L2095","v":0.78609963016206685},0.80384194304269718]
[5894,0.58940000000000003,2.8785895003563113,1.0108972209835145,7.3806828476519357E-2,0.98348835817251334,1.8076941449463597E-2,0.12900483798028706,0.22088860790627002,0.66577152296718145,0.81591432262727859,0.79246234671127336,1.0297620673362495,0.78239205308554793,1.0314238525396631,0.16137564745535293,{"$f":"+Spectre!C2095*N2096/L2096","v":0.78863581215874157},0.8064353668097286]
[5895,0.58950000000000002,2.8776129624953501,1.0108914653166716,7.3756340305921E-2,0.98346377819686437,1.8104077208369061E-2,0.12897638980015647,0.22083680731444652,0.66583504108120506,0.81595325091653559,0.79250557626985219,1.0298182418154496,0.78243707994751621,1.0314832112451304,0.16167604748831277,{"$f":"+Spectre!C2096*N2097/L2097","v":0.79139066750123244},0.80925239939229443]
[5896,0.58960000000000001,2.8766369214737955,1.010885712680168,7.370589537461332E-2,0.98343916193928826,1.8131253701455775E-2,0.12894795271723572,0.22078510179330482,0.66589844866242942,0.8159921096121171,0.79254872884006566,1.0298743162524222,0.78248202675494505,1.0315424644150659,0.16197589708946136,{"$f":"+Spectre!C2097*N2098/L2098","v":0.79460842578768354},0.81254278266430957]
[5897,0.5897,2.8756613769546626,1.0108799630718588,7.3655493638086961E-2,0.98341450934715557,1.8158470989871025E-2,0.12891952672531515,0.22073349135327314,0.66596174566533306,0.81603089869606571,0.79259180440037702,1.0299302906191818,0.78252689348467486,1.0316016120189382,0.16227519619329556,{"$f":"+Spectre!C2098*N2099/L2099","v":0.79791739861026867},0.81592643918967134]
[5898,0.58979999999999999,2.8746863286012547,1.0108742164895996,7.360513505188615E-2,0.98338982036776346,1.8185729134853699E-2,0.12889111181818905,0.22068197600492889,0.66602493204426183,0.81606961815032808,0.79263480292914557,1.0299861648876072,0.78257168011343914,1.0316606540260755,0.16257394473362385,{"$f":"+Spectre!C2099*N2100/L2100","v":0.79878991213056127},0.81681864538920668]
[5899,0.58989999999999998,2.87371177607716,1.0108684729312489,7.3554819571608657E-2,0.98336509494833546,1.821302819773455E-2,0.12886270798965654,0.22063055575899976,0.66608800775342702,0.81610826795675451,0.79267772440462558,1.0300419390294409,0.78261638661786281,1.0317195904056622,0.16287214264325556,{"$f":"+Spectre!C2100*N2101/L2101","v":0.79874187878283498},0.81676952792611968]
[5900,0.59,2.8727377190462517,1.0108627323946666,7.3504547152905594E-2,0.9833403330360212,1.8240368239936619E-2,0.1288343152335216,0.22057923062636381,0.6661509727469056,0.81614684809709814,0.79272056880496633,1.0300976130162893,0.78266101297446322,1.0317784211267413,0.16316978985422281,{"$f":"+Spectre!C2101*N2102/L2102","v":0.7990991443123947},0.81713485695878219]
[5901,0.59009999999999996,2.8717641571726862,1.0108569948777151,7.3454317751481327E-2,0.98336509494833546,1.821302819773455E-2,0.12880593354359227,0.22047327949280815,0.66628097102147021,0.8162264953471523,0.79280902037792511,1.0302125510635129,0.78275314378683203,1.0318998767538228,0.16378422962988193,{"$f":"+Spectre!C2102*N2103/L2103","v":0.80148740963107046},0.81957702556007006]
[5902,0.59019999999999995,2.8707910901209082,1.0108512603782576,7.3404131323093605E-2,0.98338982036776346,1.8185729134853699E-2,0.12877756291368112,0.2203674233716284,0.66641087805406207,0.81630607893528317,0.79289740248748741,1.0303273988468,0.782845202810868,1.0320212377426745,0.16439812216682004,{"$f":"+Spectre!C2103*N2104/L2104","v":0.80408259099298729},0.82223078031133656]
[5903,0.59030000000000005,2.869818517555641,1.01084552889416,7.3353987823553152E-2,0.98341450934715557,1.8158470989871025E-2,0.12874920333760528,0.22026166215102946,0.66654069391865911,0.81638559892541473,0.7929857152015789,1.0304421564544168,0.78293719011593343,1.0321425041847365,0.16501146810319334,{"$f":"+Spectre!C2104*N2105/L2105","v":0.80313779141589825},0.82126465655463587]
[5904,0.59040000000000004,2.8688464391418984,1.0108398004232904,7.3303887208724092E-2,0.98343916193928826,1.8131253701455775E-2,0.1287208548091866,0.22015599571936648,0.66667041868919785,0.81646505538140612,0.79307395858805929,1.0305568239745431,0.78302910577132523,1.0322636761713626,0.16562426807642527,{"$f":"+Spectre!C2105*N2106/L2106","v":0.79919046742670163},0.81722824124091709]
[5905,0.59050000000000002,2.8678748545449722,1.0108340749635183,7.3253829434523313E-2,0.98346377819686437,1.8104077208369061E-2,0.12869251732225145,0.22005042396514382,0.66680005243957297,0.81654444836705087,0.79316213271472302,1.030671401495274,0.78312094984627512,1.0323847537938209,0.16623652272307332,{"$f":"+Spectre!C2106*N2107/L2107","v":0.79533939279176402},0.81329024763479818]
[5906,0.59060000000000001,2.8669037634304404,1.0108283525127149,7.3203814456920716E-2,0.98348835817251334,1.8076941449463597E-2,0.12866419087063002,0.21994494677701434,0.66692959524363915,0.81662377794607932,0.79325023764929981,1.0307858891046209,0.78321272240995077,1.0325057371432944,0.16684823267880677,{"$f":"+Spectre!C2107*N2108/L2108","v":0.79113982498265778},0.80899589534396243]
[5907,0.5907,2.8659331654641642,1.010822633068754,7.3153842231939215E-2,0.98351290191879093,1.8049846363684022E-2,0.12863587544815794,0.21983956404378119,0.66705904717520781,0.81670304418215456,0.79333827345945307,1.0309002868905084,0.78330442353145358,1.0326266263108794,0.16745939857851777,{"$f":"+Spectre!C2108*N2109/L2109","v":0.78684289292654019},0.80460198128958249]
[5908,0.59079999999999999,2.8649630603122858,1.0108169166295105,7.3103912715654334E-2,0.98353740948817947,1.802279189006651E-2,0.1286075710486746,0.21973427565439543,0.66718840830804982,0.81678224713887648,0.79342624021278185,1.0310145949407781,0.78339605327982098,1.0327474213875876,0.16807002105621027,{"$f":"+Spectre!C2109*N2110/L2110","v":0.78373336380014469},0.80142226991585463]
[5909,0.59089999999999998,2.8639934476412305,1.0108112031928618,7.3054025864194475E-2,0.98356188093308838,1.7995777967738234E-2,0.12857927766602439,0.2196290814979571,0.66731767871589454,0.81686138687977938,0.79351413797681924,1.0311288133431855,0.78348761172402515,1.0328681224643448,0.16868010074513329,{"$f":"+Spectre!C2110*N2111/L2111","v":0.78315140572211206},0.80082717701125838]
[5910,0.59099999999999997,2.8630243271177078,1.0108054927566867,7.30041816337407E-2,0.98358631630585347,1.7968804535918086E-2,0.12855099529405578,0.21952398146371457,0.66744685847242913,0.81694046346833304,0.79360196681903383,1.0312429421854024,0.78357909893297328,1.0329887296319906,0.16928963827753662,{"$f":"+Spectre!C2111*N2112/L2112","v":0.78229373543451353},0.79995014905701411]
[5911,0.59109999999999996,2.8620556984087062,1.0107997853188666,7.295437998052659E-2,0.98361071565873781,1.7941871533915632E-2,0.12852272392662176,0.21941897544106398,0.66757594765130013,0.81701947696794286,0.79368972680682892,1.0313569815550157,0.78367051497550833,1.0331092429812809,0.16989863428502616,{"$f":"+Spectre!C2112*N2113/L2113","v":0.78360418238010476},0.80129017286389626]
[5912,0.59119999999999995,2.8610875611814972,1.010794080877284,7.2904620860838251E-2,0.98363507904393133,1.7914978901131619E-2,0.12849446355758018,0.21931406331955006,0.66770494632611099,0.81709842744194883,0.79377741800754209,1.0314709315395272,0.7837618599204077,1.0332296626028845,0.17050708939827519,{"$f":"+Spectre!C2113*N2114/L2114","v":0.78562426143276154},0.80335584521442605]
[5913,0.59130000000000005,2.8601199151036321,1.0107883794298236,7.2854904231014234E-2,0.98365940651355088,1.788812657705776E-2,0.12846621418079271,0.21920924498886471,0.66783385457042466,0.81717731495362689,0.79386504048844708,1.031584792226355,0.78385313383638455,1.0333499885873854,0.17111500424706882,{"$f":"+Spectre!C2114*N2115/L2115","v":0.78708160191619025},{"$f":"+Q2115/R$1","v":0.80484607795455931}]
[5914,0.59140000000000004,2.8591527598429476,1.0107826809743723,7.2805230047445643E-2,0.98368369811964063,1.7861314501276381E-2,0.12843797579012622,0.21910452033884825,0.66796267245776086,0.81725613956618792,0.79395259431675103,1.0316985637028318,0.78394433679208708,1.0334702210252824,0.17172237946052604,{"$f":"+Spectre!C2115*N2116/L2116","v":0.78666423080879222},0.80441928675778496]
[5915,0.59150000000000003,2.8581860950675568,1.0107769855088182,7.2755598266575641E-2,0.98370795391417232,1.7834542613460003E-2,0.12840974837945152,0.21899988925948716,0.66809140006159895,0.81733490134277897,0.79404007955959754,1.0318122460562065,0.78403546885609909,1.0335903600069891,0.17232921566678883,{"$f":"+Spectre!C2116*N2117/L2117","v":0.78599871925970011},0.80373875457558652]
[5916,0.59160000000000001,2.8572199204458539,1.0107712930310522,7.2706008844899736E-2,0.98373217394904466,1.7807810853372033E-2,0.12838153194264396,0.21889535164091573,0.6682200374553755,0.81741360034648203,0.79412749628406476,1.0319258393736439,0.78412653009693944,1.0337104056228337,0.1729355134931998,{"$f":"+Spectre!C2117*N2118/L2118","v":0.79196634337264571},0.80984106830051439]
[5917,0.5917,2.8562542356465159,1.0107656035389658,7.2656461738965616E-2,0.98375635827608388,1.7781119160866148E-2,0.12835332647358344,0.21879090737341522,0.66834858471248504,0.81749223664031501,0.79421484455716562,1.0320393437422235,0.78421752058306249,1.0338303579630592,0.17354127356632443,{"$f":"+Spectre!C2118*N2119/L2119","v":0.80309436271565349},0.82122024766618318]
[5918,0.59179999999999999,2.8552890403384956,1.010759917030454,7.2606956905372971E-2,0.98378050694704411,1.775446747588574E-2,0.12832513196615425,0.21868655634741296,0.66847704190628099,0.81757081028723133,0.79430212444584869,1.0321527592489415,0.7843084403828583,1.0339502171178241,0.1741464965118622,{"$f":"+Spectre!C2119*N2120/L2120","v":0.81353240081103761},0.83189387286864946]
[5919,0.59189999999999998,2.8543243341910296,1.0107542335034121,7.2557494300773601E-2,0.9838046200136068,1.7727855738464641E-2,0.12829694841424516,0.2185822984534834,0.66860540911007382,0.81764932135012014,0.79438933601699779,1.0322660859807096,0.7843992895646521,1.0340699831772009,0.17475118295469105,{"$f":"+Spectre!C2120*N2121/L2121","v":0.81140254257831446},0.82971594361578282]
[5920,0.59199999999999997,2.8533601168736307,1.0107485529557383,7.2508073881871152E-2,0.98382869752738122,1.7701283888726473E-2,0.12826877581174953,0.21847813358234716,0.66873368639713171,0.81772776989180596,0.79447647933743115,1.0323793240243548,0.78449006819670464,1.0341896562311776,0.17535533351886734,{"$f":"+Spectre!C2121*N2122/L2122","v":0.80857808165909129},0.8268277344547017]
[5921,0.59209999999999996,2.8523963880560927,1.0107428753853323,7.24586956054213E-2,0.98385273953990449,1.7674751866884605E-2,0.12824061415256485,0.21837406162487077,0.66886187384068119,0.81780615597504969,0.79456355447390314,1.0324924734666205,0.78458077634721202,1.0343092363696571,0.17595894882764807,{"$f":"+Spectre!C2122*N2123/L2123","v":0.80735417561752354},0.82557620478491589]
[5922,0.59219999999999995,2.8514331474084869,1.0107372007900954,7.2409359428231332E-2,0.98387674610264186,1.7648259613241769E-2,0.12821246343059317,0.21827008247206628,0.66898997151390704,0.81788447966254785,0.79465056149310331,1.0326055343941662,0.78467141408430663,1.0344287236824574,0.17656202950344646,{"$f":"+Spectre!C2123*N2124/L2124","v":0.80852153086991962},0.82676990731103672]
[5923,0.59230000000000005,2.8504703946011629,1.0107315291679315,7.2360065307160354E-2,0.98390071726698636,1.7621807068190519E-2,0.12818432363974075,0.21816619601509163,0.66911797948995155,0.81796274101693289,0.79473750046165681,1.032718506893568,0.78476198147605625,1.0345481182593124,0.17716457616778758,{"$f":"+Spectre!C2124*N2125/L2125","v":0.80969069133893934},0.82796545579762204]
[5924,0.59240000000000004,2.8495081293047515,1.0107258605167457,7.2310813199119237E-2,0.98392465308425914,1.7595394172212685E-2,0.1281561947739189,0.21806240214525083,0.66924589784191346,0.81804094010077266,0.79482437144612317,1.0328313910513163,0.78485247859046336,1.0346674201898693,0.17776658944148593,{"$f":"+Spectre!C2125*N2126/L2126","v":0.81220688066641311},0.8305384356597838]
[5925,0.59250000000000003,2.8485463511901576,1.0107201948344451,7.2261603061070281E-2,0.98394855360570976,1.7569020865879127E-2,0.12812807682704275,0.21795870075399215,0.669373726642851,0.81811907697657194,0.79491117451299809,1.0329441869538183,0.7849429054954673,1.0347866295636923,0.17836806994455667,{"$f":"+Spectre!C2126*N2127/L2127","v":0.81508967686926082},0.83348629673512298]
[5926,0.59260000000000002,2.8475850599285666,1.0107145321189392,7.2212434850027457E-2,0.98397241888251608,1.7542687089849802E-2,0.12809996979303223,0.21785509173290948,0.66950146596577864,0.81819715170677076,0.7949979097287132,1.0330568946873988,0.78503326225894265,1.0349057464702602,0.17896901829601575,{"$f":"+Spectre!C2127*N2128/L2128","v":0.8160837809031839},0.83450283775302236]
[5927,0.5927,2.8466242551914385,1.0107088723681383,7.2163308523055969E-2,0.98399624896578397,1.7516392784873994E-2,0.12807187366581108,0.21775157497374104,0.66962911588366947,0.81827516435374548,0.79508457715963465,1.0331695143382966,0.78512354894870007,1.0350247709989673,0.17956943511432399,{"$f":"+Spectre!C2128*N2129/L2129","v":0.80843979254774601},0.82668632415033294]
[5928,0.59279999999999999,2.8456639366505123,1.0107032155799553,7.2114224037272592E-2,0.98402004390654829,1.7490137891789291E-2,0.12804378843930816,0.21764815036837004,0.66975667646945325,0.81835311497980889,0.79517117687206518,1.033282045992669,0.78521376563248535,1.0351437032391224,0.18016932101678762,{"$f":"+Spectre!C2129*N2130/L2130","v":0.80138272248434228},0.81946997561855028]
[5929,0.59289999999999998,2.8447041039778038,1.0106975617523051,7.2065181349845325E-2,0.98404380375577227,1.7463922351522176E-2,0.12801571410745641,0.2175448178088239,0.6698841477960179,0.81843100364720955,0.79525770893224235,1.0333944897365879,0.78530391237798103,1.0352625432799516,0.18076867662029095,{"$f":"+Spectre!C2130*N2131/L2131","v":0.7925999915079972},0.81048901790993133]
[5930,0.59299999999999997,2.8437447568456053,1.0106919108831043,7.2016180417993542E-2,0.98406752856434765,1.7437746105087863E-2,0.1279876506641931,0.2174415771872745,0.67001152993620816,0.81850883041813227,0.79534417340633934,1.0335068456560417,0.78539398925280468,1.0353812912105944,0.18136750254063028,{"$f":"+Spectre!C2131*N2132/L2132","v":0.78293055021059377},0.80060133677841927]
[5931,0.59309999999999996,2.8427858949264833,1.0106862629702704,7.1967221198987449E-2,0.98409121838309532,1.7411609093589533E-2,0.12795959810346014,0.21733842839603712,0.6701388229628269,0.81858659535469869,0.79543057036046605,1.0336191138369366,0.78548399632451027,1.0354999471201072,0.18196579939284696,{"$f":"+Spectre!C2132*N2133/L2133","v":0.77423198973564089},0.79170644930414458]
[5932,0.59319999999999995,2.8418275178932833,1.0106806180117245,7.1918303650148771E-2,0.9841148732627647,1.7385511258219053E-2,0.12793155641920353,0.21723537132757137,0.67026602694863358,0.81866429851896616,0.79551689986066687,1.033731294365094,0.78557393366058781,1.0356185110974616,0.1825635677912496,{"$f":"+Spectre!C2133*N2134/L2134","v":0.77172732044636372},0.78914524948808962]
[5933,0.59330000000000005,2.8408696254191237,1.0106749760053879,7.1869427728849897E-2,0.98413849325403446,1.735945254025606E-2,0.12790352560537391,0.21713240587447985,0.67039314196634581,0.81874193997292888,0.79560316197292302,1.0338433873262527,0.78566380132846314,1.0357369832315446,0.18316080834923643,{"$f":"+Spectre!C2134*N2135/L2135","v":0.76993139353455153},0.78730878840483465]
[5934,0.59340000000000004,2.8399122171774023,1.0106693369491848,7.1820593392514495E-2,0.9841620784075118,1.7333432881068818E-2,0.1278755056559262,0.21702953192950952,0.67052016808863713,0.81881951977851686,0.79568935676315045,1.0339553928060672,0.7857535993954976,1.0358553636111587,0.1837575216794507,{"$f":"+Spectre!C2135*N2136/L2136","v":0.76996305788249342},0.78734116741889115]
[5935,0.59350000000000003,2.8389552928417867,1.0106637008410406,7.1771800598616819E-2,0.98418562877373361,1.7307452222112812E-2,0.12784749656481953,0.21692674938554918,0.67064710538813999,0.81889703799759739,0.79577548429720213,1.0340673108901095,0.78584332792898981,1.0359736523250231,0.18435370839375853,{"$f":"+Spectre!C2136*N2137/L2137","v":0.77269999528495448},0.79013987765251248]
[5936,0.59360000000000002,2.837998852086224,1.0106580676788832,7.1723049304682207E-2,0.98420914440316576,1.7281510504931593E-2,0.12781949832601777,0.21682405813563158,0.67077395393744277,0.81897449469197414,0.79586154464086611,1.0341791416638679,0.7859329869961732,1.0360918494617717,0.18494936910316007,{"$f":"+Spectre!C2137*N2138/L2138","v":0.77525854281949724},0.79275617174885993]
[5937,0.59370000000000001,2.8370428945849335,1.0106524374606418,7.167433946828658E-2,0.98423262534620337,1.7255607671156373E-2,0.12779151093348903,0.21672145807293197,0.67090071380909133,0.8190518899233864,0.79594753785986638,1.034290885212747,0.78602257666421815,1.0362099551099544,0.18554450441787829,{"$f":"+Spectre!C2138*N2139/L2139","v":0.77766275946269214},0.79521465169695882]
[5938,0.59379999999999999,2.8360874200124089,1.0106468101842474,7.1625671047056527E-2,0.98425607165317119,1.7229743662505629E-2,0.12776353438120547,0.21661894909076762,0.67102738507558912,0.81912922375351171,0.79603346401986386,1.0344025416220697,0.78611209700023132,1.0363279693580378,0.18613911494733681,{"$f":"+Spectre!C2139*N2140/L2140","v":0.78004997732300241},0.79765574919868698]
[5939,0.59389999999999998,2.8351324280434178,1.0106411858476334,7.1577043998669362E-2,0.98427948337432336,1.7203918420785315E-2,0.12773556866314389,0.21651653108259858,0.67115396780939607,0.81920649624396302,0.79611932318645462,1.0345141109770746,0.78620154807125509,1.0364458922944035,0.1867332013001155,{"$f":"+Spectre!C2140*N2141/L2141","v":0.78242759437937681},0.80008702920579422]
[5940,0.59399999999999997,2.8341779183530029,1.0106355644487344,7.1528458280852844E-2,0.9843028605598434,1.7178131887888838E-2,0.12770761377328568,0.21641420394202737,0.67128046208292902,0.81928370745629064,0.79620511542517081,1.0346255933629172,0.78629092994426819,1.0365637240073495,0.18732676408406146,{"$f":"+Spectre!C2141*N2142/L2142","v":0.78478232211416565},0.80249490327803996]
[5941,0.59409999999999996,2.8332238906164791,1.0106299459854871,7.147991385138526E-2,0.98432620325984488,1.715238400579628E-2,0.12767966970561614,0.21631196756279769,0.6714068679685623,0.81936085745198128,0.79629084080148127,1.0347369888646707,0.78638024268618578,1.0366814645850897,0.18791980390615581,{"$f":"+Spectre!C2142*N2143/L2143","v":0.78714885356709752},0.80491484747901132]
[5942,0.59419999999999995,2.8322703445094346,1.01062433045583,7.143141066809526E-2,0.98434951152437089,1.7126674716574995E-2,0.12765173645412517,0.21620982183879542,0.67153318553862695,0.81943794629245914,0.79637649938079036,1.0348482975673245,0.78646948636385938,1.0367991141157538,0.18851232137262475,{"$f":"+Spectre!C2143*N2144/L2144","v":0.78880228485454529},0.80660559680364285]
[5943,0.59430000000000005,2.8313172797077306,1.0106187178577035,7.138294868886183E-2,0.98437278540339457,1.7101003962378961E-2,0.12762381401280704,0.21610776666404782,0.6716594148654107,0.81951497403908458,0.79646209122843925,1.0349595195557859,0.78655866104407679,1.0369166726873882,0.18910431708887288,{"$f":"+Spectre!C2144*N2145/L2145","v":0.78998862104773548},0.80781870867145944]
[5944,0.59440000000000004,2.8303646958875022,1.0106131081890499,7.1334527871614317E-2,0.98439602494681866,1.7075371685449228E-2,0.12759590237566021,0.21600580193272376,0.67178555602115819,0.81959194075315511,0.79654761640970451,1.0350706549148785,0.78664776679356219,1.0370341403879551,0.18969579165954986,{"$f":"+Spectre!C2145*N2146/L2146","v":0.79103626254431336},0.80888999549555796]
[5945,0.59450000000000003,2.8294125927251557,1.0106075014478129,7.1286148174332153E-2,0.98441923020447641,1.7049777828112934E-2,0.12756800153668746,0.21590392753913254,0.67191160907807135,0.81966884649590577,0.79663307498980029,1.0351817037293443,0.78673680367897647,1.0371515173053329,0.1902867456884394,{"$f":"+Spectre!C2146*N2147/L2147","v":0.790275929842706},0.80811250204209717]
[5946,0.59460000000000002,2.8284609698973684,1.0106018976319384,7.123780955504487E-2,0.98444240122613103,1.7024222332783862E-2,0.12754011148989619,0.21580214337772491,0.67203757410830856,0.81974569132850805,0.79671846703387605,1.0352926660838415,0.78682577176691681,1.0372688035273165,0.19087717977854801,{"$f":"+Spectre!C2147*N2148/L2148","v":0.78932738609355457},0.80714254960716003]
[5947,0.59470000000000001,2.8275098270810912,1.0105962967393742,7.1189511971832181E-2,0.98446553806147574,1.6998705141962302E-2,0.127512232229298,0.21570044934309249,0.67216345118398413,0.81982247531207053,0.79680379260701761,1.0354035420629457,0.78691467112391644,1.0373859991416168,0.1914670945321717,{"$f":"+Spectre!C2148*N2149/L2149","v":0.79041338787846549},0.80825306251345741]
[5948,0.5948,2.8265591639535468,1.0105906987680695,7.1141255382823759E-2,0.98448864076013443,1.6973226198234406E-2,0.12748436374890837,0.21559884532996654,0.67228924037717097,0.81989919850763948,0.79688905177424796,1.035514331751151,0.78700350181644652,1.0375031042358618,0.19205649055069607,{"$f":"+Spectre!C2149*N2150/L2150","v":0.79367684519973758},0.81159017625008067]
[5949,0.59489999999999998,2.8256089801922268,1.0105851037159757,7.1093039746199127E-2,0.9845117093716611,1.6947785444272646E-2,0.12745650604274789,0.21549733123321965,0.67241494175989658,0.8199758609761979,0.79697424460052579,1.0356250352328673,0.78709226391091314,1.0376201188975944,0.19264536843477398,{"$f":"+Spectre!C2150*N2151/L2151","v":0.79674631705782639},0.81472892626070248]
[5950,{"$f":"+A2152/10000","v":0.59499999999999997},{"$f":"+(1/B2152)^2","v":2.8246592754748958},{"$f":"0.23465+1.076*100/(146-C2152)+0.93161/(41-C2152)","v":1.0105795115810456},{"$f":"9.4977*0.001*C2152^2*D2152*EXP(-h/7.996/1000)","v":7.1044865020187656E-2},{"$f":"+EXP(-0.0168*EXP(-15*ABS(B2152-0.59)))","v":0.9845347439455403},{"$f":"-2.5*LOG(F2152)","v":1.6922382822835421E-2},{"$f":"2.5*LOG(EXP(AOD*(B2152/0.55)^(-1.3)))","v":0.12742865910484122},{"$f":"+E2152+G2152+H2152","v":0.21539590694786431},{"$f":"10^(-0.4*I2152*ma)","v":0.67254055540414581},{"$f":"10^(-0.4*I2152)","v":0.82005246277866595},{"$f":"10^(-0.4*I2152*ma_ref)","v":0.79705937115074643},{"$f":"+L2152/M$1","v":1.0357356525924228},{"$f":"10^(-0.4*I2152*ma_target)","v":0.78718095747365979},{"$f":"+N2152/O$1","v":1.0377370432142754},{"$f":"(O2152/M2152-1)*100","v":0.19323372878428113},{"$f":"+Spectre!C2151*N2152/L2152","v":0.79712316234429159},0.81511427696648542]
[5951,0.59509999999999996,2.823710049479589,1.0105739223612347,7.0996731163068649E-2,0.9845577445311875,1.6897018276766533E-2,0.12740082292921681,0.215294572369052,0.67266608138186101,0.82012900397590172,0.79714443148974246,1.035846183914064,0.78726958257096735,1.0378538772732824,0.19382157219829388,{"$f":"+Spectre!C2152*N2153/L2153","v":0.79683066444836825},0.81481517737659448]
[5952,0.59519999999999995,2.8227613018846109,1.0105683360544988,7.0948638133170955E-2,0.98458071117794843,1.6871691748995901E-2,0.12737299750990794,0.21519332739207481,0.67279151976494023,0.82020548462869991,0.79722942568228239,1.0359566292819542,0.7873581392690524,1.037970621161908,0.19440889927502258,{"$f":"+Spectre!C2153*N2154/L2154","v":0.79648837813607865},0.81446516564297866]
[5953,0.59530000000000005,2.8218130323685373,1.010562752658797,7.0900585888873185E-2,0.98460364393509969,1.6846403182538904E-2,0.12734518284095203,0.21509217191236413,0.67291687062523775,0.82028190479779328,0.79731435379307136,1.0360669887801737,0.78744662763406859,1.0380872749673626,0.1949957106120781,{"$f":"+Spectre!C2154*N2155/L2155","v":0.79598409748702303},0.81394950335130178]
[5954,0.59540000000000004,2.8208652406102135,1.0105571721720894,7.0852574388603484E-2,0.98462654285184892,1.6821152520496128E-2,0.12731737891639114,0.21499110582549075,0.67304213403456459,0.82035826454385141,0.79739921588675111,1.0361772624927215,0.78753504773210647,1.0382038387767731,0.19558200680609428,{"$f":"+Spectre!C2155*N2156/L2156","v":0.79568187763611609},0.81364046238135623]
[5955,0.59550000000000003,2.8199179262887553,1.0105515945923382,7.0804603590839621E-2,0.98464940797733458,1.6795939706053559E-2,0.12728958573027105,0.21489012902716423,0.67316731006468855,0.82043456392748193,0.79748401202790054,1.036287450503514,0.78762339962919314,1.0383203126771827,0.19616778845299443,{"$f":"+Spectre!C2156*N2157/L2157","v":0.79240819274798302},0.81029289024111251]
[5956,0.59560000000000002,2.8189710890835453,1.0105460199175071,7.0756673454108576E-2,0.98467223936062609,1.677076468248245E-2,0.1272618032766423,0.21478924141323333,0.67329239878733327,0.82051080300922963,0.79756874228103525,1.0363975528963862,0.78771168339129294,1.0384366967555518,0.1967530561478803,{"$f":"+Spectre!C2157*N2158/L2158","v":0.78790686892537143},0.80568997128656927]
[5957,0.59570000000000001,2.8180247286742381,1.0105404481455618,7.0708783936986944E-2,0.98469503705072403,1.6745627393139041E-2,0.12723403154955948,0.21468844287968547,0.67341740027417907,0.82058698184957712,0.79765340671060714,1.0365075697550894,0.78779989908430692,1.0385529910987576,0.19733781048520971,{"$f":"+Spectre!C2158*N2159/L2159","v":0.78456887087139715},0.80227663442871289]
[5958,0.5958,2.817078844740756,1.0105348792744699,7.0660934998100555E-2,0.98471780109656037,1.6720527781464281E-2,0.12720627054308156,0.21458773332264641,0.67354231459686253,0.82066310050894475,0.79773800538100537,1.0366175011632941,0.7878880467740732,1.0386691957935938,0.19792205205848568,{"$f":"+Spectre!C2159*N2160/L2160","v":0.78814615317160075},0.80593465619169868]
[5959,0.59589999999999999,2.8161334369632889,1.0105293133022009,7.061312659612444E-2,0.98474053154699825,1.6695465790984049E-2,0.12717852025127163,0.21448711263838011,0.67366714182697662,0.82073915904769057,0.79782253835655625,1.0367273472045888,0.78797612652636684,1.038785310926772,0.19850578146050069,{"$f":"+Spectre!C2160*N2161/L2161","v":0.79219429107454642},0.81007416079487182]
[5960,0.59599999999999997,2.8151885050222965,1.0105237502267252,7.0565358689782837E-2,0.9847632284508322,1.6670441365308881E-2,0.12715078066819768,0.21438658072328939,0.67379188203606988,0.82081515752610978,0.79790700570152229,1.0368371079624792,0.78806413840689959,1.0389013365849191,0.19908899928324786,{"$f":"+Spectre!C2161*N2162/L2162","v":0.79430186306976025},0.81222930080859479]
[5961,0.59609999999999996,2.8142440485985056,1.0105181900460163,7.051763123784914E-2,0.98478589185678822,1.6645454448133819E-2,0.12712305178793096,0.21428613747391392,0.67391653529564832,0.82089109600443644,0.79799140748010355,1.0369467835203898,0.78815208248132118,1.039017272854581,0.19967170611803198,{"$f":"+Spectre!C2162*N2163/L2163","v":0.79432128086495357},0.81224915686451815]
[5962,0.59619999999999995,2.8133000673729103,1.0105126327580485,7.0469944199145679E-2,0.98480852181352385,1.6620504983238374E-2,0.12709533360454803,0.21418578278693207,0.67404110167717246,0.82096697454284173,0.79807574375643675,1.0370563739616629,0.78823995881521725,1.0391331198222193,0.20025390255526965,{"$f":"+Spectre!C2163*N2164/L2164","v":0.79451641051459398},0.8124486906013294]
[5963,0.59630000000000005,2.8123565610267725,1.0105070783607981,7.0422297532543837E-2,0.98483111836962856,1.6595592914486021E-2,0.12706762611212891,0.21408551655915875,0.67416558125206072,0.82104279320143492,0.79816001459459629,1.0371658793695595,0.78832776747411182,1.0392488775742135,0.20083558918464472,{"$f":"+Spectre!C2164*N2165/L2165","v":0.79736754799509291},0.81536417841517506]
[5964,0.59640000000000004,2.8114135292416238,1.0105015268522439,7.0374691196964018E-2,0.98485368157362307,1.6570718185824895E-2,0.12703992930475855,0.21398533868754746,0.6742899740916859,0.82111855204026285,0.79824422005859252,1.0372752998272576,0.78841550852346465,1.0393645461968593,0.20141676659508612,{"$f":"+Spectre!C2165*N2166/L2166","v":0.80076023552673992},0.81883343909529216]
[5965,0.59650000000000003,2.8104709716992597,1.0104959782303653,7.0327125151375333E-2,0.98487621147396054,1.6545880741286552E-2,0.12701224317652554,0.21388524906918743,0.67441428026737826,0.82119425111931132,0.79832836021237419,1.0373846354178555,0.7885031820286742,1.0394801257763708,0.20199743537470116,{"$f":"+Spectre!C2166*N2167/L2167","v":0.80129885703103576},0.81938421731724409]
[5966,0.59660000000000002,2.8095288880817422,1.0104904324931443,7.027959935479558E-2,0.98489870811902558,1.6521080524986898E-2,0.126984567721523,0.21378524760130546,0.67453849985042369,0.82126989049850374,0.79841243511982685,1.0374938862243688,0.78859078805507554,1.0395956163988795,0.20257759611088666,{"$f":"+Spectre!C2167*N2168/L2168","v":0.7948290909831387},0.81276842828564133]
[5967,0.59670000000000001,2.8085872780714016,1.0104848896385648,7.0232113766291543E-2,0.9849211715571351,1.6496317481125327E-2,0.12695690293384856,0.21368533418126545,0.6746626329120633,0.8213454702377011,0.79849644484477289,1.037603052329731,0.7886783266679408,1.0397110181504328,0.20315724939019564,{"$f":"+Spectre!C2168*N2169/L2169","v":0.78854703592306552},0.80634458688941857]
[5968,0.5968,2.8076461413508329,1.0104793496646116,7.0184668344978385E-2,0.98494360183653784,1.6471591553985167E-2,0.12692924880760387,0.21358550870656742,0.67478667952349491,0.82142099039670313,0.79858038945097209,1.0377121338167949,0.7887657979324797,1.0398263311169966,0.20373639579847058,{"$f":"+Spectre!C2169*N2170/L2170","v":0.78708410784128724},0.80484864043852677]
[5969,0.59689999999999999,2.8067054776028977,1.0104738125692718,7.0137263050019966E-2,0.98496599900541515,1.6446902687932807E-2,0.12690160533689479,0.21348577107484756,0.67491063975587229,0.82149645103524793,0.79866426900212195,1.0378211307683318,0.78885320191383934,1.039941555384454,0.20431503592073241,{"$f":"+Spectre!C2170*N2171/L2171","v":0.78778227689034463},0.80556256720230202]
[5970,0.59699999999999998,2.8057652865107223,1.010468278350535,7.008989784062869E-2,0.98498836311188009,1.6422250827418633E-2,0.12687397251583135,0.21338612118387867,0.67503451368030476,0.82157185221301132,0.79874808356185711,1.0379300432670315,0.78894053867710445,1.0400566910386058,0.2048931703412693,{"$f":"+Spectre!C2171*N2172/L2172","v":0.78823087323180741},0.80602128838843068]
[5971,0.59709999999999996,2.8048255677576996,1.0104627470063909,7.004257267606534E-2,0.9850106942039788,1.6397635916975555E-2,0.12684635033852798,0.21328655893156889,0.67515830136785804,0.82164719398960806,0.79883183319374984,1.0380388713955029,0.78902780828729713,1.0401717381651705,0.20547079964359227,{"$f":"+Spectre!C2172*N2173/L2173","v":0.78780149291161461},0.80558221693025323]
[5972,0.59719999999999995,2.803886321027488,1.0104572185348326,6.9995287515639201E-2,0.98503299232968922,1.63730579012203E-2,0.12681873879910349,0.213187084215963,0.67528200288955242,0.8217224764245904,0.79891551796130911,1.0381476152362721,0.78911501080937629,1.0402866968497833,0.20604792441047959,{"$f":"+Spectre!C2173*N2174/L2174","v":0.78721491300884583},0.80498239788607651]
[5973,0.59730000000000005,2.8029475460040065,1.0104516929338541,6.9948042318707618E-2,0.98505525753692225,1.6348516724852179E-2,0.12679113789168053,0.21308769693524032,0.67540561831636559,0.82179769957744997,0.79899913792798227,1.0382562748717856,0.7892021463082397,1.040401567177998,0.20662454522388796,{"$f":"+Spectre!C2174*N2175/L2175","v":0.78907161594485709},0.80688100671181617]
[5974,0.59740000000000004,2.8020092423714456,1.0104461702014511,6.9900837044676534E-2,0.98507748987352117,1.6324012332653653E-2,0.12676354761038636,0.21298839698771654,0.67552914771922978,0.82187286350761635,0.79908269315715363,1.0383648503844083,0.78928921484872161,1.040516349235286,0.20720066266508574,{"$f":"+Spectre!C2175*N2176/L2176","v":0.7933344292150275},0.81124003191733052]
[5975,0.59750000000000003,2.8010714098142535,1.0104406503356218,6.9853671652999827E-2,0.98509968938726222,1.6299544669489727E-2,0.12673596794935216,0.21288918427184172,0.67565259116903353,0.82194796827445782,0.79916618371214565,1.0384733418564238,0.7893762164955942,1.0406310431070356,0.20777627731440873,{"$f":"+Spectre!C2176*N2177/L2177","v":0.79727607567209835},0.81527064155670403]
[5976,0.59760000000000002,2.8001340480171466,1.0104351333343653,6.9806546103179559E-2,0.98512185612585423,1.6275113680308255E-2,0.12670839890271379,0.2127900586862016,0.67577594873662061,0.82202301393728061,0.79924960965621761,1.0385817493700344,0.78946315131356715,1.0407456488785538,0.20835138975163758,{"$f":"+Spectre!C2177*N2178/L2178","v":0.79364370283860908},0.81155628586399686]
[5977,0.59770000000000001,2.799197156665103,1.0104296191956832,6.9759460354765893E-2,0.98514399013693921,1.6250719310139307E-2,0.12668084046461045,0.21269102012951566,0.67589922049279128,0.82209800055533111,0.79933297105256751,1.0386900730073625,0.78955001936728897,1.0408601666350661,0.20892600055573141,{"$f":"+Spectre!C2178*N2179/L2179","v":0.78886307014890333},{"$f":"+Q2179/R$1","v":0.80666775402551449}]
[5978,0.5978,2.798260735443364,1.010424107917578,6.9712414367356812E-2,0.98516609146809175,1.6226361504095774E-2,0.12665329262918679,0.21259206850063939,0.67602240650830037,0.82217292818779264,0.79941626796432985,1.0387983128504479,0.789636820721344,1.0409745964617136,0.20950011030476112,{"$f":"+Spectre!C2179*N2180/L2180","v":0.78548794682730816},0.80321645398065822]
[5979,0.59789999999999999,2.7973247840374351,1.0104185994980548,6.9665408100598458E-2,0.98518816016681998,1.6202040207372346E-2,0.12662575539059046,0.21249320369856126,0.6761455068538591,0.82224779689378835,0.79949950045457829,1.0389064689812515,0.78972355544025619,1.0410889384435584,0.21007371957622034,{"$f":"+Spectre!C2180*N2181/L2181","v":0.78484059306137788},0.80255448940380925]
[5980,0.59799999999999998,2.7963893021330857,1.0104130939351199,6.9618441514184726E-2,0.98521019628056472,1.6177755365246349E-2,0.12659822874297405,0.21239442562240513,0.67626852160013384,0.82232260673237978,0.79958266858632288,1.0390145414816514,0.78981022358848607,1.0412031926655783,0.2106468289467589,{"$f":"+Spectre!C2181*N2182/L2182","v":0.78412770487684547},0.80182551129284307]
[5981,0.59809999999999997,2.7954542894163459,1.0104075912267818,6.9571514567857304E-2,0.98523219985670041,1.6153506923076717E-2,0.12657071268049427,0.2122957341714283,0.67639145081774665,0.82239735776256706,0.79966577242251258,1.0391225304334462,0.78989682523043236,1.0413173592126697,0.21121943899224949,{"$f":"+Spectre!C2182*N2183/L2183","v":0.78789899169719269},0.80568191626890728]
[5982,0.59819999999999995,2.7945197455735094,1.0104020913710505,6.9524627221405594E-2,0.98525417094253476,1.6129294826304371E-2,0.12654320719731171,0.21219712924502168,0.67651429457727497,0.82247205004329005,0.79974881202603376,1.0392304359183537,0.78998336043043227,1.0414314381696479,0.21179155028780983,{"$f":"+Spectre!C2183*N2184/L2184","v":0.7935440681869419},0.81145440245263589]
[5983,0.59830000000000005,2.7935856702911295,1.0103965943659377,6.9477779434666584E-2,0.98527610958530865,1.6105119020452283E-2,0.12651571228759145,0.2120986107427103,0.67663705294925225,0.82254668363342665,0.79983178745971084,1.0393382580180106,0.79006982925276015,1.0415454296212461,0.21236316340789152,{"$f":"+Spectre!C2184*N2185/L2185","v":0.79794999368009845},0.81595976993206099]
[5984,0.59840000000000004,2.7926520632560261,1.0103911002094565,6.9430971167525071E-2,0.98529801583219678,1.608097945112473E-2,0.12648822794550277,0.21200017856415257,0.67675972600416601,0.82262125859179402,0.79991469878630606,1.0394459968139731,0.79015623176162875,1.0416593336521152,0.21293427892610239,{"$f":"+Spectre!C2185*N2186/L2186","v":0.79297431697553111},0.8108717919243279]
[5985,0.59850000000000003,2.791718924155278,1.010385608899623,6.9384202379913273E-2,0.98531988973030726,1.6056876064007745E-2,0.12646075416521912,0.21190183260914014,0.67688231381246045,0.82269577497714852,0.7999975460685198,1.0395536523877169,0.79024256802118853,1.0417731503468244,0.21350489741531753,{"$f":"+Spectre!C2186*N2187/L2187","v":0.78794268224895736},0.80572659291888349]
[5986,0.59860000000000002,2.7907862526762246,1.0103801204344536,6.9337473031810828E-2,0.9853417313266819,1.6032808804868747E-2,0.12643329094091779,0.21180357277759737,0.67700481644453459,0.82277023284818529,0.80008032936899076,1.0396612248206378,0.79032883809552845,1.0418868797898622,0.21407501944763485,{"$f":"+Spectre!C2187*N2188/L2188","v":0.78760890499513991},0.80538528229366824]
[5987,0.59870000000000001,2.7898540485064669,1.0103746348119671,6.9290783083244822E-2,0.98536354066829646,1.6008777619556238E-2,0.12640583826678087,0.21170539896958193,0.67712723397074326,0.82284463226353899,0.80016304875029531,1.0397687141940501,0.79041504204867519,1.0420005220656343,0.21464464559448615,{"$f":"+Spectre!C2188*N2189/L2189","v":0.79120996450945846},0.80906761792382931]
[5988,0.5988,2.7889223113338679,1.0103691520301841,6.9244132494289665E-2,0.98538531780206029,1.5984782454000163E-2,0.12637839613699406,0.21160731108528388,0.67724956646139611,0.82291897328178343,0.80024570427494834,1.0398761205891889,0.7905011799445939,1.0421140772584661,0.21521377642648165,{"$f":"+Spectre!C2189*N2190/L2190","v":0.79449765687635998},0.81242951369242533]
[5989,0.59889999999999999,2.78799104084655,1.0103636720871267,6.919752122506713E-2,0.98540706277481682,1.5960823254211404E-2,0.12635096454574726,0.21150930902502579,0.67737181398675828,0.82299325596143125,0.80032829600540289,1.0399834440872084,0.79058725184718792,1.0422275454526007,0.21578241251347663,{"$f":"+Spectre!C2190*N2191/L2191","v":0.79552141666356435},0.81347637979562615]
[5990,0.59899999999999998,2.7870602367328963,1.0103581949808189,6.9150949235746065E-2,0.98542877563334363,1.5936899966281604E-2,0.12632354348723523,0.2114113926892629,0.67749397661705013,0.82306748036093469,0.80041082400404984,1.0400906847691822,0.7906732578202984,1.0423409267321999,0.21635055442468243,{"$f":"+Spectre!C2191*N2192/L2192","v":0.79613176187997847},0.81410050053791416]
[5991,0.59909999999999997,2.7861298986815508,1.0103527207092864,6.9104416486542614E-2,0.98545045642435214,1.5913012536383525E-2,0.12629613295565606,0.2113135619785822,0.6776160544224471,0.82314164653868538,0.80049328833321876,1.040197842716104,0.79075919792770499,1.0424542211813439,0.21691820272844442,{"$f":"+Spectre!C2192*N2193/L2193","v":0.79411577920595189},0.81203901702151071]
[5992,0.59919999999999995,2.785200026381415,1.0103472492705565,6.9057922937719868E-2,0.98547210519448813,1.5889160910770417E-2,0.12626873294521254,0.21121581679370283,0.67773804747307997,0.82321575455301388,0.80057568905517751,1.0403049180088879,0.79084507223312572,1.0425674288840319,0.21748535799237523,{"$f":"+Spectre!C2193*N2194/L2194","v":0.78591970593296223},0.80365795791361871]
[5993,0.59930000000000005,2.7842706195216511,1.0103417806626587,6.9011468549587993E-2,0.98549372199033181,1.5865345035775968E-2,0.12624134345011123,0.21111815703547521,0.67785995583903502,0.82328980446219102,0.80065802623213256,1.0404119107283674,0.79093088080021723,1.0426805499241822,0.21805202078344355,{"$f":"+Spectre!C2194*N2195/L2195","v":0.77773251736422933},0.79528598403825845]
[5994,0.59940000000000004,2.7833416777916833,1.0103363148836235,6.8965053282504227E-2,0.9855153068583975,1.5841564857814554E-2,0.12621396446456332,0.2110205826048821,0.67798177959035277,0.82336379632442636,0.80074029992622808,1.040518820955296,0.79101662369257364,1.0427935843856309,0.21861819166772989,{"$f":"+Spectre!C2195*N2196/L2196","v":0.77799306045773386},0.79555240760404211]
[5995,0.59950000000000003,2.7824132008811895,1.0103308519314835,6.8918677096872466E-2,0.98553685984513417,1.5817820323380697E-2,0.12618659598278359,0.21092309340303675,0.67810351879703012,0.82343773019786959,0.80082251019954764,1.0406256487703476,0.79110230097372869,1.0429065323521338,0.21918387121069305,{"$f":"+Spectre!C2196*N2197/L2197","v":0.78099057239700331},0.79861757355642826]
[5996,0.59960000000000002,2.7814851884801115,1.0103253918042734,6.887233995314368E-2,0.98555838099692517,1.5794111379049298E-2,0.12615923799899145,0.21082568933118442,0.67822517352901757,0.82351160614060914,0.80090465711411241,1.0407323942541153,0.79118791270715372,1.0430193939073651,0.21974905997701466,{"$f":"+Spectre!C2197*N2198/L2198","v":0.78362677073396136},0.80131327103817029]
[5997,0.59970000000000001,2.7805576402786465,1.0103199345000289,6.882604181181548E-2,0.98557987036008854,1.5770437971475242E-2,0.12613189050741042,0.21072837029070113,0.6783467438562214,0.82358542421067404,0.80098674073188236,1.0408390574871131,0.79127345895625845,1.0431321691349176,0.2203137585305992,{"$f":"+Spectre!C2198*N2199/L2199","v":0.78486762180911496},0.80258212819190344]
[5998,0.5998,2.7796305559672496,1.0103144800167878,6.877978263343211E-2,0.9856013279808773,1.5746800047393122E-2,0.1261045535022674,0.21063113618309265,0.67846822984850408,0.8236591844660327,0.80106876111475722,1.0409456385497762,0.79135893978439253,1.0432448581183045,0.22087796743464061,{"$f":"+Spectre!C2199*N2200/L2200","v":0.78610790815492348},0.80385040787031836]
[5999,0.59989999999999999,2.7787039352366363,1.0103090283525897,6.8733562378584648E-2,0.98562275390547882,1.5723197553617833E-2,0.12607722697779458,0.21053398690999706,0.67858963157568086,0.82373288696459313,0.80115071832457352,1.0410521375224577,0.79144435525484247,1.0433574609409566,0.22144168725162228,{"$f":"+Spectre!C2200*N2201/L2201","v":0.78404532933354565},0.80174127652889637]
[6000,0.6,2.7777777777777781,1.0103035795054758,6.8687381007910581E-2,0.98564414818001567,1.5699630437043689E-2,0.12604991092822765,0.2104369223731819,0.67871094910752328,0.82380653176420293,0.80123261242310739,1.0411585544854325,0.79152970543083423,1.0434699776862242,0.22200491854327264,{"$f":"+Spectre!C2201*N2202/L2202","v":0.77887577437599642},0.79645504442510351]
[6001,0.60009999999999997,2.7768520832819044,1.0102981334734888,6.8641238482093997E-2,0.98566551085054532,1.5676098644644636E-2,0.12602260534780646,0.2103399424745451,0.67883218251375743,0.82388011892265001,0.80131444347207392,1.0412648895188961,0.79161499037553262,1.043582408437377,0.22256766187052079,{"$f":"+Spectre!C2202*N2203/L2203","v":0.77385166182704368},0.79131753737325217]
[6002,0.60019999999999996,2.7759268514405009,1.0102926902546738,6.8595134761865365E-2,0.98568684196306033,1.5652602123474118E-2,0.12599531023077484,0.21024304711611433,0.67895333186406515,0.82395364849766228,0.80139621153312701,1.0413711427029639,0.79170021015204117,1.0436947532776044,0.22312991779369629,{"$f":"+Spectre!C2203*N2204/L2204","v":0.77404081268982816},0.79151095738165178]
[6003,0.60029999999999994,2.7750020819453129,1.0102872498470767,6.8549069808001684E-2,0.98570814156348829,1.5629140820665029E-2,0.12596802557138126,0.21014623620004796,0.67907439722808183,0.82402712054690685,0.8014779166678585,1.0414773141176719,0.79178536482340134,1.0438070122900134,0.2236916868722405,{"$f":"+Spectre!C2204*N2205/L2205","v":0.77437898871142208},0.79185676605507971]
[6004,0.60040000000000004,2.7740777744883376,1.0102818122487458,6.8503043581326042E-2,0.98572940969769218,1.5605714683429344E-2,0.12594075136387778,0.21004950962863317,0.6791953786753987,0.82410053512799175,0.80155955893780007,1.0415834038429768,0.79187045445259441,1.043919185557632,0.2242529696649509,{"$f":"+Spectre!C2205*N2206/L2206","v":0.7767413975002504},0.79427249454318671]
[6005,0.60050000000000003,2.7731539287618348,1.0102763774577308,6.8457056042708062E-2,0.98575064641147014,1.5582323659058329E-2,0.12591348760252097,0.20995286730428736,0.67931627627556135,0.82417389229846416,0.80164113840442164,1.0416894119587554,0.79195547910253994,1.0440312731634069,0.22481376672993658,{"$f":"+Spectre!C2206*N2207/L2207","v":0.78217306902720196},0.79982675920210056]
[6006,0.60060000000000002,2.7722305444583166,1.0102709454720831,6.8411107153063436E-2,0.98577185175055593,1.5558967694922023E-2,0.12588623428157128,0.20985630912955675,0.6794370900980703,0.82424719211581199,0.80172265512913266,1.0417953385448062,0.79204043883609643,1.044143275190204,0.2253740786244407,{"$f":"+Spectre!C2207*N2208/L2208","v":0.78753538457979533},0.80531010251841284]
[6007,0.60070000000000001,2.7713076212705507,1.0102655162898559,6.8365196873353934E-2,0.98579302576061845,1.5535646738469709E-2,0.12585899139529319,0.20975983500711684,0.67955782021238109,0.82432043463746341,0.80180410917328104,1.0419011836808474,0.79212533371606142,1.0442551917208092,0.22593390590510687,{"$f":"+Spectre!C2208*N2209/L2209","v":0.78930234921700138},0.80711694764689434]
[6008,0.6008,2.7703851588915627,1.0102600899091043,6.8319325164587538E-2,0.98581416848726255,1.5512360737229034E-2,0.12583175893795556,0.20966344483977212,0.67967846668790366,0.82439361992078619,0.80188550059815422,1.0420069474465186,0.79221016380517117,1.0443670228379274,0.22649324912777935,{"$f":"+Spectre!C2209*N2210/L2210","v":0.78942927002504748},0.80724673306471895]
[6009,0.60089999999999999,2.7694631570146302,1.0102546663278846,6.8273491987818055E-2,0.98583527997602849,1.5489109638806581E-2,0.12580453690383109,0.20956713853045572,0.67979902959400307,0.82446674802308884,0.80196682946497855,1.0421126299213803,0.79229492916610178,1.0444787686241839,0.22705210884759186,{"$f":"+Spectre!C2210*N2211/L2211","v":0.78891515026714942},0.80672100959495951]
[6010,0.60099999999999998,2.7685416153332914,1.0102492455442553,6.8227697304145518E-2,0.98585636027239232,1.5465893390887381E-2,0.12577732528719679,0.20947091598222969,0.67991950899999865,0.82453981900161999,0.80204809583491909,1.0422182311849131,0.79237962986146704,1.0445904291621226,0.22761048561898978,{"$f":"+Spectre!C2211*N2212/L2212","v":0.78376117536121981},0.80145070918542793]
[6011,0.60109999999999997,2.7676205335413329,1.010243827556276,6.8181941074715535E-2,0.98587740942176594,1.544271194123486E-2,0.12575012408233383,0.20937477709828423,0.68003990497516442,0.82461283291356857,0.80212929976908076,1.0423237513165196,0.7924642659538208,1.0447020045342077,0.22816837999559691,{"$f":"+Spectre!C2212*N2213/L2213","v":0.77840263134972565},0.79597122253410968]
[6012,0.60119999999999996,2.7666999113328021,1.0102384123620087,6.8136223260719858E-2,0.9858984274694973,1.5419565237690596E-2,0.12572293328352674,0.20927872178193718,0.68016021758873024,0.82468578981606455,0.80221044132850772,1.0424291903955234,0.79254883750565597,1.0448134948228232,0.22872579253034875,{"$f":"+Spectre!C2213*N2214/L2214","v":0.77745670484106033},0.79500394641092365]
[6013,0.60129999999999995,2.7657797484019953,1.010232999959517,6.8090543823395702E-2,0.98591941446086995,1.539645322817476E-2,0.12569575288506546,0.20918274993663594,0.68028044690987821,0.82475868976617717,0.8022915205741824,1.0425345485011677,0.79263334457940404,1.0449249001102725,0.22928272377558123,{"$f":"+Spectre!C2214*N2215/L2215","v":0.77970725921622808},0.79730529592496058]
[6014,{"$f":"+A2216/10000","v":0.60140000000000005},{"$f":"+(1/B2216)^2","v":2.7648600444434659},{"$f":"0.23465+1.076*100/(146-C2216)+0.93161/(41-C2216)","v":1.0102275903468654},{"$f":"9.4977*0.001*C2216^2*D2216*EXP(-h/7.996/1000)","v":6.8044902724026149E-2},{"$f":"+EXP(-0.0168*EXP(-15*ABS(B2216-0.59)))","v":0.98594037044110394},{"$f":"-2.5*LOG(F2216)","v":1.5373375860685132E-2},{"$f":"2.5*LOG(EXP(AOD*(B2216/0.55)^(-1.3)))","v":0.12566858288124255},{"$f":"+E2216+G2216+H2216","v":0.20908686146595384},{"$f":"10^(-0.4*I2216*ma)","v":0.68040059300774791},{"$f":"10^(-0.4*I2216)","v":0.82483153282091726},{"$f":"10^(-0.4*I2216*ma_ref)","v":0.80237253756702787},{"$f":"+L2216/M$1","v":1.042639825712619},{"$f":"10^(-0.4*I2216*ma_target)","v":0.79271778723743669},{"$f":"+N2216/O$1","v":1.04503622047878},{"$f":"(O2216/M2216-1)*100","v":0.22983917428274214},{"$f":"+Spectre!C2215*N2216/L2216","v":0.78142923850609913},0.7990661403842868]
[6015,0.60150000000000003,2.7639407991520226,1.0102221835221208,6.7999299923940007E-2,0.98596129545535527,1.535033308329768E-2,0.12564142326635583,0.20899105627359352,0.68052065595143119,0.82490431903723571,0.80245349236790553,1.0427450221089634,0.79280216554206373,1.0451474560104881,0.23039514460263533,{"$f":"+Spectre!C2216*N2217/L2217","v":0.77869450062300749},0.79626967931331072]
[6016,0.60160000000000002,2.7630220122227249,1.0102167794833521,6.7953735384511521E-2,0.9859821895487163,1.5327324844166046E-2,0.12561427403470657,0.20889533426338414,0.68064063580997558,0.82497704847202402,0.80253438503761676,1.0428501377692088,0.79288647955553504,1.0452586067874607,0.23095063528533188,{"$f":"+Spectre!C2217*N2218/L2218","v":0.77512370940120412},0.79261829513272986]
[6017,0.60170000000000001,2.7621036833508867,1.0102113782286288,6.7908209067160497E-2,0.98600305276621547,1.5304351091521892E-2,0.12558713518060013,0.20879969533928253,0.6807605326523829,0.82504972118211461,0.8026152156369023,1.0429551727722846,0.79297072934003965,1.0453696728916813,0.23150564688017017,{"$f":"+Spectre!C2218*N2219/L2219","v":0.77363768872511363},0.79109873488637295]
[6018,0.6018,2.7611858122320752,1.010205979756023,6.7862720933352147E-2,0.98602388515281791,1.5281411773674133E-2,0.12556000669834638,0.20870413940537266,0.68088034654760943,0.82512233722428041,0.80269598422644206,1.0430601271970412,0.79305491495770564,1.045480654405053,0.23206017993577799,{"$f":"+Spectre!C2219*N2220/L2220","v":0.77633595825043378},0.79385790450669069]
[6019,0.60189999999999999,2.7602683985621104,1.0102005840636084,6.7817270944597233E-2,0.98604468675342516,1.5258506839009301E-2,0.12553288858225894,0.20860866636586547,0.68100007756456582,0.82519489665523493,0.80277669086685577,1.0431650011222504,0.79313903647060091,1.0455915514093999,0.23261423500011702,{"$f":"+Spectre!C2220*N2221/L2221","v":0.77895527841896783},0.79653634287879793]
[6020,0.60199999999999998,2.7593514420370635,1.0101951911494595,6.7771859062451603E-2,0.98606545761287534,1.5235636235991248E-2,0.12550578082665506,0.2085132761250979,0.6811197257721181,0.82526739953163342,0.80285733561870298,1.0432697946266063,0.79322309394073309,1.045702363986466,0.23316781262034958,{"$f":"+Spectre!C2221*N2222/L2222","v":0.77935496299902596},0.79694504836231517]
[6021,0.60209999999999997,2.758434942353261,1.0101898010116539,6.7726485248516669E-2,0.98608619777594309,1.5212799913161268E-2,0.12547868342585689,0.20841796858753481,0.68123929123908544,0.8253398459100707,0.80293791854248231,1.0433745077887235,0.7933070874300483,1.0458130922179147,0.23372091334294964,{"$f":"+Spectre!C2222*N2223/L2223","v":0.77917860255651628},0.79676470745469552]
[6022,0.60219999999999996,2.7575188992072794,1.0101844136482698,6.7681149464438858E-2,0.98610690728734007,1.5189997819137453E-2,0.12545159637419018,0.20832274365776648,0.68135877403424194,0.82541223584708323,0.8030184396986324,1.0434791406871389,0.79339101700043324,1.0459237361853311,0.23427353771370285,{"$f":"+Spectre!C2223*N2224/L2224","v":0.77866398018497207},0.79623847002727166]
[6023,0.60229999999999995,2.7566033122959479,1.0101790290573875,6.7635851671909844E-2,0.9861275861917147,1.5167229902615029E-2,0.12542451966598472,0.2082276012405096,0.68147817422631662,0.82548456939914872,0.80309889914753174,1.0435836934003111,0.79347488271371369,1.0460342959702198,0.23482568627761768,{"$f":"+Spectre!C2224*N2225/L2225","v":0.77698294364667952},0.79451949239973074]
[6024,0.60240000000000005,2.7556881813163456,1.0101736472370888,6.7590591832666261E-2,0.98614823453365208,1.5144496112366349E-2,0.12539745329557433,0.20813254124060693,0.68159749188399243,0.82555684662268514,0.80317929694949819,1.0436881660066195,0.79355868463165513,1.0461447716540058,0.23537735957912531,{"$f":"+Spectre!C2225*N2226/L2226","v":0.77517914256441389},0.7926749794255521]
[6025,0.60250000000000004,2.7547735059658058,1.0101682681854571,6.7545369908489944E-2,0.98616885235767449,1.5121796397240364E-2,0.12537039725729712,0.20803756356302744,0.68171672707590625,0.82562906757405219,0.80325963316478977,1.0437925585843664,0.79364242281596276,1.0462551633180348,0.23592855816181313,{"$f":"+Spectre!C2226*N2227/L2227","v":0.77594041614081988},0.79345343498940868]
[6026,0.60260000000000002,2.7538592859419113,1.0101628919005781,6.7500185861207609E-2,0.98618943970824136,1.5099130706162606E-2,0.125343351545495,0.20794266811286521,0.68183587987065009,0.82570123230955028,0.8033399078536041,1.0438968712117755,0.79372609732828125,1.046365471043573,0.2364792825685802,{"$f":"+Spectre!C2227*N2228/L2228","v":0.77896670277382152},0.79654802508198341]
[6027,0.60270000000000001,2.7529455209424958,1.0101575183805382,6.7455039652690937E-2,0.98620999662974906,1.5076498988135411E-2,0.12531631615451394,0.20784785479534029,0.68195495033676967,0.8257733408854212,0.80342012107607885,1.0440011039669923,0.79380970823019537,1.0464756949118068,0.23702953334163723,{"$f":"+Spectre!C2228*N2229/L2229","v":0.78181781361423164},0.79946348565447201]
[6028,0.6028,2.7520322106656439,1.0101521476234263,6.7409931244856336E-2,0.98623052316653159,1.5053901192237165E-2,0.12528929107870412,0.20775312351579761,0.68207393854276577,0.8258453933578479,0.80350027289229187,1.0441052569280849,0.79389325558322987,1.0465858350038444,0.23757931102250662,{"$f":"+Spectre!C2229*N2230/L2230","v":0.78341929582930858},0.80110111341324652]
[6029,0.60289999999999999,2.7511193548096902,1.0101467796273325,6.7364860599665163E-2,0.98625101936285986,1.5031337267622999E-2,0.12526227631241965,0.20765847417970781,0.68219284455709228,0.82591738978295481,0.80358036336226013,1.0442093301730417,0.79397673944884839,1.046695891400713,0.23812861615200021,{"$f":"+Spectre!C2230*N2231/L2231","v":0.78504601653026429},0.80276454929194607]
[6030,0.60299999999999998,2.7502069530732189,1.0101414143903484,6.7319827679123326E-2,0.98627148526294239,1.5008807163524054E-2,0.12523527185001831,0.2075639066926657,0.6823116684481586,0.82598933021680743,0.80366039254594202,1.0443133237797759,0.79406015988845557,1.046805864183362,0.23867744927017487,{"$f":"+Spectre!C2231*N2232/L2232","v":0.78455573624380204},0.80226320335183399]
[6031,0.60309999999999997,2.7492950051550662,1.010136051910568,6.7274832445281568E-2,0.98629192091092521,1.498631082924756E-2,0.12520827768586279,0.20746942096039192,0.68243041028432716,0.82606121471541238,0.80374036050323427,1.0444172378261198,0.79414351696339514,1.0469157534326603,0.23922581091642137,{"$f":"+Spectre!C2232*N2233/L2233","v":0.78068142381358174},0.79830144747208542]
[6032,0.60319999999999996,2.7483835107543153,1.0101306921860864,6.7229874860235142E-2,0.98631232635089194,1.4963848214176706E-2,0.12518129381431875,0.20737501688873061,0.68254907013391586,0.8261330433347186,0.80382026729397571,1.0445210723898308,0.79422681073495149,1.0470255592293991,0.23977370162939771,{"$f":"+Spectre!C2233*N2234/L2234","v":0.77691321186063267},0.7944481867633495]
[6033,0.60329999999999995,2.7474724695703006,1.0101253352150004,6.7184954886123888E-2,0.98633270162686371,1.4941419267770725E-2,0.12515432022975648,0.2072806943836511,0.68266764806519575,0.82620481613061569,0.80390011297794384,1.0446248275485863,0.79431004126434823,1.0471352816542894,0.24032112194714017,{"$f":"+Spectre!C2234*N2235/L2235","v":0.77910773663273869},0.79669224208303124]
[6034,0.60340000000000005,2.746561881302604,1.0101199809954085,6.7140072485132082E-2,0.98635304678279967,1.4919023939564277E-2,0.12512735692655025,0.20718645335124661,0.68278614414639272,0.82627653315893534,0.80397989761485689,1.0447285033799873,0.79439320861274998,1.0472449207879637,0.24086807240686348,{"$f":"+Spectre!C2235*N2236/L2236","v":0.78367806459201306},0.8013657226014842]
[6035,0.60350000000000004,2.7456517456510587,1.0101146295254109,6.7095227619488509E-2,0.9863733618625965,1.4896662179168022E-2,0.1251004038990782,0.20709229369773474,0.68290455844568609,0.82634819447545016,0.80405962126437336,1.0448320999615566,0.79447631284126063,1.0473544767109753,0.24141455354516062,{"$f":"+Spectre!C2236*N2237/L2237","v":0.78694828371172587},0.80470975075071938]
[6036,0.60360000000000003,2.744742062315745,1.0101092808031096,6.7050420251466319E-2,0.98639364691008891,1.4874333936267992E-2,0.12507346114172252,0.20699821532945684,0.68302289103121006,0.8264198001358749,0.80413928398609191,1.0449356173707396,0.79455935401092426,1.0474639495037985,0.24196056589789183,{"$f":"+Spectre!C2237*N2238/L2238","v":0.78472387495646501},0.80243513696470159]
[6037,0.60370000000000001,2.7438328309969915,1.0101039348266077,6.7005650343382891E-2,0.98641390196904954,1.4852039160625691E-2,0.12504652864886961,0.20690421815287818,0.68314114197105202,0.82649135019586595,0.80421888583955181,1.0450390556849041,0.7946423321827254,1.0475733392468285,0.24250611000020683,{"$f":"+Spectre!C2238*N2239/L2239","v":0.78257008479053325},0.80023273563354735]
[6038,0.6038,2.742924051395375,1.0100985915940106,6.6960917857599903E-2,0.98643412708318945,1.4829777802077584E-2,0.12501960641490939,0.20681030207458689,0.6832593113332549,0.82656284471102137,0.80429842688423259,1.0451424149813406,0.7947252474175891,1.047682646020383,0.24305118638665579,{"$f":"+Spectre!C2239*N2240/L2240","v":0.77957209803382543},0.79716708414706661]
[6039,0.60389999999999999,2.7420157232117202,1.0100932511034255,6.6916222756523216E-2,0.98645432229615726,1.4807549810535926E-2,0.12499269443423595,0.20671646700129509,0.68337739918581453,0.82663428373688119,0.80437790717955449,1.0452456953372626,0.79480809977638001,1.0477918699046991,0.24359579559090072,{"$f":"+Spectre!C2240*N2241/L2241","v":0.77607372257243823},0.7935897501546888]
[6040,0.60399999999999998,2.741107846147099,1.0100879133529601,6.6871565002602801E-2,0.98647448765154033,1.4785355135987523E-2,0.12496579270124793,0.20662271283983824,0.68349540559668087,0.82670566732892659,0.80445732678487736,1.045348896829805,0.79489088931990348,1.0479010109799365,0.24413993814611512,{"$f":"+Spectre!C2241*N2242/L2242","v":0.77292444727289833},0.7903693955344524]
[6041,0.60409999999999997,2.7402004199028323,1.0100825783407248,6.6826944558332727E-2,0.98649462319286407,1.4763193728494436E-2,0.12493890121034691,0.20652903949717408,0.68361333063375884,0.82677699554258188,0.80453668575950288,1.0454520195360273,0.79497361610890538,1.0480100693261762,0.24468361458465093,{"$f":"+Spectre!C2242*N2243/L2243","v":0.77397851395217454},{"$f":"+Q2243/R$1","v":0.7914472525579842}]
[6042,0.60419999999999996,2.7392934441804866,1.0100772460648311,6.6782361386251085E-2,0.98651472896359238,1.4741065538193477E-2,0.12491201995593965,0.2064354468803842,0.68373117436490571,0.82684826843321191,0.80461598416267199,1.0455550635329096,0.79505628020407104,1.0481190450234192,0.24522682543814955,{"$f":"+Spectre!C2243*N2244/L2244","v":0.77569645378157925},0.79320396638599411]
[6043,0.60429999999999995,2.7383869186818752,1.0100719165233929,6.6737815448939877E-2,0.98653480500712765,1.4718970515296182E-2,0.12488514893243585,0.20634193489667191,0.68384893685793446,0.82691948605612442,0.80469522205356747,1.0456580288973569,0.7951388816660272,1.0482279381515898,0.24576957123763066,{"$f":"+Spectre!C2244*N2245/L2245","v":0.77652493773188924},0.7940511492656751]
[6044,0.60440000000000005,2.7374808431090596,1.0100665897145249,6.6693306709025027E-2,0.98655485136681087,1.4696908610088662E-2,0.12485828813424976,0.20624850345336346,0.68396661818061133,0.82699064846656922,0.80477439949131202,1.045760915706196,0.79522142055534117,1.0483367487905333,0.24631185251342558,{"$f":"+Spectre!C2245*N2246/L2246","v":0.7757481879299033},0.79325686817695651]
[6045,0.60450000000000004,2.7365752171643467,1.0100612656363435,6.664883512917634E-2,0.98657486808592143,1.467487977293184E-2,0.1248314375557994,0.20615515245790758,0.68408421840065603,0.82706175571973772,0.80485351653496895,1.0458637240361763,0.79530389693251968,1.0484454770200156,0.2468536697951107,{"$f":"+Spectre!C2246*N2247/L2247","v":0.77507988003669093},0.79257347653699373]
[6046,0.60460000000000003,2.7356700405502896,1.0100559442869672,6.6604400672107308E-2,0.98659485520767776,1.4652883954260681E-2,0.12480459719150691,0.20606188181787488,0.6842017375857431,0.82713280787076371,0.80493257324354317,1.0459664539639717,0.79538631085801104,1.0485541229197253,0.24739502361159627,{"$f":"+Spectre!C2247*N2248/L2248","v":0.77309982926184839},0.79054873590476049]
[6047,0.60470000000000002,2.7347653129696869,1.0100506256645159,6.6560003300575182E-2,0.98661481277523699,1.4630921104584541E-2,0.12477776703579804,0.20596869144095775,0.68431917580350066,0.82720380497472346,0.80501156967597942,1.0460691055661775,0.79546866239220393,1.0486626865692725,0.24793591449117081,{"$f":"+Spectre!C2248*N2249/L2249","v":0.77071561624216534},0.78811071106308161]
[6048,0.6048,2.7338610341255847,1.0100453097671112,6.6515642977380884E-2,0.986634740831695,1.4608991174487145E-2,0.1247509470831033,0.20587558123497135,0.68443653312151009,0.82727474708663484,0.80509050589116371,1.0461716789193132,0.79555095159542699,1.0487711680481886,0.24847634296127907,{"$f":"+Spectre!C2249*N2250/L2250","v":0.76928361351677987},0.78664638795561626]
[6049,0.60489999999999999,2.7329572037212713,1.0100399965928759,6.6471319665368886E-2,0.98665463942008691,1.4587094114625958E-2,0.12472413732785612,0.20578255110785096,0.68455380960730805,0.82734563426145868,0.80516938194792342,1.0462741740998216,0.79563317852795068,1.0488795674359273,0.24901630954881071,{"$f":"+Spectre!C2250*N2251/L2251","v":0.77207520579146049},0.78950098662499812]
[6050,0.60499999999999998,2.732053821460283,1.0100346861399352,6.6427033327427235E-2,0.98667450858338657,1.4565229875732773E-2,0.1246973377644947,0.20568960096765471,0.68467100532838365,0.82741646655409773,0.80524819790502589,1.0463765911840675,0.79571534324998527,1.0489878848118637,0.24955581477996702,{"$f":"+Spectre!C2251*N2252/L2252","v":0.77505082027517469},0.7925437608950251]
[6051,0.60509999999999997,2.7311508870463999,1.0100293784064156,6.6382783926487499E-2,0.9866943483645072,1.4543398408612945E-2,0.12467054838746058,0.20559673072256102,0.68478812035218095,0.82748724401939733,0.80532695382118014,1.0464789302483404,0.79579744582168244,1.0490961202552955,0.25009485918021657,{"$f":"+Spectre!C2252*N2253/L2253","v":0.77504557228505833},0.79253839445747654]
[6052,0.60519999999999996,2.730248400183648,1.0100240733904449,6.6338571425524656E-2,0.9867141588063012,1.4521599664145629E-2,0.12464376919119995,0.20550394028087021,0.68490515474609692,0.8275579667121451,0.80540564975503626,1.046581191368853,0.79587948630313377,1.0492042738454412,0.25063344327422854,{"$f":"+Spectre!C2253*N2254/L2254","v":0.77256785120431259},0.79000475107253576]
[6053,0.60529999999999995,2.7293463605762951,1.0100187710901529,6.6294395787556942E-2,0.98673393995156011,1.4499833593283752E-2,0.12461700017016229,0.20541122955100299,0.68502210857748302,0.82762863468707148,0.80548428576518505,1.0466833746217405,0.7959614647543729,1.049312345661443,0.25117156758629466,{"$f":"+Spectre!C2254*N2255/L2255","v":0.77034360127596313},0.78773029969816177]
[6054,0.60540000000000005,2.7284447679288557,1.0100134715036708,6.6250256975646002E-2,0.98675369184301509,1.4478100147053499E-2,0.1245902413188012,0.20531859844150069,0.68513898191364486,0.82769924799884931,0.8055628619101588,1.0467854800830627,0.79604338123537366,1.0494203357823642,0.25170923263975187,{"$f":"+Spectre!C2255*N2256/L2256","v":0.77019226739601709},0.78757555020403092]
[6055,0.60550000000000004,2.7275436219460882,1.0100081746291314,6.6206154952896792E-2,0.98677341452333656,1.4456399276554665E-2,0.1245634926315746,0.20522604686102605,0.68525577482184052,0.82776980670209388,0.80564137824843041,1.046887507828802,0.79612523580605066,1.0495282442871894,0.25224643895733756,{"$f":"+Spectre!C2256*N2257/L2257","v":0.77031369496618929},0.78769971840129371]
[6056,0.60560000000000003,2.7266429223329944,1.0100028804646697,6.616208968245739E-2,0.98679310803513443,1.4434730932960381E-2,0.12453675410294378,0.20513357471836155,0.6853724873692828,0.82784031085136311,0.80571983483841481,1.0469894579348655,0.79620702852625991,1.0496360712548269,0.25278318706110081,{"$f":"+Spectre!C2257*N2258/L2258","v":0.7702674343746102},0.78765241370555994]
[6057,0.60570000000000002,2.7257426687948172,1.0099975890084214,6.6118061127518876E-2,0.98681277242095844,1.4413095067516729E-2,0.12451002572737456,0.20504118192241017,0.68548911962313819,0.82791076050115797,0.80579823173846743,1.0470913304770828,0.79628875945579802,1.0497438167641062,0.25331947747240235,{"$f":"+Spectre!C2258*N2259/L2259","v":0.76984971436747618},0.78722526573436291]
[6058,0.60580000000000001,2.7248428610370468,1.0099923002585245,6.6074069251315676E-2,0.98683240772329783,1.43914916315431E-2,0.1244833074993358,0.20494886838219456,0.68560567165052699,0.82798115570592201,0.80587656900688565,1.0471931255312081,0.79637042865440366,1.0498514808937807,0.25385531071204781,{"$f":"+Spectre!C2259*N2260/L2260","v":0.7694416177789255},0.78680795838284823]
[6059,0.60589999999999999,2.7239434987654132,1.0099870142131182,6.6030114017124983E-2,0.98685201398458178,1.4369920576431661E-2,0.12445659941330148,0.20485663400685811,0.68572214351852279,0.82805149652004129,0.80595484670190765,1.0472948431729192,0.79645203618175509,1.0499590637225238,0.25439068729995462,{"$f":"+Spectre!C2260*N2261/L2261","v":0.76958545526743893},0.78695504229156998]
[6060,0.60599999999999998,2.7230445816858913,1.0099817308703438,6.5986195388267138E-2,0.98687159124717916,1.434838185364759E-2,0.12442990146374831,0.20476447870566306,0.68583853529415328,0.82812178299784533,0.80603306488171345,1.0473964834778173,0.79653358209747294,1.0500665653289332,0.25492560775552953,{"$f":"+Spectre!C2261*N2262/L2262","v":0.76996231659169512},0.7873404093971178]
[6061,0.60609999999999997,2.7221461095046977,1.0099764502283437,6.5942313328105309E-2,0.9868911395533988,1.4326875414728817E-2,0.12440321364515786,0.20467240238799198,0.6859548470443998,0.82819201519360586,0.80611122360442411,1.0474980465214281,0.79661506646111857,1.0501739857915282,0.25546007259740211,{"$f":"+Spectre!C2262*N2263/L2263","v":0.76908153651939126},0.78643975006902722]
[6062,0.60619999999999996,2.72124808192829,1.009971172285262,6.5898467800045435E-2,0.98691065894548979,1.4305401211285623E-2,0.12437653595201525,0.20458040496334631,0.686071078836197,0.82826219316153815,0.80618932292810241,1.0475995323792007,0.79669648933219439,1.0502813251887506,0.25599408234360244,{"$f":"+Spectre!C2263*N2264/L2264","v":0.76305845089458213},0.78028072306279272]
[6063,0.60629999999999995,2.72035049866337,1.0099658970392449,6.5854658767536364E-2,0.98693014946564084,1.4283959195001363E-2,0.12434986837880906,0.20448848634134678,0.68618723073643395,0.82833231695580045,0.80626736291075307,1.0477009411265092,0.79677785077014462,1.0503885835989657,0.25652763751138341,{"$f":"+Spectre!C2264*N2265/L2265","v":0.75646170849955008},0.77353509182075608]
[6064,0.60640000000000005,2.719453359416879,1.0099606244884394,6.5810886194069593E-2,0.98694961115598134,1.4262549317631216E-2,0.1243232109200326,0.20439664643173339,0.68630330281195273,0.82840238663049359,0.8063453436103214,1.0478022728386507,0.79685915083435455,1.0504957611004604,0.25706073861746503,{"$f":"+Spectre!C2265*N2266/L2266","v":0.75811577876862679},0.77522649454886783]
[6065,0.60650000000000004,2.7185566638960035,1.0099553546309947,6.5767150043179401E-2,0.98696904405858066,1.424117153100302E-2,0.12429656357018239,0.20430488514436479,0.68641929512954958,0.82847240223966212,0.80642326508469564,1.0479035275908475,0.7969403895841507,1.050602857771445,0.25759338617776795,{"$f":"+Spectre!C2266*N2267/L2267","v":0.76688316276622537},0.78419175889656656]
[6066,0.60660000000000003,2.7176604118081693,1.0099500874650615,6.5723450278442633E-2,0.9869884482154484,1.4219825787016891E-2,0.12426992632375952,0.20421320238921903,0.6865352077559731,0.82854236383729285,0.80650112739170399,1.0480047054582442,0.79702156707880079,1.0507098736900518,0.25812558070763547,{"$f":"+Spectre!C2267*N2268/L2268","v":0.77470448674255066},0.79218961059508408]
[6067,0.60670000000000002,2.716764602861041,1.0099448229887922,6.5679786863478584E-2,0.9870078236685349,1.4198512037644703E-2,0.12424329917526823,0.20412159807639152,0.68665104075792738,0.82861227147731698,0.80657893058911834,1.0481058065159123,0.79710268337751466,1.0508168089343366,0.25865732272165598,{"$f":"+Spectre!C2268*N2269/L2269","v":0.77047429653543997},0.78786394475699817]
[6068,0.60680000000000001,2.7158692367625274,1.0099395612003401,6.5636159761949184E-2,0.98702717045973076,1.4177230234930572E-2,0.12421668211921713,0.20403007211609689,0.6867667942020691,0.82868212521360829,0.80665667473465108,1.0482068308388464,0.79718373853944358,1.0509236635822783,0.25918861273377392,{"$f":"+Spectre!C2269*N2270/L2270","v":0.76454646221423272},0.78180231888164697]
[6069,0.6069,2.7149743132207762,1.0099343020978611,6.5592568937558757E-2,0.98704648863086708,1.4155980330990569E-2,0.1241900751501189,0.20393862441866822,0.68688246815500786,0.82875192509998363,0.80673435988595643,1.0483077785019643,0.79726473262367925,1.0510304377117776,0.2597194512573342,{"$f":"+Spectre!C2270*N2271/L2271","v":0.76272517362495251},0.77993992370643661]
[6070,0.60699999999999998,2.714079831944177,1.009929045679512,6.554901435405408E-2,0.98706577822371588,1.4134762278012228E-2,0.12416347826248961,0.20384725489455591,0.6869980626833081,0.82882167119020389,0.80681198610063076,1.0484086495801099,0.79734566568925624,1.051137131400659,0.2602498388049268,{"$f":"+Spectre!C2271*N2272/L2272","v":0.76818202976211036},0.78551994139362602]
[6071,0.60709999999999997,2.7131857926413576,1.0099237919434516,6.5505495975224176E-2,0.98708503927998981,1.4113576028254887E-2,0.1241368914508495,0.20375596345432856,0.68711357785348737,0.82889136353797288,0.8068895534362126,1.0485094441480511,0.79742653779515038,1.0512437447266705,0.26077977588851997,{"$f":"+Spectre!C2272*N2273/L2273","v":0.77357280924054195},0.79103239106818413]
[6072,0.60719999999999996,2.7122921950211869,1.0099185408878399,6.5462013764900379E-2,0.98710427184134208,1.409242153404967E-2,0.12411031470972242,0.20366475000867246,0.68722901373201661,0.82896100219693825,0.80696706195018231,1.0486101622804809,0.79750734900027898,1.0513502777674821,0.26130926301937141,{"$f":"+Spectre!C2273*N2274/L2274","v":0.77153947779894583},0.78895316722155107]
[6073,0.60729999999999995,2.7113990387927731,1.0099132925108389,6.5418567686956253E-2,0.98712347594936722,1.407129874779872E-2,0.12408374803363656,0.20357361446839153,0.68734437038532037,0.82903058722069067,0.80704451169996172,1.0487108040520154,0.79758809936350117,1.0514567306006879,0.26183830070813929,{"$f":"+Spectre!C2274*N2275/L2275","v":0.76652186227252339},0.78382230383039408]
[6074,0.60740000000000005,2.7105063236654625,1.0099080468106121,6.5375157705307427E-2,0.98714265164560022,1.4050207621976054E-2,0.12405719141712353,0.20348255674440702,0.68745964787977665,0.8291001186627649,0.80712190274291529,1.0488113695371972,0.79766878894361803,1.0515631033038049,0.26236688946477127,{"$f":"+Spectre!C2275*N2276/L2276","v":0.76257818712682901},0.77978961971478056]
[6075,0.60750000000000004,2.7096140493488452,1.0099028037853242,6.5331783783911898E-2,0.98716179897151768,1.4029148109126312E-2,0.12403064485471905,0.20339157674775726,0.68757484628171706,0.82916959657663902,0.80719923513634961,1.0489118588104926,0.79774941779937192,1.0516693959542729,0.26289502979854884,{"$f":"+Spectre!C2276*N2277/L2277","v":0.76486391115332986},0.78212693266115996]
[6076,0.60760000000000003,2.7087222155527462,1.0098975634331415,6.5288445886769464E-2,0.9871809179685368,1.4008120161865829E-2,0.12400410834096295,0.20330067438959826,0.68768996565742635,0.82923902101573477,0.80727650893751257,1.0490122719462922,0.79782998598944721,1.0517756086294552,0.26342272221810958,{"$f":"+Spectre!C2277*N2278/L2278","v":0.76733712738641879},0.78465596952377881]
[6077,0.60770000000000002,2.7078308219872285,1.0098923257522328,6.5245143977921971E-2,0.98720000867801627,1.3987123732881643E-2,0.12397758187039828,0.20320984958120192,0.68780500607314321,0.82930839203341766,0.8073537242035953,1.0491126090189131,0.79791049357247068,1.0518817414066393,0.26394996723142494,{"$f":"+Spectre!C2278*N2279/L2279","v":0.76499128570530406},0.78225718206393857]
[6078,{"$f":"+A2280/10000","v":0.60780000000000001},{"$f":"+(1/B2280)^2","v":2.7069398683625967},{"$f":"0.23465+1.076*100/(146-C2280)+0.93161/(41-C2280)","v":1.0098870907407673},{"$f":"9.4977*0.001*C2280^2*D2280*EXP(-h/7.996/1000)","v":6.5201878021453288E-2},{"$f":"+EXP(-0.0168*EXP(-15*ABS(B2280-0.59)))","v":0.98721907114125607},{"$f":"-2.5*LOG(F2280)","v":1.3966158774931731E-2},{"$f":"2.5*LOG(EXP(AOD*(B2280/0.55)^(-1.3)))","v":0.12395106543757238},{"$f":"+E2280+G2280+H2280","v":0.2031191022339574},{"$f":"10^(-0.4*I2280*ma)","v":0.68791996759506002},{"$f":"10^(-0.4*I2280)","v":0.82937770968299729},{"$f":"10^(-0.4*I2280*ma_ref)","v":0.80743088099173044},{"$f":"+L2280/M$1","v":1.049212870102596},{"$f":"10^(-0.4*I2280*ma_target)","v":0.79799094060701037},{"$f":"+N2280/O$1","v":1.0519877943630349},{"$f":"(O2280/M2280-1)*100","v":0.26447676534577802},{"$f":"+Spectre!C2279*N2280/L2280","v":0.75862041306930128},0.77574251847410047]
[6079,0.6079,2.7060493543893922,1.0098818583969167,6.5158647981489071E-2,0.98723810539949752,1.3945225240844846E-2,0.12392455903703631,0.20302843225937023,0.68803485028932221,0.8294469740177266,0.80750797935899354,1.0493130552715073,0.79807132715157725,1.0520937675757773,0.26500311706791901,{"$f":"+Spectre!C2280*N2281/L2281","v":0.75274123136925997},0.76973064331231222]
[6080,0.60799999999999998,2.7051592797783939,1.0098766287188536,6.511545382219687E-2,0.98725711149392315,1.3924323083520753E-2,0.1238980626633454,0.20293783956906303,0.68814965422202801,0.82951618509080238,0.80758501936240157,1.0494131645997375,0.79815165326462245,1.052199661121922,0.26552902290368774,{"$f":"+Spectre!C2281*N2282/L2282","v":0.75139805863941345},0.76835715509838287]
[6081,0.60809999999999997,2.7042696442406187,1.0098714017047525,6.5072295507785913E-2,0.98727608946565726,1.3903452255929479E-2,0.12387157631105804,0.20284732407477343,0.68826437945923058,0.8295853429553659,0.80766200105891484,1.0495131981613035,0.79823191900454149,1.0523054750784515,0.26605448335856874,{"$f":"+Spectre!C2282*N2283/L2283","v":0.75084222668453482},0.76778877798501022]
[6082,0.60819999999999996,2.7033804474873215,1.0098661773527897,6.5029173002507268E-2,0.98729503935576568,1.388261271111165E-2,0.12384509997473714,0.20275688568835604,0.68837902606693513,0.8296544476645018,0.80773892450543539,1.0496131560301467,0.79831212442967037,1.05241120952227,0.26657949893711397,{"$f":"+Spectre!C2283*N2284/L2284","v":0.75217640025090604},0.76915306392383831]
[6083,0.60829999999999995,2.7024916892299955,1.0098609556611424,6.4986086270653609E-2,0.98731396120525594,1.3861804402178232E-2,0.12381863364894927,0.20266652432178112,0.688493594111101,0.82972349927123923,0.80781578975880775,1.049713038280133,0.79839226959828746,1.0525168645302057,0.2671040701434535,{"$f":"+Spectre!C2284*N2285/L2285","v":0.7580613225665721},0.775170809267269]
[6084,0.60840000000000005,2.7016033691803676,1.0098557366279903,6.4943035276559147E-2,0.98733285505507729,1.3841027282310518E-2,0.12379217732826447,0.20257623988713414,0.68860808365764115,0.82979249782855113,0.80789259687581971,1.0498128449850554,0.7984723545686141,1.0526224401790112,0.26762819748082922,{"$f":"+Spectre!C2285*N2286/L2286","v":0.7638954794249061},0.78113664337413935]
[6085,0.60850000000000004,2.7007154870504064,1.0098505202515138,6.4900019984599794E-2,0.98735172094612067,1.3820281304760089E-2,0.12376573100725734,0.20248603229661721,0.68872249477242087,0.82986144338935453,0.80796934591320035,1.0499125762186303,0.79855237939881296,1.0527279365453623,0.26815188145206115,{"$f":"+Spectre!C2286*N2287/L2287","v":0.76231702785451716},0.77952256606299919]
[6086,0.60860000000000003,2.6998280425523133,1.0098453065298951,6.4857040359192791E-2,0.9873705589192191,1.3799566422848452E-2,0.12373929468050565,0.20239590146254688,0.68883682752125996,0.82993033600651078,0.80804603692762256,1.0500122320545011,0.79863234414698958,1.0528333537058592,0.26867512255910331,{"$f":"+Spectre!C2287*N2288/L2288","v":0.75797212719415752},0.7750796007502806]
[6087,0.60870000000000002,2.6989410353985273,1.0098400954613183,6.4814096364796916E-2,0.98738936901514762,1.3778882589967002E-2,0.1237128683425914,0.20230584729735532,0.68895108196993116,0.82999917573282533,0.80812266997570115,1.0501118125662354,0.79871224887119152,1.052938691737026,0.26919792130348785,{"$f":"+Spectre!C2288*N2289/L2289","v":0.754575732341488},0.77160654907469695]
[6088,0.60880000000000001,2.6980544653017242,1.0098348870439691,6.4771187965912372E-2,0.98740815127462311,1.3758229759577257E-2,0.12368645198810015,0.20221586971358979,0.6890652581841602,0.83006796262104809,0.80819924511399377,1.0502113178273269,0.79879209362940862,1.05304395071531,0.26972027818583655,{"$f":"+Spectre!C2289*N2290/L2290","v":0.75498410407538596},0.77202413778160495]
[6089,0.6089,2.6971683319748143,1.0098296812760337,6.472831512708048E-2,0.98742690573830472,1.3737607885210341E-2,0.12366004561162142,0.20212596862391224,0.68917935622962667,0.83013669672387325,0.80827576239900067,1.0503107479111948,0.79887187847957375,1.0531491307170842,0.27024219370639369,{"$f":"+Spectre!C2290*N2291/L2291","v":0.75563215185604515},0.77268681203713441]
[6090,0.60899999999999999,2.6962826351309448,1.0098244781557018,6.4685477812884098E-2,0.98744563244679395,1.3717016920466854E-2,0.1236336492077488,0.20203614394109976,0.6892933761719634,0.83020537809393902,0.80835222188716538,1.0504101028911843,0.79895160347956107,1.0532542318186435,0.27076366836447097,{"$f":"+Spectre!C2291*N2292/L2292","v":0.75558295603249959},0.77263650586108346]
[6091,0.60909999999999997,2.6953973744834978,1.0098192776811625,6.464267598794711E-2,0.98746433144063439,1.3696456819017211E-2,0.12360726277107896,0.20194639557804328,0.68940731807675681,0.83027400678382879,0.80842862363487411,1.0505093828405665,0.79903126868718866,1.0533592540962098,0.27128470265893601,{"$f":"+Spectre!C2292*N2293/L2293","v":0.75475793114429279},0.77179286011473203]
[6092,0.60919999999999996,2.6945125497460913,1.0098140798506083,6.4599909616934695E-2,0.98748300276031198,1.3675927534601253E-2,0.1235808862962131,0.20185672344774905,0.68952118200954571,0.83034258284606965,0.80850496769845526,1.0506085878325366,0.79911087416021609,1.0534641976259265,0.27180529708796808,{"$f":"+Spectre!C2293*N2294/L2294","v":0.75399184355204141},0.77100948188242158]
[6093,0.60929999999999995,2.693628160632576,1.009808884662232,6.4557178664552975E-2,0.98750164644625527,1.3655429021027995E-2,0.12355451977775629,0.20176712746333725,0.68963496803582292,0.83041110633313364,0.8085812541341808,1.0507077179402173,0.79919041995634577,1.053569062483863,0.27232545214903592,{"$f":"+Spectre!C2294*N2295/L2295","v":0.75337527516355851},0.77037899751072092]
[6094,0.60940000000000005,2.6927442068570406,1.0098036921142284,6.4514483095549288E-2,0.98752026253883518,1.3634961232175844E-2,0.12352816321031647,0.20167760753804159,0.68974867622103497,0.83047957729743738,0.8086574829982659,1.0508067732366573,0.79926990613322302,1.0536738487460124,0.27284516833900874,{"$f":"+Spectre!C2295*N2296/L2296","v":0.75269521814132734},0.7696835915632364]
[6095,0.60950000000000004,2.6918606881338065,1.0097985022047942,6.4471822874711912E-2,0.98753885107836537,1.3614524121992207E-2,0.12350181658850649,0.20158816358521062,0.68986230663058057,0.83054799579134198,0.80873365434686784,1.0509057537948299,0.79934933274843523,1.0537785564882924,0.27336444615406741,{"$f":"+Spectre!C2296*N2297/L2297","v":0.75341787638663804},0.77042256024580225]
[6096,0.60960000000000003,2.69097760417743,1.009793314932127,6.4429197966870078E-2,0.98755741210510217,1.3594117644493489E-2,0.12347547990694256,0.20149879551830613,0.68997585932981265,0.83061636186715304,0.80880976823608752,1.0510046596876348,0.79942869985951337,1.0538831857865456,0.27388328608992651,{"$f":"+Spectre!C2297*N2298/L2298","v":0.75676138906604329},0.7738415361944958]
[6097,0.60970000000000002,2.6900949547027015,1.0097881302944267,6.4386608336893913E-2,0.98757594565924445,1.3573741753765299E-2,0.12344915316024446,0.20140950325090368,0.69008933438403663,0.83068467557712133,0.80888582472196913,1.0511034909878989,0.79950800752393025,1.053987736716538,0.27440168864136805,{"$f":"+Spectre!C2298*N2299/L2299","v":0.76011363181919622},0.77726943925519265]
[6098,0.60980000000000001,2.6892127394246441,1.0097829482898939,6.4344053949694294E-2,0.98759445178093419,1.3553396403961715E-2,0.12342283634303597,0.201320286696692,0.69020273185851222,0.83075293697344221,0.80896182386049964,1.051202247768374,0.79958725579910206,1.0540922093539613,0.27491965430272991,{"$f":"+Spectre!C2299*N2300/L2300","v":0.75952394986561356},0.77666644814674068]
[6099,0.6099,2.6883309580585153,1.0097777689167313,6.4301534770222976E-2,0.987612930510256,1.3533081549305865E-2,0.12339652944994448,0.20123114576947332,0.69031605181845168,0.83082114610825608,0.80903776570760944,1.0513009301017386,0.79966644474238768,1.0541966037744313,0.27543718356763947,{"$f":"+Spectre!C2300*N2301/L2301","v":0.75696039462794007},0.77404503332312113]
[6100,0.61,2.6874496103198067,1.0097725921731429,6.4259050763472408E-2,0.98763138188723776,1.3512797144089178E-2,0.12337023247560178,0.20114208038316336,0.69042929432902023,0.83088930303364761,0.80911365031917193,1.0513995380605974,0.79974557441108896,1.0543009200534887,0.27595427692912455,{"$f":"+Spectre!C2301*N2302/L2302","v":0.75461608101720012},0.77164780842228997]
[6101,0.61009999999999998,2.6865686959242416,1.0097674180573346,6.4216601894475714E-2,0.98764980595185026,1.3492543142671733E-2,0.12334394541464268,0.20105309045179012,0.69054245945533699,0.83095740780164706,0.80918947775100403,1.0514980717174813,0.79982464486245064,1.0544051582665994,0.27647093487959129,{"$f":"+Spectre!C2302*N2303/L2303","v":0.75357946695979972},0.7705877979272916]
[6102,0.61019999999999996,2.6856882145877776,1.0097622465675133,6.4174188128306608E-2,0.98766820274400746,1.3472319499481994E-2,0.12331766826170631,0.20096417588949492,0.69065554726247413,0.83102546046422932,0.80926524805886579,1.0515965311448474,0.79990365615365999,1.0545093184891525,0.27698715791064643,{"$f":"+Spectre!C2303*N2304/L2304","v":0.75243190800896986},0.76941433850637708]
[6103,0.61029999999999995,2.6848081660266043,1.0097570777018883,6.413180943007947E-2,0.98768657230356638,1.3452126169016915E-2,0.12329140101143488,0.20087533661053125,0.69076855781545698,0.83109346107331461,0.809340961298461,1.05169491641508,0.7999826083418482,1.0546134007964643,0.27750294651347485,{"$f":"+Spectre!C2304*N2305/L2305","v":0.75229529859161148},0.76927464580678295]
[6104,0.61040000000000005,2.6839285499571424,1.009751911458669,6.4089465764948964E-2,0.98770491467032762,1.3431963105841317E-2,0.12326514365847559,0.20078657252926585,0.6908814911792639,0.83116140968076746,0.80941661752543614,1.0517932276004884,0.80006150148408861,1.054717405263774,0.27801830117850646,{"$f":"+Spectre!C2305*N2306/L2306","v":0.75306785277066079},0.77006463657711921]
[6105,0.61050000000000004,2.6830493660960486,1.0097467478360682,6.4047157098110541E-2,0.98772322988403494,1.3411830264588337E-2,0.12323889619747801,0.20069788356017687,0.69099434741882682,0.83122930633839875,0.80949221679538208,1.0518914647733102,0.80014033563739839,1.0548213319662474,0.27853322239557166,{"$f":"+Spectre!C2306*N2307/L2307","v":0.75387499266106262},{"$f":"+Q2307/R$1","v":0.77088999366025901}]
[6106,0.61060000000000003,2.6821706141602082,1.0097415868322985,6.4004883394799761E-2,0.98774151798437548,1.3391727599959191E-2,0.12321265862309651,0.20060926961785547,0.6911071265990304,0.83129715109796365,0.8095677591638325,1.0519896280057084,0.80021911085873709,1.0549251809789737,0.2790477106537903,{"$f":"+Spectre!C2307*N2308/L2308","v":0.75551000251204092},0.7725619057755635]
[6107,0.61070000000000002,2.681292293866739,1.0097364284455752,6.3962644620292677E-2,0.98775977901098011,1.3371655066722776E-2,0.1231864309299889,0.20052073061700437,0.69121982878471266,0.83136494401116268,0.8096432446862647,1.0520877173697725,0.80029782720500819,1.0550289523769685,0.27956176644179376,{"$f":"+Spectre!C2308*N2309/L2309","v":0.75731850811139989},0.77441122944805096]
[6108,0.61080000000000001,2.6804144049329919,1.0097312726741148,6.392044073990566E-2,0.98777801300342316,1.3351612619715897E-2,0.12316021311281634,0.20043226647243789,0.69133245404066557,0.83143268512964208,0.80971867341810055,1.0521857329375206,0.80037648473305822,1.0551326462351727,0.28007539024739181,{"$f":"+Spectre!C2309*N2310/L2310","v":0.75666087912008473},0.77373875773340195]
[6109,0.6109,2.6795369470765458,1.0097261195161347,6.3878271718995114E-2,0.98779622000122258,1.3331600213843125E-2,0.12313400516624447,0.20034387709908269,0.69144500243163298,0.83150037450499281,0.80979404541470412,1.052283674780895,0.80045508349967687,1.0552362626284513,0.28058858255792796,{"$f":"+Spectre!C2310*N2311/L2311","v":0.74861661554181347},0.76551293467357939]
[6110,0.61099999999999999,2.6786599200152148,1.0097209689698547,6.3836137522957956E-2,0.98781440004384025,1.3311617804076414E-2,0.12310780708494203,0.2002555624119764,0.69155747402231293,0.83156801218875187,0.80986936073138416,1.0523815429717667,0.80053362356159685,1.0553398016315954,0.28110134386003516,{"$f":"+Spectre!C2311*N2312/L2312","v":0.74058765214126132},0.75730275711734785]
[6111,0.61109999999999998,2.6777833234670405,1.0097158210334962,6.3794038117230958E-2,0.98783255317068175,1.3291665345455332E-2,0.12308161886358208,0.20016732232626838,0.69166986887735604,0.83163559823240107,0.8099446194233928,1.0524793375819326,0.80061210497549495,1.0554432633193211,0.28161367463974685,{"$f":"+Spectre!C2312*N2313/L2313","v":0.74069877697336695},0.75741639004316619]
[6112,0.61119999999999997,2.6769071571502976,1.0097106757052814,6.3751973467291168E-2,0.9878506794210965,1.327174279308691E-2,0.12305544049684099,0.20007915675721905,0.6917821870613664,0.83170313268736806,0.81001982154592633,1.0525770586831176,0.80069052779799077,1.0555466477662703,0.28212557538238592,{"$f":"+Spectre!C2313*N2314/L2314","v":0.74423973129617516},0.76103726390426285]
[6113,0.61129999999999995,2.6760314207834894,1.0097055329834344,6.3709943538655528E-2,0.98786877883437796,1.3251850102145392E-2,0.12302927197939922,0.19999106562020014,0.69189442863890094,0.83177061560502608,0.81009496715412399,1.0526747063469719,0.80076889208564728,1.0556499550470095,0.28263704657276456,{"$f":"+Spectre!C2314*N2315/L2315","v":0.74643077940129099},0.76327776408838488]
[6114,0.61140000000000005,2.6751561140853495,1.0097003928661805,6.3667948296880925E-2,0.98788685144976374,1.3231987227872086E-2,0.12300311330594053,0.19990304883069354,0.69200659367447037,0.83183804703669395,0.81017005630307026,1.0527722806450748,0.80084719789497216,1.0557531852360325,0.28314808869502883,{"$f":"+Spectre!C2315*N2316/L2316","v":0.74212116925778182},0.75887088580146755]
[6115,0.61150000000000004,2.6742812367748434,1.0096952553517473,6.3625987707564391E-2,0.98790489730643527,1.3212154125575713E-2,0.12297696447115283,0.19981510630429294,0.6921186822325377,0.83190542703363557,0.81024508904779236,1.0528697816489314,0.80092544528241472,1.0558563384077562,0.28365870223261425,{"$f":"+Spectre!C2316*N2317/L2317","v":0.73709749505996958},0.75373382699436664]
[6116,0.61160000000000003,2.6734067885711643,1.009690120438363,6.3584061736342609E-2,0.98792291644351848,1.3192350750631663E-2,0.12295082546972769,0.19972723795670194,0.69223069437751961,0.83197275564706141,0.81032006544326207,1.0529672094299747,0.80100363430436927,1.0559594146365248,0.2841688876684012,{"$f":"+Spectre!C2317*N2318/L2318","v":0.73754176497906088},0.75418812411052749]
[6117,0.61170000000000002,2.6725327691937362,1.0096849881242582,6.3542170348892188E-2,0.98794090890008335,1.3172577058482456E-2,0.12292469629636019,0.19963944370373482,0.69234263017378561,0.83204003292812689,0.81039498554439493,1.0530645640595639,0.80108176501717321,1.0560624139966079,0.28467864548469279,{"$f":"+Spectre!C2318*N2319/L2319","v":0.7449444468849985},0.76175788496357499]
[6118,0.61180000000000001,2.6716591783622112,1.0096798584076643,6.3500313510929426E-2,0.98795887471514443,1.3152833004637118E-2,0.12289857694574918,0.19955172346131572,0.69245448968565904,0.83210725892793402,0.81046984940605094,1.0531618456089873,0.80115983747710806,1.056165336562201,0.28518797616305935,{"$f":"+Spectre!C2319*N2320/L2320","v":0.75207650150351713},0.7690509104561003]
[6119,0.6119,2.6707860157964705,1.0096747312868146,6.3458491188210384E-2,0.98797681392766057,1.3133118544671536E-2,0.12287246741259777,0.1994640771454797,0.69256627297741513,0.83217443369752975,0.81054465708303369,1.0532590541494586,0.8012378517403983,1.0562681824074247,0.28569688018453832,{"$f":"+Spectre!C2320*N2321/L2321","v":0.75165122324365852},0.76861603364198949]
[6120,0.61199999999999999,2.6699132812166262,1.0096696067599438,6.3416703346530823E-2,0.98799472657653498,1.3113433634228309E-2,0.12284636769161197,0.19937650467237111,0.6926779801132833,0.8322415572879075,0.81061940863009152,1.0533561897521209,0.80131580786321288,1.0563709516063262,0.28620535802943436,{"$f":"+Spectre!C2321*N2322/L2322","v":0.75020453151378319},0.76713668999837648]
[6121,0.61209999999999998,2.6690409743430168,1.0096644848252878,6.337494995172599E-2,0.98801261270061569,1.309377822901624E-2,0.12282027777750196,0.19928900595824417,0.69278961115744586,0.83230862975000675,0.81069410410191656,1.0534532524880431,0.80139370590166426,1.0564736442328782,0.28671341017756369,{"$f":"+Spectre!C2322*N2323/L2323","v":0.74868527481821123},0.76558314359370838]
[6122,0.61219999999999997,2.6681690948962093,1.0096593654810846,6.3333230969670765E-2,0.98803047233869512,1.3074152284810821E-2,0.12279419766498177,0.19920158091946336,0.6929011661740373,0.83237565113471235,0.81076874355314477,1.0535502424282222,0.80147154591180869,1.0565762603609796,0.28722103710812075,{"$f":"+Spectre!C2323*N2324/L2324","v":0.74725321463865491},0.76411876173532833]
[6123,0.61229999999999996,2.6672976425969996,1.0096542487255737,6.3291546366279511E-2,0.98804830552951073,1.3054555757453463E-2,0.12276812734876878,0.19911422947250174,0.69301264522714667,0.83244262149285564,0.81084332703835782,1.0536471596435837,0.80154932794964628,1.0566788000644549,0.28772823929945623,{"$f":"+Spectre!C2324*N2325/L2325","v":0.74581998635332292},0.76265318540695948]
[6124,0.61240000000000006,2.6664266171664113,1.0096491345569953,6.3249896107506018E-2,0.98806611231174457,1.3034988602851991E-2,0.12274206682358427,0.19902695153394229,0.69312404838081532,0.83250954087521412,0.81091785461208066,1.0537440042049802,0.80162705207112173,1.0567812634170559,0.28823501722956557,{"$f":"+Spectre!C2325*N2326/L2326","v":0.74476882266747391},0.76157829689757983]
[6125,0.61250000000000004,2.665556018325697,1.0096440229735921,6.3208280159343586E-2,0.98808389272402342,1.301545077698048E-2,0.12271601608415324,0.19893974702047729,0.69323537569903737,0.83257640933251098,0.81099232632878226,1.0538407761831907,0.80170471833212242,1.0568836504924584,0.28874137137568923,{"$f":"+Spectre!C2326*N2327/L2327","v":0.74398864167687906},0.76078050717813239]
[6126,0.61260000000000003,2.6646858457963352,1.0096389139736075,6.3166698487824718E-2,0.98810164680491919,1.2995942235878759E-2,0.1226899751252042,0.19885261584890768,0.69334662724576068,0.83264322691541626,0.81106674224287723,1.0539374756489246,0.80178232678848105,1.0569859613642667,0.28924730221449035,{"$f":"+Spectre!C2327*N2328/L2328","v":0.74324964936184923},0.76002483576497482]
[6127,0.61270000000000002,2.6638160993000315,1.0096338075552869,6.3125151059021264E-2,0.98811937459294896,1.2976462935652404E-2,0.12266394394146982,0.19876555793614348,0.69345780308488592,0.83270999367454557,0.81114110240872384,1.0540341026728173,0.80185987749597387,1.0570881961060103,0.28975281022203259,{"$f":"+Spectre!C2328*N2329/L2329","v":0.74406632150778484},0.76085994024719217]
[6128,0.61280000000000001,2.6629467785587195,1.0096287037168772,6.3083637839044304E-2,0.98813707612657453,1.2957012832473195E-2,0.122637922527686,0.19867857319920351,0.69356890328026655,0.83277670966046102,0.81121540688062477,1.0541306573254321,0.80193737051032077,1.0571903547911443,0.29025789587369122,{"$f":"+Spectre!C2329*N2330/L2330","v":0.74510949164946005},0.7619266547976562]
[6129,0.6129,2.6620778832945589,1.0096236024566265,6.3042158794044123E-2,0.98815475144420306,1.2937591882578366E-2,0.12261191087859244,0.19859166155521493,0.69367992789570976,0.83284337492367122,0.81128965571282807,1.0542271396772613,0.80201480588718688,1.0572924374930521,0.29076255964433084,{"$f":"+Spectre!C2330*N2331/L2331","v":0.74265869239167548},0.75942054086273558]
[6130,0.61299999999999999,2.6612094132299369,1.0096185037727845,6.3000713890210114E-2,0.98817240058418698,1.2918200042270723E-2,0.12258590898893248,0.1985048229214133,0.69379087699497544,0.83290998951463135,0.81136384895952607,1.0543235497987256,0.80209218368218071,1.057394444285042,0.29126680200803889,{"$f":"+Spectre!C2331*N2332/L2332","v":0.73636406174554192},0.75298384004876762]
[6131,0.61309999999999998,2.6603413680874657,1.0096134076636025,6.2959303093770763E-2,0.988190023584824,1.2898837267918612E-2,0.1225599168534537,0.19841805721514308,0.69390175064177595,0.83297655348374244,0.81143798667485489,1.0544198877601711,0.80216950395085485,1.0574963752403486,0.29177062343850313,{"$f":"+Spectre!C2332*N2333/L2333","v":0.7304994920633181},0.74698690669886103]
[6132,0.61319999999999997,2.6594737475899852,1.0096083141273335,6.2917926370993651E-2,0.98820762048435717,1.2879503515955789E-2,0.12253393446690644,0.1983313643538559,0.69401254889977804,0.83304306688135243,0.81151206891289696,1.0545161536318755,0.80224676674870721,1.0575982304321345,0.29227402440863415,{"$f":"+Spectre!C2333*N2334/L2334","v":0.7325200649342275},0.74905308401314918]
[6133,0.61329999999999996,2.6586065514605606,1.0096032231622314,6.2876583688185203E-2,0.98822519132097508,1.2860198742881284E-2,0.12250796182404529,0.19824474425511179,0.69412327183260047,0.83310952975775576,0.81158609572767848,1.054612347484043,0.80232397213117901,1.0577000099334879,0.29277700539076523,{"$f":"+Spectre!C2334*N2335/L2335","v":0.73690868014246713},0.75354075051355296]
[6134,0.61339999999999995,2.657739779422482,1.0095981347665524,6.2835275011690936E-2,0.98824273613281177,1.2840922905259369E-2,0.12248199891962851,0.19815819683657881,0.69423391950381541,0.83317594216319335,0.8116600671731703,1.0547084693868054,0.80240112015365639,1.0578017138174238,0.29327956685669676,{"$f":"+Spectre!C2335*N2336/L2336","v":0.74015721552683067},0.75686260552431206]
[6135,0.61350000000000005,2.6568734311992661,1.009593048938553,6.2794000307895101E-2,0.98826025495794689,1.2821675959719427E-2,0.12245604574841808,0.19807172201603263,0.69434449197694748,0.83324230414785272,0.8117339833032885,1.054804519410224,0.80247821087146942,1.0579033421568838,0.29378170927749636,{"$f":"+Spectre!C2336*N2337/L2337","v":0.73922342330879209},0.75590773756337493]
[6136,0.61360000000000003,2.6560075065146544,1.0095879656764923,6.2752759543220862E-2,0.98827774783440581,1.2802457862955826E-2,0.1224301023051793,0.19798531971135597,0.69445498931547556,0.83330861576186832,0.81180784417189444,1.0549004976242888,0.80255524433989345,1.0580048950247369,0.29428343312374317,{"$f":"+Spectre!C2337*N2338/L2338","v":0.73833268996013635},0.75499690031292521]
[6137,0.61370000000000002,2.6551420050926153,1.0095828849786308,6.2711552684130201E-2,0.98829521480015969,1.2783268571727759E-2,0.12240416858468121,0.19789898984053916,0.69456541158283092,0.83337487705532098,0.81188164983279376,1.054996404098917,0.80263222061414752,1.0581063724937785,0.29478473886530576,{"$f":"+Spectre!C2338*N2339/L2339","v":0.73996267309941022},0.75666367226335929]
[6138,0.61380000000000001,2.6542769266573387,1.00957780684323,6.2670379697123732E-2,0.98831265589312534,1.2764108042859481E-2,0.12237824458169719,0.1978127323216804,0.69467575884239696,0.83344108807823836,0.8119554003397369,1.055092238903955,0.80270913974939551,1.0582077746367304,0.29528562697151983,{"$f":"+Spectre!C2339*N2340/L2340","v":0.7429308423847546},0.75969883329647026]
[6139,0.6139,2.6534122709332406,1.0095727312685527,6.2629240548740667E-2,0.98833007115116578,1.2744976233239563E-2,0.1223523302910033,0.19772654707298354,0.69478603115751192,0.8335072488805958,0.81202909574642057,1.0551880021091782,0.80278600180074622,1.0583091015262427,0.29578609791107713,{"$f":"+Spectre!C2340*N2341/L2341","v":0.74495842946964008},0.76177218313593864]
[6140,0.61399999999999999,2.6525480376449617,1.0095676582528639,6.2588135205559017E-2,0.98834746061208956,1.2725873099821724E-2,0.12232642570737973,0.19764043401276046,0.69489622859146594,0.83357335951231393,0.81210273610648542,1.0552836937842898,0.80286280682325273,1.0584103532348914,0.29628615215206988,{"$f":"+Spectre!C2341*N2342/L2342","v":0.74085273957748865},0.75757382759192526]
[6141,0.61409999999999998,2.6516842265173675,1.0095625877944299,6.2547063634195307E-2,0.9883648243136518,1.2706798599623596E-2,0.12230053082561063,0.19755439305942951,0.69500635120750198,0.83363942002326175,0.81217632147351759,1.0553793139989225,0.80293955487191282,1.0585115298351799,0.29678579016194639,{"$f":"+Spectre!C2342*N2343/L2343","v":0.73595199964737146},0.75256247768585782]
[6142,{"$f":"+A2344/10000","v":0.61419999999999997},{"$f":"+(1/B2344)^2","v":2.6508208372755457},{"$f":"0.23465+1.076*100/(146-C2344)+0.93161/(41-C2344)","v":1.0095575198915181},{"$f":"9.4977*0.001*C2344^2*D2344*EXP(-h/7.996/1000)","v":6.2506025801304516E-2},{"$f":"+EXP(-0.0168*EXP(-15*ABS(B2344-0.59)))","v":0.98838216229355336},{"$f":"-2.5*LOG(F2344)","v":1.2687752689727681E-2},{"$f":"2.5*LOG(EXP(AOD*(B2344/0.55)^(-1.3)))","v":0.12227464564048304},{"$f":"+E2344+G2344+H2344","v":0.19746842413151525},{"$f":"10^(-0.4*I2344*ma)","v":0.69511639906881717},{"$f":"10^(-0.4*I2344)","v":0.83370543046325485},{"$f":"10^(-0.4*I2344*ma_ref)","v":0.81224985190104859},{"$f":"+L2344/M$1","v":1.0554748628226371},{"$f":"10^(-0.4*I2344*ma_target)","v":0.80301624600166921},{"$f":"+N2344/O$1","v":1.0586126313995388},{"$f":"(O2344/M2344-1)*100","v":0.29728501240762206},{"$f":"+Spectre!C2343*N2344/L2344","v":0.7313578935576095},0.74786468236317438]
[6143,0.61429999999999996,2.6499578696448096,1.0095524545423977,6.2465021673580187E-2,0.98839947458944144,1.2668735327280613E-2,0.12224877014678837,0.19738252714764917,0.69522637223856043,0.83377139088205532,0.81232332744255487,1.0555703403249237,0.80309288026740933,1.058713658000326,0.29778381935539056,{"$f":"+Spectre!C2344*N2345/L2345","v":0.72737308636482367},0.74378993784785241]
[6144,0.61439999999999995,2.6490953233506946,1.0095473917453388,6.2424051217754184E-2,0.98841676123890931,1.2649746469493487E-2,0.12222290433932131,0.19729670202656899,0.6953362707798344,0.83383730132937295,0.81239674815145824,1.0556657465752008,0.80316945772396509,1.0588146097098263,0.29828221147092382,{"$f":"+Spectre!C2345*N2346/L2346","v":0.72294182995100842},0.73925866772746407]
[6145,0.61450000000000005,2.6482331981189597,1.0095423314986141,6.2383114400596774E-2,0.98843402227949695,1.2630786073641136E-2,0.12219704821288033,0.19721094868711825,0.69544609475569452,0.83390316185486424,0.8124701140811259,1.0557610816428167,0.803245978426114,1.0589154866002526,0.29878018921927207,{"$f":"+Spectre!C2346*N2347/L2347","v":0.72572116435632394},0.74210073186667969]
[6146,0.61460000000000004,2.6473714936755881,1.0095372738004971,6.2342211188916627E-2,0.98845125774869025,1.2611854097062943E-2,0.12217120176226737,0.19712526704824695,0.69555584422914918,0.83396897250813318,0.81254342528487022,1.0558563455970473,0.80332244242857731,1.0590162887437435,0.29927775306490823,{"$f":"+Spectre!C2347*N2348/L2348","v":0.73001399175947246},0.74649044862584213]
[6147,0.61470000000000002,2.6465102097467845,1.0095322186492621,6.2301341549560532E-2,0.98846846768392216,1.2592950497161626E-2,0.12214536498228812,0.19703965702901027,0.69566551926316056,0.83403473333873113,0.8126166818159497,1.0559515385070997,0.80339884978602294,1.0591170162123678,0.29977490347175006,{"$f":"+Spectre!C2348*N2349/L2349","v":0.73250387573356845},0.74903652942132048]
[6148,0.61480000000000001,2.6456493460589772,1.0095271660431864,6.2260505449413618E-2,0.98848565212257167,1.2574075231404308E-2,0.12211953786775183,0.19695411854856976,0.69577511992064267,0.83410044439615649,0.81268988372756723,1.0560466604421077,0.80347520055306221,1.059217669078119,0.30027164090304925,{"$f":"+Spectre!C2349*N2350/L2350","v":0.72942682005698745},0.74589002442499641]
[6149,0.6149,2.6447889023388162,1.0095221159805474,6.2219702855399101E-2,0.98850281110196458,1.2555228257321648E-2,0.12209372041347166,0.19686865152619243,0.69588464626446289,0.8341661057298545,0.81276303107287173,1.0561417114711358,0.80355149478425192,1.059318247412919,0.30076796582141352,{"$f":"+Spectre!C2350*N2351/L2351","v":0.72615765912197794},0.74254707834375278]
[6150,0.61499999999999999,2.6439288783131731,1.0095170684596249,6.2178933734478282E-2,0.98851994465937365,1.2536409532507701E-2,0.12206791261426432,0.19678325588125029,0.6959940983574423,0.83423171738921864,0.81283612390495774,1.0562366916631774,0.80362773253409447,1.0594187512886186,0.30126387868902871,{"$f":"+Spectre!C2351*N2352/L2352","v":0.72342282908835098},0.73975052304239863]
[6151,0.61509999999999998,2.6430692737091439,1.0095120234786994,6.2138198053650666E-2,0.98853705283201787,1.2517619014620644E-2,0.12204211446494961,0.1966979315332209,0.69610347626235425,0.83429727942358944,0.81290916227686527,1.0563316010871551,0.80370391385703688,1.0595191807769946,0.30175937996732571,{"$f":"+Spectre!C2352*N2353/L2353","v":0.72119386125602392},0.73747124728068891]
[6152,0.61519999999999997,2.6422100882540449,1.0095069810360535,6.2097495779953694E-2,0.98855413565706363,1.2498856661381529E-2,0.12201632596035129,0.1966126784016865,0.69621278004192599,0.83436279188225504,0.81298214624158049,1.0564264398119214,0.80378003880747173,1.0596195359497524,0.30225447011715811,{"$f":"+Spectre!C2353*N2354/L2354","v":0.71895163677253193},0.73517841566445152]
[6153,0.61529999999999996,2.6413513216754128,1.0095019411299708,6.2056826880462684E-2,0.98857119317162379,1.2480122430575245E-2,0.12199054709529727,0.19652749640633521,0.69632200975883618,0.83442825481445093,0.81305507585203396,1.0565212079062571,0.80385610743973634,1.0597198168785253,0.30274914959889099,{"$f":"+Spectre!C2354*N2355/L2355","v":0.71948258132212939},0.7357213436624056]
[6154,0.61539999999999995,2.6404929737010074,1.0094969037587369,6.2016191322291005E-2,0.98858822541275837,1.2461416280049773E-2,0.12196477786461837,0.19644238546695914,0.69643116547571804,0.83449366826936,0.81312795116110348,1.0566159054388737,0.80393211980811363,1.0598200236348736,0.30324341887215667,{"$f":"+Spectre!C2355*N2356/L2356","v":0.72003632417926378},0.7362875845269804]
[6155,0.61550000000000005,2.6396350440588083,1.0094918689206382,6.1975589072589786E-2,0.98860523241747467,1.2442738167716048E-2,0.12193901826314914,0.19635734550345496,0.69654024725515751,0.8345590322961135,0.81320077222161169,1.0567105324784116,0.80400807596683188,1.0599201562902862,0.30373727839607678,{"$f":"+Spectre!C2356*N2357/L2357","v":0.72153075279207424},0.73781574247766213]
[6156,0.61560000000000004,2.6387775324770182,1.0094868366139629,6.1935020098548052E-2,0.98862221422272678,1.2424088051548425E-2,0.12191326828572788,0.19627237643582435,0.69664925515969289,0.83462434694378962,0.81327353908632749,1.0568050890934413,0.80408397597006454,1.0600202149161801,0.30423072862915124,{"$f":"+Spectre!C2357*N2358/L2358","v":0.72430343849197298},0.74065100784980564]
[6157,0.61570000000000003,2.6379204386840582,1.0094818068370008,6.1894484367392574E-2,0.98863917086541597,1.2405465889584308E-2,0.12188752792719662,0.19618747818417351,0.69675818925181587,0.83468961226141447,0.81334625180796516,1.0568995753524615,0.8041598198719303,1.0601201995838994,0.30472377002932483,{"$f":"+Spectre!C2358*N2359/L2359","v":0.72705852981577568},0.74346828173979473]
[6158,0.61580000000000001,2.6370637624085713,1.0094767795880428,6.1853981846387802E-2,0.9886561023823911,1.2386871639923632E-2,0.12186179718240053,0.19610265066871196,0.69686704959397172,0.83475482829796233,0.81341891043918568,1.056993991323903,0.80423560772649372,1.0602201103647173,0.305216403053854,{"$f":"+Spectre!C2359*N2360/L2360","v":0.72974849181888291},0.7462189563366558]
[6159,0.6159,2.6362075033794201,1.0094717548653815,6.1813512502835878E-2,0.98867300881044828,1.2368305260729226E-2,0.12183607604618915,0.19601789380975426,0.69697583624855763,0.83481999510235472,0.81349151503259531,1.0570883370761244,0.80431133958776446,1.0603199473298346,0.30570862815957334,{"$f":"+Spectre!C2360*N2361/L2361","v":0.73236706702888565},0.74889663293647579]
[6160,0.61599999999999999,2.6353516613256871,1.0094667326673115,6.1773076304076566E-2,0.98868989018633069,1.2349766710227039E-2,0.12181036451341469,0.19593320752771831,0.69708454927792451,0.83488511272346144,0.81356406564074657,1.0571826126774149,0.80438701550969804,1.0604197105503803,0.30620044580256245,{"$f":"+Spectre!C2361*N2362/L2362","v":0.73426314546446303},0.75083550596902204]
[6161,0.61609999999999998,2.6344962359766759,1.0094617129921273,6.1732673217487155E-2,0.98870674654672941,1.2331255946705137E-2,0.12178466257893374,0.19584859174312602,0.69719318874437608,0.8349501812100999,0.81363656231613801,1.0572768181959937,0.80446263554619524,1.0605194000974119,0.30669185643839025,{"$f":"+Spectre!C2362*N2363/L2363","v":0.73184840854544619},0.74836626830188413]
[6162,0.61619999999999997,2.6336412270619074,1.0094566958381261,6.1692303210482476E-2,0.98872357792828292,1.231277292851431E-2,0.12175897023760604,0.19576404637660283,0.6973017547101692,0.83501520061103585,0.81370900511121425,1.0573709537000096,0.80453819975110274,1.0606190160419149,0.30718286052209276,{"$f":"+Spectre!C2363*N2364/L2364","v":0.72918028964822956},0.74563792981104238]
[6163,0.61629999999999996,2.6327866343111235,1.0094516812036067,6.1651966250514813E-2,0.98874038436757739,1.229431761406769E-2,0.12173328748429507,0.19567957134887759,0.69741024723751377,0.83508017097498299,0.81378139407836636,1.0574650192575421,0.80461370817821254,1.0607185584548031,0.30767345850790662,{"$f":"+Spectre!C2364*N2365/L2365","v":0.73150692647124183},0.74801707895805236]
[6164,0.61639999999999995,2.6319324574542859,1.0094466690868686,6.1611662305073929E-2,0.98875716590114648,1.227588996184097E-2,0.12170761431386759,0.19559516658078249,0.69751866638857285,0.83514509235060297,0.81385372926993149,1.0575590149366005,0.80468916088126285,1.0608180274069197,0.3081636508497354,{"$f":"+Spectre!C2365*N2366/L2366","v":0.7374492714699703},0.75409354301773279]
[6165,0.61650000000000005,2.6310786962215733,1.009441659486213,6.1571391341686842E-2,0.98877392256547192,1.2257489930371783E-2,0.12168195072119435,0.19551083199325298,0.69762701222546208,0.83520996478650567,0.8139260107381926,1.0576529408051234,0.8047645579139372,1.060917422969035,0.30865343800079437,{"$f":"+Spectre!C2366*N2367/L2367","v":0.74262497814186645},0.75938606568041145]
[6166,0.61660000000000004,2.6302253503433866,1.0094366523999425,6.1531153327918038E-2,0.98879065439698299,1.2239117478260184E-2,0.12165629670114969,0.1954265675073279,0.69773528481025016,0.83527478833124857,0.81399823853537923,1.0577467969309806,0.80483989932986499,1.0610167452118486,0.30914282041369923,{"$f":"+Spectre!C2367*N2368/L2368","v":0.74060912637340082},0.75732471602411489]
[6167,0.61670000000000003,2.6293724195503407,1.0094316478263616,6.1490948231369129E-2,0.98880736143205716,1.2220772564168005E-2,0.12163065224861143,0.19534237304414856,0.6978434842049589,0.83533956303333834,0.81407041271366753,1.0578405833819722,0.80491518518262128,1.0611159942059885,0.30963179854044398,{"$f":"+Spectre!C2368*N2369/L2369","v":0.737226408636796},0.75386565015787499]
[6168,0.61680000000000001,2.6285199035732729,1.0094266457637755,6.1450776019679056E-2,0.98882404370701971,1.2202455146819228E-2,0.12160501735846052,0.19525824852495882,0.69795161047156351,0.83540428894122931,0.81414253332517972,1.0579343002258281,0.8049904155257277,1.0612151700220114,0.31012037283251193,{"$f":"+Spectre!C2369*N2370/L2370","v":0.73451456638686641},0.75109260147578971]
[6169,0.6169,2.627667802143236,1.0094216462104915,6.1410636660523862E-2,0.98884070125814383,1.2184165184999825E-2,0.12157939202558207,0.19517419387110577,0.6980596636719919,0.83546896610332422,0.81421460042198435,1.0580279475302083,0.80506559041265102,1.0613142727304028,0.31060854374080904,{"$f":"+Spectre!C2370*N2371/L2371","v":0.73328195778119554},{"$f":"+Q2371/R$1","v":0.74983217282453929}]
[6170,0.61699999999999999,2.6268161149915019,1.0094166491648175,6.1370530121616723E-2,0.98885733412165122,1.216590263755715E-2,0.12155377624486438,0.19509020900403826,0.69816764386812524,0.8355335945679746,0.81428661405609704,1.0581215253627048,0.80514070989680475,1.0614133024015773,0.31109631171561958,{"$f":"+Spectre!C2371*N2372/L2372","v":0.73189794794999252},0.74841692581357822]
[6171,0.61709999999999998,2.6259648418495609,1.0094116546250642,6.1330456370707963E-2,0.98887394233371151,1.2147667463400531E-2,0.12152817001119988,0.19500629384530838,0.69827555112179673,0.83559817438347939,0.81435857427947889,1.058215033790838,0.80521577403154732,1.0615122591058772,0.31158367720665048,{"$f":"+Spectre!C2372*N2373/L2373","v":0.73139692855569238},0.74790459838336021]
[6172,0.61719999999999997,2.6251139824491179,1.0094066625895424,6.1290415375584786E-2,0.98889052593044269,1.2129459621500758E-2,0.12150257331948366,0.19492244831656921,0.69838338549479451,0.8356627055980872,0.81443048114403882,1.0583084728820606,0.80529078287018452,1.0616111429135751,0.31207064066305357,{"$f":"+Spectre!C2373*N2374/L2374","v":0.73117019718524945},0.74767274967312991]
[6173,0.61729999999999996,2.6242635365220992,1.0094016730565651,6.1250407104071543E-2,0.98890708494791091,1.2111279070890319E-2,0.12147698616461507,0.19483867233957691,0.69849114704885784,0.83572718825999437,0.81450233470163158,1.0584018427037554,0.80536573646596743,1.0617099538948718,0.31255720253335895,{"$f":"+Spectre!C2374*N2375/L2375","v":0.73123113468174028},0.74773506253234501]
[6174,0.61739999999999995,2.6234135038006445,1.0093966860244463,6.1210431524029371E-2,0.98892361942213092,1.2093125770662896E-2,0.12145140854149675,0.19475496583618901,0.69859883584568017,0.83579162241734606,0.8145741350040584,1.058495143323235,0.80544063487209328,1.061808692119897,0.31304336326558602,{"$f":"+Spectre!C2375*N2376/L2376","v":0.73250030658790044},0.7490328797198339]
[6175,0.61750000000000005,2.6225638840171119,1.0093917014915017,6.1170488603356325E-2,0.98894012938906584,1.2074999679973594E-2,0.12142584044503489,0.19467132872836479,0.6987064519469075,0.83585600811823602,0.81464588210306799,1.058588374807744,0.80551547814170588,1.0619073576587097,0.31352912330711025,{"$f":"+Spectre!C2376*N2377/L2377","v":0.73389261350801682},0.7504566110854719]
[6176,0.61760000000000004,2.621714676904078,1.0093867194560482,6.1130578309987402E-2,0.98895661488462749,1.2056900758038558E-2,0.12140028187013945,0.1945877609381654,0.69881399541413891,0.83592034541070681,0.81471757605035511,1.0586815372244573,0.80559026632789488,1.062005950581298,0.31401448310472979,{"$f":"+Spectre!C2377*N2378/L2378","v":0.73369025871720239},0.75024968913564383]
[6177,0.61770000000000003,2.620865882194332,1.0093817399164045,6.10907006118942E-2,0.98897307594467598,1.2038828964135448E-2,0.12137473281172374,0.1945042623877534,0.69892146630892649,0.83598463434274894,0.81478921689756156,1.0587746306404804,0.80566499948369652,1.0621044709575791,0.31449944310475431,{"$f":"+Spectre!C2378*N2379/L2379","v":0.73182906652361479},0.74834648972953166]
[6178,0.61780000000000002,2.6200174996208832,1.0093767628708903,6.1050855477085254E-2,0.98898951260502044,1.2020784257602567E-2,0.12134919326470439,0.19442083299939222,0.6990288646927757,0.83604887496230329,0.8148608046962762,1.0588676551228504,0.80573967766209309,1.0622029188573994,0.3149840037527607,{"$f":"+Spectre!C2379*N2380/L2380","v":0.72983084532350917},0.74630316856451495]
[6179,0.6179,2.6191695289169545,1.0093717883178273,6.1011042873605627E-2,0.9890059249014187,1.2002766597839221E-2,0.12132366322400176,0.1943374726954466,0.69913619062714527,0.83611306731725799,0.81493233949803467,1.0589606107385348,0.80581430091601391,1.0623012943505357,0.31546816549399281,{"$f":"+Spectre!C2380*N2381/L2381","v":0.73494655554901822},0.75153434065763602]
[6180,0.61799999999999999,2.6183219698159848,1.0093668162555378,6.0971262769537023E-2,0.98902231286957709,1.1984775944305933E-2,0.12129814268454028,0.19425418139838324,0.69924344417344564,0.83617721145545054,0.81500382135431892,1.0590534975544319,0.80588886929833359,1.0623995975066918,0.31595192877287293,{"$f":"+Spectre!C2381*N2382/L2382","v":0.74093816540211477},0.75766118148221939]
[6181,0.61809999999999998,2.6174748220516286,1.0093618466823462,6.0931515132997806E-2,0.98903867654515132,1.1966812256523469E-2,0.12127263164124701,0.19417095903076828,0.69935062539304182,0.83624130742466762,0.81507525031655903,1.0591463156373719,0.80596338286187408,1.0624978283955029,0.31643529403340143,{"$f":"+Spectre!C2382*N2383/L2383","v":0.74260671336810891},0.75936738866968267]
[6182,0.61819999999999997,2.6166280853577573,1.0093568795965782,6.089179993214288E-2,0.98905501596374568,1.1948875494073663E-2,0.12124713008905297,0.1940878055152695,0.69945773434725111,0.8363053552726446,0.81514662643613134,1.0592390650541164,0.80603784165940384,1.0625959870865336,0.31691826171891258,{"$f":"+Spectre!C2383*N2384/L2384","v":0.73505851704832503},0.75164882913428144]
[6183,0.61829999999999996,2.6157817594684571,1.0093519149965604,6.0852117135163655E-2,0.98907133116091361,1.1930965616598802E-2,0.12122163802289261,0.19400472077465508,0.69956477109734383,0.83636935504706611,0.81521794976435957,1.0593317458713569,0.80611224574363749,1.0626940736492769,0.31740083227227434,{"$f":"+Spectre!C2384*N2385/L2385","v":0.72747090381074886},0.74388996303903554]
[6184,0.61839999999999995,2.6149358441180266,1.0093469528806218,6.0812466710287887E-2,0.98908762217215784,1.1913082583801483E-2,0.12119615543770426,0.19392170473179363,0.699671735704544,0.83643330679556538,0.81528922035251417,1.059424358155717,0.80618659516723623,1.0627920881531563,0.31788300613571074,{"$f":"+Spectre!C2385*N2386/L2386","v":0.7239971717141036},0.74033782861352848]
[6185,0.61850000000000005,2.6140903390409815,1.0093419932470917,6.0772848625779793E-2,0.98910388903292989,1.1895226355445095E-2,0.12117068232842927,0.19383875730965416,0.69977862823002768,0.83649721056572512,0.81536043825181315,1.0595169019737518,0.8062608899828082,1.0628900306675246,0.31836478375089072,{"$f":"+Spectre!C2386*N2387/L2387","v":0.72286858587683811},0.73918377053041895]
[6186,0.61860000000000004,2.6132452439720533,1.0093370360943017,6.0733262849940031E-2,0.98912013177863078,1.1877396891353059E-2,0.12114521869001268,0.19375587843130576,0.69988544873492498,0.83656106640507721,0.8154316035134217,1.0596093773919475,0.80633513024290793,1.0629879012616643,0.31884616555890588,{"$f":"+Spectre!C2387*N2388/L2388","v":0.72148041615350456},0.73776426973832787]
[6187,0.61870000000000003,2.6124005586461845,1.0093320814205846,6.0693709351105414E-2,0.9891363504446109,1.1859594151408949E-2,0.12111976451740333,0.19367306801991768,0.69999219728031836,0.83662487436110256,0.81550271618845205,1.059701784476722,0.80640931600003685,1.0630857000047875,0.31932715200027051,{"$f":"+Spectre!C2388*N2389/L2389","v":0.71859586471278203},0.73481461380929647]
[6188,0.61880000000000002,2.6115562827985355,1.0093271292242743,6.0654188097649171E-2,0.98915254506616968,1.1841818095556832E-2,0.1210943198055532,0.19359032599875919,0.70009887392724357,0.83668863448123099,0.81557377632796357,1.0597941232944239,0.8064834473066429,1.0631834269660365,0.3198077435150104,{"$f":"+Spectre!C2389*N2390/L2390","v":0.71537554290393846},0.73152160915604414]
[6189,0.61890000000000001,2.6107124161644766,1.0093221795037062,6.0614699057980531E-2,0.98916871567855646,1.1824068683800291E-2,0.1210688845494176,0.19350765229119843,0.70020547873669026,0.83675234681284283,0.81564478398296403,1.0598863939113352,0.80655752421512172,1.063281082214484,0.32028794054250742,{"$f":"+Spectre!C2390*N2391/L2391","v":0.7166953211234528},0.73287117484422681]
[6190,0.61899999999999999,2.6098689584795953,1.009317232257217,6.0575242200545047E-2,0.98918486231696978,1.1806345876203248E-2,0.12104345874395603,0.19342504682070433,0.70031201176959978,0.83681601140326634,0.81571573920440743,1.0599785963936676,0.80663154677781457,1.0633786658191315,0.32076774352161053,{"$f":"+Spectre!C2391*N2392/L2392","v":0.72281095577463861},0.73912483971357035]
[6191,0.61909999999999998,2.6090259094796893,1.0093122874831455,6.0535817493824265E-2,0.98920098501655773,1.1788649632889482E-2,0.121018042384131,0.19334250951084475,0.70041847308686733,0.83687962829977991,0.81578664204319551,1.0600707308075656,0.80670551504701049,1.063476177848911,0.32124715289054695,{"$f":"+Spectre!C2392*N2393/L2393","v":0.7286721763103583},0.74511834832654777]
[6192,0.61919999999999997,2.608183268900774,1.0093073451798311,6.0496424906335985E-2,0.98921708381241824,1.1770979914042348E-2,0.12099263546490845,0.19326004028528676,0.70052486274934134,0.83694319754961122,0.81585749255017792,1.0601627972191052,0.80677942907494515,1.0635736183726847,0.32172616908707763,{"$f":"+Spectre!C2393*N2394/L2394","v":0.73167996621923326},0.7481940242228915]
[6193,0.61929999999999996,2.6073410364790743,1.0093024053456152,6.0457064406633898E-2,0.98923315873959883,1.1753336679905021E-2,0.12096723798125819,0.19317763906779711,0.70063118081782261,0.83700671919993763,0.81592829077615125,1.0602547956942943,0.80685328891380104,1.0636709874592447,0.32220479254831957,{"$f":"+Spectre!C2394*N2395/L2395","v":0.73385970453518945},0.75042295935527625]
[6194,0.61939999999999995,2.6064992119510286,1.00929746797884,6.041773596330758E-2,0.98924920983309683,1.1735719890780236E-2,0.12094184992815335,0.19309530578224116,0.70073742735306577,0.83707019329788579,0.81599903677185992,1.0603467262990718,0.80692709461570788,1.0637682851773131,0.3226830237109013,{"$f":"+Spectre!C2395*N2396/L2396","v":0.73444889432914839},0.75102544719603404]
[6195,0.61950000000000005,2.6056577950532889,1.0092925330778497,6.0378439544982669E-2,0.98926523712785963,1.1718129507030035E-2,0.12091647130057019,0.19301304035258288,0.70084360241577881,0.83713361989053237,0.8160697305879967,1.0604385890993109,0.80700084623274293,1.0638655115955435,0.32316086301078517,{"$f":"+Spectre!C2396*N2397/L2397","v":0.72935916086256014},0.74582083815874423]
[6196,0.61960000000000004,2.6048167855227198,1.0092876006409894,6.0339175120320679E-2,0.9892812406587842,1.170056548907622E-2,0.1208911020934892,0.1929308427028861,0.70094970606662133,0.83719699902490274,0.81614037227520042,1.0605303841608138,0.80707454381692956,1.0639626667825177,0.32363831088346728,{"$f":"+Spectre!C2397*N2398/L2398","v":0.72403827636244478},0.74037986099609532]
[6197,0.61970000000000003,2.6039761830963979,1.009282670666606,6.0299942658018926E-2,0.98929722046071777,1.1683027797399635E-2,0.12086574230189358,0.19284871275731214,0.70105573836620805,0.83726033074797324,0.8162109618840595,1.0606221115493173,0.8071481874202393,1.0640597508067495,0.32411536776379979,{"$f":"+Spectre!C2398*N2399/L2399","v":0.72466237559790148},0.74101804618640965]
[6198,0.61980000000000002,2.6031359875116111,1.0092777431530477,6.0260742126810464E-2,0.98931317656845741,1.1665516392540621E-2,0.1208403919207707,0.19276665044012178,0.70116169937510475,0.83732361510666864,0.81628149946510842,1.0607137713304882,0.80722177709459009,1.0641567637366824,0.32459203408621295,{"$f":"+Spectre!C2399*N2400/L2400","v":0.72835309133633541},0.74479206158670863]
[6199,0.61990000000000001,2.6022961985058606,1.0092728180986636,6.0221573495464115E-2,0.98932910901675064,1.1648031235098272E-2,0.12081505094511093,0.19268465567567333,0.70126758915383225,0.83738685214786479,0.81635198506883067,1.0608053635699273,0.80729531289184764,1.0642537056406907,0.32506831028442651,{"$f":"+Spectre!C2400*N2401/L2401","v":0.73114704748307913},0.74764907748087917]
[6200,0.62,2.6014568158168578,1.0092678955018051,6.0182436732784422E-2,0.98934501784029472,1.1630572285731281E-2,0.12078971936990793,0.19260272838842363,0.7013734077628635,0.83745004191838635,0.81642241874565746,1.0608968883331673,0.80736879486382518,1.0643505765870791,0.32554419679164948,{"$f":"+Spectre!C2401*N2402/L2402","v":0.72805877030228461},0.74449109771036015]
[6201,0.62009999999999998,2.6006178391825263,1.0092629753608242,6.0143331807611541E-2,0.9893609030737377,1.1613139505156711E-2,0.1207643971901598,0.19252086850292804,0.70147915526262417,0.83751318446500822,0.81649280054596696,1.0609883456856715,0.80744222306228264,1.064447376644083,0.32601969404066899,{"$f":"+Spectre!C2402*N2403/L2403","v":0.72416400245797297},0.74050842473667322]
[6202,0.62019999999999997,2.5997792683410008,1.0092580576740748,6.0104258688821209E-2,0.98937676475167746,1.1595732854151062E-2,0.12073908440086696,0.19243907594383924,0.70158483171349395,0.83757627983445559,0.81656313052008656,1.0610797356928381,0.80751559753892732,1.0645441058798677,0.32649480246340623,{"$f":"+Spectre!C2403*N2404/L2404","v":0.72292824764848551},0.73924477887160911]
[6203,0.62029999999999996,2.598941103030628,1.009253142439912,6.006521734532478E-2,0.98939260290866282,1.1578352293549046E-2,0.120713780997034,0.19235735063590784,0.70169043717580559,0.83763932807340313,0.81663340871829071,1.0611710584199956,0.80758891834541491,1.0646407643625304,0.32696952249158251,{"$f":"+Spectre!C2404*N2405/L2405","v":0.72599281594084619},0.7423785146427484]
[6204,0.62039999999999995,2.5981033429899645,1.009248229656692,6.0026207746069045E-2,0.98940841757919251,1.1560997784244683E-2,0.12068848697366871,0.19227569250398244,0.70179597170984453,0.83770232922847554,0.81670363519080236,1.0612623139324062,0.80766218553334768,1.0647373521600987,0.32744385455618641,{"$f":"+Spectre!C2405*N2406/L2406","v":0.72904201753845499},0.74549653689197071]
[6205,0.62050000000000005,2.5972659879577757,1.009243319322773,5.9987229860036212E-2,0.9894242087977162,1.1543669287190167E-2,0.1206632023257824,0.19219410147300878,0.70190143537584959,0.83776528334624822,0.8167738099877927,1.0613535022952649,0.80773539915427561,1.0648338693405301,0.32791779908754037,{"$f":"+Spectre!C2406*N2407/L2407","v":0.7282647385068165},0.74470171462885659]
[6206,{"$f":"+A2408/10000","v":0.62060000000000004},{"$f":"+(1/B2408)^2","v":2.5964290376730421},{"$f":"0.23465+1.076*100/(146-C2408)+0.93161/(41-C2408)","v":1.0092384114365138},{"$f":"9.4977*0.001*C2408^2*D2408*EXP(-h/7.996/1000)","v":5.9948283656244029E-2},{"$f":"+EXP(-0.0168*EXP(-15*ABS(B2408-0.59)))","v":0.98943997659863392},{"$f":"-2.5*LOG(F2408)","v":1.1526366763396476E-2},{"$f":"2.5*LOG(EXP(AOD*(B2408/0.55)^(-1.3)))","v":0.12063792704838996},{"$f":"+E2408+G2408+H2408","v":0.19211257746803045},{"$f":"10^(-0.4*I2408*ma)","v":0.70200682823401261},{"$f":"10^(-0.4*I2408)","v":0.83782819047324575},{"$f":"10^(-0.4*I2408*ma_ref)","v":0.8168439331593802},{"$f":"+L2408/M$1","v":1.0614446235736976},{"$f":"10^(-0.4*I2408*ma_target)","v":0.80780855925969641},{"$f":"+N2408/O$1","v":1.0649303159717143},{"$f":"(O2408/M2408-1)*100","v":0.32839135651570039},{"$f":"+Spectre!C2407*N2408/L2408","v":0.72673304892620871},0.74313545472823783]
[6207,0.62070000000000003,2.5955924918749513,1.0092335059962756,5.9909369103745579E-2,0.98945572101629653,1.1509090173932875E-2,0.12061266113650949,0.19203112041418796,0.70211215034447871,0.83789105065594349,0.81691400475563236,1.0615356778327645,0.80788166590105526,1.0650266921214711,0.32886452726994531,{"$f":"+Spectre!C2408*N2409/L2409","v":0.7247376799981099},0.74109505021116762]
[6208,0.62080000000000002,2.5947563503029016,1.0092286030004201,5.9870486171629204E-2,0.98947144208500559,1.1491839479927008E-2,0.12058740458516259,0.1919497302367188,0.70221740176734659,0.83795386394076743,0.81698402482656507,1.0616266651374584,0.80795471912974526,1.0651229978575514,0.32933731177902104,{"$f":"+Spectre!C2409*N2410/L2410","v":0.72144041863340025},0.7377233694719445]
[6209,0.62090000000000001,2.5939206126964995,1.0092237024473107,5.9831634829018494E-2,0.98948713983901349,1.1474614642564778E-2,0.12056215738937469,0.19186840686095796,0.70232258256266733,0.83801663037409269,0.81705399342214147,1.0617175855527039,0.80802771899710668,1.0652192332476373,0.32980971047122942,{"$f":"+Spectre!C2410*N2411/L2411","v":0.71807306272581639},0.73428001215207084]
[6210,0.621,2.5930852787955638,1.0092188043353123,5.9792815045072334E-2,0.9895028143125234,1.145741562309033E-2,0.12053691954417414,0.1917871502123368,0.7024276927904457,0.83807935000224554,0.81712391059227407,1.0618084391433593,0.80810066555442828,1.0653153983593424,0.33028172377425058,{"$f":"+Spectre!C2411*N2412/L2412","v":0.71570832153295916},0.73186189861744477]
[6211,0.62109999999999999,2.5922503483401211,1.0092139086627909,5.9754026788984768E-2,0.98951846553968947,1.1440242382805901E-2,0.12051169104459292,0.19170596021638359,0.70253273251063975,0.83814202287150275,0.817193776386823,1.0618992259742157,0.80817355885294595,1.0654114932602108,0.33075335211520951,{"$f":"+Spectre!C2412*N2413/L2413","v":0.71423421180852531},0.73035451815359342]
[6212,0.62119999999999997,2.5914158210704086,1.0092090154281141,5.9715270029985008E-2,0.98953409355461686,1.1423094883071708E-2,0.12048647188566651,0.19162483679872322,0.70263770178316043,0.83820464902809066,0.81726359085559719,1.0619899461099964,0.80824639894384376,1.065507518017718,0.33122459592072051,{"$f":"+Spectre!C2413*N2414/L2414","v":0.71271318586914401},0.72879916257318367]
[6213,0.62129999999999996,2.5905816967268698,1.009204124629651,5.9676544737337266E-2,0.98954969839136198,1.1405973085305674E-2,0.12046126206243381,0.19154377988507676,0.70274260066787231,0.83826722851818702,0.81733335404835417,1.0620805996153593,0.80831918587825347,1.0656034726992711,0.33169545561679836,{"$f":"+Spectre!C2414*N2415/L2415","v":0.71353389657964261},0.72963839677059339]
[6214,0.62139999999999995,2.5897479750501611,1.0091992362657716,5.963785088034091E-2,0.98956528008393196,1.1388876950984027E-2,0.12043606156993727,0.19146278940126221,0.70284742922459231,0.83832976138791926,0.81740306601479928,1.0621711865548935,0.80839191970725499,1.0656993573722082,0.33216593162899155,{"$f":"+Spectre!C2415*N2416/L2416","v":0.71461766962261397},0.73074663063212031]
[6215,0.62150000000000005,2.5889146557811431,1.0091943503348477,5.9599188428330167E-2,0.98958083866628566,1.1371806441640202E-2,0.12041087040322235,0.19138186527319273,0.70295218751309185,0.8383922476833664,0.81747272680458749,1.0622617069931228,0.80846460048187641,1.0657951721037995,0.33263602438222684,{"$f":"+Spectre!C2416*N2417/L2417","v":0.71346707024270661},0.72957006215947295]
[6216,0.62160000000000004,2.5880817386608892,1.0091894668352523,5.9560557350674434E-2,0.9895963741723327,1.1354761518865778E-2,0.12038568855733842,0.19130100742687861,0.70305687559309415,0.83845468745055673,0.817542336467321,1.0623521609945028,0.80853722825309282,1.0658909169612454,0.33310573430094248,{"$f":"+Spectre!C2417*N2418/L2418","v":0.70867987241420705},0.72467481700664482]
[6217,0.62170000000000003,2.587249223430677,1.0091845857653601,5.952195761677774E-2,0.98961188663593447,1.1337742144309517E-2,0.12036051602733806,0.19122021578842532,0.70316149352427681,0.83851708073547038,0.81761189505255194,1.0624425486234237,0.80860980307182839,1.0659865920116787,0.33357506180893282,{"$f":"+Spectre!C2418*N2419/L2419","v":0.70398628456482482},0.71987529461542943]
[6218,0.62180000000000002,2.5864171098319959,1.0091797071235462,5.9483389196079213E-2,0.98962737609090345,1.1320748279677937E-2,0.12033535280827726,0.1911394902840344,0.70326604136627013,0.83857942758403758,0.81768140260978028,1.0625328699442083,0.80868232498895509,1.0660821973221639,0.3340440073295925,{"$f":"+Spectre!C2419*N2420/L2420","v":0.70620715354282115},0.72214628873121056]
[6219,0.62190000000000001,2.5855853976065388,1.0091748309081885,5.944485205805259E-2,0.98964284257100388,1.130377988673471E-2,0.12031019889521551,0.1910588308400028,0.703370519178658,0.83864172804213954,0.81775085918845514,1.0626231250211127,0.80875479405529294,1.0661777329596966,0.33451257128565004,{"$f":"+Spectre!C2420*N2421/L2421","v":0.71146582384957091},0.7275236475226492]
[6220,0.622,2.5847540864962104,1.0091699571176649,5.9406346172206546E-2,0.98965828610995132,1.1286836927300993E-2,0.12028505428321554,0.19097823738272307,0.70347492702097714,0.83870398215560826,0.81782026483797443,1.0627133139183271,0.80882721032161042,1.0662731989912049,0.33498075409934547,{"$f":"+Spectre!C2421*N2422/L2422","v":0.71542590547998297},0.73157310841826351]
[6221,0.62209999999999999,2.583923176243121,1.0091650857503556,5.9367871508084459E-2,0.98967370674141308,1.1269919363255068E-2,0.12025991896734382,0.19089770983868337,0.70357926495271761,0.83876618997022623,0.81788961960768436,1.0628034366999741,0.80889957383862354,1.0663685954835473,0.33544855619238589,{"$f":"+Spectre!C2422*N2423/L2423","v":0.71143052280284791},0.72748754972931551]
[6222,0.62219999999999998,2.5830926665895872,1.0091602168046416,5.9329428035264246E-2,0.98968910449900793,1.1253027156532567E-2,0.12023479294266982,0.19081724813446665,0.70368353303332321,0.8388283515317273,0.81795892354688082,1.0628934934301111,0.80897188465699754,1.0664639225035157,0.33591597798594552,{"$f":"+Spectre!C2423*N2424/L2424","v":0.70728871191500198},0.72325225793670267]
[6223,0.62229999999999996,2.5822625572781344,1.0091553502789061,5.9291015723358639E-2,0.98970447941630668,1.123616026912584E-2,0.12020967620426676,0.19073685219675124,0.70378773132219041,0.83889046688579616,0.81802817670480787,1.0629834841727281,0.80904414282734538,1.0665591801178329,0.33638301990059905,{"$f":"+Spectre!C2424*N2425/L2425","v":0.70668565911060155},0.72263559419657764]
[6224,0.62239999999999995,2.5814328480514939,1.0091504861715324,5.9252634542014827E-2,0.98971983152683174,1.1219318663084439E-2,0.12018456874721084,0.19065652195231009,0.70389185987866976,0.83895253607806863,0.81809737913065939,1.0630734089917497,0.80911634840022872,1.0666543683931542,0.33684968235643264,{"$f":"+Spectre!C2425*N2426/L2426","v":0.70914469445067263},0.72515013010262541]
[6225,0.62250000000000005,2.5806035386526016,1.0091456244809061,5.9214284460914521E-2,0.98973516086405733,1.1202502300514863E-2,0.12015947056658249,0.19057625732801187,0.70399591876206358,0.8390145591541307,0.81816653087357694,1.063163267951033,0.80918850142615706,1.0667494873960657,0.3373159657729774,{"$f":"+Spectre!C2426*N2427/L2427","v":0.71125780848151421},0.72731093723603202]
[6226,0.62260000000000004,2.5797746288246062,1.0091407652054134,5.9175965449774152E-2,0.98975046746140993,1.1185711143580048E-2,0.12013438165746447,0.19049605825081867,0.70409990803162958,0.83907653615952094,0.81823563198265259,1.0632530611143705,0.80926060195558913,1.066844537193087,0.33778187056920927,{"$f":"+Spectre!C2427*N2428/L2428","v":0.70969418828023478},0.72571202603883667]
[6227,0.62270000000000003,2.5789461183108551,1.0091359083434432,5.913767747834435E-2,0.98976575135226752,1.1168945154500225E-2,0.12010930201494371,0.19041592464778828,0.70420382774657686,0.83913846713972751,0.81830468250692634,1.0633427885454867,0.80933265003893151,1.0669395178506693,0.33824739716366015,{"$f":"+Spectre!C2428*N2429/L2429","v":0.70730104616826406},0.72326487057475475]
[6228,0.62280000000000002,2.5781180068549063,1.0091310538933844,5.9099420516410289E-2,0.98978101256996076,1.1152204295551537E-2,0.12008423163411017,0.19033585644607198,0.7043076779660693,0.83920035214019106,0.81837368249538844,1.0634324503080421,0.80940464572654003,1.0670344294351959,0.33871254597415135,{"$f":"+Spectre!C2429*N2430/L2430","v":0.70450869931430526},0.7204095002951979]
[6229,0.62290000000000001,2.5772902942005218,1.0091262018536276,5.9061194533791453E-2,0.98979625114777192,1.1135488529067279E-2,0.12005917051005753,0.19025585357291624,0.70441145874922295,0.83926219120630252,0.81844263199697698,1.063522046465629,0.80947658906871789,1.0671292720129815,0.33917731741812673,{"$f":"+Spectre!C2430*N2431/L2431","v":0.70058863020331175},0.71640095500381673]
[6230,0.623,2.5764629800916707,1.009121352222565,5.9022999500341698E-2,0.98981146711893575,1.1118797817436878E-2,0.12003411863788233,0.19017591595566091,0.70451517015510812,0.83932398438340461,0.81851153106058061,1.0636115770817756,0.80954848011571834,1.0672240456502748,0.33964171191243064,{"$f":"+Spectre!C2431*N2432/L2432","v":0.69662118697447817},0.71234396635809039]
[6231,0.62309999999999999,2.5756360642725253,1.0091165049985904,5.8984835385949098E-2,0.98982666051663915,1.1102132123106279E-2,0.120009076012685,0.19009604352174037,0.70461881224274803,0.83938573171679132,0.81858037973503639,1.0637010422199429,0.80962031891774267,1.067318750413256,0.34010572987339671,{"$f":"+Spectre!C2432*N2433/L2433","v":0.69391787539972394},0.70957964088899905]
[6232,0.62319999999999998,2.5748095464874656,1.0091116601800982,5.8946702160535991E-2,0.98984183137402137,1.1085491408577657E-2,0.11998404262956924,0.19001623619868291,0.70472238507111884,0.83944743325170779,0.81864917806913118,1.0637904419435269,0.80969210552494053,1.0674133863680368,0.34056937171675905,{"$f":"+Spectre!C2433*N2434/L2434","v":0.69173299762257634},0.70734545029749474]
[6233,0.62329999999999997,2.573983426481075,1.0091068177654847,5.8908599794058887E-2,0.98985697972417408,1.1068875636409421E-2,0.11995901848364188,0.18993649391411019,0.70482588869915086,0.83950908903335097,0.81871792611160077,1.0638797763158572,0.80976383998741086,1.0675079535806629,0.34103263785780769,{"$f":"+Spectre!C2434*N2435/L2435","v":0.6904947413243806},{"$f":"+Q2435/R$1","v":0.70607924648498144}]
[6234,0.62339999999999995,2.5731577039981421,1.0091019777531471,5.8870528256508417E-2,0.98987210560014149,1.1052284769215961E-2,0.11993400357001313,0.1898568165957375,0.70492932318572787,0.8395706991068691,0.818786623911131,1.0639690454001982,0.80983552235520162,1.0676024521171119,0.34149552871127753,{"$f":"+Spectre!C2435*N2436/L2436","v":0.69442264466152848},0.71009580282144202]
[6235,0.62350000000000005,2.5723323787836589,1.009097140141485,5.8832487517909302E-2,0.98988720903492011,1.1035718769667991E-2,0.11990899788379702,0.18977720417137434,0.70503268858968593,0.83963226351736131,0.81885527151635629,1.0640582492597481,0.80990715267830871,1.0676968820432933,0.34195804469130398,{"$f":"+Spectre!C2436*N2437/L2437","v":0.69885847507750576},0.71463175017947855]
[6236,0.62360000000000004,2.5715074505828266,1.0090923049288976,5.8794477548320456E-2,0.98990229006145936,1.1019177600491809E-2,0.11988400142011055,0.18969765656892282,0.70513598496981544,0.83969378230987968,0.81892386897586167,1.06414738795764,0.80997873100667783,1.0677912434250503,0.34242018621157833,{"$f":"+Spectre!C2437*N2438/L2438","v":0.70270479610987802},0.71856488289395481]
[6237,0.62370000000000003,2.5706829191410447,1.009087472113787,5.8756498317834617E-2,0.98991734871266102,1.1002661224469894E-2,0.1198590141740743,0.18961817371637879,0.70523921238485976,0.83975525552942654,0.81899241633818065,1.0642364615569408,0.81005025739020298,1.0678855363281579,0.34288195368523677,{"$f":"+Spectre!C2438*N2439/L2439","v":0.70566067351375428},0.72158747461714134]
[6238,0.62380000000000002,2.5698587842039209,1.0090826416945562,5.8718549796578617E-2,0.9899323850213797,1.0986169604440408E-2,0.11983403614081184,0.18953875554183086,0.70534237089351592,0.83981668322095671,0.81906091365179712,1.064325470120653,0.81012173187872771,1.0679797608183246,0.34334334752481599,{"$f":"+Spectre!C2439*N2440/L2440","v":0.70896340098684052},0.72496474483511464]
[6239,0.62390000000000001,2.5690350455172637,1.009077813669609,5.8680631954713056E-2,0.98994739902042284,1.0969702703297179E-2,0.11980906731545052,0.18945940197346076,0.70544546055443436,0.83987806542937649,0.8191293609651441,1.0644144137117124,0.81019315452204432,1.0680739169611915,0.34380436814247517,{"$f":"+Spectre!C2440*N2441/L2441","v":0.70714921506852368},0.72310961263855089]
[6240,0.624,2.5682117028270879,1.009072988037351,5.86427447624326E-2,0.98996239074255077,1.0953260483989572E-2,0.11978410769312088,0.18938011293954304,0.70554848142621873,0.83993940219954377,0.8191977583266048,1.0645032923929902,0.81026452536989435,1.0681680048223323,0.34426501594972958,{"$f":"+Spectre!C2441*N2442/L2442","v":0.70454415977848273},0.72044576110404701]
[6241,0.62409999999999999,2.5673887558796089,1.0090681647961892,5.860488818996553E-2,0.98997736022047655,1.0936842909522713E-2,0.11975915726895688,0.18930088836844511,0.70565143356742632,0.8400006935762685,0.81926610578451176,1.0645921062272923,0.81033584447196794,1.0682620244672538,0.34472529135756158,{"$f":"+Spectre!C2442*N2443/L2443","v":0.70281942692733845},0.71868210093541474]
[6242,0.62419999999999998,2.5665662044212492,1.0090633439445318,5.8567062207574169E-2,0.98999230748686629,1.0920449942957124E-2,0.11973421603809582,0.18922172818862712,0.70575431703656721,0.84006193960431208,0.81933440338714703,1.0646808552773586,0.81040711187790471,1.0683559759613952,0.34518519477644283,{"$f":"+Spectre!C2443*N2444/L2444","v":0.70366343309533896},0.71954515637011285]
[6243,0.62429999999999997,2.5657440481986309,1.0090585254807884,5.8529266785554347E-2,0.99000723257433942,1.0904081547408332E-2,0.119709283995678,0.18914263232864068,0.70585713189210664,0.84012314032838886,0.8194026511827438,1.0647695396058652,0.81047832763729433,1.0684498593701306,0.34564472661640089,{"$f":"+Spectre!C2444*N2445/L2445","v":0.7045480917210204},0.72044978179074892]
[6244,0.62439999999999996,2.5649222869585815,1.00905370940337,5.8491501894235812E-2,0.99002213551546803,1.0887737686047711E-2,0.11968436113684795,0.18906360071713146,0.70595987819246087,0.84018429579316323,0.8194708492194831,1.0648581592754209,0.81054949179967384,1.0685436747587644,0.34610388728686381,{"$f":"+Spectre!C2445*N2446/L2446","v":0.70606851219849465},0.72200451824394229]
[6245,0.62450000000000006,2.5641009204481273,1.0090488957106887,5.845376750398168E-2,0.99003701634277763,1.0871418322101504E-2,0.11965944745675233,0.18898463328283552,0.70606255599600176,0.84024540604325382,0.81953899754549797,1.064946714348572,0.81062060441453176,1.0686374221925372,0.34656267719674894,{"$f":"+Spectre!C2446*N2447/L2447","v":0.70800405440578229},0.72398374574774671]
[6246,0.62460000000000004,2.5632799484145035,1.0090440844011577,5.8416063585188999E-2,0.99005187508874704,1.0855123418851049E-2,0.11963454295054224,0.18890572995458227,0.70616516536105367,0.84030647112322965,0.81960709620886996,1.065035204887798,0.81069166553130401,1.0687311017366199,0.34702109675437409,{"$f":"+Spectre!C2447*N2448/L2448","v":0.70984766823222012},0.72586897004197348]
[6247,0.62470000000000003,2.5624593706051413,1.0090392754731923,5.8378390108288165E-2,0.99006671178580818,1.0838852939632888E-2,0.11960964761337135,0.18882689066129241,0.70626770634589453,0.84036749107761255,0.81967514525763119,1.0651236309555141,0.81076267519937717,1.0688247134561188,0.34747914636767963,{"$f":"+Spectre!C2448*N2449/L2449","v":0.70898319735440585},0.72498498800780964]
[6248,0.62480000000000002,2.5616391867676787,1.0090344689252086,5.8340747043743271E-2,0.9900815264663464,1.0822606847838508E-2,0.11958476144039734,0.1887481153319791,0.70637017900875543,0.84042846595087584,0.81974314473976351,1.0652119926140697,0.81083363346808657,1.0689182574160723,0.34793682644402857,{"$f":"+Spectre!C2449*N2450/L2450","v":0.70804662818712871},0.72402728042173348]
[6249,0.62490000000000001,2.5608193966499515,1.0090296647556241,5.8303134362051666E-2,0.99009631916270069,1.0806385106913974E-2,0.11955988442678042,0.18866940389574605,0.70647258340782215,0.84048939578744652,0.81981109470319979,1.0653002899257513,0.81090454038671789,1.0690117336814535,0.34839413739020664,{"$f":"+Spectre!C2450*N2451/L2451","v":0.7070799032260765},0.72303873642392003]
[6250,0.625,2.5600000000000005,1.0090248629628578,5.8265552033744353E-2,0.99011108990716323,1.0790187680360514E-2,0.11953501656768491,0.18859075628178978,0.70657491960123264,0.8405502806317019,0.81987899519582175,1.0653885229527789,0.81097539600450508,1.0691051423171676,0.34885107961253325,{"$f":"+Spectre!C2451*N2452/L2452","v":0.70616424744470307},0.72210241424004395]
[6251,0.62509999999999999,2.5591809965660657,1.0090200635453295,5.8228000029385552E-2,0.9901258387319799,1.0774014531733907E-2,0.1195101578582778,0.18851217241939727,0.70667718764707965,0.84061112052797304,0.81994684626546233,1.0654766917573082,0.81104620037063258,1.0691984833880537,0.34930765351677273,{"$f":"+Spectre!C2452*N2453/L2453","v":0.70527030805283231},0.72118829858580347]
[6252,0.62519999999999998,2.5583623860965896,1.0090152665014611,5.8190478319572969E-2,0.99014056566935016,1.075786562464459E-2,0.11948530829373016,0.18843365223794772,0.70677938760340786,0.84067191552054232,0.82001464795990398,1.0655647964014301,0.81111695353423396,1.0692917569588847,0.34976385950822309,{"$f":"+Spectre!C2453*N2454/L2454","v":0.70560345494462839},0.72152896462169103]
[6253,0.62529999999999997,2.5575441683402174,1.0090104718296755,5.8152986874937654E-2,0.99015527075142729,1.0741740922757394E-2,0.11946046786921563,0.18835519566691067,0.70688151952821732,0.84073266565364546,0.82008240032688007,1.0656528369471718,0.81118765554439276,1.0693849630943673,0.35021969799160502,{"$f":"+Spectre!C2454*N2455/L2455","v":0.70635899433523308},0.7223015565788502]
[6254,0.62539999999999996,2.5567263430457916,1.0090056795283966,5.8115525666143739E-2,0.99016995401031804,1.0725640389791912E-2,0.11943563657991141,0.18827680263584706,0.70698358347946,0.84079337097146956,0.82015010341407357,1.0657408134564947,0.81125830645014219,1.0694781018591413,0.35067516937119514,{"$f":"+Spectre!C2455*N2456/L2456","v":0.70612938364581868},0.72206676356325727]
[6255,0.62549999999999994,2.5559089099623584,1.0090008895960498,5.8078094663888705E-2,0.99018461547808334,1.0709563989521751E-2,0.11941081442099835,0.18819847307440879,0.70708557951504303,0.84085403151815497,0.82021775726911872,1.0658287259912969,0.81132890630046506,1.0695711733177811,0.35113027405069275,{"$f":"+Spectre!C2456*N2457/L2457","v":0.7000429909475504},0.7158430006393538]
[6256,0.62560000000000004,2.555091868839162,1.0089961020310618,5.8040693838903146E-2,0.99019925518673779,1.0693511685775002E-2,0.11938600138765985,0.18812020691233799,0.70718750769282612,0.84091464733779475,0.82028536193959989,1.0659165746134114,0.81139945514429423,1.0696641775347941,0.35158501243326423,{"$f":"+Spectre!C2457*N2458/L2458","v":0.69346564959449286},0.70911720832190062]
[6257,0.62570000000000003,2.5542752194256511,1.0089913168318612,5.8003323161950927E-2,0.99021387316824983,1.0677483442434108E-2,0.11936119747508378,0.18804200407946881,0.70728936807062237,0.84097521847443335,0.82035291747305084,1.066004359384606,0.81146995303051139,1.0697571145746212,0.35203938492160969,{"$f":"+Spectre!C2458*N2459/L2459","v":0.69567834806970652},0.71137984752619166]
[6258,0.62580000000000002,2.5534589614714704,1.0089865339968769,5.7965982603828868E-2,0.9902284694545419,1.0661479223435615E-2,0.11933640267846031,0.18796386450572478,0.70739116070619878,0.84103574497206868,0.82042042391695713,1.0660920803665856,0.81154040000794936,1.0698499845016383,0.35249339191794071,{"$f":"+Spectre!C2459*N2460/L2460","v":0.70445242727097657},0.72035195818868525]
[6259,0.62590000000000001,2.5526430947264664,1.00898175352454,5.7928672135366871E-2,0.99024304407749097,1.0645498992769667E-2,0.11931161699298308,0.18788578812111961,0.70749288565727697,0.84109622687465158,0.82048788131875494,1.0661797376209912,0.81161079612539078,1.0699427873801555,0.35294703382386938,{"$f":"+Spectre!C2460*N2461/L2461","v":0.71218025126287388},0.72825419960286586]
[6260,0.626,2.5518276189406857,1.0089769754132822,5.7891391727427882E-2,0.99025759706892746,1.0629542714481093E-2,0.11928684041384949,0.18780777485575845,0.70759454298153057,0.84115666422608482,0.82055528972583003,1.0662673312093978,0.81168114143156711,1.070035523274415,0.35340031104049707,{"$f":"+Spectre!C2461*N2462/L2462","v":0.7098987660054954},0.72592122109486645]
[6261,0.62609999999999999,2.5510125338643723,1.0089721996615371,5.7854141350907717E-2,0.9902721284606365,1.0613610352668053E-2,0.11926207293625977,0.18772982463983556,0.70769613273658782,0.84121705707022454,0.82062264918551964,1.0663548611933176,0.81175143597516108,1.0701281922485952,0.35385322396852548,{"$f":"+Spectre!C2462*N2463/L2463","v":0.70559112669681079},0.72151635812462656]
[6262,0.62619999999999998,2.5501978392479732,1.0089674262677393,5.7816920976735277E-2,0.99028663828435726,1.0597701871482762E-2,0.11923731455541772,0.18765193740363575,0.70779765498003067,0.84127740545087948,0.82068995974511139,1.0664423276341981,0.8118216798048048,1.0702207943668076,0.35430577300805677,{"$f":"+Spectre!C2463*N2464/L2464","v":0.70127315730747419},0.71710093192323321]
[6263,0.62629999999999997,2.5493835348421316,1.0089626552303246,5.7779730575872199E-2,0.99030112657178326,1.0581817235131108E-2,0.11921256526653039,0.18757411307753369,0.70789910976939419,0.84133770941181096,0.82075722145184349,1.0665297305934232,0.81189187296908061,1.070313329693098,0.35475795855870462,{"$f":"+Spectre!C2464*N2465/L2465","v":0.69685902287402623},0.71258717022727247]
[6264,0.62639999999999996,2.5485696203976911,1.0089578865477304,5.7742570119313011E-2,0.99031559335456232,1.0565956407872763E-2,0.11918782506480818,0.18749635159199396,0.70800049716216684,0.84139796899673336,0.82082443435290497,1.0666170701323123,0.8119620155165207,1.0704057982914463,0.3552097810195276,{"$f":"+Spectre!C2465*N2466/L2466","v":0.69253924332959482},0.70816989301548194]
[6265,0.62649999999999995,2.5477560956656942,1.0089531202183954,5.7705439578085049E-2,0.99033003866429681,1.0550119354020811E-2,0.11916309394546408,0.18741865287756992,0.70810181721579279,0.84145818424931451,0.82089159849543658,1.0667043463121224,0.81203210749560839,1.0704982002257677,0.35566124078914019,{"$f":"+Spectre!C2466*N2467/L2467","v":0.68681511377957349},0.7023165695394632]
[6266,0.62660000000000005,2.5469429603973799,1.0089483562407593,5.7668338923248318E-2,0.9903444625325436,1.053430603794185E-2,0.11913837190371576,0.18734101686490592,0.70820306998766691,0.84151835521317409,0.82095871392652831,1.066791559194044,0.81210214895477595,1.0705905355599101,0.35611233826562394,{"$f":"+Spectre!C2467*N2468/L2468","v":0.68056253139627809},0.69592286601999132]
[6267,0.62670000000000003,2.5461302143441897,1.0089435946132634,5.7631268125895689E-2,0.99035886499081416,1.0518516424055867E-2,0.11911365893478283,0.18726344348473439,0.70830425553514031,0.84157848193188611,0.8210257806932223,1.0668787088392064,0.812172139942407,1.0706828043576577,0.35656307384652752,{"$f":"+Spectre!C2468*N2469/L2469","v":0.67479353862641045},0.69002366675873028]
[6268,0.62680000000000002,2.5453178572577597,1.00893883533435,5.7594227157152539E-2,0.99037324607057442,1.0502750476836343E-2,0.11908895503388889,0.18718593266787775,0.70840537391551661,0.84163856444897678,0.82109279884251152,1.066965795308674,0.81224208050683466,1.0707750066827277,0.3570134479289333,{"$f":"+Spectre!C2469*N2470/L2470","v":0.67138583111565553},0.68653904709773172]
[6269,0.62690000000000001,2.5445058888899266,1.0089340784024632,5.7557215988177E-2,0.99038760580324525,1.0487008160809757E-2,0.11906426019626037,0.18710848434524713,0.70850642518605356,0.84169860280792586,0.82115976842133942,1.0670528186634474,0.81231197069634309,1.0708671425987728,0.35746346090936854,{"$f":"+Spectre!C2470*N2471/L2471","v":0.66809378731822389},0.68317270168657374]
[6270,{"$f":"+A2472/10000","v":0.627},{"$f":"+(1/B2472)^2","v":2.5436943089927224},{"$f":"0.23465+1.076*100/(146-C2472)+0.93161/(41-C2472)","v":1.0089293238160477},{"$f":"9.4977*0.001*C2472^2*D2472*EXP(-h/7.996/1000)","v":5.7520234590159654E-2},{"$f":"+EXP(-0.0168*EXP(-15*ABS(B2472-0.59)))","v":0.990401944220202},{"$f":"-2.5*LOG(F2472)","v":1.0471289440556059E-2},{"$f":"2.5*LOG(EXP(AOD*(B2472/0.55)^(-1.3)))","v":0.11903957441712777},{"$f":"+E2472+G2472+H2472","v":0.18703109844784349},{"$f":"10^(-0.4*I2472*ma)","v":0.70860740940396183},{"$f":"10^(-0.4*I2472)","v":0.84175859705216582},{"$f":"10^(-0.4*I2472*ma_ref)","v":0.82122668947660071},{"$f":"+L2472/M$1","v":1.0671397789644639},{"$f":"10^(-0.4*I2472*ma_target)","v":0.81238181055916603},{"$f":"+N2472/O$1","v":1.0709592121693796},{"$f":"(O2472/M2472-1)*100","v":0.35791311318391639},{"$f":"+Spectre!C2471*N2472/L2472","v":0.66788891420589647},0.68296320457657433]
[6271,0.62709999999999999,2.5428831173183792,1.0089245715735502,5.748328293432374E-2,0.99041626135277516,1.0455594280707935E-2,0.11901489769172409,0.18695377490675574,0.70870832662640726,0.84181854722508265,0.82129356205514159,1.0672266762725973,0.81245160014348849,1.0710512154580698,0.35836240514810491,{"$f":"+Spectre!C2472*N2473/L2473","v":0.67163481334695063},0.68679364887199557]
[6272,0.62719999999999998,2.5420723136193257,1.0089198216734183,5.7446360991924961E-2,0.99043055723224982,1.0439922645951389E-2,0.11899023001528557,0.18687651365316194,0.70880917691050849,0.84187845337001588,0.82136038620375917,1.0673135106486582,0.81252133949744587,1.0711431525283004,0.35881133719695146,{"$f":"+Spectre!C2473*N2474/L2474","v":0.67519805829170199},0.69043731645562667]
[6273,0.62729999999999997,2.5412618976481873,1.0089150741141009,5.7409468734251422E-2,0.99044483188986621,1.0424274501025146E-2,0.1189655713830525,0.18679931461832905,0.70890996031333819,0.84193831553025811,0.82142716196920118,1.0674002821533928,0.81259102866912325,1.0712350234434616,0.3592599097250071,{"$f":"+Spectre!C2474*N2475/L2475","v":0.67650204015582516},0.69177072926378835]
[6274,0.62739999999999996,2.5404518691577871,1.0089103288940482,5.7372606132623696E-2,0.99045908535681937,1.0408649810720986E-2,0.11894092179026748,0.18672217773361216,0.70901067689192288,0.84199813374905497,0.82149388939816759,1.0674869908474847,0.81266066770655732,1.07132682826688,0.35970812312633438,{"$f":"+Spectre!C2475*N2476/L2476","v":0.6774646894569728},0.69275510561382381]
[6275,0.62749999999999995,2.5396422279011448,1.008905586011712,5.7335773158394714E-2,0.99047331766425961,1.0393048539883255E-2,0.11891628123217703,0.186645102930455,0.70911132670324284,0.84205790806960612,0.82156056853730897,1.0675736367915545,0.81273025665773513,1.0714185670618164,0.36015597779439634,{"$f":"+Spectre!C2476*N2477/L2477","v":0.67907815646926839},0.69440498866736455]
[6276,0.62760000000000005,2.538832973631477,1.008900845465545,5.7298969782949745E-2,0.99048752884329228,1.037747065340909E-2,0.11889164970403038,0.18656809014038922,0.70921190980423254,0.84211763853506438,0.82162719943322771,1.0676602200461589,0.81279979557059401,1.0715102398914669,0.36060347412227856,{"$f":"+Spectre!C2477*N2478/L2478","v":0.68237576625940488},0.69777702569599598]
[6277,0.62770000000000004,2.5380241061021991,1.0088961072540013,5.7262195977706397E-2,0.99050171892497774,1.0361916116248426E-2,0.11886702720108086,0.18649113929503569,0.70931242625177904,0.84217732518853561,0.82169378213247635,1.0677467406717907,0.81286928449302198,1.0716018468189616,0.36105061250251147,{"$f":"+Spectre!C2478*N2479/L2479","v":0.68574190250148481},0.70121913582244655]
[6278,0.62780000000000002,2.5372156250669189,1.0088913713755363,5.722545171411441E-2,0.99051588794033207,1.034638489340323E-2,0.11884241371858438,0.18641425032610204,0.70941287610272474,0.84223696807307979,0.82176031668156058,1.0678331987288814,0.81293872347285823,1.0716933879073669,0.36149739332702602,{"$f":"+Spectre!C2479*N2480/L2480","v":0.6867872030610227},0.70228802887442443]
[6279,0.62790000000000001,2.5364075302794431,1.0088866378286068,5.7188736963655826E-2,0.99053003592032618,1.0330876949928484E-2,0.11881780925179998,0.18633742316538429,0.70951325941386545,0.84229656723171065,0.82182680312693646,1.0679195942777984,0.81300811255789274,1.071784863219684,0.36194381698742006,{"$f":"+Spectre!C2480*N2481/L2481","v":0.68617864972324027},0.70166574045356955]
[6280,0.628,2.5355998214937729,1.0088819066116708,5.7152051697844791E-2,0.99054416289588665,1.0315392250931183E-2,0.11879321379599062,0.18626065774476658,0.70961357624195032,0.84235612270739502,0.82189324151501164,1.0680059273788456,0.81307745179586599,1.0718762728188493,0.36238988387475857,{"$f":"+Spectre!C2481*N2482/L2482","v":0.68567758813365054},0.70115336987571186]
[6281,0.62809999999999999,2.5347924984641059,1.0088771777231877,5.7115395888227602E-2,0.99055826889789533,1.0299930761570824E-2,0.1187686273464216,0.18618395399622001,0.70971382664368332,0.84241563454305379,0.82195963189214571,1.0680921980922651,0.81314674123446962,1.0719676167677339,0.36283559437946256,{"$f":"+Spectre!C2482*N2483/L2483","v":0.68556608158551746},0.70103934661851375]
[6282,0.62819999999999998,2.5339855609448363,1.0088724511616178,5.7078769506382653E-2,0.99057235395718957,1.0284492447059153E-2,0.11874404989836246,0.18610731185180426,0.70981401067572081,0.84247510278156112,0.82202597430464952,1.0681784064782351,0.81321598092134573,1.0720588951291448,0.36328094889161999,{"$f":"+Spectre!C2483*N2484/L2484","v":0.68552422390598944},0.70099654420880375]
[6283,0.62829999999999997,2.5331790086905523,1.0088677269254231,5.7042172523920354E-2,0.9905864181045626,1.026907727265965E-2,0.11871948144708516,0.18603073124366515,0.70991412839467527,0.84253452746574575,0.82209226879878572,1.0682645525968715,0.81328517090408847,1.0721501079658244,0.36372594780080814,{"$f":"+Spectre!C2484*N2485/L2485","v":0.68435863915990192},0.69980465214941845]
[6284,0.62839999999999996,2.5323728414560378,1.0088630050130669,5.7005604912483104E-2,0.99060046137076285,1.0253685203688389E-2,0.11869492198786524,0.18595421210403673,0.71001417985711124,0.84259390863838957,0.82215851542076857,1.0683506365082274,0.81335431123024171,1.0722412553404503,0.36417059149596032,{"$f":"+Spectre!C2485*N2486/L2486","v":0.68169219358100852},0.69707802474378866]
[6285,0.62849999999999995,2.5315670589962722,1.0088582854230133,5.6969066643745285E-2,0.99061448378649464,1.0238316205513166E-2,0.11867037151598148,0.18587775436523993,0.71011416511954795,0.84265324634222838,0.82222471421676413,1.0684366582722928,0.81342340194730123,1.0723323373156355,0.3646148803656768,{"$f":"+Spectre!C2486*N2487/L2487","v":0.67915452288347089},0.69448307867583214]
[6286,0.62860000000000005,2.5307616610664279,1.0088535681537281,5.6932557689413112E-2,0.99062848538241799,1.0222970243553734E-2,0.11864583002671608,0.18580135795968294,0.71021408423845844,0.84271254061995227,0.82229086523288986,1.0685226179489951,0.81349244310271329,1.0724233539539283,0.36505881479800273,{"$f":"+Spectre!C2487*N2488/L2488","v":0.68172492229047998},0.69711149214207435]
[6287,0.62870000000000004,2.529956647421876,1.0088488532036781,5.6896078021224858E-2,0.99064246618914875,1.0207647283281666E-2,0.11862129751535402,0.18572502281986053,0.7103139372702697,0.84277179151420512,0.82235696851521567,1.0686085155981995,0.81356143474387599,1.0725143053178137,0.36550239518049477,{"$f":"+Spectre!C2488*N2489/L2489","v":0.68617808292835325},0.70166516086608999]
[6288,0.62880000000000003,2.5291520178181792,1.008844140571332,5.6859627610950522E-2,0.99065642623725858,1.0192347290220349E-2,0.11859677397718373,0.18564874887835459,0.71041372427136285,0.8428309990675843,0.82242302410976287,1.0686943512797082,0.81363037691813811,1.0726051914697108,0.36594562190017665,{"$f":"+Spectre!C2489*N2490/L2490","v":0.68936455324754908},0.70492354999966866]
[6289,0.62890000000000001,2.5283477720110938,1.0088394302551591,5.6823206430391827E-2,0.99067036555727528,1.0177070229944615E-2,0.1185722594074968,0.18557253606783325,0.71051344529807314,0.84289016332264244,0.82248903206250512,1.0687801250532618,0.81369926967280015,1.072696012471976,0.36638849534360585,{"$f":"+Spectre!C2490*N2491/L2491","v":0.68463965378930114},0.70009200929481374]
[6290,0.629,2.5275439097565724,1.0088347222536298,5.6786814451382311E-2,0.99068428417968224,1.0161816068081314E-2,0.11854775380158812,0.18549638432105175,0.71061310040668946,0.84294928432188521,0.82255499241936736,1.0688658369785371,0.8137681130551131,1.0727867683869001,0.3668310158968735,{"$f":"+Spectre!C2491*N2492/L2492","v":0.68000638396697355},0.69535416631191727]
[6291,0.62909999999999999,2.5267404308107597,1.0088300165652166,5.6750451645787243E-2,0.99069818213491934,1.0146584770308364E-2,0.11852325715475615,0.18542029357085177,0.71071268965345458,0.84300836210777264,0.82262090522622688,1.0689514871151489,0.81383690711227974,1.0728774592767101,0.36727318394556008,{"$f":"+Spectre!C2492*N2493/L2493","v":0.67900636087270738},0.69433157264014977]
[6292,0.62919999999999998,2.5259373349299952,1.0088253131883931,5.6714117985503541E-2,0.99071205945338225,1.013137630235544E-2,0.11849876946230152,0.1853442637501605,0.71081221309456655,0.84306739672271946,0.82268677052891359,1.069037075522651,0.81390565189145492,1.0729680852035701,0.36771499987473533,{"$f":"+Spectre!C2493*N2494/L2494","v":0.6808328388566548},0.69619927433495699]
[6293,0.62929999999999997,2.5251346218708122,1.008820612121633,5.6677813442459736E-2,0.99072591616542294,1.0116190630003496E-2,0.11847429071952939,0.18526829479199264,0.71091167078617534,0.84312638820909369,0.8227525883732083,1.0691226022605329,0.81397434743974328,1.0730586462295781,0.36815646406902491,{"$f":"+Spectre!C2494*N2495/L2495","v":0.68281281770281588},0.69822394141507427]
[6294,0.62939999999999996,2.5243322913899369,1.0088159133634127,5.6641537988615979E-2,0.99073975230134959,1.0101027719084749E-2,0.11844982092174702,0.18519238662944776,0.71101106278438708,0.84318533660921879,0.82281835880484477,1.0692080673882234,0.81404299380420231,1.0731491424167696,0.3685975769125216,{"$f":"+Spectre!C2495*N2496/L2496","v":0.68732136777749564},0.70283424971860153]
[6295,0.62949999999999995,2.523530343244289,1.0088112169122094,5.6605291595963982E-2,0.99075356789142677,1.0085887535482537E-2,0.11842536006426535,0.18511653919571186,0.71111038914526103,0.84324424196537184,0.82288408186950923,1.0692934709650892,0.81411159103184072,1.0732395738271161,0.36903833878882963,{"$f":"+Spectre!C2496*N2497/L2497","v":0.69234618890976418},0.70797248134653401]
[6296,0.62960000000000005,2.5227287771909794,1.0088065227665015,5.6569074236526844E-2,0.9907673629658752,1.0070770045131568E-2,0.11840090814239874,0.18504075242405715,0.71120964992481039,0.84330310431978439,0.82294975761283895,1.0693788130504334,0.81418013916961818,1.0733299405225241,0.36947875008108699,{"$f":"+Spectre!C2497*N2498/L2498","v":0.69572138437383435},0.71142385516212492]
[6297,0.62970000000000004,2.5219275929873159,1.0088018309247684,5.6532885882359302E-2,0.99078113755487207,1.005567521401754E-2,0.11837646515146458,0.18496502624784142,0.71130884517900228,0.84336192371464203,0.82301538608042424,1.069464093703498,0.81424863826444627,1.0734202425648371,0.36991881117196534,{"$f":"+Spectre!C2498*N2499/L2499","v":0.694693972767913},{"$f":"+Q2499/R$1","v":0.71037325481845326}]
[6298,0.62980000000000003,2.5211267903907957,1.0087971413854915,5.6496726505547469E-2,0.99079489168855117,1.0040603008176998E-2,0.11835203108678299,0.18488936060050748,0.71140797496375896,0.84342070019208593,0.82308096731780811,1.0695493129834641,0.81431708836318839,1.0735104800158348,0.37035852244355905,{"$f":"+Spectre!C2499*N2500/L2500","v":0.69400173914420826},0.70966539744291479]
[6299,0.62990000000000002,2.5203263691591089,1.0087924541471522,5.646059607820874E-2,0.99080862539700287,1.0025553393697331E-2,0.11832760594367805,0.18481375541558412,0.71150703933495618,0.84347943379421086,0.82314650137048528,1.0696344709494492,0.81438548951265965,1.0736006529372335,0.37079788427758498,{"$f":"+Spectre!C2500*N2501/L2501","v":0.69280750222329546},0.70844420652750628]
[6300,0.63,2.5195263290501382,1.0087877692082348,5.6424494572491948E-2,0.99082233871027381,1.0010526336717132E-2,0.11830318971747658,0.18473821062668566,0.71160603834842351,0.84353812456306621,0.82321198828390263,1.0697195676605094,0.81445384175962632,1.0736907613906848,0.37123689705522711,{"$f":"+Spectre!C2501*N2502/L2502","v":0.69141363377387399},0.70701887838875899]
[6301,0.63009999999999999,2.5187266698219593,1.0087830865672234,5.6388421960577223E-2,0.99083603165836764,9.99552180342533E-3,0.11827878240350838,0.18466272616751095,0.71170497205994587,0.84359677254065646,0.82327742810346072,1.0698046031756401,0.81452214515080734,1.073780805437778,0.37167556115713651,{"$f":"+Spectre!C2502*N2503/L2503","v":0.69025362360603082},0.70583268672616262]
[6302,0.63019999999999998,2.5179273912328384,1.0087784062226042,5.6352378214675931E-2,0.99084970427124441,9.9805397600619093E-3,0.11825438399710717,0.184587301971845,0.7118038405252608,0.84365537776894028,0.82334282087451105,1.0698895775537731,0.81459039973287251,1.073870785140038,0.37211387696360898,{"$f":"+Spectre!C2503*N2504/L2504","v":0.69026577696657099},0.70584511438873387]
[6303,0.63029999999999997,2.517128493041235,1.0087737281728646,5.6316363307030735E-2,0.9908633565788213,9.9655801729170435E-3,0.11822999449360902,0.18451193797355681,0.7119026438000613,0.84371394028983138,0.82340816664235883,1.06997449085378,0.81465860555244385,1.073960700558926,0.37255184485427417,{"$f":"+Spectre!C2504*N2505/L2505","v":0.69041055309570498},0.70599315812324792]
[6304,0.63039999999999996,2.5163299750057981,1.0087690524164925,5.6280377209915342E-2,0.99087698861097195,9.9506430083318321E-3,0.11820561388835386,0.18443663410660105,0.71200138193999385,0.84377246014519791,0.82347346545226119,1.0700593431344705,0.81472676265609556,1.0740505517558407,0.37298946520845089,{"$f":"+Spectre!C2505*N2506/L2506","v":0.68940156398966479},0.70496139607631625]
[6305,0.63049999999999995,2.5155318368853696,1.0087643789519782,5.6244419895634737E-2,0.99089060039752719,9.9357282326975362E-3,0.11818124217668444,0.18436139030501669,0.71210005500065932,0.84383093737686277,0.82353871734942841,1.0701441344545923,0.81479487109035331,1.0741403387921169,0.3734267384048362,{"$f":"+Spectre!C2506*N2507/L2507","v":0.6868309131196203},0.70233272547150383]
[6306,0.63060000000000005,2.5147340784389813,1.0087597077778125,5.6208491336524884E-2,0.99090419196827451,9.920835812456074E-3,0.1181568793539467,0.18428620650292765,0.71219866303761314,0.84388937202660419,0.82360392237902247,1.0702288648728313,0.81486293090169515,1.0742300617290264,0.37386366482186073,{"$f":"+Spectre!C2507*N2508/L2508","v":0.68434515316492373},0.69979086177477479]
[6307,0.63070000000000004,2.5139366994258596,1.0087550388924875,5.6172591504953025E-2,0.99091776335295878,9.905965714099272E-3,0.11813252541548985,0.18421108263454217,0.71229720610636471,0.8439477641361548,0.8236690805861594,1.0703135344478132,0.81493094213655071,1.0743197206277766,0.37430024483715574,{"$f":"+Spectre!C2508*N2509/L2509","v":0.6830004109275648},0.6984157686294602]
[6308,0.63080000000000003,2.5131396996054165,1.0087503722944968,5.6136720373317156E-2,0.99093131458128159,9.8911179041695912E-3,0.11810818035666631,0.18413601863415308,0.71239568426237765,0.84400611374720236,0.82373419201590681,1.0703981432381011,0.814998904841302,1.0744093155495134,0.37473647882813044,{"$f":"+Spectre!C2509*N2510/L2510","v":0.6817345981221431},0.69712138635780252]
[6309,0.63090000000000002,2.5123430787372589,1.0087457079823352,5.6100877914046471E-2,0.99094484568290198,9.8762923492592483E-3,0.11808384417283131,0.18406101443613704,0.71249409756107041,0.84406442090138978,0.82379925671328624,1.0704826913021979,0.8150668190622834,1.0744988465553187,0.37517236717161673,{"$f":"+Spectre!C2510*N2511/L2511","v":0.68312220638636956},0.69854031301862274]
[6310,0.63100000000000001,2.5115468365811822,1.0087410459544985,5.606506409960102E-2,0.99095835668743582,9.861489016010961E-3,0.11805951685934393,0.18398606997495592,0.71259244605781469,0.84412268564031445,0.82386427472327062,1.0705671786985436,0.81513468484578044,1.0745883137062107,0.37560791024393581,{"$f":"+Spectre!C2511*N2512/L2512","v":0.69144626250545016},0.70705224355264262]
[6311,0.63109999999999999,2.5107509728971715,1.008736386209484,5.6029278902471696E-2,0.99097184762445656,9.8467078711170671E-3,0.11803519841156566,0.18391118518515442,0.71269072980793757,0.84418090800552947,0.82392924609078733,1.0706516054855189,0.81520250223803215,1.0746777170631461,0.37604310842100919,{"$f":"+Spectre!C2512*N2513/L2513","v":0.70011200165035337},0.71591356891760172]
[6312,0.63119999999999998,2.5099554874454038,1.0087317287457904,5.5993522295180398E-2,0.99098531852349481,9.8319488813200084E-3,0.1180108888248616,0.183836360001362,0.71278894886672017,0.84423908803854253,0.82399417086071569,1.0707359717214417,0.815270271285229,1.0747670566870176,0.37647796207826989,{"$f":"+Spectre!C2513*N2514/L2514","v":0.70003443465235882},0.71583425122809841]
[6313,0.63129999999999997,2.5091603799862447,1.0087270735619169,5.5957794250279726E-2,0.99099876941403842,9.8172120134121955E-3,0.11798658809460015,0.18376159435829209,0.71288710328939731,0.84429722578081667,0.82405904907788774,1.0708202774645694,0.81533799203351343,1.0748563326386547,0.37691247159061803,{"$f":"+Spectre!C2514*N2515/L2515","v":0.69352437660442223},0.70917726080374821]
[6314,0.63139999999999996,2.50836565028025,1.0087224206563647,5.5922094740353111E-2,0.99101220032553305,9.8024972342353987E-3,0.11796229621615223,0.18368688819074075,0.71298519313115927,0.84435532127377044,0.82412388078708998,1.0709045227730993,0.81540566452898144,1.0749455449788252,0.37734663733248741,{"$f":"+Spectre!C2515*N2516/L2516","v":0.68765158148111616},0.70317191636409138]
[6315,0.63149999999999995,2.5075712980881648,1.0087177700276364,5.5886423738014758E-2,0.99102561128738142,9.7878045106815741E-3,0.11793801318489247,0.18361224143358879,0.71308321844715006,0.8444133745587773,0.82418866603306051,1.0709887077051663,0.81547328881768022,1.0750346937682331,0.37778045967788998,{"$f":"+Spectre!C2516*N2517/L2517","v":0.68927449165059795},0.70483145570740724]
[6316,0.63160000000000005,2.5067773231709247,1.0087131216742349,5.585078121590957E-2,0.99103900232894393,9.7731338096921395E-3,0.11791373899619852,0.18353765402180022,0.71318117929246772,0.84447138567716551,0.82425340486049115,1.071072832318845,0.81554086494560973,1.0751237790675199,0.37821393900028255,{"$f":"+Spectre!C2517*N2518/L2518","v":0.69122046694766004},0.70682135177640937]
[6317,0.63170000000000004,2.5059837252896533,1.0087084755946651,5.5815167146713085E-2,0.99105237347953878,9.758485098257828E-3,0.11788947364545102,0.18346312589042194,0.71327907572216576,0.84452935467022006,0.82431809731402683,1.0711568966721488,0.81560839295872256,1.0752128009372648,0.37864707567274447,{"$f":"+Spectre!C2518*N2519/L2519","v":0.69369259928180094},0.70934928027641997]
[6318,0.63180000000000003,2.5051905042056637,1.0087038317874326,5.5779581503131476E-2,0.99106572476844168,9.7438583434190599E-3,0.11786521712803408,0.18338865697458462,0.71337690779125107,0.84458728157917995,0.82438274343826567,1.0712409008230308,0.81567587290292365,1.0753017594379839,0.37907987006779997,{"$f":"+Spectre!C2519*N2520/L2520","v":0.69677344067299407},0.71249965643114788]
[6319,0.63190000000000002,2.5043976596804574,1.0086991902510449,5.5744024257901537E-2,0.99107905622488601,9.7292535122656745E-3,0.11784096943933442,0.18331424720950162,0.7134746755546858,0.84464516644524046,0.82444734327775926,1.0713248448293833,0.81574330482407065,1.0753906546301313,0.37951232255755141,{"$f":"+Spectre!C2520*N2521/L2521","v":0.69979666104654792},0.71559111105862661]
[6320,0.63200000000000001,2.5036051914757249,1.0086945509840104,5.5708495383790566E-2,0.99109236787806299,9.7146705719368068E-3,0.11781673057474262,0.18323989653047001,0.71357237906738591,0.84470300930955156,0.82451189687701165,1.071408728749037,0.81581068876797336,1.0754794865740975,0.37994443351356821,{"$f":"+Spectre!C2521*N2522/L2522","v":0.6949569542189159},0.71064217177560129]
[6321,0.6321,2.5028130993533457,1.0086899139848386,5.567299485359644E-2,0.99110565975712162,9.7001094896208753E-3,0.11779250052965166,0.18316560487286898,0.71367001838422228,0.84476081021321958,0.8245764042804814,1.0714925526397636,0.81587802478039484,1.0755682553302124,0.38037620330704236,{"$f":"+Spectre!C2522*N2523/L2523","v":0.6870261431654936},0.7025323618704965]
[6322,0.63219999999999998,2.5020213830753866,1.0086852792520404,5.5637522640147409E-2,0.99111893189116895,9.6855702325553267E-3,0.11776827929945816,0.1830913721721609,0.71376759356002006,0.84481856919730625,0.82464086553257954,1.0715763165592722,0.8159453129070503,1.0756569609587414,0.3808076323086107,{"$f":"+Spectre!C2523*N2524/L2524","v":0.68039823203757066},0.69575485841551399]
[6323,0.63229999999999997,2.5012300424041034,1.0086806467841278,5.5602078716302239E-2,0.99113218430926986,9.6710527680268759E-3,0.11774406687956154,0.18301719836389066,0.71386510464955943,0.84487628630282818,0.82470528067767113,1.0716600205652134,0.81601255319360788,1.0757456035198891,0.38123872088844379,{"$f":"+Spectre!C2524*N2525/L2525","v":0.68281013046017236},0.69822119352121315]
[6324,0.63239999999999996,2.5004390771019391,1.008676016579614,5.5566663054950019E-2,0.99114541704044712,9.6565570633713703E-3,0.11771986326536456,0.18294308338368595,0.71396255170757428,0.84493396157075873,0.82476964976007427,1.0717436647151761,0.81607974568568853,1.0758341830737972,0.38166946941629032,{"$f":"+Spectre!C2525*N2526/L2526","v":0.68505285035055941},0.7005145317257071]
[6325,0.63249999999999995,2.4996484869315259,1.008671388637014,5.5531275629010314E-2,0.99115863011368199,9.6420830859731688E-3,0.11769566845227329,0.18286902716725678,0.71405993478875329,0.8449915950420257,0.82483397282406057,1.0718272490666885,0.81614689042886601,1.0759226996805453,0.38209987826145486,{"$f":"+Spectre!C2526*N2527/L2527","v":0.68535697527722061},0.70082552076907378]
[6326,0.63260000000000005,2.4988582716556804,1.0086667629548429,5.5495916411432804E-2,0.99117182355791345,9.6276308032659901E-3,0.11767148243569629,0.18279502965039507,0.71415725394774054,0.84504918675751417,0.82489824991385574,1.07191077367722,0.81621398746866669,1.0760111534001509,0.38252994779262028,{"$f":"+Spectre!C2527*N2528/L2528","v":0.68388793628406963},0.69932332548319576]
[6327,0.63270000000000004,2.4980684310374106,1.0086621395316184,5.5460585375197637E-2,0.99118499740203869,9.6132001827322899E-3,0.11764730521104577,0.18272109076897569,0.71425450923913347,0.84510673675806358,0.82496248107363834,1.0719942386041779,0.81628103685057007,1.0760995442925692,0.38295967837818079,{"$f":"+Spectre!C2528*N2529/L2529","v":0.68262644091769842},0.69803335809543066]
[6328,0.63280000000000003,2.4972789648399103,1.0086575183658584,5.5425282493315159E-2,0.99119815167491343,9.5987911919030149E-3,0.11762313677373716,0.18264721045895532,0.71435170071748444,0.84516424508446997,0.82502666634754096,1.0720776439049102,0.81634803862000827,1.0761878724176932,0.38338907038597547,{"$f":"+Spectre!C2529*N2530/L2530","v":0.68388119470448616},0.69931643174578173]
[6329,0.63290000000000002,2.496489872826559,1.0086528994560822,5.5390007738825811E-2,0.9912112864053515,9.5844037983579457E-3,0.11759897711918851,0.18257338865637227,0.71444882843730106,0.84522171177748495,0.82509080577964988,1.0721609896367046,0.81641499282236696,1.0762761378353545,0.38381812418339933,{"$f":"+Spectre!C2530*N2531/L2531","v":0.68566327813217365},0.70113873689669648]
[6330,0.63300000000000001,2.4957011547609245,1.0086482828008103,5.5354761084800287E-2,0.99122440162212511,9.5700379697254596E-3,0.11757482624282134,0.18249962529734709,0.71454589245304501,0.84527913687781664,0.82515489941400522,1.0722442758567892,0.81648189950298433,1.0763643406053225,0.38424684013735888,{"$f":"+Spectre!C2531*N2532/L2532","v":0.68603253325563063},0.70151632612906512]
[6331,0.6331,2.4949128104067606,1.0086436683985651,5.5319542504339389E-2,0.99123749735396482,9.5556936736825079E-3,0.11755068414006038,0.18242592031808227,0.71464289281913229,0.84533652042612817,0.82521894729460032,1.0723275026223305,0.81654875870715149,1.0764524807873039,0.38467521861427212,{"$f":"+Spectre!C2532*N2533/L2533","v":0.68181872611094074},0.69720741312004053]
[6332,0.63319999999999999,2.4941248395280078,1.0086390562478695,5.5284351970573964E-2,0.99125057362955993,9.5413708779542479E-3,0.1175265508063328,0.18235227365486101,0.71473982958993498,0.8453938624630396,0.82528294946538316,1.0724106699904368,0.81661557048011346,1.0765405584409453,0.38510325998017958,{"$f":"+Spectre!C2533*N2534/L2534","v":0.67775457938093564},0.69305153836968048]
[6333,0.63329999999999997,2.4933372418887942,1.0086344463472476,5.5249189456664967E-2,0.99126363047755794,9.5270695503145205E-3,0.11750242623706961,0.18227868524404911,0.71483670281977829,0.8454511630291266,0.82534690597025506,1.0724937780181556,0.81668233486706765,1.0766285736258301,0.38553096460056668,{"$f":"+Spectre!C2534*N2535/L2535","v":0.67802973268040634},0.69333290189460095]
[6334,{"$f":"+A2536/10000","v":0.63339999999999996},{"$f":"+(1/B2536)^2","v":2.4925500172534316},{"$f":"0.23465+1.076*100/(146-C2536)+0.93161/(41-C2536)","v":1.0086298386952255},{"$f":"9.4977*0.001*C2536^2*D2536*EXP(-h/7.996/1000)","v":5.5214054935803294E-2},{"$f":"+EXP(-0.0168*EXP(-15*ABS(B2536-0.59)))","v":0.9912766679265651},{"$f":"-2.5*LOG(F2536)","v":9.5127896585853501E-3},{"$f":"2.5*LOG(EXP(AOD*(B2536/0.55)^(-1.3)))","v":0.11747831042770467},{"$f":"+E2536+G2536+H2536","v":0.18220515502209331},{"$f":"10^(-0.4*I2536*ma)","v":0.71493351256294291},{"$f":"10^(-0.4*I2536)","v":0.84550842216492095},{"$f":"10^(-0.4*I2536*ma_ref)","v":0.82541081685307138},{"$f":"+L2536/M$1","v":1.0725768267624742},{"$f":"10^(-0.4*I2536*ma_target)","v":0.81674905191316494},{"$f":"+N2536/O$1","v":1.0767165264014806},{"$f":"(O2536/M2536-1)*100","v":0.38595833284054137},{"$f":"+Spectre!C2535*N2536/L2536","v":0.6804981342961014},0.69585701547364054]
[6335,0.63349999999999995,2.4917631653864198,1.0086252332903296,5.5178948381209861E-2,0.99128968600514633,9.4985311706369396E-3,0.11745420337367463,0.18213168292552143,0.71503025887366389,0.84556563991091083,0.8254746821576413,1.0726598162803205,0.81681572166350969,1.0768044168273574,0.38638536506467869,{"$f":"+Spectre!C2536*N2537/L2537","v":0.68272321918680412},0.69813232065551512]
[6336,0.63360000000000005,2.4909766860524432,1.0086206301310876,5.5143869766135424E-2,0.99130268474182526,9.4842940543876601E-3,0.11743010507042009,0.18205826889094318,0.71512694180613123,0.84562281630753999,0.82553850192772804,1.0727427466285626,0.81688234416315864,1.0768922449628591,0.38681206163710957,{"$f":"+Spectre!C2537*N2538/L2538","v":0.68378151478222537},0.69921450204206725]
[6337,0.63370000000000004,2.4901905790163741,1.0086160292160291,5.5108819063860823E-2,0.99131566416508432,9.4700782778039169E-3,0.11740601551338359,0.18198491285504831,0.71522356141448984,0.84567995139520935,0.8256022762070494,1.0728256178640092,0.81694891945712322,1.0769800108673235,0.38723842292149868,{"$f":"+Spectre!C2538*N2539/L2539","v":0.68478850099097122},0.70024421598620001]
[6338,0.63380000000000003,2.4894048440432677,1.0086114305436844,5.5073796247696545E-2,0.99132862430336455,9.4558838089003859E-3,0.11738193469801193,0.18191161475460887,0.71532011775283855,0.84573704521427528,0.8256660050392759,1.0729084300434077,0.81701544759036659,1.0770677146000258,0.38766444928108879,{"$f":"+Spectre!C2539*N2540/L2540","v":0.6843949833858225},0.69984181666656287]
[6339,0.63390000000000002,2.488619480898365,1.0086068341125853,5.5038801290982972E-2,0.99134156518506611,9.441710615739396E-3,0.11735786261975398,0.18183837452647633,0.71541661087523212,0.84579409780505099,0.82572968846803363,1.0729911832234482,0.81708192860780704,1.0771553562201812,0.38809014107861195,{"$f":"+Spectre!C2540*N2541/L2541","v":0.68191159000385881},0.69730237295624653]
[6340,0.63400000000000001,2.4878344893470925,1.0086022399212642,5.5003834167090232E-2,0.9913544868385481,9.4275586664311645E-3,0.11733379927406222,0.18176519210758363,0.71551304083567979,0.84585110920780615,0.82579332653690252,1.07307387746076,0.81714836255431511,1.0772429357869426,0.38851549867637836,{"$f":"+Spectre!C2541*N2542/L2542","v":0.67953346972189532},0.6948705783657203]
[6341,0.6341,2.4870498691550629,1.0085976479682555,5.4968894849418297E-2,0.99136738929212831,9.4134279291340304E-3,0.11730974465639218,0.18169206743494451,0.71560940768814518,0.84590807946276625,0.82585691928941607,1.0731565128119129,0.81721474947471517,1.0773304533594017,0.38894052243620969,{"$f":"+Spectre!C2542*N2543/L2543","v":0.68128652072517215},0.69666319582877201]
[6342,0.63419999999999999,2.4862656200880715,1.0085930582520943,5.493398331139672E-2,0.9913802725740839,9.3993183720537093E-3,0.11728569876220246,0.18161900044565288,0.71570571148654671,0.84596500861011381,0.8259204667690625,1.0732390893334174,0.81728108941378541,1.0774179089965892,0.38936521271948354,{"$f":"+Spectre!C2543*N2544/L2544","v":0.68419418435806423},0.6996364855934506]
[6343,0.63429999999999997,2.4854817419120994,1.0085884707713171,5.4899099526484751E-2,0.99139313671265106,9.3852299634436601E-3,0.11726166158695468,0.18154599107688307,0.71580195228475851,0.84602189668998751,0.82598396901928439,1.0733216070817249,0.81734738241625693,1.0775053027574741,0.38978956988711122,{"$f":"+Spectre!C2544*N2545/L2545","v":0.68642625149012015},0.70191893060625854]
[6344,0.63439999999999996,2.4846982343933122,1.0085838855244613,5.4864243468171286E-2,0.99140598173602512,9.3711626716049459E-3,0.11723763312611349,0.1814730392658897,0.71589813013660875,0.84607874374248293,0.82604742608347859,1.0734040661132269,0.81741362852681532,1.0775926347009652,0.39021359429958213,{"$f":"+Spectre!C2545*N2546/L2546","v":0.68641993810841417},0.70191247473117224]
[6345,0.63449999999999995,2.4839150972980595,1.0085793025100662,5.4829415109974813E-2,0.99141880767236046,9.3571164648863503E-3,0.11721361337514681,0.18140014495000797,0.71599424509588028,0.84613554980765171,0.82611083800499596,1.0734864664842561,0.81747982779009898,1.0776799048859089,0.39063728631685279,{"$f":"+Spectre!C2546*N2547/L2547","v":0.68643298351296611},0.70192581457123893]
[6346,0.63460000000000005,2.4831323303928738,1.0085747217266718,5.4794614425443311E-2,0.99143161454977125,9.3430913116835188E-3,0.11718960232952538,0.1813273080666522,0.71609029721631234,0.84619231492550306,0.82617420482714266,1.0735688082510857,0.81754598025070091,1.0777671133710922,0.39106064629856885,{"$f":"+Spectre!C2547*N2548/L2548","v":0.68519366538979787},0.70065852496830372]
[6347,0.63470000000000004,2.4823499334444747,1.0085701431728191,5.4759841388154359E-2,0.99144440239633025,9.3290871804402771E-3,0.11716559998472342,0.18125452855331806,0.71618628655159688,0.84624903913600158,0.82623752659317828,1.07365109146993,0.8176120859531667,1.0778542602152392,0.39148367460370981,{"$f":"+Spectre!C2548*N2549/L2549","v":0.68295085778162723},0.69836509706623084]
[6348,0.63480000000000003,2.481567906219762,1.0085655668470506,5.4725095971714904E-2,0.99145717124007027,9.3151040396470559E-3,0.11714160633621737,0.18118180634757933,0.71628221315538321,0.84630572247906999,0.82630080334631806,1.0737333161969445,0.81767814494199698,1.0779413454770148,0.39190637159092212,{"$f":"+Spectre!C2549*N2550/L2550","v":0.68078439489653153},0.69614973699192806]
[6349,0.63490000000000002,2.480786248485821,1.0085609927479102,5.469037814976143E-2,0.99146992110898324,9.3011418578418433E-3,0.11711762137948792,0.18110914138709119,0.71637807708127343,0.84636236499458661,0.82636403512973056,1.0738154824882242,0.8177441572616454,1.0780283692150223,0.39232873761849696,{"$f":"+Spectre!C2550*N2551/L2551","v":0.6788416119788302},0.69416310535446857]
[6350,0.63500000000000001,2.4800049600099197,1.0085564208739426,5.4655687895959752E-2,0.99148265203102071,9.2872006036096976E-3,0.11709364511001756,0.18103653360958699,0.7164738783828265,0.84641896672238759,0.82642722198654028,1.0738975903998076,0.81781012295652011,1.0781153314878047,0.39275077304408157,{"$f":"+Spectre!C2551*N2552/L2552","v":0.67688427130844631},0.69216158739502942]
[6351,0.6351,2.4792240405595103,1.008551851223694,5.4621025184005106E-2,0.99149536403409366,9.2732802455828527E-3,0.11706967752329296,0.18096398295288091,0.71656961711355471,0.84647552770226497,0.82649036395982489,1.0739796399876713,0.81787604207098219,1.0782022323538429,0.39317247822501233,{"$f":"+Spectre!C2552*N2553/L2553","v":0.67578083880658502},0.69103325035951935]
[6352,0.63519999999999999,2.4784434899022263,1.0085472837957115,5.4586389987621969E-2,0.99150805714607271,9.2593807524405918E-3,0.1170457186148033,0.18089148935486588,0.71666529332692608,0.84653204797396819,0.82655346109261807,1.0740616313077356,0.81794191464934762,1.0782890718715583,0.39359385351802612,{"$f":"+Spectre!C2553*N2554/L2554","v":0.67633062545702094},0.69159544572558784]
[6353,0.63529999999999998,2.4776633078058863,1.0085427185885436,5.455178228056419E-2,0.99152073139478847,9.2455020929087528E-3,0.11702176838004047,0.1808190527535134,0.71676090707636464,0.84658852757720415,0.82661651342790787,1.074143564415861,0.81800774073588634,1.0783758500993121,0.39401489927957112,{"$f":"+Spectre!C2554*N2555/L2555","v":0.67680231953199543},0.69207778596237324]
[6354,0.63539999999999996,2.4768834940384883,1.0085381556007398,5.4517202036614733E-2,0.99153338680803083,9.2316442357605645E-3,0.1169978268145004,0.1807466730868757,0.71685645841524737,0.84664496655163557,0.8266795210086364,1.0742254393678485,0.81807352037482162,1.0784625670954033,0.39443561586554043,{"$f":"+Spectre!C2555*N2556/L2556","v":0.6784634387059163},0.69377639668950808]
[6355,0.63549999999999995,2.4761040483682168,1.0085335948308514,5.448264922958599E-2,0.99154602341354958,9.2178071498159198E-3,0.11697389391368106,0.18067435029308299,0.71695194739690815,0.84670136493688331,0.82674248387770144,1.0743072562194413,0.81813925361033146,1.078549222918072,0.39485600363142748,{"$f":"+Spectre!C2556*N2557/L2557","v":0.68059155964140305},0.69595254943424201]
[6356,0.63560000000000005,2.475324970563435,1.00852903627743,5.4448123833319297E-2,0.99155864123905468,9.2039908039411103E-3,0.11694996967308387,0.18060208431034427,0.71704737407463559,0.84675772277252503,0.82680540207795561,1.0743890150263244,0.81820494048654824,1.0786358176254973,0.39527606293228157,{"$f":"+Spectre!C2557*N2558/L2558","v":0.68203583494951681},0.69742942211731829]
[6357,0.63570000000000004,2.474546260392692,1.0085244799390289,5.4413625821685331E-2,0.99157124031221555,9.1901951670495564E-3,0.11692605408821354,0.18052987507694843,0.71714273850167221,0.8468140400980948,0.82686827565220578,1.0744707158441227,0.81827058104755734,1.0787223512757969,0.39569579412259692,{"$f":"+Spectre!C2558*N2559/L2559","v":0.67884084279247325},0.69416231880753232]
[6358,0.63580000000000003,2.4737679176247154,1.0085199258142028,5.4379155168583694E-2,0.99158382066066175,9.176420208101067E-3,0.11690214715457736,0.18045772253126213,0.71723804073121733,0.8468703169530849,0.8269311046432144,1.0745523587284038,0.81833617533739966,1.0788088239270295,0.39611519755655689,{"$f":"+Spectre!C2559*N2560/L2560","v":0.67532573368525983},0.69056787349000048]
[6359,0.63590000000000002,2.4729899420284172,1.0085153739015069,5.4344711847943178E-2,0.99159638231198299,9.1626658961018268E-3,0.11687824886768591,0.18038562661173091,0.71733328081642456,0.84692655337694445,0.82699388909369898,1.0746339437346768,0.81840172340006967,1.0788952356371933,0.3965342735878119,{"$f":"+Spectre!C2560*N2561/L2561","v":0.67437101981333947},0.68959161167227634]
[6360,0.63600000000000001,2.4722123333728883,1.0085108241994982,5.4310295833721496E-2,0.99160892529372879,9.1489322001047559E-3,0.11685435922305308,0.18031358725687935,0.71742845881040229,0.84698274940907914,0.82705662904633115,1.0747154709183913,0.81846722527951643,1.0789815864642258,0.39695302256967935,{"$f":"+Spectre!C2561*N2562/L2562","v":0.6764214915813016},0.69168836270340595]
[6361,0.6361,2.4714350914274048,1.008506276706735,5.4275907099905478E-2,0.99162144963340904,9.1352190892088937E-3,0.1168304782161953,0.18024160440530967,0.71752357476621487,0.84703890508885327,0.82711932454373893,1.0747969403349398,0.81853268101964283,1.079067876466004,0.39737144485481046,{"$f":"+Spectre!C2562*N2563/L2563","v":0.67833917638787022},{"$f":"+Q2563/R$1","v":0.69364932976395244}]
[6362,0.63619999999999999,2.4706582159614205,1.0085017314217759,5.424154562051077E-2,0.99163395535849341,9.1215265325599974E-3,0.11680660584263189,0.18016967799570266,0.71761862873688187,0.84709502045558738,0.82718197562850437,1.0748783520396559,0.81859809066430722,1.0791541057003462,0.39778954079563444,{"$f":"+Spectre!C2563*N2564/L2564","v":0.67672461934298334},0.69199833207572348]
[6363,0.63629999999999998,2.4698817067445726,1.0084971883431815,5.4207211369582002E-2,0.99164644249641232,9.1078544993495603E-3,0.11678274209788608,0.18009780796681765,0.71771362077537715,0.84715109554856005,0.82724458234316522,1.0749597060878144,0.81866345425732112,1.0792402742250089,0.39820731074404758,{"$f":"+Spectre!C2564*N2565/L2565","v":0.67429674559154551},0.6895156610771177]
[6364,0.63639999999999997,2.469105563546679,1.0084926474695133,5.4172904321192705E-2,0.99165891107455617,9.0942029588155313E-3,0.11675888697748329,0.18002599425749155,0.71780855093463081,0.84720713040700701,0.82730714473021472,1.0750410025346335,0.81872877184245141,1.0793263820976899,0.39862475505145767,{"$f":"+Spectre!C2565*N2566/L2566","v":0.67349840947131423},0.6886993064657364]
[6365,0.63649999999999995,2.4683297861377373,1.0084881087993338,5.4138624449445193E-2,0.99167136112027565,9.0805718802420624E-3,0.11673504047695224,0.17995423680663949,0.71790341926752776,0.84726312507012147,0.82736966283210056,1.0751222414352717,0.81879404346341922,1.0794124293760263,0.39904187406887281,{"$f":"+Spectre!C2566*N2567/L2567","v":0.67802770209953822},0.69333082548340841]
[6366,0.63660000000000005,2.4675543742879253,1.0084835723312071,5.4104371728470532E-2,0.99168379266088202,9.0669612329591451E-3,0.11671120259182463,0.17988253555325431,0.71799822582690842,0.84731907957705466,0.82743213669122651,1.0752034228448302,0.81885926916390039,1.079498416117596,0.39945866814690145,{"$f":"+Spectre!C2567*N2568/L2568","v":0.68268047722076519},0.69808861400089794]
[6367,0.63670000000000004,2.4667793277676044,1.0084790380636983,5.4070146132428776E-2,0.99169620572364681,9.0533709863429533E-3,0.11668737331763553,0.17981089043640724,0.71809297066556776,0.84737499396691429,0.827494566349951,1.0752845468183514,0.81892444898752448,1.0795843423799156,0.3998751376355969,{"$f":"+Spectre!C2568*N2569/L2569","v":0.68216957988734472},0.69756618568591777]
[6368,0.63680000000000003,2.4660046463473142,1.0084745059953737,5.4035947635508515E-2,0.99170860033580244,9.0398011098151102E-3,0.11666355264992211,0.17973930139524574,0.71818765383625771,0.84743086827876701,0.82755695185058908,1.0753656134108216,0.81898958297787761,1.0796702082204446,0.40029128288467941,{"$f":"+Spectre!C2569*N2570/L2570","v":0.677969988853933},0.69327180964660284]
[6369,0.63690000000000002,2.465230329797774,1.0084699761248006,5.4001776211927109E-2,0.99172097652454139,9.0262515728436552E-3,0.11663974058422599,0.17966776836899676,0.71828227539168332,0.84748670255163594,0.82761929323540917,1.0754466226771664,0.81905467117849839,1.0797560136965796,0.40070710424340295,{"$f":"+Spectre!C2570*N2571/L2571","v":0.67407642702314507},0.68929036990623282]
[6370,0.63700000000000001,2.4644563778898836,1.0084654484505478,5.3967631835930521E-2,0.99173333431701705,9.0127223449420653E-3,0.11661593711609025,0.17959629129696283,0.71837683538450681,0.84754249682450289,0.82768159054663726,1.0755275746722561,0.81911971363288172,1.0798417588656595,0.40112260206048855,{"$f":"+Spectre!C2571*N2572/L2572","v":0.67199605743109592},0.68716304625544444]
[6371,0.6371,2.4636827903947216,1.0084609229711845,5.3933514481793329E-2,0.9917456737403435,8.999213395669477E-3,0.11659214224106199,0.1795248701185248,0.71847133386734519,0.84759825113630682,0.82774384382645394,1.075608469450902,0.81918471038447671,1.0799274437849635,0.40153777668432422,{"$f":"+Spectre!C2572*N2573/L2573","v":0.66996562415791805},0.68508678598905381]
[6372,0.63719999999999999,2.4629095670835484,1.0084563996852822,5.3899424123818804E-2,0.99175799482159532,8.9857246946309366E-3,0.11656835595469103,0.17945350477314076,0.71856577089277052,0.84765396552594485,0.82780605311699484,1.0756893070678575,0.81924966147668732,1.0800130685117104,0.40195262846283164,{"$f":"+Spectre!C2573*N2574/L2574","v":0.6700373517362852},0.68516013246290031]
[6373,0.63729999999999998,2.4621367077278027,1.0084518785914127,5.3865360736338699E-2,0.99177029758780821,8.9722562114766518E-3,0.11654457825253017,0.17938219520034554,0.71866014651331067,0.84770964003227123,0.82786821846035208,1.0757700875778184,0.81931456695287219,1.0800986331030602,0.40236715774351062,{"$f":"+Spectre!C2574*N2575/L2575","v":0.67367748583385711},0.68888242459185722]
[6374,0.63739999999999997,2.4613642120991015,1.0084473596881494,5.3831324293713241E-2,0.99178258206597836,8.9588079159027174E-3,0.1165208091301352,0.17931094133975117,0.71875446078144867,0.84776527469409901,0.82793033989857323,1.0758508110354237,0.81937942685634513,1.080184137616113,0.40278136487332805,{"$f":"+Spectre!C2575*N2576/L2576","v":0.67719426860057275},0.69247858134348028]
[6375,0.63749999999999996,2.4605920799692433,1.0084428429740666,5.3797314770331221E-2,0.99179484828306308,8.945379777650378E-3,0.11649704858306498,0.17923974313104657,0.71884871374962356,0.84782086955019864,0.82799241747366104,1.0759314774952535,0.81944424123037518,1.08026958210791,0.40319525019896219,{"$f":"+Spectre!C2576*N2577/L2577","v":0.67880898644839982},0.69412974346398082]
[6376,0.63759999999999994,2.4598203111102017,1.0084383284477405,5.3763332140609757E-2,0.99180709626598063,8.9319717665062547E-3,0.11647329660688119,0.17916860051399719,0.71894290547022921,0.8478764246392988,0.82805445122757504,1.0760120870118319,0.81950901011818555,1.0803549666354326,0.40360881406651394,{"$f":"+Spectre!C2577*N2578/L2578","v":0.67960432396929205},0.69494303179746719]
[6377,0.63770000000000004,2.4590489052941331,1.0084338161077471,5.3729376378994463E-2,0.99181932604161016,8.9185838523023527E-3,0.11644955319714886,0.17909751342844568,0.71903703599561508,0.84793194000008554,0.82811644120222927,1.0760926396396244,0.81957373356295526,1.0804402912556033,0.40402205682168457,{"$f":"+Spectre!C2578*N2579/L2579","v":0.68042629995361326},0.69578355982600093]
[6378,0.63780000000000003,2.4582778622933708,1.0084293059526648,5.3695447459959314E-2,0.99183153763679188,8.9052160049159172E-3,0.11642581834943563,0.17902648181431086,0.71913110537808655,0.84798741567120395,0.82817838743949423,1.0761731354330388,0.81963841160781792,1.0805255560252847,0.40443497880984225,{"$f":"+Spectre!C2579*N2580/L2580","v":0.68123690697286698},0.69661246229128593]
[6379,0.63790000000000002,2.4575071818804259,1.0084247979810725,5.3661545358006553E-2,0.99184373107832724,8.8918681942691865E-3,0.11640209205931216,0.17895550561158791,0.71922511366990438,0.84804285169125659,0.8282402899811967,1.0762535744464272,0.81970304429586271,1.0806107610012814,0.40484758037577784,{"$f":"+Spectre!C2580*N2581/L2581","v":0.68228758734862949},0.69768685658224316]
[6380,0.63800000000000001,2.4567368638279889,1.0084202921915508,5.362767004766681E-2,0.9918559063929786,8.8785403903297502E-3,0.11637837432235246,0.17888458476034902,0.71931906092328457,0.84809824809880408,0.82830214886911857,1.0763339567340828,0.81976763167013333,1.0806959062403376,0.40525986186390472,{"$f":"+Spectre!C2581*N2582/L2582","v":0.68007246004502675},0.69542173373076965]
[6381,0.6381,2.4559669079089281,1.008415788582681,5.3593821503498902E-2,0.99186806360746982,8.8652325631099326E-3,0.11635466513413334,0.17881371920074218,0.71941294719039839,0.84815360493236525,0.82836396414499769,1.0764142823502416,0.81983217377362905,1.0807809917991389,0.40567182361823662,{"$f":"+Spectre!C2582*N2583/L2583","v":0.67478512521903855},0.69001506346028063]
[6382,0.63819999999999999,2.455197313896289,1.0084112871530455,5.3559999700089893E-2,0.99188020274848598,8.8519446826670276E-3,0.11633096449023425,0.17874290887299116,0.71950677252337425,0.84820892223041799,0.82842573585052914,1.0764945513490842,0.8198966706493046,1.0808660177343126,0.40608346598223211,{"$f":"+Spectre!C2583*N2584/L2584","v":0.66988495518204705},0.68500429630985882]
[6383,0.63829999999999998,2.4544280815632962,1.0084067879012282,5.3526204612055039E-2,0.99189232384267334,8.8386767191034089E-3,0.11630727238623775,0.1786721537173962,0.71960053697429494,0.84826420003139757,0.82848746402736262,1.076574763784732,0.81996112234007001,1.0809509841024267,0.40649478929917215,{"$f":"+Spectre!C2584*N2585/L2585","v":0.67076470310561542},0.68590390019355885]
[6384,0.63839999999999997,2.4536592106833504,1.0084022908258141,5.3492436214037743E-2,0.9919044269166396,8.8254286425661632E-3,0.1162835888177301,0.178601453674334,0.71969424059519826,0.84831943837369728,0.82854914871710417,1.07665491971125,0.82002552888878999,1.0810358909599893,0.40690579391158277,{"$f":"+Spectre!C2585*N2586/L2586","v":0.67309490501737834},0.68828669489357308]
[6385,0.63849999999999996,2.45289070103003,1.0083977959253891,5.3458694480709501E-2,0.99191651199695385,8.8122004232471969E-3,0.11625991378029954,0.17853080868425625,0.7197878834380792,0.84837463729566986,0.82861078996131654,1.0767350191826468,0.82008989033828494,1.0811207383634507,0.40731648016176791,{"$f":"+Spectre!C2586*N2587/L2587","v":0.67569860034404505},0.69094915577025284]
[6386,0.63859999999999995,2.4521225523770931,1.0083933031985406,5.3424979386769988E-2,0.99192857911014698,8.7989920313827474E-3,0.1162362472695378,0.17846021868769052,0.71988146555488763,0.8484297968356258,0.82867238780151842,1.0768150622528734,0.82015420673133121,1.0812055263692026,0.40772684839156526,{"$f":"+Spectre!C2587*N2588/L2588","v":0.67929479596370423},0.69462651772737849]
[6387,0.63870000000000005,2.4513547644984697,1.0083888126438569,5.3391290906946741E-2,0.99194062828271101,8.7858034372541027E-3,0.11621258928103928,0.17838968362524013,0.71997498699752938,0.84848491703183404,0.82873394227918462,1.0768950489758242,0.82021847811066029,1.0812902550335777,0.40813689894232397,{"$f":"+Spectre!C2588*N2589/L2589","v":0.68309589389027681},0.69851340664801276]
[6388,0.63880000000000003,2.4505873371682738,1.0083843242599277,5.335762901599557E-2,0.99195265954109968,8.7726346111869861E-3,0.11618893981040186,0.17831920343758442,0.72006844781786528,0.84853999792252199,0.82879545343574568,1.0769749794053358,0.82028270451895835,1.081374924412849,0.40854663215506015,{"$f":"+Spectre!C2589*N2590/L2590","v":0.68401759960452047},0.69945591531208429]
[6389,0.63890000000000002,2.4498202701607896,1.0083798380453435,5.3323993688699972E-2,0.99196467291172863,8.7594855235513022E-3,0.11616529885322591,0.17824877806547718,0.720161848067713,0.8485950395458759,0.8288569213125897,1.0770548535951903,0.8203468859988684,1.0814595345632327,0.4089560483702126,{"$f":"+Spectre!C2590*N2591/L2591","v":0.6834177083355284},0.69884248446339969]
[6390,0.63900000000000001,2.4490535632504815,1.0083753539986964,5.3290384899871583E-2,0.99197666842097476,8.746356144761859E-3,0.11614166640511497,0.17817840744974842,0.72025518779884468,0.84865004194004023,0.82891834595105951,1.0771346715991101,0.82041102259298793,1.0815440855408847,0.40936514792790923,{"$f":"+Spectre!C2591*N2592/L2592","v":0.68278894284514813},0.69819952770052573]
[6391,0.6391,2.4482872162119897,1.0083708721185789,5.3256802624349869E-2,0.99198864609517712,8.7332464452773949E-3,0.11611804246167533,0.17810809153130258,0.72034846706298972,0.84870500514311831,0.82897972739245585,1.0772144334707632,0.82047511434387099,1.0816285774019039,0.4097739311678561,{"$f":"+Spectre!C2592*N2593/L2593","v":0.68163796761166284},0.69702257489126396]
[6392,0.63919999999999999,2.4475212288201305,1.0083663924035859,5.3223246837002205E-2,0.99200060596063633,8.7201563956011661E-3,0.11609442701851651,0.17803783025111988,0.72044168591183211,0.84875992919317178,0.82904106567803482,1.0772941392637601,0.82053916129402671,1.0817130102023298,0.41018239842924853,{"$f":"+Spectre!C2593*N2594/L2594","v":0.68041189683803271},0.69576883163129133]
[6393,0.63929999999999998,2.4467556008498952,1.008361914852312,5.3189717512723687E-2,0.99201254804361505,8.7070859662804617E-3,0.11607082007125095,0.17796762355025511,0.72053484439701221,0.84881481412822146,0.82910236084900935,1.0773737890316541,0.82060316348591988,1.0817973839981436,0.41059055005092659,{"$f":"+Spectre!C2594*N2595/L2595","v":0.67928415062098091},0.69461563211867094]
[6394,0.63939999999999997,2.4459903320764531,1.0083574394633541,5.3156214626437361E-2,0.99202447237033775,8.6940351279068337E-3,0.11604722161549368,0.17789747136983786,0.7206279425701263,0.84886965998624675,0.82916361294654928,1.0774533828279438,0.8206671209619717,1.0818816988452691,0.41099838637124186,{"$f":"+Spectre!C2595*N2596/L2596","v":0.67833111059083451},0.69364108192142382]
[6395,0.63949999999999996,2.4452254222751479,1.0083529662353095,5.3122738153093922E-2,0.99203637896699082,8.6810038511159759E-3,0.11602363164686302,0.17782737365107293,0.72072098048272604,0.84892446680518552,0.82922482201178016,1.0775329207060695,0.82073103376455847,1.0819659547995708,0.41140590772823504,{"$f":"+Spectre!C2596*N2597/L2597","v":0.67741895063736124},0.69270833446648028]
[6396,0.63959999999999995,2.4444608712214992,1.0083484951667772,5.3089288067671866E-2,0.99204826785972289,8.667992106587339E-3,0.11600005016098022,0.17775733033523944,0.72081395818631955,0.84897923462293534,0.82928598808578491,1.0776124027194161,0.82079490193601257,1.0820501519168548,0.41181311445932511,{"$f":"+Spectre!C2597*N2598/L2598","v":0.67574412259295979},0.69099570545888678]
[6397,0.63970000000000005,2.443696678691202,1.0083440262563568,5.3055864345177291E-2,0.99206013907464441,8.654999865044621E-3,0.11597647715346952,0.17768734136369144,0.72090687573237033,0.84903396347735138,0.82934711120960247,1.0776918289213115,0.82085872551862216,1.0821342902528699,0.41222000690168681,{"$f":"+Spectre!C2598*N2599/L2599","v":0.67384884557511815},0.68905765193211954]
[6398,{"$f":"+A2600/10000","v":0.63980000000000004},{"$f":"+(1/B2600)^2","v":2.4429328444601266},{"$f":"0.23465+1.076*100/(146-C2600)+0.93161/(41-C2600)","v":1.0083395595026496},{"$f":"9.4977*0.001*C2600^2*D2600*EXP(-h/7.996/1000)","v":5.3022466960644055E-2},{"$f":"+EXP(-0.0168*EXP(-15*ABS(B2600-0.59)))","v":0.99207199263782808},{"$f":"-2.5*LOG(F2600)","v":8.6420270972552646E-3},{"$f":"2.5*LOG(EXP(AOD*(B2600/0.55)^(-1.3)))","v":0.11595291261995767},{"$f":"+E2600+G2600+H2600","v":0.177617406677857},{"$f":"10^(-0.4*I2600*ma)","v":0.72099973317229837},{"$f":"10^(-0.4*I2600)","v":0.84908865340624873},{"$f":"10^(-0.4*I2600*ma_ref)","v":0.82940819142422917},{"$f":"+L2600/M$1","v":1.0777711993650283},{"$f":"10^(-0.4*I2600*ma_target)","v":0.82092250455463189},{"$f":"+N2600/O$1","v":1.082218369863307},{"$f":"(O2600/M2600-1)*100","v":0.41262658539202857},{"$f":"+Spectre!C2599*N2600/L2600","v":0.67299316229451223},0.68818265583172755]
[6399,0.63990000000000002,2.4421693683043193,1.0083350949042578,5.2989095889133607E-2,0.99208382857530875,8.6290737740305733E-3,0.11592935655607532,0.1775475262192395,0.72109253055747824,0.8491433044474006,0.82946922877061691,1.0778505141037813,0.82098623908624069,1.0823023908037965,0.41303285026652592,{"$f":"+Spectre!C2600*N2601/L2601","v":0.67623812326431298},0.69150085575318609]
[6400,0.64,2.44140625,1.0083306324597843,5.295575110573493E-2,0.9920956469130835,8.6161398662255844E-3,0.1159058089574547,0.1774776999294152,0.72118526793924265,0.84919791663854038,0.82953022328967552,1.0779297731907305,0.82104992915560604,1.0823863531299145,0.41343880186111015,{"$f":"+Spectre!C2601*N2602/L2602","v":0.67980649117504066},0.69514976192842393]
[6401,0.6401,2.4406434893235636,1.008326172167834,5.2922432585564595E-2,0.9921074476771119,8.6032253447388216E-3,0.11588226981973199,0.17740792775003539,0.72127794536887868,0.84925249001735958,0.82959117502227131,1.0780089766789795,0.82111357480483949,1.0824702568971765,0.41384444051113523,{"$f":"+Spectre!C2602*N2603/L2603","v":0.6801370849601861},0.69548781723390019]
[6402,0.64019999999999999,2.4398810860515803,1.0083217140270122,5.2889140303766714E-2,0.99211923089331566,8.5903301805126363E-3,0.11585873913854622,0.17733820962282557,0.72137056289762991,0.84930702462150909,0.82965208400922719,1.0780881246215757,0.82117717607600937,1.082554102161041,0.41424976655159984,{"$f":"+Spectre!C2603*N2604/L2604","v":0.67691223925644883},0.69219018658119191]
[6403,0.64029999999999998,2.4391190399607949,1.0083172580359256,5.2855874235512849E-2,0.99213099658757875,8.5774543445331017E-3,0.11583521690953866,0.17726854548958459,0.72146312057669604,0.84936152048859881,0.82971295029132308,1.07816721707151,0.82124073301114009,1.0826378889769086,0.41465478031708081,{"$f":"+Spectre!C2604*N2605/L2605","v":0.67392054653517941},0.68913097118688349]
[6404,0.64039999999999997,2.4383573508281251,1.0083128041931824,5.2822634356002013E-2,0.99214274478574782,8.5645978078294979E-3,0.11581170312835452,0.17719893529218603,0.72155561845723215,0.84941597765619781,0.8297737739092953,1.0782462540817173,0.82130424565221216,1.082721617400122,0.41505948214177746,{"$f":"+Spectre!C2605*N2606/L2606","v":0.67120498886951374},0.68635412323191991]
[6405,0.64049999999999996,2.4375960184306642,1.0083083524973915,5.2789420640460653E-2,0.99215447551363212,8.5517605414744367E-3,0.11578819779064101,0.17712937897257608,0.72164805659035069,0.84947039616183495,0.82983455490383862,1.0783252357050783,0.82136771404116249,1.0828052874859664,0.41546387235931181,{"$f":"+Spectre!C2606*N2607/L2607","v":0.66839963283841664},0.68348545015736484]
[6406,0.64059999999999995,2.4368350425456784,1.0083039029471628,5.2756233064142545E-2,0.99216618879700302,8.538942516584342E-3,0.11576470089204864,0.17705987647277555,0.72174043502711915,0.84952477604299725,0.8298952933156033,1.0784041619944156,0.82143113821988412,1.0828888992896692,0.41586795130310605,{"$f":"+Spectre!C2607*N2608/L2608","v":0.66769571539951478},0.6827656452622628]
[6407,0.64070000000000005,2.4360744229506075,1.0082994555411073,5.2723071602328787E-2,0.99217788466159507,8.5261437043183397E-3,0.11574121242823103,0.17699042773487816,0.72183275381856149,0.84957911733713232,0.82995598918519775,1.0784830330024979,0.82149451823022634,1.0829724528664002,0.41627171930593843,{"$f":"+Spectre!C2608*N2609/L2609","v":0.67167363018959236},0.68683334181295963]
[6408,0.64080000000000004,2.4353141594230676,1.0082950102778381,5.2689936230327979E-2,0.9921895631331048,8.5133640758794683E-3,0.11571773239484445,0.17692103270105192,0.72192501301565726,0.84963342008164577,0.83001664255318619,1.0785618487820361,0.82155785411399462,1.0830559482712712,0.41667517670034293,{"$f":"+Spectre!C2609*N2610/L2610","v":0.67573760667714233},0.6909890424784827]
[6409,0.64090000000000003,2.4345542517408458,1.0082905671559685,5.26568269234758E-2,0.99220122423719215,8.500603602513224E-3,0.11569426078754819,0.1768516913135372,0.72201721266934327,0.84968768431390373,0.83007725346009131,1.0786406093856873,0.82162114591295143,1.0831393855593376,0.41707832381838728,{"$f":"+Spectre!C2610*N2611/L2611","v":0.67735686036008813},0.69264484280815575]
[6410,0.64100000000000001,2.4337946996819029,1.0082861261741127,5.2623743657135208E-2,0.99221286799947928,8.4878622555087518E-3,0.11567079760200452,0.17678240351464847,0.72210935283051125,0.84974191007123101,0.83013782194639241,1.0787193148660519,0.82168439366881474,1.0832227647855961,0.41748116099167287,{"$f":"+Spectre!C2611*N2612/L2612","v":0.6771785134363606},0.69246247058432553]
[6411,0.6411,2.4330355030243727,1.0082816873308871,5.2590686406696389E-2,0.9922244944455515,8.4751400061978729E-3,0.11564734283387829,0.17671316924677255,0.72220143355001032,0.84979609739091266,0.8301983480525259,1.0787979652756752,0.82174759742325998,1.083306086004987,0.41788368855144586,{"$f":"+Spectre!C2612*N2613/L2613","v":0.67703450412030752},0.69231521096990678]
[6412,0.64119999999999999,2.4322766615465623,1.0082772506249083,5.2557655147576703E-2,0.99223610360095682,8.4624368259555681E-3,0.11562389647883768,0.17664398845236995,0.72229345487864505,0.84985024631019213,0.83025883181888571,1.0788765606670467,0.8218107572179183,1.0833893492723927,0.41828590682846389,{"$f":"+Spectre!C2613*N2614/L2614","v":0.67030517211524154},0.68543399756287793]
[6413,0.64129999999999998,2.4315181750269517,1.0082728160547945,5.2524649855220623E-2,0.99224769549120617,8.4497526861997251E-3,0.11560045853255353,0.17657486107397388,0.72238541686717617,0.84990435686627375,0.83031927328582278,1.0789551010926002,0.82187387309437776,1.0834725546426383,0.41868781615319595,{"$f":"+Spectre!C2614*N2615/L2615","v":0.66321019557573602},0.67817888700369511]
[6414,0.64139999999999997,2.4307600432441938,1.0082683836191646,5.2491670505099765E-2,0.99225927014177351,8.4370875583909995E-3,0.11557702899069958,0.17650578705419034,0.72247731956632144,0.84995842909632036,0.83037967249364608,1.0790335866047154,0.82193694509418291,1.083555702170492,0.41908941685548928,{"$f":"+Spectre!C2615*N2616/L2616","v":0.66153630304294486},0.67646721462226167]
[6415,0.64149999999999996,2.4300022659771132,1.0082639533166391,5.2458717072712734E-2,0.99227082757809582,8.4244414140328214E-3,0.11555360784895255,0.1764367663356981,0.72256916302675445,0.85001246303745503,0.8304400294826213,1.0791120172557152,0.82199997325883523,1.0836387919106649,0.41949070926499132,{"$f":"+Spectre!C2616*N2617/L2617","v":0.66735658857575431},0.68241886432700993]
[6416,0.64159999999999995,2.429244843004708,1.0082595251458391,5.2425789533585267E-2,0.99228236782557311,8.4118142246713806E-3,0.1155301951029922,0.17636779886124884,0.72266094729910435,0.85006645872676023,0.83050034429297137,1.079190393097867,0.8220629576297922,1.0837218239178101,0.41989169371081658,{"$f":"+Spectre!C2617*N2618/L2618","v":0.6728887927093099},0.68807593061911521]
[6417,0.64170000000000005,2.4284877741061468,1.0082550991053876,5.2392887863270031E-2,0.99229389090956854,8.3992059618955006E-3,0.11550679074850086,0.17629888457366638,0.72275267243395791,0.85012041620127843,0.8305606169648776,1.0792687141833843,0.82212589824846838,1.0838047982465244,0.42029237052167989,{"$f":"+Spectre!C2618*N2619/L2619","v":0.66863163316638929},0.68372268674579273]
[6418,0.64180000000000004,2.4277310590607728,1.0082506751939078,5.2360012037346713E-2,0.99230539685540842,8.3866165973366276E-3,0.11548339478116393,0.17623002341584726,0.72284433848185747,0.85017433549801169,0.8306208475384782,1.0793469805644245,0.82218879515623566,1.0838877149513484,0.42069274002596302,{"$f":"+Spectre!C2619*N2620/L2620","v":0.66067592931431773},0.67558742221017265]
[6419,0.64190000000000003,2.4269746976480988,1.0082462534100249,5.2327162031421896E-2,0.99231688568838239,8.3740461026685815E-3,0.11546000719666974,0.17616121533076023,0.7229359454933022,0.85022821665392168,0.830681036053869,1.0794251922930902,0.82225164839442155,1.0839705740867633,0.421092802551426,{"$f":"+Spectre!C2620*N2621/L2621","v":0.65451373236209831},0.66928614412604148]
[6420,0.64200000000000002,2.42621868964781,1.0082418337523644,5.2294337821129064E-2,0.99232835743374326,8.3614944496077995E-3,0.1154366279907095,0.17609246026144637,0.72302749351874707,0.85028205970593029,0.83074118255110341,1.0795033494214283,0.82231445800431158,1.0840533757071962,0.42149255842574007,{"$f":"+Spectre!C2621*N2622/L2622","v":0.66192961256427751},0.67686940116161931]
[6421,0.6421,2.4254630348397632,1.0082374162195538,5.2261539382128568E-2,0.99233981211670719,8.3489616099130717E-3,0.11541325715897702,0.17602375815101867,0.72311898260860397,0.85033586469091926,0.83080128707019307,1.0795814520014322,0.82237722402714719,1.0841361198670154,0.42189200797579929,{"$f":"+Spectre!C2622*N2623/L2623","v":0.66903257924686699},0.68413268220186496]
[6422,0.64219999999999999,2.424707733003987,1.0082330008102207,5.2228766690107592E-2,0.99235124976245381,8.3364475553854237E-3,0.11538989469716951,0.17595510894266253,0.72321041281324105,0.85038963164573034,0.83086134965110625,1.0796595000850382,0.82243994650412755,1.0842188066205334,0.42229115152843111,{"$f":"+Spectre!C2623*N2624/L2624","v":0.67092869227465179},0.68607159060736678]
[6423,0.64229999999999998,2.4239527839206798,1.0082285875229944,5.2196019720780057E-2,0.99236267039612591,8.3239522578684652E-3,0.11536654060098657,0.17588651257963508,0.72330178418298297,0.85044336060716486,0.83092137033377,1.0797374937241295,0.82250262547640818,1.0843014360220053,0.42268998940977465,{"$f":"+Spectre!C2624*N2625/L2625","v":0.6682862420252722},0.683369500107188]
[6424,0.64239999999999997,2.4231981873702133,1.0082241763565056,5.2163298449886805E-2,0.99237407404283029,8.3114756892474217E-3,0.11534319486613091,0.17581796900526514,0.72339309676811081,0.85049705161198441,0.83098134915806854,1.0798154329705332,0.82256526098510196,1.0843840081256302,0.42308852194574698,{"$f":"+Spectre!C2625*N2626/L2626","v":0.66596315076930868},0.68099397655087468]
[6425,0.64249999999999996,2.4224439431331284,1.0082197673093853,5.2130602853195228E-2,0.99238546072763678,8.2990178214502105E-3,0.11531985748830836,0.1757494781629538,0.72348435061886207,0.85055070469691074,0.83104128616384387,1.0798933178760222,0.8226278530712785,1.0844665229855501,0.42348674946175446,{"$f":"+Spectre!C2626*N2627/L2627","v":0.66663551738973947},{"$f":"+Q2627/R$1","v":0.68168151852375758}]
[6426,0.64259999999999995,2.4216900509901373,1.0082153603802666,5.2097932906499535E-2,0.99239683047557892,8.286578626446708E-3,0.11529652846322715,0.1756810399961734,0.72357554578543071,0.85060431989862539,0.83110118139089617,1.0799711484923145,0.82269040177596486,1.0845489806558504,0.42388467228284821,{"$f":"+Spectre!C2627*N2628/L2628","v":0.66796494399116446},0.68304095035837353]
[6427,0.64270000000000005,2.4209365107221217,1.008210955567783,5.206528858562047E-2,0.99240818331165415,8.274158076248506E-3,0.11527320778659846,0.17561265444846744,0.72366668231796805,0.85065789725377072,0.83116103487898341,1.0800489248710734,0.82275290714014526,1.0846313811905608,0.42428229073367962,{"$f":"+Spectre!C2628*N2629/L2629","v":0.66783259134257056},0.68290561050305432]
[6428,0.64280000000000004,2.4201833221101361,1.0082065528705688,5.2032669866405562E-2,0.99241951926082328,8.261756142909497E-3,0.11524989545413672,0.17554432146345178,0.72375776026658079,0.85071143679894834,0.83122084666782137,1.0801266470639075,0.82281536920476051,1.0847137246436531,0.42467960513838943,{"$f":"+Spectre!C2629*N2630/L2630","v":0.66273173601275637},0.67768962858145976]
[6429,0.64290000000000003,2.4194304849354036,1.0082021522872606,5.2000076724728846E-2,0.99243083834801105,8.2493727985252802E-3,0.11522659146155889,0.17547604098481301,0.72384877968133288,0.850764938570721,0.83128061679708409,1.080204315122371,0.82287778801070921,1.0847960110690438,0.42507661582082967,{"$f":"+Spectre!C2630*N2631/L2631","v":0.65776014883424072},0.67260583240061145]
[6430,0.64300000000000002,2.4186779989793177,1.008197753816495,5.1967509136490911E-2,0.99244214059810587,8.2370080152333724E-3,0.11520329580458495,0.17540781295630925,0.72393974061224442,0.85081840260561103,0.83134034530640311,1.0802819290979631,0.8229401635988467,1.0848782405205923,0.42547332310438613,{"$f":"+Spectre!C2631*N2632/L2632","v":0.657127135922981},0.67195853235232972]
[6431,0.6431,2.4179258640234416,1.0081933574569104,5.1934967077618889E-2,0.9924534260359601,8.2246617652129844E-3,0.11518000847893736,0.17533963732176924,0.72403064310929344,0.85087182894010172,0.83140003223536885,1.0803594890421291,0.82300249600998654,1.0849604130521031,0.42586972731208927,{"$f":"+Spectre!C2632*N2633/L2633","v":0.6587767239561888},0.67364535168025685]
[6432,0.64319999999999999,2.4171740798495089,1.0081889632071457,5.1902450524066418E-2,0.99246469468638998,8.2123340206849953E-3,0.11515672948034218,0.17527151402509361,0.72412148722241276,0.850925217610636,0.83145967762352913,1.0804369950062598,0.82306478528489857,1.0850425287173227,0.42626582876645891,{"$f":"+Spectre!C2633*N2634/L2634","v":0.66036130697348727},0.67526569882540821]
[6433,0.64329999999999998,2.4164226462394223,1.0081845710658417,5.1869959451813587E-2,0.99247594657417559,8.2000247539120719E-3,0.11513345880452762,0.17520344301025328,0.72421227300149338,0.85097856865361776,0.83151928151039023,1.080514447041691,0.82312703146431065,1.0851245875699427,0.42666162778977057,{"$f":"+Spectre!C2634*N2635/L2635","v":0.66194705248171226},0.67688723469897183]
[6434,0.64339999999999997,2.4156715629752532,1.0081801810316393,5.1837493836866845E-2,0.99248718172406125,8.187733937198181E-3,0.11511019644722503,0.17513542422129005,0.72430300049638241,0.85103188210541103,0.8315788439354167,1.0805918451997047,0.82318923458890791,1.0852065896635976,0.42705712470372248,{"$f":"+Spectre!C2635*N2636/L2636","v":0.663675225654209},0.67865441283720296]
[6435,0.64349999999999996,2.4149208298392453,1.0081757931031814,5.1805053655259198E-2,0.99249840016075486,8.1754615428893031E-3,0.11508694240416867,0.17506745760231718,0.72439366975688335,0.85108515800234052,0.83163836493803078,1.0806691895315286,0.82325139469933262,1.0852885350518664,0.42745231982974641,{"$f":"+Spectre!C2636*N2637/L2637","v":0.66110884589224461},0.6760301097396203]
[6436,0.64359999999999995,2.4141704466138076,1.0081714072791115,5.177263888304983E-2,0.99250960190892901,8.1632075433722175E-3,0.11506369667109585,0.17499954309751792,0.72448428083275695,0.85113839638069122,0.83169784455761364,1.0807464800883357,0.82331351183618484,1.085370423788272,0.42784721348880783,{"$f":"+Spectre!C2637*N2638/L2638","v":0.6510674271171123},0.66576205557777868]
[6437,0.64370000000000005,2.41342041308152,1.0081670235580742,5.1740249496324331E-2,0.99252078699322011,8.1509719110754615E-3,0.11504045924374598,0.17493168065114578,0.72457483377372101,0.85119159727670912,0.83175728283350481,1.0808237169212458,0.82337558604002281,1.0854522559262818,0.42824180600149475,{"$f":"+Spectre!C2638*N2639/L2639","v":0.64136095016259065},0.65583650289228357]
[6438,0.64380000000000004,2.4126707290251335,1.0081626419387157,5.170788547119471E-2,0.99253195543822859,8.1387546184690865E-3,0.11501723011786195,0.17486387020752575,0.72466532862944921,0.85124476072660049,0.83181667980500151,1.0809009000813239,0.8234376173513609,1.0855340315193058,0.42863609768790667,{"$f":"+Spectre!C2639*N2640/L2640","v":0.64225578564376307},0.65675153486061166]
[6439,0.64390000000000003,2.411921394227563,1.0081582624196825,5.1675546783798987E-2,0.99254310726851946,8.1265556380640414E-3,0.11499400928918957,0.17479611171105258,0.72475576544957265,0.85129788676653195,0.83187603551135969,1.0809780296195803,0.82349960581067216,1.0856157506206998,0.42903008886792104,{"$f":"+Spectre!C2640*N2641/L2641","v":0.64653112066116791},0.66112336442990005]
[6440,0.64400000000000002,2.4111724084718955,1.0081538849996228,5.1643233410301581E-2,0.99255424250862201,8.1143749424125236E-3,0.1149707967534771,0.1747284051061912,0.72484614428367933,0.8513509754326315,0.83193534999179408,1.0810551055869733,0.82356155145838716,1.0856974132837627,0.4294237798607714,{"$f":"+Spectre!C2641*N2642/L2642","v":0.65010828101303375},0.66478126149216721]
[6441,0.64410000000000001,2.4104237715413848,1.008149509677186,5.1610945326893073E-2,0.99256536118302963,8.1022125041081069E-3,0.11494759250647592,0.17466075033747711,0.72493646518131361,0.85140402676098736,0.83199462328547724,1.0811321280344046,0.82362345433489415,1.0857790195617385,0.42981717098560246,{"$f":"+Spectre!C2642*N2643/L2643","v":0.65103706868477995},0.66573101195392059]
[6442,0.64419999999999999,2.4096754832194538,1.0081451364510219,5.1578682509790183E-2,0.99257646331620031,8.0900682957852372E-3,0.11492439654393982,0.17459314734951525,0.72502672819197778,0.85145704078764906,0.8320538554315412,1.0812090970127248,0.82368531448053872,1.0858605695078145,0.43021026256080397,{"$f":"+Spectre!C2643*N2644/L2644","v":0.65182754417817745},0.66653932852367814]
[6443,0.64429999999999998,2.4089275432896931,1.0081407653197823,5.1546444935235816E-2,0.99258754893255641,8.077942290119473E-3,0.11490120886162601,0.17452559608698132,0.7251169333651295,0.85151001754862599,0.83211304646907536,1.0812860125727284,0.82374713193562488,1.0859420631751231,0.43060305490463247,{"$f":"+Spectre!C2644*N2645/L2645","v":0.65359064230390052},0.6683422198732949]
[6444,0.64439999999999997,2.4081799515358604,1.0081363962821188,5.1514232579498845E-2,0.99259861805648486,8.0658344598272345E-3,0.11487802945529431,0.17445809649462038,0.72520708075018481,0.85156295707988949,0.83217219643712881,1.0813628747651571,0.82380890674041396,1.0860235006167411,0.43099554833487819,{"$f":"+Spectre!C2645*N2646/L2646","v":0.65623572215330594},0.67104699932372003]
[6445,0.64449999999999996,2.4074327077418824,1.0081320293366858,5.1482045418874363E-2,0.99260967071233708,8.0537447776659228E-3,0.11485485832070701,0.17439064851724728,0.72529717039651609,0.85161585941737117,0.83223130537470857,1.0814396836406992,0.82387063893512535,1.0861048818856891,0.43138774316884287,{"$f":"+Spectre!C2646*N2647/L2647","v":0.65865314499216854},0.67351898353206585]
[6446,0.64459999999999995,2.4066858116918532,1.0081276644821373,5.1449883429683402E-2,0.99262070692442916,8.0416732164336636E-3,0.11483169545362977,0.17432325209974683,0.72538720235345255,0.85166872459696386,0.83229037332078071,1.0815164392499883,0.8239323285599367,1.0861862070349333,0.43177963972358402,{"$f":"+Spectre!C2647*N2648/L2648","v":0.65412162432955978},0.66888518619314763]
[6447,0.64470000000000005,2.4059392631700329,1.0081233017171292,5.1417746588272972E-2,0.99263172671704158,8.0296197489696727E-3,0.11480854084983064,0.17425590718707329,0.72547717667028055,0.85172155265452087,0.83234940031427007,1.0815931416436055,0.82399397565498311,1.0862674761173836,0.4321712383156262,{"$f":"+Spectre!C2648*N2649/L2649","v":0.64823249796439564},0.66286314191458517]
[6448,0.64480000000000004,2.4051930619608517,1.0081189410403182,5.1385634871016168E-2,0.99264273011441984,8.0175843481535072E-3,0.11478539450508086,0.17418861372425054,0.72556709339624337,0.85177434362585724,0.8324083863940599,1.0816697908720774,0.82405558026035775,1.0863486891858944,0.43256253926116095,{"$f":"+Spectre!C2649*N2650/L2650","v":0.64416323860963631},0.65870203914724257]
[6449,0.64490000000000003,2.4044472078489045,1.0081145824503621,5.1353548254311911E-2,0.99265371714077411,8.0055669869054415E-3,0.1147622564151541,0.17412137165637145,0.72565695258054197,0.85182709754674868,0.83246733159899255,1.0817463869858774,0.824117142416112,1.0864298462932658,0.43295354287598009,{"$f":"+Spectre!C2650*N2651/L2651","v":0.64463363381404093},0.65918305119787612]
[6450,0.64500000000000002,2.4037017006189529,1.00811022594592,5.1321486714585009E-2,0.99266468782027928,7.993567638186443E-3,0.11473912657582735,0.17405418092859881,0.72574675427233337,0.85187981445293204,0.83252623596786923,1.0818229300354258,0.82417866216225522,1.0865109474922414,0.43334424947547578,{"$f":"+Spectre!C2651*N2652/L2652","v":0.64510518283547613},0.65966524310725561]
[6451,0.64510000000000001,2.4029565400559281,1.0081058715256517,5.1289450228286237E-2,0.99267564217707505,7.9815862749980579E-3,0.11471600498288009,0.1739870414861644,0.72583649852073195,0.85193249438010499,0.8325850995394497,1.081899420071089,0.82424013953875463,1.0865919928355103,0.4337346593746183,{"$f":"+Spectre!C2652*N2653/L2653","v":0.64452055861607738},0.65906742388633266]
[6452,0.6452,2.4022117259449245,1.0081015191882186,5.1257438771892094E-2,0.99268658023526601,7.9696228703822741E-3,0.11469289163209452,0.17391995327436888,0.72592618537481002,0.851985137363927,0.8326439223524531,1.0819758571431799,0.8243015745855361,1.0866729823757062,0.43412477288804485,{"$f":"+Spectre!C2653*N2654/L2654","v":0.6433158871555581},0.6578355629231718]
[6453,0.64529999999999998,2.4014672580712055,1.0080971689322826,5.1225452321904959E-2,0.99269750201892204,7.9576773974211548E-3,0.11466978651925561,0.17385291623858173,0.72601581488359634,0.85203774344001881,0.83270270444555761,1.0820522413019589,0.82436296734248393,1.0867539161654085,0.43451459032999296,{"$f":"+Spectre!C2654*N2655/L2655","v":0.64216427280480426},0.65665795657172876]
[6454,0.64539999999999997,2.4007231362202002,1.0080928207565072,5.1193490854852974E-2,0.99270840755207757,7.9457498292375573E-3,0.11464668964015159,0.17378593032424211,0.72610538709607708,0.85209031264396173,0.83276144585740008,1.0821285725976326,0.82442431784943959,1.0868347942571399,0.43490411201416723,{"$f":"+Spectre!C2655*N2656/L2656","v":0.6412684857183375},0.65574195152032133]
[6455,0.64549999999999996,2.3999793601775026,1.0080884746595564,5.1161554347289938E-2,0.99271929685873217,7.9338401389945218E-3,0.1146236009905731,0.17371899547685757,0.72619490206119497,0.85214284501129889,0.83282014662657655,1.0822048510803546,0.82448562614620347,1.0869156167033693,0.43529333825402805,{"$f":"+Spectre!C2656*N2657/L2657","v":0.64039335564658106},0.6548470697136084]
[6456,0.64559999999999995,2.3992359297288752,1.0080841306400963,5.11296427757955E-2,0.99273016996285079,7.9219482998950236E-3,0.1146005205663137,0.17365211164200423,0.726284359827851,0.85219534057753488,0.83287880679164206,1.0822810768002249,0.82454689227253475,1.0869963835565111,0.43568226936268051,{"$f":"+Spectre!C2657*N2658/L2658","v":0.63955616446700025},0.65399098308200199]
[6457,0.64570000000000005,2.3984928446602436,1.0080797886967925,5.1097756116974813E-2,0.99274102688836319,7.9100742851825681E-3,0.1145774483631698,0.17358527876532717,0.72637376044490265,0.852247799378135,0.83293742639111112,1.0823572498072911,0.82460811626815,1.0870770948689232,0.43607090565267459,{"$f":"+Spectre!C2658*N2659/L2659","v":0.63877628252888019},0.65319349916466052]
[6458,0.64580000000000004,2.3977501047577019,1.0080754488283132,5.106589434745884E-2,0.99275186765916446,7.8982180681405802E-3,0.11455438437694057,0.17351849679254,0.72646310396116465,0.8523002214485268,0.83299600546345687,1.0824333701515467,0.82466929817272483,1.08715775069291,0.43645924743633824,{"$f":"+Spectre!C2659*N2660/L2660","v":0.63804283739841405},0.65244350013633434]
[6459,0.64590000000000003,2.3970077098075082,1.0080711110333271,5.1034057443904067E-2,0.99276269229911485,7.8863796220926471E-3,0.11453132860342782,0.17345176566942455,0.72655239042540931,0.85235260682409875,0.83305454404711221,1.0825094378829336,0.82473043802589308,1.0872383510807204,0.43684729502544428,{"$f":"+Spectre!C2660*N2661/L2661","v":0.63624676831651739},0.6506068936742081]
[6460,0.64600000000000002,2.396265659596085,1.0080667753105037,5.100224538299248E-2,0.99277350083204008,7.8745589204021332E-3,0.1145082810384363,0.17338508534183092,0.72664161988636644,0.85240495554020146,0.83311304218046933,1.0825854530513404,0.82479153586724752,1.0873188960845495,0.4372350487314991,{"$f":"+Spectre!C2661*N2662/L2662","v":0.6341303203588311},0.64844267736704031]
[6461,0.64610000000000001,2.3955239539100233,1.0080624416585138,5.0970458141431786E-2,0.99278429328173101,7.8627559364725479E-3,0.11448524167777384,0.17331845575567817,0.72673079239272242,0.85245726763214602,0.83317149990187911,1.0826614157066015,0.8248525917363384,1.0873993857565363,0.43762250886558718,{"$f":"+Spectre!C2662*N2663/L2663","v":0.63196200830918403},0.6462254263924383]
[6462,{"$f":"+A2664/10000","v":0.6462},{"$f":"+(1/B2664)^2","v":2.3947825925360755},{"$f":"0.23465+1.076*100/(146-C2664)+0.93161/(41-C2664)","v":1.0080581100760295},{"$f":"9.4977*0.001*C2664^2*D2664*EXP(-h/7.996/1000)","v":5.093869569595507E-2},{"$f":"+EXP(-0.0168*EXP(-15*ABS(B2664-0.59)))","v":0.99279506967194397},{"$f":"-2.5*LOG(F2664)","v":7.8509706437471793E-3},{"$f":"2.5*LOG(EXP(AOD*(B2664/0.55)^(-1.3)))","v":0.11446221051725036},{"$f":"+E2664+G2664+H2664","v":0.17325187685695262},{"$f":"10^(-0.4*I2664*ma)","v":0.72681990799312191},{"$f":"10^(-0.4*I2664)","v":0.85250954313520633},{"$f":"10^(-0.4*I2664*ma_ref)","v":0.83322991724965223},{"$f":"+L2664/M$1","v":1.0827373258984998},{"$f":"10^(-0.4*I2664*ma_target)","v":0.82491360567267569},{"$f":"+N2664/O$1","v":1.0874798201487663},{"$f":"(O2664/M2664-1)*100","v":0.43800967573839333},{"$f":"+Spectre!C2663*N2664/L2664","v":0.62956879528400278},0.64377819841463069]
[6463,0.64629999999999999,2.3940415752611623,1.0080537805617236,5.0906958023320958E-2,0.99280583002640088,7.8392030157089544E-3,0.1144391875526793,0.1731853485917092,0.72690896673616612,0.85256178208461719,0.83328829426205897,1.0828131836767658,0.82497457771572724,1.0875601993132702,0.43839654966015829,{"$f":"+Spectre!C2664*N2665/L2665","v":0.6273017212498585},0.64145995639198472]
[6464,0.64639999999999997,2.3933009018723657,1.0080494531142701,5.0875245100313451E-2,0.99281657436878878,7.827453025880924E-3,0.11441617277987637,0.17311887090607075,0.72699796867041444,0.85261398451557524,0.83334663097732864,1.082888989091076,0.82503550790491975,1.0876405233020237,0.4387831309408563,{"$f":"+Spectre!C2665*N2666/L2666","v":0.62108594215738622},0.63510388681568053]
[6465,0.64649999999999996,2.3925605721569356,1.0080451277323441,5.0843556903742072E-2,0.99282730272276054,7.8157206478255276E-3,0.11439316619466042,0.17305244374622802,0.72708691384438262,0.85266615046323857,0.8334049274336498,1.0829647421910544,0.82509639627963849,1.0877207921669485,0.43916941989003977,{"$f":"+Spectre!C2666*N2667/L2667","v":0.61086596532177106},0.62465324452788484]
[6466,0.64659999999999995,2.391820585902285,1.0080408044146218,5.0811893410441671E-2,0.9928380151119347,7.8040058551447121E-3,0.11437016779285275,0.17298606705843914,0.72717580230654533,0.85271827996272798,0.83346318366917149,1.0830404430262741,0.82515724287922798,1.0878010059599119,0.43955541681672816,{"$f":"+Spectre!C2667*N2668/L2668","v":0.60058642821458996},0.61414169768984295]
[6467,0.64670000000000005,2.3910809428959889,1.0080364831597806,5.078025459727236E-2,0.99284871155989496,7.7923086214805298E-3,0.11434717757027779,0.17291974078903069,0.72726463410533337,0.85277037304912484,0.83352139972200112,1.083116091646253,0.8252180477429909,1.0878811647327269,0.43994112202980773,{"$f":"+Spectre!C2668*N2669/L2669","v":0.60628190408778027},0.61996572077393242]
[6468,0.64680000000000004,2.3903416429257929,1.0080321639664986,5.0748640441119847E-2,0.99285939209019125,7.7806289205139103E-3,0.11432419552276225,0.17285346488439601,0.72735340928913594,0.85282242975747358,0.83357957563020701,1.0831916881004591,0.82527881091018918,1.087961268537152,0.440326535837543,{"$f":"+Spectre!C2669*N2670/L2670","v":0.61422327324403359},0.62808632707884304]
[6469,0.64690000000000003,2.3896026857796007,1.0080278468334551,5.071705091889487E-2,0.99287005672633877,7.7689667259657619E-3,0.11430122164613618,0.17278723929099682,0.72744212790629892,0.85287445012277929,0.83363771143181553,1.0832672324383057,0.82533953242004288,1.0880413174248911,0.44071165854795424,{"$f":"+Spectre!C2670*N2671/L2671","v":0.62124037619976546},0.63526180644308505]
[6470,0.64700000000000002,2.3888640712454818,1.0080235317593309,5.0685486007533503E-2,0.99288070549181884,7.7573220115959816E-3,0.11427825593623211,0.1727210639553616,0.72753079000512644,0.85292643418000968,0.83369580716481395,1.0833427247091552,0.82540021231173188,1.0881213114475945,0.44109649046863986,{"$f":"+Spectre!C2671*N2672/L2672","v":0.62530667819264352},0.63941988510072234]
[6471,0.64710000000000001,2.3881257991116698,1.008019218742807,5.0653945683997052E-2,0.99289133841007848,7.7456947512039411E-3,0.11425529838888547,0.17265493882408647,0.72761939563387978,0.85297838196409448,0.83375386286714859,1.0834181649623165,0.82546085062439412,1.0882012506568579,0.44148103190679855,{"$f":"+Spectre!C2672*N2673/L2673","v":0.6294123994898323},0.64361827275858652]
[6472,0.6472,2.3873878691665613,1.0080149077825664,5.0622429925272043E-2,0.99290195550453042,7.7340849186284776E-3,0.11423234899993395,0.17258886384383448,0.72770794484077839,0.85303029350992521,0.83381187857672634,1.0834935532470478,0.82552144739712763,1.0882811351042239,0.44186528316929596,{"$f":"+Spectre!C2673*N2674/L2674","v":0.63070661655102178},0.64494170037166287]
[6473,0.64729999999999999,2.3866502811987158,1.0080105988772927,5.0590938708370073E-2,0.99291255679855361,7.7224924877472784E-3,0.11420940776521904,0.17252283896133638,0.72779643767399838,0.85308216885235533,0.83386985433141303,1.0835688896125539,0.82558200266898807,1.0883609648411794,0.44224924456246484,{"$f":"+Spectre!C2674*N2675/L2675","v":0.63004544169452814},0.64426560276145883]
[6474,0.64739999999999998,2.3859130349968591,1.0080062920256703,5.0559472010328045E-2,0.99292314231549283,7.7109174324773702E-3,0.11418647468058359,0.17245686412338901,0.72788487418167491,0.8531340080262011,0.83392779016903495,1.0836441741079876,0.82564251647899145,1.0884407399191589,0.44263291639246027,{"$f":"+Spectre!C2675*N2676/L2676","v":0.62949595019659077},0.64370370920949738]
[6475,0.64749999999999996,2.3851761303498757,1.0080019872263848,5.0528029808207746E-2,0.99293371207865866,7.6993597267750995E-3,0.11416354974187473,0.17239093927685759,0.72797325441189886,0.85318581106623959,0.83398568612737722,1.0837194067824489,0.8257029888661116,1.0885204603895418,0.44301629896497108,{"$f":"+Spectre!C2676*N2677/L2677","v":0.62890590989308182},0.64310035166314106]
[6476,0.64759999999999995,2.3844395670468166,1.0079976844781238,5.0496612079096226E-2,0.99294426611132824,7.6878193446352858E-3,0.11414063294494114,0.17232506436867265,0.72806157841272079,0.85323757800721145,0.83404354224418642,1.0837945876849873,0.82576341986928259,1.0886001263036542,0.44339939258524197,{"$f":"+Spectre!C2677*N2678/L2678","v":0.62849870252415141},0.6426839536009834]
[6477,0.64770000000000005,2.3837033448768934,1.0079933837795743,5.0465218800105419E-2,0.99295480443674433,7.6762962600923045E-3,0.11411772428563516,0.17225923934583287,0.7281498462321474,0.85328930888381826,0.83410135855716783,1.083869716864599,0.8258238095273972,1.0886797377127688,0.44378219755822901,{"$f":"+Spectre!C2678*N2679/L2679","v":0.62510642441805087},0.63921511158717037]
[6478,0.64780000000000004,2.3829674636294822,1.0079890851294255,5.0433849948372397E-2,0.99296532707811602,7.6647904472192333E-3,0.1140948237598108,0.17219346415540243,0.72823805791814422,0.85334100373072508,0.83415913510398743,1.0839447943702285,0.82588415787930725,1.0887592946681035,0.44416471418844417,{"$f":"+Spectre!C2679*N2680/L2680","v":0.61730973996975591},0.63124245553221703]
[6479,0.64790000000000003,2.3822319230941211,1.0079847885263677,5.0402505501059146E-2,0.99297583405861878,7.6533018801278434E-3,0.11407193136332602,0.17212773874451301,0.72832621351863391,0.8533926625825583,0.8342168719222709,1.0840198202507687,0.82594446496382412,1.0888387972208231,0.44454694278002194,{"$f":"+Spectre!C2680*N2681/L2681","v":0.60965644453994761},0.62341642479396497]
[6480,0.64800000000000002,2.3814967230605091,1.0079804939690915,5.0371185435352545E-2,0.9929863254013942,7.6418305329688371E-3,0.11404904709204076,0.17206206306036215,0.7284143130814974,0.85344428547390705,0.83427456904960406,1.0840947945550603,0.82600473081971837,1.0889182454220387,0.44492888363678595,{"$f":"+Spectre!C2681*N2682/L2682","v":0.61093916119743152},0.62472809243857708]
[6481,0.64810000000000001,2.3807618633185088,1.0079762014562892,5.0339889728464461E-2,0.99299680112955002,7.6303763799318424E-3,0.11402617094181788,0.1719964370502142,0.72850235665457286,0.85349587243932279,0.834332226523533,1.0841697173318925,0.82606495548571979,1.0889976393228076,0.44531053706207135,{"$f":"+Spectre!C2682*N2683/L2683","v":0.61628151324707681},0.63019102167455654]
[6482,0.6482,2.3800273436581456,1.0079719109866541,5.030861835763166E-2,0.99300726126616057,7.6189393952449218E-3,0.11400330290852315,0.17193086066139973,0.72859034428565639,0.85354742351331947,0.83438984438156372,1.0842445886300021,0.82612513900051776,1.0890769789741339,0.44569190335899123,{"$f":"+Spectre!C2683*N2684/L2684","v":0.62151458691257266},0.6355422061071081]
[6483,0.64829999999999999,2.3792931638696055,1.0079676225588798,5.027737130011567E-2,0.99301770583426652,7.6075195531748081E-3,0.11398044298802507,0.17186533384131553,0.72867827602250257,0.85359893873037307,0.83444742266116267,1.0843194084980747,0.8261852814027606,1.0891562644269674,0.44607298283005914,{"$f":"+Spectre!C2684*N2685/L2685","v":0.62770476763260541},0.64187209955426661]
[6484,0.64839999999999998,2.3785593237432363,1.007963336171662,5.0246148533202882E-2,0.99302813485687491,7.5961168280268953E-3,0.11395759117619439,0.17179985653742416,0.72876615191282335,0.85365041812492271,0.83450496139975661,1.0843941769847445,0.82624538273105708,1.0892354957322061,0.44645377577767764,{"$f":"+Spectre!C2685*N2686/L2686","v":0.63411578996413309},0.64842781902051649]
[6485,0.64849999999999997,2.3778258230695477,1.0079590518236969,5.0214950034204495E-2,0.99303854835695926,7.5847311941451175E-3,0.11393474746890501,0.17173442869725464,0.72885397200428859,0.85370186173136975,0.83456246063473238,1.0844688941385936,0.82630544302397435,1.0893146729406928,0.44683428250362756,{"$f":"+Spectre!C2686*N2687/L2687","v":0.6373374686430302},0.65172221116845575]
[6486,0.64859999999999995,2.3770926616392112,1.0079547695136819,5.0183775780456442E-2,0.99304894635745977,7.5733626259116976E-3,0.11391191186203398,0.17166905026840212,0.72894173634452608,0.8537532695840776,0.8346199204034368,1.0845435600081523,0.8263654623200396,1.0893937961032174,0.44721450330944545,{"$f":"+Spectre!C2687*N2688/L2688","v":0.63752323146755463},0.65191216667038121]
[6487,0.64870000000000005,2.3763598392430585,1.0079504892403153,5.0152625749319349E-2,0.99305932888128323,7.5620110977472604E-3,0.11388908435146017,0.17160372119852679,0.72902944498112199,0.85380464171737358,0.8346773407431779,1.0846181746419004,0.82642544065773982,1.0894728652705177,0.44759443849631264,{"$f":"+Spectre!C2688*N2689/L2689","v":0.63782004149244242},0.65221567571422989]
[6488,0.64880000000000004,2.3756273556720853,1.0079462110022965,5.0121499918178665E-2,0.99306969595130279,7.5506765841110721E-3,0.11386626493306601,0.17153844143535574,0.72911709796161972,0.85385597816554593,0.8347347216912232,1.0846927380882647,0.82648537807552092,1.089551880493276,0.44797408836489971,{"$f":"+Spectre!C2689*N2690/L2690","v":0.63878782121736355},0.65320529828199214]
[6489,0.64890000000000003,2.3748952107174457,1.0079419347983261,5.0090398264444384E-2,0.99308004759035851,7.5393590595004244E-3,0.11384345360273604,0.17147321092668083,0.72920469533352106,0.85390727896284691,0.83479206328480138,1.0847672503956223,0.82654527461178884,1.0896308418221234,0.44835345321565523,{"$f":"+Spectre!C2690*N2691/L2691","v":0.63993492592964163},{"$f":"+Q2691/R$1","v":0.65437829321216523}]
[6490,0.64900000000000002,2.3741634041704551,1.0079376606271053,5.0059320765551162E-2,0.99309038382125714,7.5280584984508767E-3,0.11382065035635786,0.17140802962035989,0.72929223714428593,0.85395854414349115,0.83484936556110123,1.0848417116122977,0.82660513030490956,1.0897097493076373,0.44873253334853924,{"$f":"+Spectre!C2691*N2692/L2692","v":0.6408525220414022},0.65531659951979448]
[6491,0.64910000000000001,2.3734319358225902,1.0079333884873372,5.0028267398958257E-2,0.99310070466677236,7.5167748755360017E-3,0.11379785518982166,0.17134289746431591,0.72937972344133262,0.85400977374165576,0.83490662855727238,1.084916121786565,0.82666494519320866,1.0897886030003421,0.44911132906324536,{"$f":"+Spectre!C2692*N2693/L2693","v":0.64081799430109387},0.65528129248644473]
[6492,0.6492,2.3727008054654881,1.007929118377725,4.9997238142149542E-2,0.99311101014964431,7.505508165367868E-3,0.11377506809902049,0.17127781440653789,0.72946715427203646,0.854060967791481,0.83496385231042447,1.0849904809666462,0.82672471931497082,1.0898674029507083,0.44948984065897868,{"$f":"+Spectre!C2693*N2694/L2694","v":0.64101139726286438},0.65547906056394378]
[6493,0.64929999999999999,2.3719700128909453,1.0079248502969733,4.9966232972633313E-2,0.99312130029258039,7.4942583425961842E-3,0.11375228907984988,0.17121278039507937,0.72955452968373236,0.85411212632707001,0.83502103685762852,1.085064789200713,0.82678445270844148,1.0899461492091549,0.44986806843465565,{"$f":"+Spectre!C2694*N2695/L2695","v":0.6385890721579397},0.65300206344511502]
[6494,0.64939999999999998,2.3712395578909211,1.0079205842437882,4.9935251867942558E-2,0.99313157511825456,7.4830253819090217E-3,0.11372951812820857,0.17114779537806016,0.7296418497237116,0.85416324938248822,0.83507818223591501,1.0851390465368844,0.82684414541182505,1.0900248418260463,0.45024601268883746,{"$f":"+Spectre!C2695*N2696/L2696","v":0.63458738930950354},0.64891006238964521]
[6495,0.64949999999999997,2.370509440257532,1.0079163202168759,4.9904294805634575E-2,0.99314183464930805,7.4718092580320777E-3,0.11370675523999731,0.17108285930366396,0.72972911443922517,0.85421433699176486,0.83513528848227669,1.0852132530232308,0.82690379746328668,1.0901034808516956,0.45062367371955236,{"$f":"+Spectre!C2696*N2697/L2697","v":0.63144606754357768},0.64569784081472403]
[6496,0.64959999999999996,2.3697796597830578,1.0079120582149443,4.9873361763291255E-2,0.99315207890834889,7.4606099457291634E-3,0.11368400041112023,0.17101797212014064,0.72981632387748097,0.8542653891888915,0.83519235563366567,1.0852874087077693,0.82696340890095055,1.0901820663363619,0.451001051824651,{"$f":"+Spectre!C2697*N2698/L2698","v":0.63572694311982625},0.65007533599358103]
[6497,0.64970000000000006,2.3690502162599336,1.0079077982367024,4.9842452718518754E-2,0.99316230791795235,7.4494274198016984E-3,0.11366125363748349,0.17095313377580396,0.72990347808564693,0.8543164060078231,0.83524938372699564,1.0853615136384671,0.82702297976290207,1.0902605983302527,0.45137814730156212,{"$f":"+Spectre!C2698*N2699/L2699","v":0.64123193956845248},0.65570458052177716]
[6498,0.64980000000000004,2.3683211094807586,1.0079035402808603,4.9811567648947772E-2,0.99317252170066062,7.4382616550890835E-3,0.11363851491499669,0.17088834421903354,0.72999057711084703,0.85436738748247743,0.83530637279914077,1.0854355678632404,0.82708251008718514,1.0903390768835213,0.45175496044724817,{"$f":"+Spectre!C2699*N2700/L2700","v":0.64342622204763611},0.65794838807997169]
[6499,0.64990000000000003,2.36759233923829,1.0078992843461281,4.9780706532233286E-2,0.99318272027898302,7.4271126264684427E-3,0.11361578423957161,0.17082360339827335,0.7300776210001646,0.85441833364673514,0.83536332288693571,1.0855095714299539,0.8271419999118047,1.0904175020462694,0.45213149155840515,{"$f":"+Spectre!C2700*N2701/L2701","v":0.63786282238081093},0.65225942216965593]
[6500,0.65,2.3668639053254434,1.0078950304312184,4.9749869346054604E-2,0.99319290367539637,7.4159803088542572E-3,0.11359306160712329,0.17075891126203216,0.73016460980064091,0.85446924453444051,0.83542023402717669,1.085583524386422,0.82720144927472528,1.0904958738685453,0.45250774093128499,{"$f":"+Spectre!C2701*N2702/L2702","v":0.63275857136434621},0.64703996792057206]
[6501,0.65010000000000001,2.3661358075352954,1.0078907785348439,4.9719056068115372E-2,0.99320307191234447,7.4048646771988445E-3,0.1135703470135685,0.17069426775888272,0.73025154355927679,0.85452012017940071,0.83547710625662064,1.0856574267804087,0.82726085821387263,1.0905741924003467,0.45288370886191753,{"$f":"+Spectre!C2702*N2703/L2703","v":0.63074570078272729},0.64498166673667701]
[6502,0.6502,2.3654080456610798,1.0078865286557184,4.9688266676143428E-2,0.99321322501223841,7.3937657064921114E-3,0.11354764045482767,0.17062967283746322,0.73033842232302937,0.85457096061538618,0.8355339396119853,1.0857312786596265,0.82732022676713102,1.0906524576916159,0.45325939564573314,{"$f":"+Spectre!C2703*N2704/L2704","v":0.62995851123336588},0.64417671027489731]
[6503,0.65029999999999999,2.3646806194961911,1.0078822807925572,4.9657501147890956E-2,0.99322336299745662,7.3826833717614239E-3,0.11352494192682328,0.17056512644647565,0.73042524613881565,0.85462176587613059,0.83559073412994966,1.0858050800717378,0.82737955497234628,1.090730669792245,0.45363480157798453,{"$f":"+Spectre!C2704*N2705/L2705","v":0.62845471848178891},0.64263897683631022]
[6504,0.65039999999999998,2.3639535288341813,1.0078780349440761,4.9626759461134227E-2,0.9932334858903451,7.37161764807136E-3,0.11350225142548138,0.17050062853468698,0.73051201505350982,0.85467253599533055,0.83564748984715298,1.0858788310643535,0.82743884286732317,1.0908088287520719,0.4540099269534581,{"$f":"+Spectre!C2705*N2706/L2706","v":0.62338427017666953},0.63745408822766858]
[6505,0.65049999999999997,2.3632267734687624,1.0078737911089923,4.9596041593673805E-2,0.99324359371321702,7.3605685105241911E-3,0.11347956894672948,0.17043617905092748,0.73059872911394597,0.85472327100664669,0.83570420680019697,1.0859525316850351,0.82749809048982836,1.0908869346208843,0.45438477206665162,{"$f":"+Spectre!C2706*N2707/L2707","v":0.61807165038206091},0.63202156230539475]
[6506,0.65059999999999996,2.3625003531938029,1.0078695492860237,4.9565347523334281E-2,0.99325368648835333,7.3495359342591465E-3,0.1134568944864988,0.17037177794409222,0.73068538836691554,0.85477397094370255,0.83576088502564316,1.0860261819812931,0.82755729787758758,1.0909649874484157,0.45475933721161876,{"$f":"+Spectre!C2707*N2708/L2708","v":0.61208221296824072},0.62589694295216436]
[6507,0.65069999999999995,2.3617742678033324,1.0078653094738896,4.9534677227964494E-2,0.99326376423800211,7.3385198944531356E-3,0.11343422804072252,0.17030742516314015,0.73077199285916861,0.85482463584008539,0.83581752456001512,1.0860997820005871,0.82761646506828779,1.0910429872843488,0.45513362268210233,{"$f":"+Spectre!C2708*N2709/L2709","v":0.60540759601232152},0.61907167951601993]
[6508,0.65080000000000005,2.3610485170915356,1.0078610716713103,4.9504030685437232E-2,0.99327382698437938,7.327520366319896E-3,0.11341156960533733,0.17024312065709446,0.73085854263741357,0.85487526572934514,0.83587412543979711,1.086173331790327,0.82767559209957553,1.0911209341783126,0.45550762877140105,{"$f":"+Spectre!C2709*N2710/L2710","v":0.59869925782134192},0.61221193375464245]
[6509,0.65090000000000003,2.3603231008527583,1.0078568358770068,4.947340787364949E-2,0.99328387474966839,7.3165373251107097E-3,0.1133889191762818,0.17017886437504198,0.73094503774831765,0.85492586064499621,0.83593068770143453,1.0862468313978713,0.82773467900905817,1.091198828179885,0.45588135577261379,{"$f":"+Spectre!C2710*N2711/L2711","v":0.60299989418513933},0.6166096357231351]
[6510,0.65100000000000002,2.3595980188815031,1.0078526020897012,4.9442808770522192E-2,0.99329390755602043,7.3055707461135554E-3,0.11336627674949744,0.1701146562661332,0.73103147823850689,0.85497642062051582,0.8359872113813348,1.0863202808705297,0.82779372583430377,1.0912766693385916,0.45625480397826212,{"$f":"+Spectre!C2711*N2712/L2712","v":0.61007457812208898},0.62384399567458049]
[6511,0.65110000000000001,2.3588732709724294,1.0078483703081167,4.9412233354000246E-2,0.99330392542555435,7.2946206046535841E-3,0.11334364232092889,0.17005049627958271,0.73111786415456514,0.85502694568934534,0.83604369651586607,1.0863936802555605,0.82785273261284065,1.091354457703906,0.45662797368064556,{"$f":"+Spectre!C2712*N2713/L2713","v":0.61726930124734847},0.63120110410556973]
[6512,0.6512,2.3581488569203559,1.0078441405309777,4.938168160205262E-2,0.99331392838035659,7.2836868760931123E-3,0.11332101588652292,0.16998638436466865,0.73120419554303495,0.85507743588488871,0.83610014314135772,1.0864670296001719,0.82791169938215758,1.0914321933252493,0.45700086517164173,{"$f":"+Spectre!C2713*N2714/L2714","v":0.62496254079316849},0.63906798050077918]
[6513,0.65129999999999999,2.3574247765202569,1.0078399127570095,4.935115349267212E-2,0.99332391644248164,7.2727695358311374E-3,0.11329839744222897,0.16992232047073222,0.73129047245041823,0.85512789124051503,0.83615655129410127,1.0865403289515225,0.82797062617970452,1.0915098762519917,0.45737347874281742,{"$f":"+Spectre!C2714*N2715/L2715","v":0.63316870671480341},0.64745936004896421]
[6514,0.65139999999999998,2.3567010295672657,1.0078356869849381,4.9320649003875505E-2,0.99333388963395153,7.2618685593038076E-3,0.11327578698399962,0.16985830454717893,0.73137669492317436,0.8551783117895555,0.83621292101034839,1.0866135783567197,0.8280295130428913,1.0915875065334504,0.45774581468536191,{"$f":"+Spectre!C2715*N2716/L2716","v":0.63301620490726862},0.64730341626705323]
[6515,0.65149999999999997,2.3559776158566721,1.007831463213491,4.9290168113703417E-2,0.99334384797675657,7.2509839219836985E-3,0.11325318450778959,0.1697943365434767,0.73146286300772279,0.85522869756530639,0.83626925232631388,1.0866867778628226,0.82808836000908925,1.0916650842188917,0.45811787329002041,{"$f":"+Spectre!C2716*N2717/L2717","v":0.62630709858750178},0.64044288504017866]
[6516,0.65159999999999996,2.3552545351839229,1.0078272414413967,4.9259710800220333E-2,0.99335379149285474,7.2401155993804082E-3,0.11323059000955649,0.16973041640915723,0.73154897675044062,0.85527904860102699,0.83632554527817304,1.0867599275168391,0.82814716711562975,1.0917426093575298,0.45848965484729387,{"$f":"+Spectre!C2717*N2718/L2718","v":0.62039977438164917},0.63440223219463954]
[6517,0.65169999999999995,2.354531787344623,1.0078230216673845,4.9229277041514599E-2,0.99336372020417185,7.2292635670404316E-3,0.11320800348526089,0.16966654409381593,0.73163503619766357,0.85532936492994016,0.8363817999020623,1.0868330273657263,0.82820593439980494,1.0918200819985264,0.45886115964728358,{"$f":"+Spectre!C2718*N2719/L2719","v":0.62213480761097062},0.63617642522156403]
[6518,0.65180000000000005,2.3538093721345308,1.0078188038901843,4.9198866815698204E-2,0.99337363413260216,7.218427800546429E-3,0.11318542493086564,0.16960271954711026,0.7317210413956865,0.85537964658523324,0.83643801623408087,1.0869060774563934,0.82826466189886838,1.0918975021909927,0.45923238797966892,{"$f":"+Spectre!C2719*N2720/L2720","v":0.62507898522977201},0.63918705309486834]
[6519,0.65190000000000003,2.3530872893495665,1.0078145881085279,4.9168480100907117E-2,0.99338353330000773,7.2076082755179478E-3,0.11316285434233631,0.16953894271876135,0.7318069923907633,0.85542989360005717,0.83649419431028893,1.0869790778356985,0.82832334965003396,1.0919748699839877,0.45960334013388504,{"$f":"+Spectre!C2720*N2721/L2721","v":0.62714787602951294},0.64130263887636019]
[6520,0.65200000000000002,2.3523655387858029,1.0078103743211475,4.913811687530089E-2,0.99339341772821854,7.1968049676112899E-3,0.11314029171564124,0.16947521355855344,0.73189288922910578,0.85548010600752644,0.83655033416670799,1.0870520285504499,0.82838199769047627,1.0920521854265186,0.45997401639885638,{"$f":"+Spectre!C2721*N2722/L2722","v":0.62727471991875905},0.64143234563932316]
[6521,0.65210000000000001,2.3516441202394698,1.0078061625267767,4.9107777117062774E-2,0.99340328743903317,7.1860178525187893E-3,0.11311773704675122,0.1694115320163328,0.73197873195688568,0.85553028384072038,0.83660643583932226,1.0871249296474068,0.82844060605733172,1.0921294485675419,0.46034441706328533,{"$f":"+Spectre!C2722*N2723/L2723","v":0.62774612803404228},0.64191439346229084]
[6522,0.6522,2.3509230335069535,1.0078019527241497,4.9077460804399738E-2,0.99341314245421819,7.1752469059694068E-3,0.11309519033164026,0.16934789804200939,0.73206452062023231,0.85558042713268123,0.83666249936407666,1.0871977811732778,0.82849917478769652,1.0922066594559616,0.46071454241549681,{"$f":"+Spectre!C2723*N2724/L2724","v":0.62376626566017168},0.63784470537072535]
[6523,0.65229999999999999,2.3502022783847973,1.0077977449120021,4.9047167915542401E-2,0.99342298279550822,7.1644921037287215E-3,0.11307265156628417,0.16928431158555529,0.73215025526523503,0.85563053591641602,0.8367185247768788,1.0872705831747229,0.8285577039186286,1.0922838181406309,0.46108439274332724,{"$f":"+Spectre!C2724*N2725/L2725","v":0.61784868386136815},0.63179356341778525]
[6524,0.65239999999999998,2.3494818546696989,1.0077935390890702,4.9016898428744952E-2,0.99343280848460658,7.1537534215982065E-3,0.11305012074666199,0.16922077259700513,0.73223593593794134,0.85568061022489583,0.83677451211359755,1.0873433356983517,0.8286161934871471,1.0923609246703518,0.46145396833443542,{"$f":"+Spectre!C2725*N2726/L2726","v":0.61332121630368164},0.62716391066259547]
[6525,0.65249999999999997,2.3487617621585124,1.0077893352540914,4.8986652322285162E-2,0.99344261954318458,7.1430308354159412E-3,0.11302759786875544,0.16915728102645655,0.73232156268435777,0.85573065009105531,0.83683046141006356,1.0874160387907246,0.82867464353023157,1.0924379790938747,0.46182326947603602,{"$f":"+Spectre!C2726*N2727/L2727","v":0.61845824243952174},0.63241687976734307]
[6526,{"$f":"+A2728/10000","v":0.65259999999999996},{"$f":"+(1/B2728)^2","v":2.3480420006482476},{"$f":"0.23465+1.076*100/(146-C2728)+0.93161/(41-C2728)","v":1.0077851334058043},{"$f":"9.4977*0.001*C2728^2*D2728*EXP(-h/7.996/1000)","v":4.895642957446443E-2},{"$f":"+EXP(-0.0168*EXP(-15*ABS(B2728-0.59)))","v":0.99345241599288214},{"$f":"-2.5*LOG(F2728)","v":7.1323243210560088E-3},{"$f":"2.5*LOG(EXP(AOD*(B2728/0.55)^(-1.3)))","v":0.11300508292854851},{"$f":"+E2728+G2728+H2728","v":0.16909383682406895},{"$f":"10^(-0.4*I2728*ma)","v":0.73240713555045012},{"$f":"10^(-0.4*I2728)","v":0.85578065554779359},{"$f":"10^(-0.4*I2728*ma_ref)","v":0.83688637270207011},{"$f":"+L2728/M$1","v":1.0874886924983524},{"$f":"10^(-0.4*I2728*ma_target)","v":0.82873305408482312},{"$f":"+N2728/O$1","v":1.0925149814598984},{"$f":"(O2728/M2728-1)*100","v":0.46219229645494408},{"$f":"+Spectre!C2727*N2728/L2728","v":0.62458558717371337},0.63868251901692463]
[6527,0.65269999999999995,2.3473225699360705,1.0077809335429484,4.8926230163607601E-2,0.99346219785530732,7.1216338544289708E-3,0.11298257592202823,0.16903043994006481,0.73249265458214241,0.85583062662797404,0.83694224602537148,1.0875612968676964,0.82879142518782367,1.0925919318170709,0.46256104955768595,{"$f":"+Spectre!C2728*N2729/L2729","v":0.62746027869527932},0.6416220924878695]
[6528,0.65280000000000005,2.3466034698192999,1.0077767356642637,4.8896054068062987E-2,0.99347196515203717,7.1109594114808911E-3,0.1129600768451841,0.16896709032472798,0.73257811982531884,0.8558805633644242,0.83699808141568488,1.0876338519451689,0.82884975687609697,1.0926688302139893,0.46292952907043272,{"$f":"+Spectre!C2729*N2730/L2730","v":0.62531014569077636},0.63942343086048314]
[6529,0.65290000000000004,2.3458847000954144,1.0077725397684925,4.8865901266202556E-2,0.99348171790461659,7.1003009681946672E-3,0.11293758569400807,0.1689037879284053,0.7326635313258214,0.85593046578993592,0.83705387890868865,1.087706357777132,0.82890804918646721,1.092745676699199,0.463297735278978,{"$f":"+Spectre!C2730*N2731/L2731","v":0.62383085076572187},0.63791074816574145]
[6530,0.65300000000000002,2.345166260562042,1.0077683458543767,4.8835771736421459E-2,0.99349145613455969,7.089658500588447E-3,0.11291510246449515,0.16884053270150506,0.7327488891294518,0.85598033393726514,0.83710963854002385,1.0877788144098994,0.82896630215572042,1.0928224713211945,0.46366566846873791,{"$f":"+Spectre!C2731*N2732/L2732","v":0.61560313223362517},0.62949732956346394]
[6531,0.65310000000000001,2.3444481510169708,1.0077641539206597,4.8805665457138436E-2,0.99350117986334863,7.0790319847169594E-3,0.11289262715264257,0.16877732459449796,0.73283419328197053,0.85603016783913222,0.83716536034529343,1.0878512218897352,0.82902451582060366,1.0928992141284195,0.46403332892481775,{"$f":"+Spectre!C2732*N2733/L2733","v":0.60571447870608131},0.61938548856944375]
[6532,0.6532,2.3437303712581405,1.0077599639660864,4.877558240679556E-2,0.99351088911243457,7.0684213966704153E-3,0.11287015975445035,0.16871416355791632,0.73291944382909757,0.85607996752822213,0.83722104436006251,1.0879235802628542,0.82908269021782555,1.0929759051692667,0.46440071693194529,{"$f":"+Spectre!C2733*N2734/L2734","v":0.59900431903191487},0.61252388021390158]
[6533,0.65329999999999999,2.3430129210836461,1.0077557759894018,4.8745522563858189E-2,0.99352058390323728,7.0578267125749865E-3,0.11284770026592138,0.16865104954235455,0.73300464081651151,0.85612973303718387,0.83727669061985832,1.0879958895754225,0.82914082538405576,1.0930525444920778,0.46476783277449307,{"$f":"+Spectre!C2734*N2735/L2735","v":0.60473882714007199},0.61838781649269714]
[6534,0.65339999999999998,2.3422958002917378,1.0077515899893528,4.8715485906815105E-2,0.99353026425714519,7.047247908592685E-3,0.11282524868306094,0.16858798249846874,0.73308978428985005,0.85617946439863124,0.83733229916017005,1.088068149873556,0.82919892135592588,1.0931291321451437,0.46513467673654496,{"$f":"+Spectre!C2735*N2736/L2736","v":0.61114337898576465},0.62493691943388274]
[6535,0.65349999999999997,2.341579008680819,1.0077474059646867,4.8685472414178303E-2,0.99353993019551567,7.0366849609211062E-3,0.11280280500187678,0.1685249623769762,0.73317487429471095,0.85622916164514229,0.8373878700164501,1.0881403612033234,0.82925697817002841,1.0932056681767044,0.46550124910167412,{"$f":"+Spectre!C2736*N2737/L2737","v":0.61340700499484913},0.62725163560934927]
[6536,0.65359999999999996,2.3408625460494483,1.0077432239141522,4.8655482064483078E-2,0.99354958173967478,7.0261378457936747E-3,0.11278036921837961,0.16846198912865637,0.73325991087664988,0.85627882480925988,0.83744340322411204,1.0882125236107425,0.82931499586291768,1.0932821526349492,0.46586755015329828,{"$f":"+Spectre!C2737*N2738/L2738","v":0.61138445052357782},0.62518343196986759]
[6537,0.65369999999999995,2.3401464121963382,1.0077390438364984,4.8625514836287957E-2,0.99355921891091759,7.0156065394792709E-3,0.11275794132858269,0.1683990627043499,0.73334489408118286,0.85632845392349111,0.83749889881853246,1.0882846371417836,0.82937297447110969,1.0933585855680172,0.46623358017434668,{"$f":"+Spectre!C2738*N2739/L2739","v":0.60931642954353427},0.62306873563995258]
[6538,0.65380000000000005,2.3394306069203532,1.0077348657304761,4.8595570708174621E-2,0.99356884173050786,7.0050910182825922E-3,0.11273552132850152,0.16833618305495873,0.73342982395378475,0.85637804902030779,0.83755435683505031,1.0883567018423674,0.82943091403108182,1.093434967023996,0.4665993394474599,{"$f":"+Spectre!C2739*N2740/L2740","v":0.61482907835392431},0.6287058052441481]
[6539,0.65390000000000004,2.3387151300205167,1.0077306895948366,4.8565649658748065E-2,0.9935784502196785,6.9945912585436592E-3,0.11271310921415481,0.16827335013144654,0.73351470053988921,0.85642761013214663,0.83760977730896646,1.088428717758366,0.82948881457927293,1.0935112970509229,0.46696482825485663,{"$f":"+Spectre!C2740*N2741/L2741","v":0.62108640357844691},0.63510435865104053]
[6540,0.65400000000000003,2.3379999812960004,1.0077265154283324,4.8535751666636318E-2,0.99358804439963133,6.9841072366380553E-3,0.11269070498156362,0.16821056388483799,0.73359952388488958,0.8564771372914084,0.83766516027554461,1.088500684935602,0.82954667615208355,1.0935875756967846,0.46733004687851132,{"$f":"+Spectre!C2741*N2742/L2742","v":0.62725762537965402},0.64141486527550873]
[6541,0.65410000000000001,2.3372851605461307,1.0077223432297169,4.8505876710490489E-2,0.99359762429153731,6.9736389289766802E-3,0.11266830862675166,0.16814782426621883,0.73368429403413848,0.85652663053045908,0.83772050577001089,1.0885726034198504,0.82960449878587617,1.0936638030095176,0.46769499559999872,{"$f":"+Spectre!C2742*N2743/L2743","v":0.63286900322018425},0.64715289222960948]
[6542,0.6542,2.3365706675703901,1.0077181729977449,4.8476024768984959E-2,0.9936071899165364,6.9631863120058635E-3,0.11264592014574477,0.1680851312267356,0.73376901103294834,0.85657608988162981,0.83777581382755417,1.088644473256837,0.82966228251697516,1.0937399790370081,0.46805967470051613,{"$f":"+Spectre!C2743*N2744/L2744","v":0.63840867822347813},0.65281759800940331]
[6543,0.65429999999999999,2.3358565021684106,1.0077140047311717,4.844619582081696E-2,0.99361674129573785,6.9527493622071213E-3,0.11262353953457244,0.16802248471759651,0.73385367492659015,0.85662551537721565,0.83783108448332555,1.0887162944922386,0.82972002738166617,1.0938161038270915,0.46842408446099437,{"$f":"+Spectre!C2744*N2745/L2745","v":0.64771053192338601},0.66232939507066291]
[6544,0.65439999999999998,2.3351426641399802,1.0077098384287535,4.8416389844706899E-2,0.99362627845021989,6.9423280560973856E-3,0.11260116678926593,0.16795988469007023,0.73393828576029485,0.8566749070494768,0.83788631777243894,1.0887880671716843,0.82977773341619665,1.0938921774275523,0.46878822516183138,{"$f":"+Spectre!C2745*N2746/L2746","v":0.65989172714736766},0.67478552055619345]
[6545,0.65449999999999997,2.3344291532850385,1.0077056740892478,4.8386606819398152E-2,0.99363580140103014,6.9319223702286447E-3,0.11257880190585914,0.16789733109548594,0.73402284357925296,0.85672426493063869,0.83794151372997094,1.0888597913407538,0.82983540065677674,1.0939681998861266,0.46915209708338068,{"$f":"+Spectre!C2746*N2747/L2747","v":0.67190308825277245},0.68706797875753556]
[6546,0.65459999999999996,2.3337159694036771,1.0077015117114132,4.8356846723657018E-2,0.99364531016918523,6.9215322811882977E-3,0.11255644488038907,0.16783482388523438,0.73410734842861347,0.85677358905289125,0.83799667239096065,1.0889314670449788,0.8298930291395773,1.0940441712504978,0.46951570050530744,{"$f":"+Spectre!C2747*N2748/L2748","v":0.69197171030380611},0.7075895507373704]
[6547,0.65469999999999995,2.3330031122961423,1.0076973512940091,4.8327109536272839E-2,0.99365480477567147,6.91115776559842E-3,0.11253409570889483,0.16777236301076609,0.73419180035348619,0.85682287944838964,0.83805179379040995,1.0890030943298421,0.82995061890073185,1.0941200915683009,0.46987903570721024,{"$f":"+Spectre!C2748*N2749/L2749","v":0.71245940972514343},0.72853965868733495]
[6548,0.65480000000000005,2.3322905817628303,1.0076931928357957,4.829739523605777E-2,0.99366428524144434,6.9007988001163695E-3,0.11251175438741852,0.16770994842359266,0.73427619939893962,0.85687213614925373,0.83810687796328365,1.0890746732407788,0.83000816997633609,1.0941959608871206,0.47024210296822133,{"$f":"+Spectre!C2749*N2750/L2750","v":0.72903817470637955},0.7454926073269591]
[6549,0.65490000000000004,2.331578377604294,1.0076890363355344,4.8267703801847021E-2,0.99367375158742854,6.890455361434655E-3,0.11248942091200451,0.16764758007528618,0.73436054561000141,0.85692135918756862,0.83816192494450925,1.0891462038231752,0.83006568240244671,1.0942717792544903,0.47060490256707332,{"$f":"+Spectre!C2750*N2751/L2751","v":0.73927018990080373},0.7559555596799995]
[6550,0.65500000000000003,2.3308664996212336,1.0076848817919879,4.8238035212498497E-2,0.99368320383451858,6.8801274262803276E-3,0.11246709527869991,0.16758525791747875,0.73444483903166002,0.85697054859538435,0.83821693476897707,1.0892176861223695,0.83012315621508359,1.0943475467178947,0.47096743478225456,{"$f":"+Spectre!C2751*N2752/L2752","v":0.74957726237098377},0.76649526335573237]
[6551,0.65510000000000002,2.3301549476145049,1.0076807292039194,4.8208389446893062E-2,0.99369264200357821,6.8698149714155844E-3,0.11244477748355464,0.16752298190186327,0.73452907970886228,0.85701970440471609,0.83827190747154012,1.089289120183651,0.83018059145022793,1.0944232633247677,0.4713296998918981,{"$f":"+Spectre!C2752*N2753/L2753","v":0.75507192666503642},0.77211394253204491]
[6552,0.6552,2.3294437213851129,1.0076765785700927,4.8178766483934231E-2,0.99370206611544065,6.859517973637516E-3,0.11242246752262083,0.16746075198019258,0.73461326768651525,0.85706882664754436,0.83832684308701455,1.089360506052262,0.83023798814382321,1.0944989291224936,0.47169169817371515,{"$f":"+Spectre!C2753*N2754/L2754","v":0.75805067396768944},0.77515992032891035]
[6553,0.65529999999999999,2.3287328207342175,1.0076724298892741,4.8149166302548514E-2,0.99371147619090894,6.8492364097777429E-3,0.11240016539195324,0.1673985681042795,0.73469740300948561,0.85711791535581439,0.83838174165017987,1.0894318437733959,0.83029534633177549,1.0945745441584069,0.47205342990512822,{"$f":"+Spectre!C2754*N2755/L2755","v":0.760185647808027},{"$f":"+Q2755/R$1","v":0.7773430806489432}]
[6554,0.65539999999999998,2.3280222454631274,1.0076682831602293,4.8119588881684973E-2,0.99372087225075556,6.8389702567027691E-3,0.11237787108760951,0.16733643022599726,0.73478148572259971,0.8571669705614372,0.83843660319577784,1.0895031333921983,0.83035266604995228,1.0946501084797919,0.47241489536320458,{"$f":"+Spectre!C2755*N2756/L2756","v":0.75041939554178494},0.76735640351957901]
[6555,0.65549999999999997,2.3273119953733037,1.0076641383817255,4.8090034200315483E-2,0.99373025431572259,6.8287194913138616E-3,0.11235558460564989,0.16727433829727922,0.73486551587064275,0.85721599229628853,0.83849142775851337,1.0895743749537661,0.83040994733418394,1.0947256221338835,0.47277609482472283,{"$f":"+Spectre!C2756*N2757/L2757","v":0.7406813801402139},0.75739860056251007]
[6556,0.65559999999999996,2.326602070266361,1.0076599955525312,4.8060502237434653E-2,0.99373962240652214,6.8184840905465534E-3,0.11233330594213664,0.16721229227011786,0.73494949349836136,0.85726498059221001,0.83854621537305496,1.089645568503149,0.83046719022026305,1.0948010851678667,0.47313702856608408,{"$f":"+Spectre!C2757*N2758/L2758","v":0.73452790249936983},0.75110623858510261]
[6557,0.65569999999999995,2.325892469944062,1.0076558546714156,4.8030992972059663E-2,0.99374897654383565,6.8082640313713739E-3,0.11231103509313529,0.16715029209656634,0.73503341865046024,0.85731393548100776,0.838600966074034,1.089716714085349,0.83052439474394413,1.0948764976288767,0.47349769686322318,{"$f":"+Spectre!C2758*N2759/L2759","v":0.73239098855542073},0.74892109437321064]
[6558,0.65580000000000005,2.3251831942083214,1.007651715737149,4.8001506383230377E-2,0.99375831674831461,6.7980592907931139E-3,0.11228877205471341,0.16708833772873691,0.73511729137160486,0.85736285699445436,0.83865567989604495,1.0897878117453192,0.83058156094094449,1.0949518595639993,0.47385809999194173,{"$f":"+Spectre!C2759*N2760/L2760","v":0.7299936538677676},0.74646965170677726]
[6559,0.65590000000000004,2.3244742428612084,1.0076475787485026,4.797204245000937E-2,0.99376764304058018,6.7878698458511801E-3,0.11226651682294177,0.16702642911880233,0.73520111170641955,0.8574117451642862,0.83871035687364481,1.0898588615279652,0.83063868884694325,1.0950271710202704,0.47421823822759723,{"$f":"+Spectre!C2760*N2761/L2761","v":0.72229975400595492},0.73860210009220606]
[6560,0.65600000000000003,2.3237656157049376,1.0076434437042481,4.7942601151481599E-2,0.99377695544122358,6.7776956736192318E-3,0.11224426939389279,0.16696456621899361,0.7352848796994903,0.85746060002220736,0.83876499704135543,1.089929863478146,0.83069577849758269,1.0951024320446767,0.47457811184512533,{"$f":"+Spectre!C2761*N2762/L2762","v":0.71304992031085812},0.72914349713019277]
[6561,0.65610000000000002,2.3230573125418772,1.0076393106031594,4.7913182466754717E-2,0.99378625397080578,6.7675367512054167E-3,0.11222202976364254,0.16690274898160268,0.73536859539536026,0.85750942159988497,0.83881960043366,1.0900008176406706,0.83075282992846688,1.0951776426841553,0.47493772111932842,{"$f":"+Spectre!C2762*N2763/L2763","v":0.70416177787802103},0.72005474882257814]
[6562,0.65620000000000001,2.3223493331745466,1.0076351794440099,4.7883786374958888E-2,0.99379553864985781,6.7573930557521238E-3,0.11219979792826873,0.16684097735897974,0.73545225883853493,0.85755820992895371,0.83887416708500662,1.0900717240603024,0.83080984317516304,1.0952528029855941,0.4752970663245204,{"$f":"+Spectre!C2763*N2764/L2764","v":0.69688362834384543},0.71261233104392985]
[6563,0.65629999999999999,2.3216416774056139,1.0076310502255754,4.785441285524674E-2,0.99380480949888061,6.7472645644360988E-3,0.11217757388385229,0.16677925130353513,0.7355358700734782,0.85760696504101241,0.83892869702980566,1.0901425827817559,0.83086681827320008,1.0953279129958304,0.47565614773463771,{"$f":"+Spectre!C2764*N2765/L2765","v":0.68991654598692864},0.70548800124623245]
[6564,0.65639999999999998,2.3209343450378985,1.0076269229466317,4.7825061886793391E-2,0.99381406653834525,6.7371512544682002E-3,0.11215535762647622,0.1667175707677378,0.73561942914461464,0.8576556869676264,0.83898319030243151,1.0902133938496987,0.83092375525807061,1.0954029727616545,0.47601496562343915,{"$f":"+Spectre!C2765*N2766/L2766","v":0.67557814318584719},0.69082597988721728]
[6565,0.65649999999999997,2.3202273358743692,1.0076227976059553,4.7795733448796382E-2,0.99382330978869293,6.7270531030933899E-3,0.11213314915222666,0.16665593570411644,0.73570293609632809,0.85770437574032576,0.8390376469372216,1.0902841573087505,0.83098065416522859,1.0954779823298049,0.47637352026417279,{"$f":"+Spectre!C2766*N2767/L2767","v":0.65565548107555716},0.6704536621722007]
[6566,0.65659999999999996,2.3195206497181458,1.0076186742023252,4.7766427520475704E-2,0.99383253927033477,6.7169700875909736E-3,0.11211094845719177,0.16659434606525844,0.73578639097296317,0.85775303139060721,0.83909206696847694,1.0903548732034836,0.83103751503009171,1.0955529417469725,0.4767318119299091,{"$f":"+Spectre!C2767*N2768/L2768","v":0.63685960958346488},0.65123356680303057]
[6567,0.65669999999999995,2.3188142863724979,1.0076145527345195,4.7737144081073733E-2,0.99384175500365235,6.7069021852739913E-3,0.11208875553746256,0.16653280180381028,0.73586979381882389,0.85780165394993246,0.83914645043046199,1.090425541578423,0.83109433788803966,1.0956278510597981,0.47708984089318562,{"$f":"+Spectre!C2768*N2769/L2769","v":0.63318412907140165},0.64747513048901861]
[6568,0.65680000000000005,2.3181082456408433,1.0076104332013185,4.7707883109855152E-2,0.99385095700899717,6.6968493734898132E-3,0.1120665703891324,0.16647130287247736,0.73595314467817496,0.85785024344972938,0.83920079735740494,1.0904961624780458,0.8311511227744155,1.0957027103148747,0.4774476074264733,{"$f":"+Spectre!C2769*N2770/L2770","v":0.63199431991963351},0.64625846727775349]
[6569,0.65690000000000004,2.317402527326752,1.0076063156015034,4.7678644586107093E-2,0.99386014530669109,6.6868116296196593E-3,0.11204439300829741,0.16640984922402416,0.73603644359524001,0.85789879992139129,0.8392551077834971,1.0905667359467826,0.83120786972452432,1.0957775195587445,0.47780511180162133,{"$f":"+Spectre!C2770*N2771/L2771","v":0.62941922949271911},0.64362525691502281]
[6570,0.65700000000000003,2.3166971312339419,1.0076021999338556,4.7649428489138876E-2,0.99386931991702654,6.6767889310783406E-3,0.1120222233910563,0.16634844081127353,0.7361196906142039,0.85794732339627733,0.83930938174289393,1.0906372620290159,0.83126457877363436,1.0958522788379017,0.4781623542903457,{"$f":"+Spectre!C2771*N2772/L2772","v":0.62309811073568322},0.63716147015199909]
[6571,0.65710000000000002,2.3159920571662802,1.0075980861971581,4.7620234798282153E-2,0.99387848086026587,6.6667812553149932E-3,0.11200006153351023,0.16628707758710737,0.73620288577921078,0.85799581390571289,0.83936361926971426,1.0907077407690815,0.83132124995697665,1.095926988198791,0.47851933516389611,{"$f":"+Spectre!C2772*N2773/L2773","v":0.61685611461294176},0.63077859182557761]
[6572,0.65720000000000001,2.3152873049277836,1.0075939743901949,4.7591063492890828E-2,0.99388762815664211,6.6567885798122176E-3,0.11197790743176275,0.1662257595044658,0.7362860291343658,0.85804427148098905,0.83941782039804036,1.0907781722112677,0.8313778833097456,1.0960016476878092,0.4788760546933446,{"$f":"+Spectre!C2773*N2774/L2774","v":0.61346964888666289},0.62731569337732584]
[6573,0.6573,2.3145828743226171,1.0075898645117507,4.7561914552340989E-2,0.99389676182635844,6.646810882086681E-3,0.11195576108192012,0.1661644865163478,0.73636912072373351,0.85809269615336248,0.8394719851619189,1.090848556399816,0.83143447886709787,1.0960762573513028,0.47923251314920812,{"$f":"+Spectre!C2774*N2775/L2775","v":0.61165826847493199},0.62546343000778948]
[6574,0.65739999999999998,2.3138787651550961,1.0075857565606112,4.7532787956030977E-2,0.99390588188958884,6.6368481396883892E-3,0.11193362248009145,0.16610325857581082,0.73645216059133867,0.85814108795405608,0.83952611359535922,1.0909188933789198,0.83149103666415292,1.0961508172355701,0.47958871080189258,{"$f":"+Spectre!C2775*N2776/L2776","v":0.60986668413416656},0.62363140950765406]
[6575,0.65749999999999997,2.3131749772296843,1.007581650535563,4.7503683683381287E-2,0.99391498836647763,6.6269003302011648E-3,0.1119114916223876,0.16604207563597007,0.73653514878116721,0.85818944691425925,0.83958020573233594,1.0909891831927272,0.83154755673599434,1.0962253273868614,0.47994464792133762,{"$f":"+Spectre!C2776*N2777/L2777","v":0.60888494248136982},0.62262750989051852]
[6576,0.65759999999999996,2.3124715103509925,1.007577546435394,4.7474601713834469E-2,0.9939240812771396,6.616967431242517E-3,0.11188936850492297,0.16598093764999994,0.736618085337164,0.85823777306512627,0.83963426160678611,1.0910594258853379,0.83160403911766734,1.0962997878513767,0.48030032477712759,{"$f":"+Spectre!C2777*N2778/L2778","v":0.60785110825279931},0.62157034196524319]
[6577,0.65769999999999995,2.3117683643237825,1.0075734442588926,4.7445542026855352E-2,0.99393316064166037,6.6070494204632834E-3,0.11186725312381353,0.16591984457113218,0.73670097030323511,0.85828606643777872,0.83968828125261152,1.0911296215008051,0.83166048384418145,1.0963741986752686,0.48065574163864699,{"$f":"+Spectre!C2778*N2779/L2779","v":0.60861175722040384},0.62234815882284256]
[6578,0.65780000000000005,2.3110655389529629,1.0075693440048485,4.7416504601930705E-2,0.99394222648009589,6.5971462755480981E-3,0.11184514547517876,0.16585879635265757,0.73678380372324614,0.85833432706330359,0.8397422647036773,1.0911997700831346,0.83171689095050816,1.0964485599046405,0.48101089877483627,{"$f":"+Spectre!C2779*N2780/L2780","v":0.61201336995210087},0.62582654614527689]
[6579,0.65790000000000004,2.3103630340435917,1.0075652456720523,4.7387489418569455E-2,0.99395127881247292,6.5872579742149136E-3,0.11182304555513974,0.1657977929479241,0.73686658564102381,0.85838255497275384,0.83979621199381271,1.0912698716762861,0.83177326047158295,1.0965228715855471,0.48136579645434718,{"$f":"+Spectre!C2780*N2781/L2781","v":0.61530039022805116},0.62918775465379118]
[6580,0.65800000000000003,2.3096608494008737,1.0075611492592953,4.7358496456302517E-2,0.99396031765878912,6.5773844942148656E-3,0.11180095335982056,0.16573683431033792,0.73694931610035497,0.85843075019714943,0.83985012315681162,1.0913399263241728,0.83182959244230426,1.096597133763995,0.48172043494545402,{"$f":"+Spectre!C2781*N2782/L2782","v":0.618430457414751},0.63238846763299994]
[6581,0.65810000000000002,2.3089589848301628,1.0075570547653703,4.7329525694682816E-2,0.99396934303901274,6.5675258133326385E-3,0.11177886888534808,0.16567592039336354,0.7370319951449863,0.85847891276747579,0.83990399822643091,1.0914099340706598,0.83188588689753351,1.0966713464859421,0.48207481451618683,{"$f":"+Spectre!C2782*N2783/L2783","v":0.62147733883050915},0.63550411733373668]
[6582,0.65820000000000001,2.3082574401369587,1.0075529621890704,4.7300577113285197E-2,0.99397835497308273,6.5576819093863389E-3,0.11175679212785125,0.16561505115052277,0.7371146228186255,0.85852704271468483,0.83995783723639206,1.0914798949595663,0.83194214387209564,1.0967455097972976,0.48242893543415377,{"$f":"+Spectre!C2783*N2784/L2784","v":0.62377055454012253},0.63784909105093801]
[6583,0.6583,2.3075562151269127,1.00754887152919,4.72716506917066E-2,0.99398735348090905,6.5478527602271224E-3,0.1117347230834618,0.16555422653539553,0.7371971991649402,0.85857514006969471,0.84001164022038044,1.0915498090346649,0.8319983634007786,1.0968196237439225,0.48278279796669654,{"$f":"+Spectre!C2784*N2785/L2785","v":0.62150758023515973},0.63553504128859173]
[6584,0.65839999999999999,2.3068553096058197,1.0075447827845245,4.7242746409565751E-2,0.99399633858237257,6.5380383437393177E-3,0.11171266174831355,0.16549344650161862,0.73727972422755972,0.85862320486339039,0.84006540721204626,1.0916196763396819,0.83205454551833447,1.0968936883716303,0.48313640238077937,{"$f":"+Spectre!C2785*N2786/L2786","v":0.61914899023974768},0.63312321778428327]
[6585,0.65849999999999997,2.306154723379624,1.0075406959538704,4.721386424650334E-2,0.99400531029732486,6.5282386378406583E-3,0.11169060811854356,0.16543271100288756,0.73736219805007175,0.85867123712662241,0.84011913824500239,1.0916894969182958,0.83211069025947737,1.0969677037261845,0.48348974894312224,{"$f":"+Spectre!C2786*N2787/L2787","v":0.61796112125280589},0.63190853852747375]
[6586,0.65859999999999996,2.3054544562544166,1.0075366110360244,4.7185004182181876E-2,0.99401426864558884,6.5184536204815537E-3,0.11166856219029075,0.1653720199929542,0.7374446206760269,0.85871923689020879,0.84017283335282789,1.0917592708141404,0.83216679765888624,1.0970416698533021,0.48384283791997884,{"$f":"+Spectre!C2787*N2788/L2788","v":0.6179971521221016},0.63194538261551669]
[6587,0.65869999999999995,2.3047545080364373,1.0075325280297853,4.7156166196285848E-2,0.994023213646958,6.5086832696459361E-3,0.11164652395969704,0.16531137342562882,0.73752699214893414,0.85876720418493258,0.84022649256906423,1.0918289980708011,0.83222286775120236,1.0971155867986504,0.48419566957740301,{"$f":"+Spectre!C2788*N2789/L2789","v":0.61823388943967561},0.63218746310766771]
[6588,0.65880000000000005,2.3040548785320696,1.0075284469339518,4.7127350268521349E-2,0.99403214532119721,6.4989275633503983E-3,0.11162449342290666,0.16525077125477841,0.73760931251226425,0.8588151390415445,0.84028011592721819,1.0918986787318186,0.83227890057103104,1.0971894546078498,0.48454824418104891,{"$f":"+Spectre!C2789*N2790/L2790","v":0.62349748856307152},0.63756986195942156]
[6589,0.65890000000000004,2.3033555675478476,1.0075243677473238,4.7098556378616437E-2,0.99404106368804235,6.4891864796445655E-3,0.11160247057606641,0.16519021343432741,0.73769158180944849,0.8588630414907612,0.84033370346076064,1.0919683128406859,0.83233489615294098,1.0972632733264716,0.48490056199628206,{"$f":"+Spectre!C2790*N2791/L2791","v":0.63012185357855977},0.64434373926601218]
[6590,{"$f":"+A2792/10000","v":0.65900000000000003},{"$f":"+(1/B2792)^2","v":2.3026565748904506},{"$f":"0.23465+1.076*100/(146-C2792)+0.93161/(41-C2792)","v":1.0075202904687031},{"$f":"9.4977*0.001*C2792^2*D2792*EXP(-h/7.996/1000)","v":4.7069784506320905E-2},{"$f":"+EXP(-0.0168*EXP(-15*ABS(B2792-0.59)))","v":0.99404996876720031},{"$f":"-2.5*LOG(F2792)","v":6.47945999661108E-3},{"$f":"2.5*LOG(EXP(AOD*(B2792/0.55)^(-1.3)))","v":0.11158045541532544},{"$f":"+E2792+G2792+H2792","v":0.16512969991825743},{"$f":"10^(-0.4*I2792*ma)","v":0.73777380008387827},{"$f":"10^(-0.4*I2792)","v":0.85891091156326604},{"$f":"10^(-0.4*I2792*ma_ref)","v":0.84038725520312685},{"$f":"+L2792/M$1","v":1.0920379004408505},{"$f":"10^(-0.4*I2792*ma_target)","v":0.83239085453146444},{"$f":"+N2792/O$1","v":1.09733704300004},{"$f":"(O2792/M2792-1)*100","v":0.48525262328809049},{"$f":"+Spectre!C2791*N2792/L2792","v":0.63497510296294046},0.64930652676205403]
[6591,0.65910000000000002,2.3019579003667041,1.007516215096891,4.7041034631406235E-2,0.99405886057834925,6.4697480923653601E-3,0.11155844793683584,0.16506923066060744,0.73785596737890569,0.85895874928970883,0.84044077118771598,1.0921074415757128,0.83244677574109716,1.09741076367403,0.48560442832121797,{"$f":"+Spectre!C2792*N2793/L2793","v":0.63307043119964657},0.64735886644990104]
[6592,0.65920000000000001,2.3012595437835794,1.0075121416306905,4.7012306733665563E-2,0.99406773914113866,6.4600507450554741E-3,0.1115364481367514,0.16500880561547243,0.73793808373784475,0.85900655470070664,0.8404942514478928,1.0921769362886287,0.83250265981629912,1.0974844353938706,0.48595597736000862,{"$f":"+Spectre!C2793*N2794/L2794","v":0.63171168500011976},0.64596945327220456]
[6593,0.6593,2.3005615049481971,1.0075080700689059,4.6983600792913895E-2,0.99407660447518897,6.450367932862619E-3,0.11151445601122938,0.16494842473700588,0.7380201492039683,0.85905432782684199,0.84054769601698509,1.0922463846229058,0.83255850679149279,1.0975580582049407,0.48630727066849566,{"$f":"+Spectre!C2794*N2795/L2795","v":0.6268829729016181},0.64103175686996472]
[6594,0.65939999999999999,2.2998637836678211,1.0075040004103415,4.6954916788987687E-2,0.99408545660009229,6.4406996340002666E-3,0.11149247155642886,0.16488808797941681,0.73810216382051108,0.85910206869866523,0.84060110492828632,1.092315786621807,0.83261431670106556,1.0976316321525728,0.48665830851040148,{"$f":"+Spectre!C2795*N2796/L2796","v":0.61999292174324228},0.63398619686929336]
[6595,0.65949999999999998,2.2991663797498623,1.007499932653803,4.6926254701745135E-2,0.99409429553541173,6.4310458267148943E-3,0.11147049476851173,0.16482779529697175,0.73818412763066832,0.85914977734669296,0.84065447821505379,1.0923851423285484,0.83267008957936772,1.0977051572820506,0.48700909114911539,{"$f":"+Spectre!C2796*N2797/L2797","v":0.61407295971507958},0.62793262096508362]
[6596,0.65959999999999996,2.2984692930018786,1.0074958667980978,4.6897614511066069E-2,0.99410312130068212,6.4214064892852392E-3,0.1114485256436422,0.16476754664399351,0.73826604067759616,0.85919745380140888,0.8407078159105098,1.0924544517863009,0.83272582546071394,1.0977786336386113,0.48735961884769363,{"$f":"+Spectre!C2797*N2798/L2798","v":0.61707659185846864},0.63100404525494058]
[6597,0.65969999999999995,2.2977725232315724,1.007491802842033,4.6868996196851802E-2,0.99411193391540942,6.4117816000229151E-3,0.11142656417798733,0.16470734197486203,0.738347903004411,0.85924509809326288,0.84076111804784093,1.0925237150381883,0.83278152437938224,1.0978520612674434,0.48770989186892599,{"$f":"+Spectre!C2798*N2799/L2799","v":0.62170137930232272},0.63573321441160424]
[6598,0.65980000000000005,2.2970760702467907,1.0074877407844172,4.6840399739025179E-2,0.99412073339907114,6.4021711372719125E-3,0.11140461036771616,0.16464718124401326,0.73842971465419094,0.85929271025267218,0.84081438466019887,1.0925929321272896,0.83283718636961501,1.0979254402136884,0.48805991047520259,{"$f":"+Spectre!C2799*N2800/L2800","v":0.6238789954873637},0.63795997951645955]
[6599,0.65990000000000004,2.2963799338555315,1.0074836806240599,4.6811825117530785E-2,0.99412951977111641,6.3925750794086023E-3,0.11138266420900085,0.16458706440594023,0.7385114756699741,0.85934029031002068,0.84086761578069935,1.0926621030966368,0.83289281146561767,1.0979987705224394,0.48840967492862486,{"$f":"+Spectre!C2800*N2801/L2801","v":0.61982145470729477},0.63381085981269736]
[6600,0.66,2.2956841138659319,1.007479622359772,4.6783272312334472E-2,0.99413829305096568,6.3829934048419638E-3,0.11136072569801538,0.16452699141519181,0.73859318609475999,0.85938783829565935,0.84092081144242348,1.0927312279892172,0.83294839970156043,1.0980720522387424,0.488759185490939,{"$f":"+Spectre!C2801*N2802/L2802","v":0.6159236795529559},0.62982511165382671]
[6601,0.66010000000000002,2.2949886100862775,1.0074755659903645,4.6754741303423636E-2,0.99414705325801112,6.3734260920132266E-3,0.11133879483093675,0.16446696222637361,0.73867484597150879,0.8594353542399058,0.84097397167841637,1.0928003068479708,0.83300395111157721,1.0981452854075962,0.48910844242369134,{"$f":"+Spectre!C2802*N2803/L2803","v":0.61649216665653994},0.63040642954332315]
[6602,0.66020000000000001,2.2942934223249982,1.0074715115146498,4.6726232070807124E-2,0.99415580041161655,6.3638731193958646E-3,0.1113168716039441,0.16440697679414709,0.73875645534314194,0.85948283817304538,0.84102709652168894,1.092869339715794,0.83305946572976575,1.0982184700739517,0.48945744598789531,{"$f":"+Spectre!C2803*N2804/L2804","v":0.61896488638634195},0.63293495869654803]
[6603,0.6603,2.2935985503906697,1.007467458931441,4.6697744594515214E-2,0.99416453453111742,6.3543344654957059E-3,0.11129495601321931,0.16434703507323023,0.7388380142525417,0.85953029012532944,0.84108018600521606,1.0929383266355355,0.8331149435901879,1.0982916062827126,0.48980619644445333,{"$f":"+Spectre!C2804*N2805/L2805","v":0.62105808557057529},0.63507540150413799]
[6604,0.66039999999999999,2.2929039940920117,1.0074634082395526,4.6669278854599559E-2,0.99417325563582093,6.3448101088506943E-3,0.11127304805494663,0.16428713701839687,0.73891952274255113,0.85957771012697726,0.84113324016193802,1.0930072676499993,0.83317038472686977,1.098364694078735,0.49015469405380152,{"$f":"+Spectre!C2805*N2806/L2806","v":0.62105721346853959},0.63507450971871027]
[6605,0.66049999999999998,2.2922097532378896,1.0074593594377999,4.6640834831133189E-2,0.99418196374500578,6.3353000280312478E-3,0.11125114772531286,0.1642272825844773,0.73900098085597432,0.85962509820817457,0.84118625902475952,1.0930761628019439,0.8332257891738013,1.0984377335068283,0.49050293907615394,{"$f":"+Spectre!C2806*N2807/L2807","v":0.62086102284963851},0.63487389106650238]
[6606,0.66059999999999997,2.2915158276373129,1.0074553125249985,4.6612412504210478E-2,0.99419065887792291,6.3258042016393979E-3,0.11122925502050712,0.16416747172635698,0.73908238863557696,0.8596724543990748,0.84123924262655092,1.0931450121340818,0.83328115696493688,1.0985107246117538,0.4908509317713472,{"$f":"+Spectre!C2807*N2808/L2808","v":0.61992195954878415},0.63391363305411375]
[6607,0.66069999999999995,2.2908222170994352,1.0074512674999656,4.6584011853947067E-2,0.99419934105379459,6.3163226083097664E-3,0.11120736993672134,0.16410770439897818,0.73916374612408475,0.85971977872979799,0.84129219100014685,1.0932138156890805,0.8333364881341947,1.0985836674382259,0.49119867239884041,{"$f":"+Spectre!C2808*N2809/L2809","v":0.61781400441063983},0.63175810124990284]
[6608,0.66080000000000005,2.2901289214335541,1.0074472243615196,4.6555632860479902E-2,0.99420801029181527,6.3068552267087057E-3,0.11118549247014933,0.16404798055733794,0.739245053364186,0.85976707123043183,0.8413451041783474,1.0932825735095615,0.83339178271545777,1.0986565620309126,0.49154616121795947,{"$f":"+Spectre!C2809*N2810/L2810","v":0.61570221464394392},0.62959864826935819]
[6609,0.66090000000000004,2.2894359404491151,1.0074431831084787,4.6527275503967312E-2,0.99421666661115138,6.2974020355344145E-3,0.11116362261698792,0.16398830015648966,0.73932631039852914,0.85981433193103118,0.8413979821939177,1.0933512856381014,0.83344704074257281,1.0987294084344337,0.49189339848751956,{"$f":"+Spectre!C2810*N2811/L2811","v":0.6168585363761222},0.63078106824808922]
[6610,0.66100000000000003,2.2887432739557032,1.0074391437396628,4.6498939764588659E-2,0.99422531003094095,6.2879630135174256E-3,0.11114176037343648,0.16392866315154256,0.73940751726972354,0.85986156086161791,0.84145082507958779,1.0934199521172312,0.83350226224935109,1.0988022066933623,0.49224038446611385,{"$f":"+Spectre!C2811*N2812/L2812","v":0.61899989563577595},0.63297075810671144]
[6611,0.66110000000000002,2.2880509217630505,1.0074351062538929,4.6470625622544705E-2,0.99423394057029424,6.2785381394198682E-3,0.11111990573569631,0.16386906949766089,0.73948867402034046,0.85990875805218159,0.84150363286805263,1.0934885729894364,0.83355744726956804,1.0988749568522247,0.4925871194120246,{"$f":"+Spectre!C2812*N2813/L2813","v":0.62059176123440674},0.63459855220146555]
[6612,0.66120000000000001,2.2873588836810304,1.0074310706499909,4.6442333058057228E-2,0.99424255824829344,6.2691273920358311E-3,0.11109805869997191,0.16380951915006497,0.73956978069291135,0.85995592353267858,0.84155640559197276,1.0935571482971571,0.83361259583696334,1.0989476589554996,0.49293360358317884,{"$f":"+Spectre!C2813*N2814/L2814","v":0.62000001070826161},0.63399344583265205]
[6613,0.6613,2.2866671595196619,1.0074270369267788,4.6414062051369262E-2,0.99425116308399286,6.2597307501911122E-3,0.11107621926246926,0.16375001206402962,0.73965083732993075,0.86000305733303339,0.8416091432839744,1.09362567808279,0.8336677079852417,1.0990203130476199,0.49327983723710389,{"$f":"+Spectre!C2814*N2815/L2815","v":0.6193453565729925},0.6333240161167174]
[6614,0.66139999999999999,2.2859757490891073,1.0074230050830808,4.6385812582744969E-2,0.99425975509641906,6.2503481927430977E-3,0.11105438741939777,0.16369054819488582,0.73973184397385283,0.86005015948313723,0.84166184597664762,1.0936941623886836,0.83372278374807196,1.0990929191729708,0.49362582063126048,{"$f":"+Spectre!C2815*N2816/L2816","v":0.61820408199544752},0.63215698290774636]
[6615,0.66149999999999998,2.2852846521996724,1.0074189751177207,4.6357584632469591E-2,0.9942683343045704,6.2409796985812395E-3,0.11103256316696877,0.16363112749801961,0.73981280066709343,0.86009723001284921,0.84171451370254879,1.0937626012571433,0.83377782315908722,1.099165477375891,0.49397155402257642,{"$f":"+Spectre!C2816*N2817/L2817","v":0.6165773347368777},0.63049351987202595]
[6616,0.66159999999999997,2.2845938686618061,1.0074149470295242,4.6329378180849472E-2,0.99427690072741781,6.2316252466262058E-3,0.11101074650139636,0.16357174992887202,0.73989370745203009,0.86014426895199592,0.84176714649419959,1.0938309947304294,0.83383282625188504,1.0992379877006717,0.49431703766766866,{"$f":"+Spectre!C2817*N2818/L2818","v":0.61498695939582326},0.62886724967004548]
[6617,0.66169999999999995,2.2839033982861001,1.0074109208173174,4.6301193208211959E-2,0.99428545438390403,6.2222848158307205E-3,0.11098893741889676,0.16351241544293943,0.73997456437100118,0.86019127633037107,0.84181974438408658,1.0938993428507562,0.83388779306002814,1.0993104501915587,0.49466227182299871,{"$f":"+Spectre!C2818*N2819/L2819","v":0.61338389094676304},{"$f":"+Q2819/R$1","v":0.6272279998758975}]
[6618,0.66180000000000005,2.2832132408832893,1.0074068964799279,4.6273029694905481E-2,0.99429399529294438,6.2129583851787181E-3,0.11096713591568882,0.16345312399577303,0.74005537146630707,0.86023825217773664,0.84187230740466212,1.093967645660294,0.83394272361704314,1.0993828648927499,0.4950072567445396,{"$f":"+Spectre!C2819*N2820/L2820","v":0.61173491453888051},0.62554180597771358]
[6619,0.66190000000000004,2.2825233962642533,1.0074028740161833,4.6244887621299476E-2,0.99430252347342651,6.2036459336855731E-3,0.11094534198799409,0.16339387554297913,0.74013612878020907,0.86028519652382129,0.84192483558834397,1.0940359032011679,0.83399761795642158,1.099455231848397,0.4953519926879979,{"$f":"+Spectre!C2820*N2821/L2821","v":0.61144773403432906},0.62524814379301696]
[6620,0.66200000000000003,2.2818338642400118,1.0073988534249134,4.6216766967784317E-2,0.99431103894421013,6.194347440398467E-3,0.11092355563203607,0.16333467004021884,0.74021683635493019,0.86033210939832239,0.84197732896751487,1.0941041155154576,0.83405247611162014,1.0995275511026059,0.49569647990888033,{"$f":"+Spectre!C2821*N2822/L2822","v":0.61516327710952312},0.62904754688446363]
[6621,0.66210000000000002,2.2811446446217305,1.0073948347049475,4.6188667714771398E-2,0.99431954172412751,6.1850628843957752E-3,0.11090177684404107,0.16327550744320823,0.74029749423265434,0.86037899083090386,0.84202978757452362,1.0941722826451983,0.8341072981160591,1.0995998226994343,0.49604071866222732,{"$f":"+Spectre!C2822*N2823/L2823","v":0.61898821609610422},0.63295881495917217]
[6622,0.66220000000000001,2.2804557372207137,1.0073908178551167,4.6160589842692924E-2,0.99432803183198337,6.1757922447871864E-3,0.11088000562023791,0.16321638770771801,0.7403781024555276,0.860425840851198,0.84208221144168416,1.0942404046323804,0.83416208400312419,1.0996720466828946,0.49638470920283506,{"$f":"+Spectre!C2823*N2824/L2824","v":0.62102539560753856},0.63504197372679627]
[6623,0.6623,2.2797671418484109,1.0073868028742532,4.6132533332002096E-2,0.99433650928655493,6.1665355007136909E-3,0.11085824195685759,0.16315731078957338,0.7404586610656575,0.86047265948880514,0.84213460060127643,1.0943084815189499,0.83421683380616607,1.0997442230969527,0.49672845178516667,{"$f":"+Spectre!C2824*N2825/L2825","v":0.62187043915027818},0.63590608994983977]
[6624,0.66239999999999999,2.2790788583164137,1.0073827897611891,4.6104498163172969E-2,0.99434497410659184,6.1572926313475896E-3,0.11083648585013367,0.16309827664465423,0.74053917010511283,0.86051944677329251,0.84218695508554564,1.094376513346808,0.83427154755850008,1.0998163519855282,0.49707194666341881,{"$f":"+Spectre!C2825*N2826/L2826","v":0.62278487183909204},0.63684116143588831]
[6625,0.66249999999999998,2.2783908864364544,1.0073787785147588,4.6076484316700417E-2,0.99435342631081614,6.1480636158925996E-3,0.11081473729630227,0.16303928522889527,0.74061962961592376,0.86056620273419582,0.84223927492670259,1.0944445001578105,0.83432622529340594,1.0998884333924932,0.49741519409141066,{"$f":"+Spectre!C2826*N2827/L2827","v":0.62381271756578804},0.63789220569846494]
[6626,0.66259999999999997,2.2777032260204089,1.0073747691337962,4.6048491773100178E-2,0.99436186591792264,6.1388484335833712E-3,0.11079299629160189,0.16298033649828544,0.74070003964008224,0.86061292740101825,0.84229156015692375,1.0945124419937691,0.83438086704412873,1.099960467361675,0.49775819432273938,{"$f":"+Spectre!C2827*N2828/L2828","v":0.62489590414986151},0.63899983986468367]
[6627,0.66269999999999996,2.2770158768802946,1.007370761617137,4.6020520512908759E-2,0.99437029294657875,6.1296470636857253E-3,0.11077126283227309,0.16292143040886758,0.7407804002195425,0.86065962080323133,0.84234381080835186,1.0945803388964517,0.83443547284387831,1.1000324539368538,0.49810094761055801,{"$f":"+Spectre!C2828*N2829/L2829","v":0.62441471371767909},0.63850778893737392]
[6628,0.66279999999999994,2.2763288388282703,1.0073667559636179,4.5992570516683449E-2,0.99437870741542456,6.1204594854965275E-3,0.11074953691455931,0.16286256691673928,0.7408607113962199,0.86070628297027429,0.84239602691309512,1.0946481909075811,0.83449004272583005,1.1001043931617644,0.49844345420784197,{"$f":"+Spectre!C2829*N2830/L2830","v":0.6205187685750424},0.63452391209367265]
[6629,0.66290000000000004,2.2756421116766359,1.007362752172076,4.5964641765002257E-2,0.99438710934307284,6.1112856783436861E-3,0.11072781853470674,0.16280374597805269,0.74094097321199071,0.86075291393155362,0.84244820850322666,1.0947159980688346,0.83454457672312277,1.100176285080094,0.49878571436718921,{"$f":"+Spectre!C2830*N2831/L2831","v":0.6167374301185824},0.630657228615503]
[6630,0.66300000000000003,2.2749556952378351,1.0073587502413495,4.5936734238463998E-2,0.99439549874810895,6.1021256215862659E-3,0.11070610768896305,0.16274496754901333,0.74102118570869446,0.86079951371644525,0.84250035561078707,1.0947837604218471,0.8345990748688622,1.1002481297354854,0.49912772834086461,{"$f":"+Spectre!C2831*N2832/L2832","v":0.61321365124838056},0.6270539178579444]
[6631,0.66310000000000002,2.2742695893244509,1.0073547501702778,4.5908847917688102E-2,0.99440387564909127,6.0929792946140034E-3,0.11068440437357935,0.16268623158588147,0.74110134892813084,0.86084608235429161,0.84255246826778107,1.0948514780082073,0.83465353719611768,1.1003199271715336,0.49946949638088878,{"$f":"+Spectre!C2832*N2833/L2833","v":0.60981896499115806},0.62358261334090304]
[6632,0.66320000000000001,2.2735837937492089,1.0073507519577003,4.5880982783314712E-2,0.99441224006455076,6.0838466768477857E-3,0.11066270858480824,0.16262753804497074,0.74118146291206266,0.86089261987440435,0.84260454650618077,1.0949191508694609,0.83470796373792466,1.1003916774317895,0.49981101873894929,{"$f":"+Spectre!C2833*N2834/L2834","v":0.60730250521326667},0.62100935692424253]
[6633,0.6633,2.2728983083249741,1.0073467556024589,4.5853138816004578E-2,0.99442059201299138,6.0747277477391625E-3,0.11064102031890558,0.16256888688264931,0.74126152770221354,0.86093912630606273,0.84265659035792306,1.0949867790471082,0.83476235452728298,1.1004633805597563,0.50015229566644503,{"$f":"+Spectre!C2834*N2835/L2835","v":0.61017948228709062},0.62395126753248842]
[6634,0.66339999999999999,2.2722131328647541,1.0073427611033947,4.5825315996439096E-2,0.99442893151289002,6.0656224867704613E-3,0.11061933957212929,0.16251027805533885,0.74134154334026947,0.86098560167851368,0.84270859985491153,1.0950543625826066,0.83481670959715781,1.100535036598892,0.50049332741433084,{"$f":"+Spectre!C2835*N2836/L2836","v":0.6136262744674218},0.62747585400625461]
[6635,0.66349999999999998,2.2715282671816981,1.0073387684593511,4.5797514305320322E-2,0.99443725858269627,6.056530873455028E-3,0.1105976663407395,0.16245171151951485,0.74142150986787791,0.86103204602097339,0.84276057502901547,1.0951219015173679,0.83487102898048027,1.1006066455926096,0.50083411423351709,{"$f":"+Spectre!C2836*N2837/L2837","v":0.61652490556041106},0.63043990736609656]
[6636,0.66359999999999997,2.2708437110890936,1.0073347776691712,4.5769733723370731E-2,0.99444557324083305,6.0474528873365003E-3,0.11057600062099912,0.16239318723170634,0.7415014273266487,0.86107845936262539,0.8428125159120704,1.0951893958927612,0.83492531271014558,1.1006782075842745,0.50117465637429248,{"$f":"+Spectre!C2837*N2838/L2838","v":0.61849766428881914},0.63245719136999701]
[6637,0.66369999999999996,2.2701594644003698,1.0073307887317,4.5741974231333457E-2,0.99445387550569586,6.0383885079896386E-3,0.1105543424091732,0.16233470514849629,0.74158129575815324,0.8611248417326216,0.84286442253587768,1.0952568457501102,0.83497956081901525,1.1007497226172078,0.50151495408692348,{"$f":"+Spectre!C2838*N2839/L2839","v":0.62065417251066179},0.6346623721037371]
[6638,0.66379999999999995,2.2694755269290976,1.007326801645783,4.5714235809972158E-2,0.99446216539565369,6.0293377150193693E-3,0.11053269170152977,0.16227626522652128,0.74166111520392441,0.86117119316008239,0.84291629493220477,1.0953242511306953,0.83503377333991524,1.1008211907346843,0.50185500762121027,{"$f":"+Spectre!C2839*N2840/L2840","v":0.62083381414114913},0.63484606825593159]
[6639,0.66390000000000005,2.268791898488987,1.0073228164102666,4.568651844007092E-2,0.99447044292904818,6.0203004880616182E-3,0.11051104849433836,0.16221786742247091,0.74174088570545793,0.86121751367409649,0.84296813313278551,1.095391612075753,0.83508795030563754,1.1008926119799332,0.50219481722668657,{"$f":"+Spectre!C2840*N2841/L2841","v":0.6205434441786899},0.63454914462708278]
[6640,0.66400000000000003,2.2681085788938882,1.0073188330239979,4.5658822102434347E-2,0.99447870812419459,6.0112768067823417E-3,0.11048941278387156,0.16215951169308823,0.74182060730421151,0.86126380330372065,0.84301993716932022,1.0954589286264758,0.83514209174893939,1.1009639863961382,0.50253438315253085,{"$f":"+Spectre!C2841*N2842/L2842","v":0.61971547054122511},0.6337024835780366]
[6641,0.66410000000000002,2.2674255679577939,1.0073148514858252,4.5631146777887537E-2,0.99448696099938083,6.0022666508784909E-3,0.11046778456640449,0.16210119799517053,0.74190028004160335,0.86131006207798033,0.84307170707347434,1.0955262008240116,0.83519619770254294,1.1010353140264371,0.50287370564772171,{"$f":"+Spectre!C2842*N2843/L2843","v":0.61690288020989648},0.63082641292468666]
[6642,0.66420000000000001,2.2667428654948334,1.0073108717945978,4.5603492447275892E-2,0.9944952015728683,5.993270000077159E-3,0.11044616383821423,0.16204292628556727,0.7419799039590157,0.86135629002586911,0.84312344287688046,1.0955934287094649,0.83525026819913628,1.1011065949139218,0.5032127849608603,{"$f":"+Spectre!C2843*N2844/L2844","v":0.61390566397272961},0.62776154934841633]
[6643,0.6643,2.2660604713192769,1.0073068939491656,4.5575859091465262E-2,0.99450342986289164,5.984286834135823E-3,0.11042455059558037,0.16198469652118147,0.74205947909779169,0.86140248717634926,0.84317514461113763,1.0956606123238972,0.83530430327137317,1.1011778291016401,0.50355162134019249,{"$f":"+Spectre!C2844*N2845/L2845","v":0.61350314240009896},0.62734994284124457]
[6644,0.66439999999999999,2.2653783852455365,1.0073029179483797,4.5548246691341943E-2,0.99451164588765861,5.9753171328424583E-3,0.11040294483478538,0.16192650865896979,0.74213900549923639,0.86144865355835121,0.84322681230781005,1.0957277517083244,0.83535830295187219,1.101249016632593,0.50389021503385312,{"$f":"+Spectre!C2845*N2846/L2846","v":0.61600294744773176},0.62990616862944748]
[6645,0.66449999999999998,2.2646966070881609,1.0072989437910915,4.5520655227812436E-2,0.99451984966535056,5.9663608760150491E-3,0.11038134655211315,0.16186836265594062,0.74221848320461825,0.8614947892007746,0.84327844599843005,1.0957948469037209,0.8354122672732186,1.1013201575497371,0.50422856628944412,{"$f":"+Spectre!C2846*N2847/L2847","v":0.61853202253847706},0.63249232508728281]
[6646,0.66459999999999997,2.2640151366618406,1.0072949714761543,4.54930846818037E-2,0.99452804121412186,5.9574180435021957E-3,0.11035975574385111,0.161810258469157,0.74229791225516639,0.86154089413248669,0.84333004571449477,1.0958618979510157,0.83546619626796204,1.1013912518959827,0.50456667535438982,{"$f":"+Spectre!C2847*N2848/L2848","v":0.61216931004372932},0.62598600581354702]
[6647,0.66469999999999996,2.2633339737814038,1.0072910010024214,4.5465535034262865E-2,0.99453622055210045,5.9484886151825013E-3,0.11033817240628832,0.16175219605573368,0.74237729269207275,0.86158696838232396,0.8433816114874686,1.0959289048910952,0.8355200899686186,1.1014622997141956,0.50490454247580363,{"$f":"+Spectre!C2848*N2849/L2849","v":0.60427809270742172},0.61791668325797988]
[6648,0.66479999999999995,2.2626531182618197,1.0072870323687473,4.5438006266157467E-2,0.99454438769738773,5.9395725709646859E-3,0.11031659653571667,0.16169417537283881,0.74245662455649164,0.86163301197909103,0.84343314334878194,1.0959958677648014,0.83557394840766941,1.1015333010471953,0.50524216790042153,{"$f":"+Spectre!C2849*N2850/L2850","v":0.59891600933880651},0.6124335773660512]
[6649,0.66490000000000005,2.2619725699181941,1.0072830655739873,4.5410498358475111E-2,0.99455254266805859,5.9306698907875908E-3,0.11029502812842998,0.16163619637769266,0.74253590788953971,0.86167902495156212,0.84348464132983247,1.0960627866129338,0.83562777161756241,1.1016042559377581,0.50557955187482406,{"$f":"+Spectre!C2850*N2851/L2851","v":0.6006128339910638},0.61416869944617747]
[6650,0.66500000000000004,2.2612923285657751,1.0072791006169981,4.538301129222385E-2,0.99456068548216126,5.9217805546202904E-3,0.11027346718072509,0.16157825902756923,0.74261514273229501,0.86172500732847879,0.84353610546198332,1.0961296614762472,0.83568155963070989,1.1016751644286129,0.50591669464514766,{"$f":"+Spectre!C2851*N2852/L2852","v":0.6024402361053699},0.6160373461290175]
[6651,0.66510000000000002,2.2606123940199474,1.0072751374966367,4.535554504843177E-2,0.99456881615771764,5.9129045424617267E-3,0.11025191368890053,0.16152036327979402,0.74269432912579902,0.86177095913855262,0.8435875357765652,1.0961964923954541,0.83573531247949118,1.101746026562445,0.50625359645730672,{"$f":"+Spectre!C2852*N2853/L2853","v":0.60500836282162451},0.61866343560974701]
[6652,0.66520000000000001,2.2599327660962358,1.007271176211761,4.532809960814721E-2,0.99457693471272324,5.9040418343408261E-3,0.11023036764925788,0.16146250909174592,0.7427734671110543,0.861816880410463,0.84363893230487463,1.0962632794112228,0.83578903019625017,1.1018168423818935,0.50659025755686038,{"$f":"+Spectre!C2853*N2854/L2854","v":0.60788692950500844},0.62160697170513002]
[6653,0.6653,2.2592534446103012,1.0072672167612304,4.5300674952438565E-2,0.99458504116514701,5.8951924103166171E-3,0.11020882905810041,0.16140469642085559,0.74285255672902728,0.86186277117285859,0.84369029507817572,1.096330022564179,0.83584271281329825,1.1018876119295542,0.50692667818916792,{"$f":"+Spectre!C2854*N2855/L2855","v":0.61041942009959849},0.6241966207549241]
[6654,{"$f":"+A2856/10000","v":0.66539999999999999},{"$f":"+(1/B2856)^2","v":2.2585744293779464},{"$f":"0.23465+1.076*100/(146-C2856)+0.93161/(41-C2856)","v":1.0072632591439048},{"$f":"9.4977*0.001*C2856^2*D2856*EXP(-h/7.996/1000)","v":4.5273271062394482E-2},{"$f":"+EXP(-0.0168*EXP(-15*ABS(B2856-0.59)))","v":0.99459313553293172},{"$f":"-2.5*LOG(F2856)","v":5.8863562504778647E-3},{"$f":"2.5*LOG(EXP(AOD*(B2856/0.55)^(-1.3)))","v":0.11018729791173487},{"$f":"+E2856+G2856+H2856","v":0.16134692522460722},{"$f":"10^(-0.4*I2856*ma)","v":0.74293159802064468},{"$f":"10^(-0.4*I2856)","v":0.86190863145435626},{"$f":"10^(-0.4*I2856*ma_ref)","v":0.84374162412769782},{"$f":"+L2856/M$1","v":1.096396721894904},{"$f":"10^(-0.4*I2856*ma_target)","v":0.83589636036291037},{"$f":"+N2856/O$1","v":1.1019583352479749},{"$f":"(O2856/M2856-1)*100","v":0.50726285859910014},{"$f":"+Spectre!C2855*N2856/L2856","v":0.60070950712612881},0.6142675544993399]
[6655,0.66549999999999998,2.2578957202151098,1.0072593033586446,4.5245887919123581E-2,0.99460121783399391,5.8775333349430636E-3,0.11016577420646907,0.16128919546053572,0.74301059102679801,0.86195446128354303,0.84379291948463875,1.0964633774439372,0.83594997287732997,1.1020290123796621,0.50759879903143901,{"$f":"+Spectre!C2856*N2857/L2857","v":0.5893074898332562},0.60260819303466207]
[6656,0.66559999999999997,2.25721731693787,1.0072553494043117,4.5218525503754659E-2,0.99460928808622362,5.8687236438608034E-3,0.11014425793861403,0.16123150708622949,0.74308953578833947,0.86200026068897362,0.8438441811801618,1.0965299892517739,0.83600355038876495,1.1020996433670756,0.50793449973056681,{"$f":"+Spectre!C2857*N2858/L2858","v":0.58487155024105753},0.59807213403629067]
[6657,0.66569999999999996,2.2565392193624425,1.0072513972797685,4.5191183797436502E-2,0.99461734630748488,5.8599271574091508E-3,0.11012274910448337,0.16117386005932902,0.74316843234608421,0.86204602969917199,0.84389540924539708,1.0965965573588661,0.83605709292938901,1.1021702282526293,0.50826996094055499,{"$f":"+Spectre!C2858*N2859/L2859","v":0.59469944336102021},0.6081218432569121]
[6658,0.66579999999999995,2.2558614273051814,1.0072474469838786,4.5163862781337945E-2,0.99462539251561533,5.851143855796141E-3,0.11010124770039198,0.16111625433752608,0.74324728074081003,0.86209176834263124,0.84394660371144259,1.0966630818056236,0.8361106005313429,1.1022407670786945,0.5086051829051641,{"$f":"+Spectre!C2859*N2860/L2860","v":0.60446236732896941},0.61810511696810366]
[6659,0.66590000000000005,2.2551839405825778,1.0072434985155065,4.5136562436647827E-2,0.99463342672842658,5.8423737192592803E-3,0.11007975372265827,0.16105868987856536,0.74332608101325726,0.86213747664781337,0.84399776460936204,1.0967295626324123,0.83616407322673281,1.1023112598875966,0.50894016586795487,{"$f":"+Spectre!C2860*N2861/L2861","v":0.61140329646859326},0.62520270326892236]
[6660,0.66600000000000004,2.2545067590112633,1.0072395518735173,4.510928274457502E-2,0.99464144896370421,5.8336167280656675E-3,0.11005826716760271,0.16100116664024339,0.74340483320412809,0.86218315464314932,0.8440488919701864,1.0967959998795553,0.83621751104763098,1.1023817067216164,0.50927491007211056,{"$f":"+Spectre!C2861*N2862/L2862","v":0.61664226001970934},0.63055991052214388]
[6661,0.66610000000000003,2.2538298824080032,1.0072356070567769,4.5082023686348206E-2,0.99464945923920745,5.8248728625122361E-3,0.11003678803154779,0.16094368458040823,0.74348353735408823,0.86222880235703936,0.84409998582491397,1.0968623935873332,0.83627091402607601,1.1024521076229903,0.50960941576050356,{"$f":"+Spectre!C2862*N2863/L2863","v":0.62094030033574821},0.63495495784993394]
[6662,0.66620000000000001,2.253153310589703,1.0072316640641525,4.5054785243216121E-2,0.99465745757266977,5.816142102925137E-3,0.11001531631081871,0.16088624365695997,0.7435621935037654,0.86227441981785258,0.84415104620450931,1.0969287437959825,0.83632428219407262,1.1025224626339096,0.5099436831757842,{"$f":"+Spectre!C2863*N2864/L2864","v":0.61552799151490201},0.62942049291449165]
[6663,0.6663,2.2524770433734052,1.0072277228945121,4.5027567396447393E-2,0.99466544398179835,5.8074244296603492E-3,0.10999385200174272,0.16082884382785045,0.74364080169375024,0.86232000705392742,0.84420207313990481,1.0969950505456985,0.83637761558359158,1.1025927717965214,0.51027771256018095,{"$f":"+Spectre!C2864*N2865/L2865","v":0.60921503608367678},0.62296505372400146]
[6664,0.66639999999999999,2.2518010805762887,1.0072237835467241,4.5000370127330477E-2,0.99467341848427482,5.7987198231028211E-3,0.10997239510064999,0.1607714850510833,0.74371936196459576,0.86236556409357135,0.84425306666199906,1.0970613138766321,0.83643091422657023,1.1026630351529287,0.51061150415578904,{"$f":"+Spectre!C2865*N2866/L2866","v":0.60599307244809275},0.61967037018788684]
[6665,0.66649999999999998,2.2511254220156691,1.0072198460196586,4.4973193417173693E-2,0.99468138109775439,5.7900282636674395E-3,0.10995094560387274,0.16071416728471388,0.74379787435681755,0.86241109096506074,0.84430402680165817,1.0971275338288919,0.83648417815491183,1.1027332527451894,0.51094505820430403,{"$f":"+Spectre!C2866*N2867/L2867","v":0.60770645401441936},0.62142242287256444]
[6666,0.66659999999999997,2.2504500675090009,1.007215910312186,4.494603724730524E-2,0.99468933183986674,5.7813497317980595E-3,0.10992950350774522,0.1606568904868485,0.74387633891089455,0.86245658769664224,0.84435495358971546,1.0971937104425449,0.83653740740048632,1.1028034246153173,0.51127837494711059,{"$f":"+Spectre!C2867*N2868/L2868","v":0.60912778235174148},0.62287583067042729]
[6667,0.66669999999999996,2.2497750168738753,1.0072119764231775,4.4918901599073129E-2,0.99469727072821557,5.7726842079679815E-3,0.10990806880860458,0.16059965461564568,0.74395475566726765,0.8625020543165306,0.84440584705697108,1.0972598437576133,0.83659060199512969,1.1028735508052816,0.51161145462537139,{"$f":"+Spectre!C2868*N2869/L2869","v":0.61234380329763038},0.62616443739000605]
[6668,0.66679999999999995,2.2491002699280185,1.0072080443515055,4.4891786453845089E-2,0.99470519778037869,5.7640316726798252E-3,0.10988664150279032,0.16054245962931524,0.74403312466634075,0.86254749085291038,0.84445670723419231,1.0973259338140782,0.83664376197064427,1.1029436313570076,0.51194429747991599,{"$f":"+Spectre!C2869*N2870/L2870","v":0.61610794353393206},0.63001353448322073]
[6669,0.66690000000000005,2.2484258264892936,1.0072041140960433,4.4864691793008636E-2,0.99471311301390819,5.7553921064654109E-3,0.10986522158664364,0.16048530548611767,0.744111445948481,0.86259289733393563,0.84450753415211433,1.0973919806518782,0.83669688735879921,1.103013666312376,0.51227690375124091,{"$f":"+Spectre!C2870*N2871/L2871","v":0.61939260870813406},0.63337233473520771]
[6670,0.66700000000000004,2.2477516863757026,1.0072001856556647,4.4837617597971086E-2,0.99472101644633049,5.7467654898856312E-3,0.10984380905650902,0.16042819214436574,0.74418971955401758,0.86263827378772939,0.84455832784143836,1.0974579843109074,0.83674997819132946,1.1030836557132229,0.51260927367966502,{"$f":"+Spectre!C2871*N2872/L2872","v":0.62035315266687208},0.63435455822513698]
[6671,0.66710000000000003,2.2470778494053816,1.0071962590292451,4.4810563850159406E-2,0.99472890809514614,5.7381518035306885E-3,0.10982240390873242,0.1603711195624225,0.74426794552324338,0.86268362024238432,0.8446090883328341,1.0975239448310199,0.83680303449993743,1.1031535996013415,0.51294140750508532,{"$f":"+Spectre!C2872*N2873/L2873","v":0.62122874020493157},0.63524990782319313]
[6672,0.66720000000000002,2.2464043153966036,1.0071923342156599,4.4783530531020237E-2,0.99473678797783027,5.7295510280196086E-3,0.10980100613966307,0.16031408769870292,0.74434612389641297,0.86272893672596251,0.84465981565693782,1.0975898622520259,0.83685605631629079,1.1032234980184794,0.51327330546715455,{"$f":"+Spectre!C2873*N2874/L2874","v":0.62085794062168187},0.63487073927248738]
[6673,0.6673,2.2457310841677778,1.0071884112137859,4.4756517622019924E-2,0.99474465611183205,5.7209631440008468E-3,0.10977961574565145,0.16025709651167222,0.74442425471374529,0.862774223266496,0.84471050984435336,1.0976557366136932,0.83690904367202523,1.1032933510063414,0.51360496780534781,{"$f":"+Spectre!C2874*N2875/L2875","v":0.61903471446581504},0.63300636279970346]
[6674,0.66739999999999999,2.2450581555374489,1.0071844900225007,4.4729525104644424E-2,0.9947525125145753,5.7123881321515481E-3,0.10975823272305175,0.16020014595984772,0.74450233801542076,0.86281947989198504,0.84476117092565206,1.0977215679557477,0.83696199659874149,1.1033631586065866,0.5139363947585629,{"$f":"+Spectre!C2875*N2876/L2876","v":0.61693576222134539},0.63086003708498406]
[6675,0.66749999999999998,2.2443855293242998,1.0071805706406829,4.4702552960399398E-2,0.99476035720345823,5.7038259731779176E-3,0.10973685706821905,0.16014323600179636,0.74458037384158393,0.86286470663040082,0.84481179893137259,1.0977873563178726,0.83701491512800841,1.1034329208608324,0.51426758656574201,{"$f":"+Spectre!C2876*N2877/L2877","v":0.62110967329280331},0.63512815356415908]
[6676,0.66759999999999997,2.2437132053471456,1.0071766530672117,4.4675601170809952E-2,0.99476819019585339,5.6952766478152103E-3,0.10971548877751182,0.16008636659613698,0.74465836223234161,0.86290990350968344,0.84486239389202078,1.0978531017397088,0.8370677992913601,1.1035026378106498,0.51459854346529443,{"$f":"+Spectre!C2877*N2878/L2878","v":0.62634618463282965},0.64048285325974863]
[6677,0.66769999999999996,2.24304118342494,1.0071727373009669,4.4648669717420868E-2,0.99477601150910799,5.686740136827368E-3,0.10969412784729074,0.16002953770153899,0.7447363032277633,0.86295507055774234,0.84491295583807025,1.0979188042608552,0.83712064912029827,1.1035723094975676,0.51492926569542963,{"$f":"+Spectre!C2878*N2879/L2879","v":0.62928022498983061},0.64348311507268341]
[6678,0.66779999999999995,2.2423694633767703,1.00716882334083,4.4621758581796435E-2,0.99478382116054387,5.6782164210071344E-3,0.10967277427391822,0.15997274927672178,0.74481419686788319,0.86300020780245756,0.84496348479996253,1.0979844639208687,0.83717346464629161,1.1036419359630705,0.51525975349406838,{"$f":"+Spectre!C2879*N2880/L2880","v":0.62488106745315686},0.63898466830289957]
[6679,0.66790000000000005,2.24169804502186,1.0071649111856831,4.4594867745520475E-2,0.99479161916745718,5.6697054811762938E-3,0.10965142805375946,0.15991600128045624,0.74489204319269686,0.86304531527167794,0.84501398080810586,1.0980500807592632,0.83722624590077488,1.1037115172485992,0.51559000709888725,{"$f":"+Spectre!C2880*N2881/L2881","v":0.62024450048088575},0.6342434537531999]
[6680,0.66800000000000004,2.2410269281795685,1.0071610008344085,4.4567997190196315E-2,0.99479940554711888,5.661207298185188E-3,0.10963008918318229,0.15985929367156379,0.74496984224216312,0.86309039299322232,0.84506444389287672,1.0981156548155113,0.83727899291514962,1.1037810533955497,0.51592002674709647,{"$f":"+Spectre!C2881*N2882/L2882","v":0.6153513526614377},0.62923986731216652]
[6681,0.66810000000000003,2.2403561126693909,1.0071570922858901,4.4541146897446801E-2,0.99480718031677451,5.6527218529129472E-3,0.10960875765855645,0.15980262640891618,0.74504759405620458,0.86313544099487893,0.84511487408461872,1.0981811861290431,0.83733170572078441,1.1038505444452755,0.51624981267583969,{"$f":"+Spectre!C2882*N2883/L2883","v":0.61037198208425392},{"$f":"+Q2883/R$1","v":0.62414811206090415}]
[6682,0.66820000000000002,2.2396855983109547,1.0071531855390126,4.4514316848914125E-2,0.99481494349364452,5.6442491262671309E-3,0.10958743347625383,0.15974599945143508,0.745125298674707,0.8631804593044069,0.84516527141364373,1.098246674739247,0.8373843843490153,1.1039199904390866,0.51657936512183866,{"$f":"+Spectre!C2883*N2884/L2884","v":0.6052355482586812},0.61889574863490004]
[6683,0.66830000000000001,2.2390153849240244,1.0071492805926612,4.4487507026259969E-2,0.99482269509492371,5.6357890991843278E-3,0.10956611663264945,0.15968941275809376,0.7452029561375183,0.86322544794953382,0.84521563591023052,1.0983121206854687,0.83743702883114413,1.1039893914182479,0.51690868432154868,{"$f":"+Spectre!C2884*N2885/L2885","v":0.60683578909377545},0.62053210699567585]
[6684,0.66839999999999999,2.2383454723284988,1.0071453774457222,4.4460717411165397E-2,0.99483043513778202,5.627341752629301E-3,0.10954480712411971,0.1596328662879144,0.74528056648445129,0.86327040695795798,0.84526596760462669,1.0983775240070133,0.83748963919844066,1.1040587474239827,0.5172377705111364,{"$f":"+Spectre!C2885*N2886/L2886","v":0.60896182706809576},0.6227061297666926]
[6685,0.66849999999999998,2.2376758603444116,1.0071414760970827,4.4433947985330909E-2,0.99483816363936384,5.6189070675957157E-3,0.10952350494704394,0.15957635999997055,0.74535812975528026,0.86331533635734703,0.84531626652704639,1.0984428847431424,0.83754221548214114,1.1041280584974691,0.5175666239265686,{"$f":"+Spectre!C2886*N2887/L2887","v":0.61219040742940156},0.6260075793684009]
[6686,0.66859999999999997,2.2370065487919315,1.007137576545631,4.440719873047632E-2,0.9948458806167888,5.6104850251052852E-3,0.10950221009780359,0.15951989385338519,0.74543564598974388,0.86336023617533897,0.84536653270767248,1.098508202933077,0.83759475771344893,1.1041973246798424,0.51789524480336802,{"$f":"+Spectre!C2887*N2888/L2888","v":0.61753233481089365},0.63147007435144298]
[6687,0.66869999999999996,2.2363375374913605,1.0071336787902558,4.4380469628340795E-2,0.99485358608715102,5.6020756062086195E-3,0.10948092257278268,0.15946346780733209,0.74551311522754349,0.86340510643954138,0.84541676617665507,1.098573478615996,0.83764726592353411,1.1042665460121941,0.5182236333768353,{"$f":"+Spectre!C2888*N2889/L2889","v":0.62308357521204649},0.63714660656077615]
[6688,0.66879999999999995,2.2356688262631352,1.0071297828298467,4.4353760660682744E-2,0.99486128006751984,5.5936787919843699E-3,0.10945964236836703,0.15940708182103414,0.74559053750834448,0.86344994717753243,0.84546696696411283,1.0986387118310363,0.83769974014353488,1.1043357225355737,0.51855178988209349,{"$f":"+Spectre!C2889*N2890/L2890","v":0.61823742823373196},0.63219108177250505]
[6689,0.66890000000000005,2.2350004149278271,1.0071258886632946,4.4327071809279951E-2,0.9948689625749394,5.5852945635397108E-3,0.10943836948094543,0.15935073585376508,0.74566791287177481,0.86349475841685952,0.84551713510013149,1.0987039026172931,0.83775218040455512,1.104404854290985,0.51887971455377713,{"$f":"+Spectre!C2890*N2891/L2891","v":0.6064809424445341},0.6201692514375966]
[6690,0.66900000000000004,2.2343323033061413,1.0071219962894906,4.430040305592943E-2,0.99487663362642875,5.5769229020102189E-3,0.10941710390690867,0.15929442986484832,0.74574524135742593,0.86353954018504042,0.84556727061476511,1.0987690510138197,0.83780458673766689,1.1044739413193903,0.51920740762645412,{"$f":"+Spectre!C2891*N2892/L2892","v":0.59551822890137651},0.6089591088329811]
[6691,0.66910000000000003,2.2336644912189172,1.0071181057073275,4.4273754382447426E-2,0.99488429323898209,5.5685637885596224E-3,0.10939584564264969,0.15923816381365674,0.74582252300485319,0.86358429250956326,0.84561737353803568,1.0988341570596285,0.83785695917390901,1.104542983661708,0.5195348693342261,{"$f":"+Spectre!C2892*N2893/L2893","v":0.59445837127110968},0.60787533015636896]
[6692,0.66920000000000002,2.2329969784871282,1.0071142169156981,4.4247125770669457E-2,0.9948919414295686,5.560217204379922E-3,0.10937459468456404,0.15918193765961342,0.74589975785357465,0.86362901541788573,0.84566744389993354,1.0988992207936901,0.83790929774428757,1.1046119813588131,0.51986209991095045,{"$f":"+Spectre!C2893*N2894/L2894","v":0.59386755429537741},0.60727117840825362]
[6693,0.66930000000000001,2.2323297649318805,1.0071103299134965,4.4220517202450134E-2,0.99489957821513264,5.5518831306912682E-3,0.1093533510290494,0.15912575136219081,0.74597694594307251,0.86367370893743611,0.8457174817304165,1.0989642422549331,0.83796160247977625,1.1046809344515383,0.5201890995902847,{"$f":"+Spectre!C2894*N2895/L2895","v":0.59458216039659384},0.60800191320937991]
[6694,0.6694,2.2316628503744154,1.0071064446996176,4.4193928659663338E-2,0.99490720361259366,5.5435615487419536E-3,0.10933211467250614,0.15906960488091143,0.74605408731279188,0.8637183730956125,0.84576748705941063,1.0990292214822446,0.83801387341131517,1.1047498429806715,0.52051586860553112,{"$f":"+Spectre!C2895*N2896/L2896","v":0.59725960297665437},0.61073978581911181]
[6695,0.66949999999999998,2.230996234636105,1.0071025612729576,4.4167360124202019E-2,0.99491481763884615,5.535252439808536E-3,0.10931088561133606,0.1590134981753466,0.7461311820021419,0.86376300791978389,0.84581745991681045,1.0990941585144711,0.83806611056981317,1.1048187069869599,0.52084240718976993,{"$f":"+Spectre!C2896*N2897/L2897","v":0.59994625022547099},0.61348707084749154]
[6696,0.66959999999999997,2.2303299175384579,1.0070986796324126,4.4140811577978299E-2,0.99492242031075995,5.5269557851954634E-3,0.1092896638419443,0.15895743120511807,0.74620823005049486,0.86380761343728862,0.8458674003324782,1.0991590533904172,0.838118313986145,1.1048875265111058,0.52116871557568167,{"$f":"+Spectre!C2897*N2898/L2898","v":0.60073298300570277},0.61429156023083664]
[6697,0.66969999999999996,2.2296638989031146,1.0070947997768802,4.4114283002923395E-2,0.99493001164518025,5.5186715662350824E-3,0.10926844936073785,0.15890140392989632,0.74628523149718673,0.86385218967543609,0.84591730833624457,1.0992239061488458,0.83817048369115355,1.1049563015937687,0.52149479399574705,{"$f":"+Spectre!C2898*N2899/L2899","v":0.60058675927759697},0.61414203622496066]
[6698,0.66979999999999995,2.2289981785518487,1.0070909217052588,4.4087774380987606E-2,0.99493759165892703,5.5103997642882334E-3,0.10924724216412572,0.15884541630940158,0.74636218638151708,0.86389673666150535,0.84596718395790804,1.0992887168284786,0.83822261971564893,1.1050250322755657,0.52182064268218031,{"$f":"+Spectre!C2899*N2900/L2900","v":0.60008127155673907},0.61362513961780296]
[6699,0.66990000000000005,2.2283327563065658,1.0070870454164478,4.4061285694140237E-2,0.99494516036879621,5.5021403607430335E-3,0.10922604224851978,0.15878946830340307,0.74643909474274917,0.86394125442274639,0.84601702722723615,1.0993534854679972,0.8382747220904091,1.1050937185970711,0.52214626186684043,{"$f":"+Spectre!C2900*N2901/L2901","v":0.59626594880476524},0.60972370481665783]
[6700,0.67,2.227667631989307,1.0070831709093471,4.4034816924369731E-2,0.99495271779155847,5.4938933370160918E-3,0.109204849610334,0.15873355987171983,0.74651595662010939,0.86398574298637876,0.84606683817396333,1.0994182121060394,0.83832679084617867,1.1051623605988157,0.52247165178143096,{"$f":"+Spectre!C2901*N2902/L2902","v":0.59209775012665533},0.60546142965986993]
[6701,0.67010000000000003,2.2270028054222437,1.0070792981828574,4.4008368053683432E-2,0.99496026394396031,5.4856586745514122E-3,0.10918366424598433,0.15867769097421919,0.74659277205278873,0.8640302023795936,0.84611661682779404,1.0994828967812051,0.83837882601367075,1.105230958321288,0.52279681265716693,{"$f":"+Spectre!C2902*N2903/L2903","v":0.59233915146575999},0.6057082794407801]
[6702,0.67020000000000002,2.2263382764276813,1.0070754272358806,4.3981939064107724E-2,0.99496779884272346,5.4774363548209977E-3,0.10916248615188937,0.15862186157081809,0.74666954107994132,0.86407463262955175,0.8461663632184,1.0995475395320506,0.83843082762356547,1.105299511804934,0.523121744725219,{"$f":"+Spectre!C2903*N2904/L2904","v":0.59845789037528929},0.61196511863175251]
[6703,0.67030000000000001,2.2256740448280579,1.0070715580673195,4.3955529937687969E-2,0.9949753225045449,5.4692263593248422E-3,0.10914131532447004,0.15856607162148284,0.74674626374068476,0.86411903376338417,0.84621607737542126,1.0996121403970918,0.8384827957065103,1.1053680210901558,0.5234464482163137,{"$f":"+Spectre!C2904*N2905/L2905","v":0.60449072433337125},0.61813411399169027]
[6704,0.6704,2.2250101104459419,1.0070676906760774,4.392914065648839E-2,0.99498283494609752,5.4610286695902076E-3,0.1091201517601495,0.15851032108622809,0.74682294007410088,0.86416340580819306,0.84626575932846659,1.0996766994148035,0.83853473029312109,1.1054364862173141,0.52377092336097775,{"$f":"+Spectre!C2905*N2906/L2906","v":0.60554413986879962},0.61921130517502099]
[6705,0.67049999999999998,2.2243464731040365,1.0070638250610584,4.3902771202592221E-2,0.99499033618402943,5.4528432671723439E-3,0.10909899545535283,0.1584546099251174,0.74689957011923558,0.864207748791051,0.84631540910711367,1.0997412166236205,0.83858663141398104,1.1055049072267267,0.52409517038942699,{"$f":"+Spectre!C2906*N2907/L2907","v":0.60518689537911685},0.61884599765710668]
[6706,0.67059999999999997,2.223683132625176,1.0070599612211681,4.3876421558101543E-2,0.99499782623496424,5.4446701336542426E-3,0.10907784640650815,0.15839893809826394,0.7469761539150972,0.86425206273900068,0.84636502674090752,1.099805692061935,0.83863849909964028,1.1055732841586676,0.5244191895314998,{"$f":"+Spectre!C2907*N2908/L2908","v":0.6040956822427469},0.61773015577885448]
[6707,0.67069999999999996,2.2230200888323277,1.0070560991553124,4.3850091705137345E-2,0.99500530511550145,5.436509250646154E-3,0.10905670461004513,0.15834330556582862,0.74705269150065967,0.86429634767905628,0.84641461225936265,1.0998701257680994,0.83869033338061805,1.1056416170533703,0.52474298101699013,{"$f":"+Spectre!C2908*N2909/L2909","v":0.59988794636317522},0.61342745106374341]
[6708,0.67079999999999995,2.2223573415485887,1.0070522388623977,4.3823781625839386E-2,0.9950127728422159,5.4283605997861818E-3,0.10903557006239607,0.15828771228802163,0.74712918291485986,0.86434060363820164,0.84646416569196192,1.0999345177804249,0.83874213428740041,1.1057099059510243,0.52506654507520345,{"$f":"+Spectre!C2909*N2910/L2910","v":0.5955036444342684},0.60894419519362974]
[6709,0.67090000000000005,2.2216948905971892,1.0070483803413321,4.37974913023663E-2,0.99502022943165813,5.4202241627399235E-3,0.10901444275999558,0.15823215822510181,0.7472056281965983,0.86438483064339189,0.84651368706815644,1.099998868137182,0.83879390185044156,1.1057781508917774,0.52538988193528979,{"$f":"+Spectre!C2910*N2911/L2911","v":0.59332220203000063},0.60671351751156444]
[6710,0.67100000000000004,2.2210327358014932,1.0070445235910244,4.3771220716895633E-2,0.9950276749003546,5.4120999212002238E-3,0.10899332269928055,0.15817664333737641,0.74728202738474014,0.86442902872155269,0.84656317641736623,1.1000631768766003,0.83884563610016316,1.1058463519157342,0.5257129918259773,{"$f":"+Spectre!C2911*N2912/L2912","v":0.59356608857712545},0.60696290859177948]
[6711,0.67110000000000003,2.2203708769849917,1.0070406686103834,4.3744969851623468E-2,0.9950351092648072,5.4039878568876536E-3,0.10897220987668998,0.15812116758520112,0.74735838051811387,0.86447319789958055,0.84661263376897988,1.1001274440368685,0.83889733706695535,1.1059145090629579,0.52603587497590532,{"$f":"+Spectre!C2912*N2913/L2913","v":0.59352395935640179},0.60691982851217385]
[6712,0.67120000000000002,2.219709313971312,1.00703681539832,4.3718738688764913E-2,0.99504253254149377,5.3958879515500231E-3,0.10895110428866552,0.15806573092898046,0.74743468763551235,0.8645173382043424,0.84666205915235426,1.1001916696561345,0.83894900478117551,1.1059826223734686,0.52635853161331347,{"$f":"+Spectre!C2913*N2914/L2914","v":0.59742447979888125},0.61090838392049274]
[6713,0.67130000000000001,2.2190480465842088,1.0070329639537448,4.369252721055359E-2,0.99504994474686781,5.387800186962625E-3,0.10893000593165052,0.15801033332916672,0.74751094877569257,0.86456144966267645,0.84671145259681602,1.1002558537725065,0.83900063927314961,1.1060506918872448,0.52668096196619718,{"$f":"+Spectre!C2914*N2915/L2915","v":0.6019219964728062},0.61550740979878937]
[6714,0.6714,2.2183870746475711,1.0070291142755698,4.3666335399241987E-2,0.99505734589735884,5.3797245449278613E-3,0.10890891480209122,0.15795497474626108,0.74758716397737479,0.86460553230139126,0.84676081413165938,1.1003199964240509,0.83905224057317118,1.1061187176442222,0.52700316626224097,{"$f":"+Spectre!C2915*N2916/L2916","v":0.60559222322898898},0.61926047377935511]
[6715,0.67149999999999999,2.2177263979854174,1.0070252663627077,4.3640163237101223E-2,0.99506473600937195,5.3716610072757302E-3,0.10888783089643578,0.15789965514081272,0.74766333327924395,0.86464958614726672,0.84681014378614794,1.1003840976487942,0.83910380871150148,1.1061866996842942,0.52732514472886294,{"$f":"+Spectre!C2916*N2917/L2917","v":0.60678537689694112},0.62048055699272264]
[6716,0.67159999999999997,2.2170660164218967,1.0070214202140726,4.3614010706421055E-2,0.99507211509928861,5.3636095558629729E-3,0.10886675421113479,0.15784437447341881,0.74773945671994912,0.86469361122705335,0.84685944158951409,1.1004481574847222,0.83915534371837064,1.1062546380473133,0.52764689759332573,{"$f":"+Spectre!C2917*N2918/L2918","v":0.60800260911781256},0.6217252622133036]
[6717,0.67169999999999996,2.2164059297812901,1.0070175758285786,4.3587877789509948E-2,0.99507948318346573,5.3555701725740415E-3,0.10884568474264077,0.15778913270472475,0.74781553433810366,0.86473760756747264,0.84690870757095904,1.1005121759697805,0.83920684562397629,1.1063225327730883,0.5279684250824257,{"$f":"+Spectre!C2918*N2919/L2919","v":0.60576921136123141},0.61944145654369998]
[6718,{"$f":"+A2920/10000","v":0.67179999999999995},{"$f":"+(1/B2920)^2","v":2.2157461378880097},{"$f":"0.23465+1.076*100/(146-C2920)+0.93161/(41-C2920)","v":1.0070137332051408},{"$f":"9.4977*0.001*C2920^2*D2920*EXP(-h/7.996/1000)","v":4.356176446869494E-2},{"$f":"+EXP(-0.0168*EXP(-15*ABS(B2920-0.59)))","v":0.99508684027823646},{"$f":"-2.5*LOG(F2920)","v":5.347542839320242E-3},{"$f":"2.5*LOG(EXP(AOD*(B2920/0.55)^(-1.3)))","v":0.10882462248740907},{"$f":"+E2920+G2920+H2920","v":0.15773392979542425},{"$f":"10^(-0.4*I2920*ma)","v":0.74789156617228425},{"$f":"10^(-0.4*I2920)","v":0.86478157519521714},{"$f":"10^(-0.4*I2920*ma_ref)","v":0.84695794175965289},{"$f":"+L2920/M$1","v":1.1005761531418736},{"$f":"10^(-0.4*I2920*ma_target)","v":0.83925831445848398},{"$f":"+N2920/O$1","v":1.1063903839013869},{"$f":"(O2920/M2920-1)*100","v":0.52828972742278157},{"$f":"+Spectre!C2919*N2920/L2920","v":0.60067586227994207},0.61423315028708181]
[6719,0.67190000000000005,2.2150866405665957,1.0070098923426758,4.3535670726321682E-2,0.99509418639990987,5.3395275380401048E-3,0.10880356744189684,0.15767876570625863,0.74796755226103273,0.86482551413695019,0.84700714418473444,1.1006400890388663,0.83930975025202803,1.1064581914719347,0.52861080484074563,{"$f":"+Spectre!C2920*N2921/L2921","v":0.59569794089142414},0.60914287693275504]
[6720,0.67200000000000004,2.214427437641723,1.0070060532401004,4.3509596544754461E-2,0.99510152156477116,5.3315242506991314E-3,0.10878251960256381,0.15762364039801741,0.7480434926428543,0.86486942441930659,0.84705631487531186,1.100703983698583,0.83936115303471037,1.1065259555244149,0.52893165756235927,{"$f":"+Spectre!C2921*N2922/L2922","v":0.59436265999194071},0.60777745866824417]
[6721,0.67210000000000003,2.2137685289381941,1.0070022158963323,4.3483541906376058E-2,0.99510884578908143,5.3235329592900369E-3,0.10876147896587168,0.15756855383153778,0.74811938735621886,0.8649133060688915,0.84710545386046177,1.100767837158807,0.83941252283660139,1.1065936760984696,0.52925228581348627,{"$f":"+Spectre!C2922*N2923/L2923","v":0.59321007648177682},0.60659886128340879]
[6722,0.67220000000000002,2.2131099142809414,1.00699838031029,4.3457506793587751E-2,0.99511615908907813,5.3155536458322607E-3,0.10874044552828452,0.15751350596770453,0.74819523643956087,0.86495715911228221,0.84715456116923049,1.1008316494572827,0.83946385968774007,1.1066613532336984,0.5295726898195241,{"$f":"+Spectre!C2923*N2924/L2924","v":0.59263133823302472},0.60600706087982104]
[6723,0.67230000000000001,2.2124515934950297,1.0069945464808934,4.3431491188809443E-2,0.99512346148097452,5.307586292372571E-3,0.10871941928626909,0.15745849676745111,0.74827103993127797,0.86500098357602562,0.84720363683063249,1.1008954206317125,0.83951516361813239,1.1067289869696586,0.52989286980580363,{"$f":"+Spectre!C2924*N2925/L2925","v":0.59305201358850412},0.60643723090174184]
[6724,0.6724,2.2117935664056514,1.0069907144070627,4.3405495074479418E-2,0.99513075298096054,5.2996308809840935E-3,0.10869840023629362,0.15740352619175713,0.74834679786973346,0.8650447794866416,0.84725268087365246,1.1009591507197607,0.83956643465775449,1.1067965773458672,0.53021282599725605,{"$f":"+Spectre!C2925*N2926/L2926","v":0.59346627565511911},0.60686084288650777]
[6725,0.67249999999999999,2.2111358328381314,1.006986884087719,4.3379518433054522E-2,0.9951380336052017,5.2916873937675175E-3,0.10867738837482921,0.15734859420165126,0.7484225102932538,0.86508854687061953,0.84730169332724292,1.1010228397590494,0.83961767283654898,1.1068641244017978,0.5305325586185683,{"$f":"+Spectre!C2926*N2927/L2927","v":0.59434661061283545},0.60776104705374956]
[6726,0.67259999999999998,2.2104783926179219,1.006983055521784,4.3353561247009925E-2,0.99514530336984042,5.2837558128496394E-3,0.1086563836983489,0.15729370075820848,0.74849817724013112,0.86513228575442158,0.84735067422032673,1.1010864877871624,0.8396688781844287,1.106931628176884,0.53085206789418304,{"$f":"+Spectre!C2927*N2928/L2928","v":0.59553600748939173},0.608977288684728]
[6727,0.67269999999999996,2.2098212455706072,1.0069792287081811,4.3327623498839347E-2,0.9951525622909948,5.2758361203846934E-3,0.10863538620332817,0.15723884582255221,0.74857379874862051,0.86517599616447971,0.84739962358179521,1.1011500948416424,0.83972005073127309,1.1069990887105159,0.53117135404820992,{"$f":"+Spectre!C2928*N2929/L2929","v":0.59673463622078249},0.61020297053402406]
[6728,0.67279999999999995,2.2091643915218993,1.0069754036458338,4.3301705171054847E-2,0.99515981038475965,5.2679282985532601E-3,0.10861439588624486,0.15718402935585296,0.74864937485694227,0.86521967812719802,0.84744854144050874,1.1012136609599916,0.83977119050693116,1.1070665060420433,0.53149041730460311,{"$f":"+Spectre!C2929*N2930/L2930","v":0.59867045913669159},0.6121824850820593]
[6729,0.67290000000000005,2.2085078302976391,1.0069715803336661,4.3275806246186765E-2,0.99516704766720609,5.260032329562625E-3,0.10859341274357862,0.15712925131932801,0.74872490560328142,0.86526333166895186,0.84749742782529813,1.1012771861796746,0.83982229754122029,1.1071338802107742,0.53180925788687272,{"$f":"+Spectre!C2930*N2931/L2931","v":0.60076334594548531},0.61432260846387843]
[6730,0.67300000000000004,2.2078515617238015,1.0069677587706041,4.3249926706784063E-2,0.99517427415438142,5.2521481956470141E-3,0.10857243677181144,0.15707451167424252,0.7488003910257871,0.86530695681608805,0.84754628276496213,1.1013406705381137,0.83987337186392619,1.1072012112559753,0.53212787601841782,{"$f":"+Spectre!C2931*N2932/L2932","v":0.60072405856833067},0.61428243436841101]
[6731,0.67310000000000003,2.207195585626486,1.0069639389555733,4.3224066535413809E-2,0.99518148986230959,5.2442758790669942E-3,0.1085514679674284,0.15701981038190921,0.74887583116257228,0.86535055359492385,0.84759510628826906,1.1014041140726916,0.83992441350480262,1.1072684992168704,0.53244627192230443,{"$f":"+Spectre!C2932*N2933/L2933","v":0.5973139840410413},0.61079539426718166]
[6732,0.67320000000000002,2.2065399018319223,1.006960120887501,4.319822571466142E-2,0.99518869480699079,5.2364153621099457E-3,0.10853050632691547,0.15696514740368683,0.74895122605171616,0.86539412203174926,0.84764389842395749,1.1014675168207524,0.83997542249357326,1.1073357441326444,0.53276444582133209,{"$f":"+Spectre!C2933*N2934/L2934","v":0.59394356463926867},0.60734890430988298]
[6733,0.67330000000000001,2.2058845101664692,1.0069563045653149,4.3172404227130631E-2,0.99519588900440181,5.2285666270897035E-3,0.10850955184676188,0.15691052270098221,0.74902657573126064,0.86543766215282503,0.84769265920073433,1.1015308788195994,0.84002639885992869,1.1074029460424382,0.5330823979379673,{"$f":"+Spectre!C2934*N2935/L2935","v":0.59166504721470237},0.6050189606188493]
[6734,0.6734,2.2052294104566155,1.0069524899879436,4.3146602055443461E-2,0.995203072470496,5.2207296563465478E-3,0.10848860452345863,0.15685593623524863,0.74910188023921376,0.8654811739843834,0.84774138864727655,1.1015942001064967,0.84007734263352962,1.107470104985353,0.53340012849452112,{"$f":"+Spectre!C2935*N2936/L2936","v":0.58994539787888645},0.60326049870077236]
[6735,0.67349999999999999,2.2045746025289783,1.0069486771543168,4.3120819182240186E-2,0.99521024522120316,5.2129044322473273E-3,0.10846766435349932,0.15680138796798682,0.74917713961354671,0.86552465755262797,0.84779008679223,1.1016574807186681,0.84012825384400436,1.1075372210004484,0.53371763771301595,{"$f":"+Spectre!C2936*N2937/L2937","v":0.58883176034524487},0.60212172630534055]
[6736,0.67359999999999998,2.2039200862103012,1.0069448660633646,4.309505559017919E-2,0.99521740727242969,5.2050909371853344E-3,0.10844673133337936,0.15674687786074387,0.74925235389219669,0.86556811288373459,0.84783875366421058,1.1017207206932984,0.84017913252095044,1.1076042941267421,0.5340349258150745,{"$f":"+Spectre!C2937*N2938/L2938","v":0.59256823165250128},0.60594252998022469]
[6737,0.67369999999999997,2.2032658613274601,1.0069410567140182,4.3069311261937221E-2,0.99522455864005877,5.1972891535800557E-3,0.10842580545959692,0.15669240587511418,0.74932752311306472,0.86561154000384966,0.8478873892918033,1.1017839200675323,0.84022997869393423,1.1076713244032117,0.53435199302223069,{"$f":"+Spectre!C2938*N2939/L2939","v":0.59658157498359576},0.61004645469610241]
[6738,0.67379999999999995,2.2026119277074572,1.0069372491052095,4.3043586180209134E-2,0.99523169933994993,5.1894990638776594E-3,0.10840488672865155,0.15663797197273835,0.74940264731401718,0.86565493893909218,0.84793599370356321,1.1018470788784755,0.84028079239249065,1.1077383118687925,0.53466883955561872,{"$f":"+Spectre!C2939*N2940/L2940","v":0.5986193632799407},0.61213023598894678]
[6739,0.67390000000000005,2.2019582851774229,1.0069334432358714,4.3017880327707911E-2,0.99523882938793973,5.1817206505502637E-3,0.10838397513704585,0.15658357611530405,0.74947772653288458,0.86569830971555239,0.8479845669280146,1.1019101971631939,0.84033157364612354,1.1078052565623797,0.53498546563615079,{"$f":"+Spectre!C2940*N2941/L2941","v":0.59804639068807941},0.61154433137345032]
[6740,0.67400000000000004,2.2013049335646171,1.0069296391049372,4.2992193687164712E-2,0.99524594879984118,5.1739538960965384E-3,0.10836307068128462,0.15652921826454586,0.74955276080746236,0.86574165235929179,0.84803310899365092,1.101973274958713,0.84038232248430533,1.1078721585228264,0.53530187148453923,{"$f":"+Spectre!C2941*N2942/L2942","v":0.59760016268598604},0.61108803198024386]
[6741,0.67410000000000003,2.2006518726964259,1.0069258367113416,4.2966526241328795E-2,0.99525305759144422,5.166198783041219E-3,0.10834217335787438,0.1564748983822444,0.74962775017551075,0.8657849668963441,0.84808161992893616,1.1020363123020203,0.84043303893647747,1.1079390177889452,0.53561805732107448,{"$f":"+Spectre!C2942*N2943/L2943","v":0.59661352253185151},0.61007912330231973]
[6742,0.67420000000000002,2.199999102400366,1.0069220360540196,4.2940877972967542E-2,0.99526015577851534,5.1584552939354673E-3,0.10832128316332409,0.15642061643022709,0.74970269467475514,0.86582825335271474,0.84813009976230347,1.1020993092300631,0.84048372303205066,1.1080058343995083,0.53593402336595819,{"$f":"+Spectre!C2943*N2944/L2944","v":0.59548246527053028},0.60892253801497453]
[6743,0.67430000000000001,2.1993466225040796,1.0069182371319072,4.2915248864866355E-2,0.99526724337679828,5.1507234113561387E-3,0.10830040009414513,0.15636637237036763,0.74977759434288538,0.86587151175438082,0.84817854852215591,1.1021622657797499,0.84053437480040405,1.1080726083932457,0.5362497698389701,{"$f":"+Spectre!C2944*N2945/L2945","v":0.5941235222034561},0.60753292352641897]
[6744,0.6744,2.1986944328353384,1.0069144399439418,4.2889638899828768E-2,0.99527432040201314,5.1430031179067548E-3,0.10827952414685085,0.15631216616458637,0.74985244921755623,0.86591474212729103,0.84822696623686589,1.1022251819879487,0.84058499427088573,1.1081393398088473,0.53656529695973454,{"$f":"+Spectre!C2945*N2946/L2946","v":0.59182469375959057},0.60518221039523779]
[6745,0.67449999999999999,2.198042533222039,1.0069106444890605,4.2864048060676174E-2,0.99528138686985712,5.1352943962166483E-3,0.10825865531795698,0.15625799777484981,0.74992725933638738,0.86595794449736607,0.84827535293477618,1.1022880578914895,0.84063558147281348,1.1082060286849622,0.53688060494756495,{"$f":"+Spectre!C2946*N2947/L2947","v":0.58939841332606291},{"$f":"+Q2947/R$1","v":0.60270116867581691}]
[6746,0.67459999999999998,2.1973909234922098,1.0069068507662022,4.2838476330248218E-2,0.99528844279600459,5.1275972289409584E-3,0.10823779360398149,0.15620386716317067,0.75000202473696354,0.86600111889049858,0.84832370864419893,1.1023508935271629,0.8406861364354733,1.1082726750601981,0.53719569402148615,{"$f":"+Spectre!C2947*N2948/L2948","v":0.58985241562178958},0.60316541782890143]
[6747,0.67469999999999997,2.1967396034740032,1.0069030587743062,4.281292369140232E-2,0.99529548819610647,5.1199115987612389E-3,0.10821693900144451,0.15614977429160806,0.75007674545683445,0.86604426533255296,0.84837203339341616,1.1024136889317193,0.84073665918812057,1.1083392789731223,0.53751056440030087,{"$f":"+Spectre!C2948*N2949/L2949","v":0.59340750811143805},0.6068007489560594]
[6748,0.67479999999999996,2.1960885729957003,1.0068992685123124,4.2787390127013956E-2,0.99530252308579092,5.1122374883847245E-3,0.10819609150686839,0.15609571912226708,0.75015142153351444,0.86608738384936568,0.84842032721068017,1.1024764441418711,0.84078714975997992,1.1084058404622616,0.53782521630254543,{"$f":"+Spectre!C2949*N2950/L2950","v":0.59683457141941143},0.61030516127570866]
[6749,0.67490000000000006,2.1954378318857084,1.0068954799791618,4.2761875619976505E-2,0.99530954748066292,5.1045748805448165E-3,0.10817525111677766,0.15604170161729897,0.7502260530044832,0.86613047446674507,0.8484685901242125,1.102539159194291,0.840837608180245,1.1084723595661019,0.53813964994646746,{"$f":"+Spectre!C2950*N2951/L2951","v":0.59900039487218337},0.61251986748566412]
[6750,0.67500000000000004,2.1947873799725648,1.0068916931737963,4.2736380153201366E-2,0.99531656139630476,5.0969237580004694E-3,0.10815441782769883,0.15598772173890066,0.75030063990718587,0.86617353721047141,0.8485168221622057,1.1026018341256134,0.84088803447807892,1.1085388363230884,0.53845386555002595,{"$f":"+Spectre!C2951*N2952/L2952","v":0.60108632936403716},0.61465288163635878]
[6751,0.67510000000000003,2.1941372170849305,1.0068879080951587,4.2710903709617734E-2,0.99532356484827555,5.0892841035367993E-3,0.10813359163616149,0.15593377944931602,0.75037518227903111,0.86621657210629677,0.84856502335282036,1.1026644689724314,0.84093842868261293,1.108605270771625,0.53876786333106885,{"$f":"+Spectre!C2952*N2953/L2953","v":0.60107148393389798},0.61463770114402616]
[6752,0.67520000000000002,2.1934873430515935,1.006884124742192,4.2685446272172647E-2,0.99533055785211177,5.0816558999644702E-3,0.10811277253869613,0.15587987471083325,0.75044968015739488,0.86625957917994612,0.84861319372418964,1.1027270637713029,0.84098879082294942,1.108671662950077,0.53908164350693344,{"$f":"+Spectre!C2953*N2954/L2954","v":0.59531013050109938},0.60874631364010157]
[6753,0.67530000000000001,2.1928377577014708,1.0068803431138409,4.2660007823831149E-2,0.99533754042332689,5.0740391301200586E-3,0.1080919605318367,0.1558260074857879,0.75052413357961645,0.86630255845711523,0.84866133330441462,1.1027896185587436,0.84103912092815791,1.108738012896767,0.53939520629486815,{"$f":"+Spectre!C2954*N2955/L2955","v":0.58930434872328707},0.6026049810296642]
[6754,0.6754,2.1921884608636049,1.0068765632090499,4.2634588347575976E-2,0.99534451257741163,5.0664337768658065E-3,0.1080711556121185,0.15577217773656027,0.75059854258300118,0.86634550996347348,0.84870944212156751,1.1028521333712316,0.84108941902727874,1.1088043206499785,0.53970855191185496,{"$f":"+Spectre!C2955*N2956/L2956","v":0.58848146647152999},0.60176352627918761]
[6755,0.67549999999999999,2.1915394523671639,1.0068727850267649,4.2609187826407734E-2,0.99535147432983395,5.0588398230896232E-3,0.10805035777607952,0.15571838542557687,0.75067290720481938,0.8663884337246609,0.84875752020369022,1.1029146082452059,0.84113968514932091,1.108870586247954,0.54002168057456501,{"$f":"+Spectre!C2956*N2957/L2957","v":0.59194483727537883},0.60530506555693697]
[6756,0.67559999999999998,2.1908907320414439,1.0068690085659333,4.2583806243344867E-2,0.99535842569603883,5.0512572517053145E-3,0.10802956702025983,0.15566463051531002,0.75074722748230605,0.86643132976629056,0.84880556757879477,1.1029770432170669,0.84118991932326292,1.1089368097288956,0.54033459249938076,{"$f":"+Spectre!C2957*N2958/L2958","v":0.59536443865725119},0.60880184753439326]
[6757,0.67569999999999997,2.1902422997158668,1.0068652338255015,4.2558443581423473E-2,0.99536536669144893,5.0436860456518646E-3,0.1080087833412014,0.15561091296827673,0.75082150345266263,0.86647419811394766,0.84885358427486413,1.1030394383231765,0.84124012157805284,1.1090029911309656,0.54064728790248484,{"$f":"+Spectre!C2958*N2959/L2959","v":0.58496741157574472},0.59817015896669523]
[6758,0.67579999999999996,2.1895941552199796,1.0068614608044189,4.2533099823697532E-2,0.99537229733146393,5.036126187894157E-3,0.10798800673544895,0.15555723274704064,0.7508957351530543,0.86651703879318942,0.84890157031985014,1.1031017935998571,0.84129029194260774,1.1090691304922851,0.54095976699977122,{"$f":"+Spectre!C2959*N2960/L2960","v":0.57320886490474821},0.58614622123576987]
[6759,0.67589999999999995,2.1889462983834571,1.0068576895016335,4.2507774953238646E-2,0.99537921763146087,5.0285776614226018E-3,0.10796723719954879,0.15550358981421003,0.75096992262061291,0.86655985182954565,0.84894952574167581,1.1031641090833928,0.84134043044581486,1.1091352278509361,0.54127203000691182,{"$f":"+Spectre!C2960*N2961/L2961","v":0.56712886589549705},0.5799289963068045]
[6760,0.67600000000000005,2.1882987290360982,1.006853919916096,4.2482468953136163E-2,0.99538612760679446,5.0210404492527783E-3,0.10794647473004985,0.1554499841324388,0.75104406589243522,0.86660263724851816,0.8489974505682345,1.1032263848100297,0.84139053711653045,1.1092012832449596,0.5415840771392233,{"$f":"+Spectre!C2961*N2962/L2962","v":0.5734257890631046},0.58636804138458509]
[6761,0.67610000000000003,2.1876514470078292,1.0068501520467565,4.2457181806497123E-2,0.99539302727279644,5.0135145344261571E-3,0.10792571932350328,0.15539641566442658,0.75111816500558271,0.86664539507558103,0.84904534482738903,1.103288620815974,0.84144061198357989,1.109267296712356,0.54189590861186687,{"$f":"+Spectre!C2962*N2963/L2963","v":0.57982590073659857},0.59291260393863565]
[6762,0.67620000000000002,2.1870044521287033,1.0068463858925671,4.2431913496446289E-2,0.99539991664477634,5.0059999000092448E-3,0.107904970976462,0.15534288437291754,0.75119221999708308,0.86668812533618123,0.84909320854697345,1.1033508171373945,0.84149065507575915,1.1093332682910868,0.5422075246396707,{"$f":"+Spectre!C2963*N2964/L2964","v":0.5846501689364958},0.59784575614322955]
[6763,0.67630000000000001,2.1863577442288951,1.0068426214524799,4.240666400612593E-2,0.99540679573802082,4.9984965290943133E-3,0.10788422968548178,0.15528939022070204,0.75126623090392841,0.86673082805573731,0.84914104175479144,1.1034129738104204,0.84154066642183278,1.1093991980190723,0.5425189254372853,{"$f":"+Spectre!C2964*N2965/L2965","v":0.58825373377870538},0.60153065364667313]
[6764,0.6764,2.1857113231387095,1.0068388587254478,4.2381433318696059E-2,0.99541366456779434,4.9910044047986679E-3,0.10786349544712012,0.15523593317061485,0.75134019776307737,0.86677350325964075,0.84918884447861764,1.1034750908711437,0.84159064605053568,1.1094650859341937,0.54283011121902813,{"$f":"+Spectre!C2965*N2966/L2966","v":0.59167541670116797},0.60502956414520792]
[6765,0.67649999999999999,2.185065188688573,1.0068350977104248,4.2356221417334208E-2,0.99542052314933871,4.9835235102651324E-3,0.10784276825793657,0.15518251318553591,0.7514141206114533,0.86681615097325548,0.84923661674619666,1.1035371683556168,0.84164059399057178,1.1095309320742908,0.54314108219892798,{"$f":"+Spectre!C2966*N2967/L2967","v":0.58925432920502718},0.60255383256806294]
[6766,0.67659999999999998,2.1844193407090398,1.0068313384063658,4.2331028285235536E-2,0.99542737149787364,4.9760538286614366E-3,0.10782204811449327,0.15512913022839026,0.7514879994859458,0.86685877122191812,0.84928435858524398,1.1035992062998545,0.84169051027061559,1.1095967364771655,0.54345183859088042,{"$f":"+Spectre!C2967*N2968/L2968","v":0.58643748405717533},0.59967341106674155]
[6767,0.67669999999999997,2.1837737790307887,1.0068275808122262,4.230585390561277E-2,0.99543420962859597,4.9685953431810636E-3,0.10780133501335414,0.15507578426214796,0.75156183442340907,0.86690136403093709,0.84933207002344546,1.1036612047398333,0.84174039491931052,1.1096624991805784,0.54376238060842574,{"$f":"+Spectre!C2968*N2969/L2969","v":0.58388704369747735},0.59706540712463119]
[6768,0.67679999999999996,2.1831285034846224,1.0068238249269625,4.2280698261696115E-2,0.99544103755668056,4.9611480370422775E-3,0.10778062895108574,0.15502247524982413,0.75163562546066331,0.86694392942559428,0.84937975108845731,1.1037231637114906,0.84179024796527013,1.10972822022225,0.5440727084648822,{"$f":"+Spectre!C2969*N2970/L2970","v":0.58190021496829059},0.59503373555924288]
[6769,0.67689999999999995,2.1824835139014707,1.0068200707495316,4.2255561336733367E-2,0.99544785529727986,4.9537118934886082E-3,0.10775992992425666,0.15496920315447865,0.75170937263449422,0.86698646743114305,0.84942740180790621,1.1037850832507261,0.84184006943707734,1.1097938996398615,0.54438282237325719,{"$f":"+Spectre!C2970*N2971/L2971","v":0.57976729305789276},0.59285267348132398]
[6770,0.67700000000000005,2.181838810112386,1.0068163182788916,4.2230443113989762E-2,0.99545466286552386,4.9462868957888435E-3,0.10773923792943742,0.15491596793921603,0.75178307598165306,0.86702897807281043,0.84947502220938986,1.1038469633934012,0.84188985936328531,1.1098595374710545,0.54469272254640266,{"$f":"+Spectre!C2971*N2972/L2972","v":0.58188798066505221},0.5950212251270921]
[6771,0.67710000000000004,2.1811943919485479,1.0068125675140012,4.2205343576748051E-2,0.99546146027652049,4.9388730272366694E-3,0.10771855296320075,0.15486276956718548,0.75185673553885723,0.86707146137579583,0.84952261232047621,1.1039088041753391,0.84193961777241744,1.109925133753431,0.54500240919685972,{"$f":"+Spectre!C2972*N2973/L2973","v":0.58587215349992439},0.59909532096700657]
[6772,0.67720000000000002,2.1805502592412589,1.00680881845382,4.2180262708308429E-2,0.99546824754535534,4.9314702711509058E-3,0.10769787502212205,0.15480960800158139,0.75193035134278863,0.86711391736527055,0.84957017216870367,1.1039706056323246,0.84198934469296582,1.1099906885245521,0.54531188253688079,{"$f":"+Spectre!C2973*N2974/L2974","v":0.58894958762852967},0.60224221295703839]
[6773,0.67730000000000001,2.1799064118219462,1.006805071097308,4.2155200491988509E-2,0.99547502468709193,4.9240786108752611E-3,0.10767720410277828,0.15475648320564206,0.75200392343009614,0.8671563460663797,0.84961770178158202,1.1040323678001052,0.84203904015339359,1.1100562018219404,0.54562114277847407,{"$f":"+Spectre!C2974*N2975/L2975","v":0.58548296439820435},0.59869734784536399]
[6774,0.6774,2.179262849522162,1.0068013254434269,4.2130156911123331E-2,0.99548179171677131,4.9166980297786966E-3,0.10765654020174881,0.15470339514265083,0.7520774518373935,0.86719874750424031,0.84966520118659139,1.1040940907143897,0.84208870418213322,1.1101216736830788,0.5459301901334257,{"$f":"+Spectre!C2975*N2976/L2976","v":0.58154538191962424},0.59467089390870431]
[6775,0.67749999999999999,2.1786195721735817,1.0067975814911381,4.2105131949065289E-2,0.99548854864941283,4.9093285112546941E-3,0.1076358833156154,0.15465034377593539,0.75215093660126031,0.86724112170394263,0.84971267041118226,1.1041557744108483,0.84213833680758743,1.1101871041454099,0.54623902481329978,{"$f":"+Spectre!C2976*N2977/L2977","v":0.57921240934336504},0.59228526601014031]
[6776,0.67759999999999998,2.1779765796080066,1.0067938392394047,4.2080125589184218E-2,0.99549529550001337,4.9019700387219808E-3,0.10761523344096185,0.15459732906886806,0.75222437775824202,0.86728346869054929,0.84976010948277603,1.1042174189251142,0.84218793805812853,1.1102524932463371,0.54654764702930514,{"$f":"+Spectre!C2977*N2978/L2978","v":0.57926756708961569},0.59234166866982718]
[6777,0.67769999999999997,2.17733387165736,1.00679009868719,4.2055137814867229E-2,0.99550203228354806,4.8946225956238024E-3,0.10759459057437352,0.15454435098486455,0.75229777534485076,0.86732578848909669,0.84980751842876612,1.1042790242927831,0.84223750796209995,1.1103178410232255,0.54685605699247297,{"$f":"+Spectre!C2978*N2979/L2979","v":0.57923077762715613},0.59230404886712995]
[6778,0.67779999999999996,2.1766914481536914,1.0067863598334583,4.203016860951881E-2,0.9955087590149696,4.8872861654286432E-3,0.10757395471243902,0.15449140948738649,0.75237112939756257,0.86736808112459274,0.84985489727651464,1.104340590549411,0.84228704654781394,1.1103831475133987,0.54716425491356802,{"$f":"+Spectre!C2979*N2980/L2980","v":0.57889313283328858},0.59195878341126817]
[6779,0.67789999999999995,2.1760493089291728,1.006782622677175,4.2005217956560786E-2,0.99551547570920906,4.8799607316293778E-3,0.10755332585174834,0.15443850453993851,0.75244443995282095,0.86741034662201899,0.84990224605335651,1.1044021177305179,0.84233655384355333,1.1104484127541421,0.54747224100302194,{"$f":"+Spectre!C2980*N2981/L2981","v":0.57846880020856328},0.59152487357532879]
[6780,0.67800000000000005,2.1754074538160997,1.0067788872173056,4.1980285839432169E-2,0.9955221823811754,4.8726462777437581E-3,0.10753270398889389,0.15438563610606981,0.7525177070470348,0.86745258500633005,0.84994956478659645,1.1044636058715849,0.8423860298775715,1.110513636782702,0.54778001547119981,{"$f":"+Spectre!C2981*N2982/L2982","v":0.57813543773871323},0.59118398709577846]
[6781,0.67810000000000004,2.1747658826468927,1.0067751534528171,4.195537224158935E-2,0.99552887904575549,4.8653427873143994E-3,0.10751208912047028,0.15433280414937403,0.75259093071657845,0.86749479630245274,0.8499968535035104,1.1045250550080556,0.84243547467809132,1.1105788196362842,0.54808757852800039,{"$f":"+Spectre!C2982*N2983/L2983","v":0.57821689876940496},0.59126728670651607]
[6782,{"$f":"+A2984/10000","v":0.67820000000000003},{"$f":"+(1/B2984)^2","v":2.1741245952540944},{"$f":"0.23465+1.076*100/(146-C2984)+0.93161/(41-C2984)","v":1.0067714213826768},{"$f":"9.4977*0.001*C2984^2*D2984*EXP(-h/7.996/1000)","v":4.1930477146505885E-2},{"$f":"+EXP(-0.0168*EXP(-15*ABS(B2984-0.59)))","v":0.99553556571781454},{"$f":"-2.5*LOG(F2984)","v":4.8580502439083033E-3},{"$f":"2.5*LOG(EXP(AOD*(B2984/0.55)^(-1.3)))","v":0.10749148124307432},{"$f":"+E2984+G2984+H2984","v":0.15428000863348851},{"$f":"10^(-0.4*I2984*ma)","v":0.75266411099779296},{"$f":"10^(-0.4*I2984)","v":0.86753698053528783},{"$f":"10^(-0.4*I2984*ma_ref)","v":0.85004411223134524},{"$f":"+L2984/M$1","v":1.1045864651753359},{"$f":"10^(-0.4*I2984*ma_target)","v":0.84248488827330614},{"$f":"+N2984/O$1","v":1.110643961352056},{"$f":"(O2984/M2984-1)*100","v":0.548394930383167},{"$f":"+Spectre!C2983*N2984/L2984","v":0.57825204279651632},0.59130322393629664]
[6783,0.67830000000000001,2.1734835914703723,1.0067676910058529,4.1905600537672637E-2,0.99554224241219569,4.8507686311173382E-3,0.10747088035330442,0.15422724952209438,0.75273724792698493,0.86757913772970852,0.85009134099731909,1.1046478364087944,0.84253427069138009,1.1107090619671462,0.54870207124624315,{"$f":"+Spectre!C2984*N2985/L2985","v":0.58070119030552225},0.5938076488423758]
[6784,0.6784,2.1728428711285157,1.0067639623213152,4.1880742398597598E-2,0.9955489091437203,4.8434979325578682E-3,0.10745028644776224,0.15417452677891769,0.7528103415404267,0.86762126791056104,0.85013853982862064,1.1047091687437609,0.84258362196044623,1.1107741215186424,0.54900900132641706,{"$f":"+Spectre!C2985*N2986/L2986","v":0.58605002046206134},0.59927720239648619]
[6785,0.67849999999999999,2.1722024340614374,1.0067602353280325,4.1855902712805947E-2,0.99555556592718797,4.836238131870757E-3,0.10742969952305061,0.1541218403677273,0.75288339187435716,0.86766337110266445,0.85018570875241006,1.104770462215529,0.84263294210860928,1.1108391400435949,0.54931572083269931,{"$f":"+Spectre!C2986*N2987/L2987","v":0.5916425763530575},0.60499598258859288]
[6786,0.67859999999999998,2.1715622801021746,1.0067565100249758,4.1831081463840077E-2,0.99556221277737644,4.8289892127214816E-3,0.10740911957577474,0.15406919025233629,0.75295639896498112,0.8677054473308119,0.85023284779581865,1.1048317168593542,0.84268223116394403,1.1109041175790146,0.54962222997381183,{"$f":"+Spectre!C2987*N2988/L2988","v":0.58958574945708742},0.6028927329938587]
[6787,0.67869999999999997,2.1709224090838863,1.006752786411117,4.1806278635259549E-2,0.99556884970904169,4.8217511588000131E-3,0.10738854660254234,0.15401657639660191,0.75302936284846878,0.86774749661976835,0.85027995698594827,1.104892932710454,0.8427314891544947,1.110969054161872,0.5499285289582323,{"$f":"+Spectre!C2988*N2989/L2989","v":0.58624263030027013},0.59947415944958005]
[6788,0.67879999999999996,2.1702828208398541,1.0067490644854278,4.1781494210640931E-2,0.99557547673691815,4.8145239538205696E-3,0.10736798059996305,0.15396399876442457,0.75310228356095776,0.86778951899427303,0.85032703634987239,1.1049541098040088,0.84278071610827709,1.1110339498291002,0.55023461799421636,{"$f":"+Spectre!C2989*N2990/L2990","v":0.58359273253793154},0.59676445334565575]
[6789,0.67889999999999995,2.1696435152034845,1.0067453442468817,4.1756728173578055E-2,0.99558209387571828,4.8073075815220972E-3,0.10734742156464853,0.1539114573197487,0.75317516113855043,0.86783151447903772,0.85037408591463559,1.1050152481751614,0.84282991205327684,1.1110988046175925,0.55054049728975318,{"$f":"+Spectre!C2990*N2991/L2991","v":0.58348442776040743},0.59665370412320951]
[6790,0.67900000000000005,2.1690044920083027,1.0067416256944519,4.1731980507681621E-2,0.99558870114013298,4.8001020256677853E-3,0.10732686949321267,0.15385895202656208,0.75324799561731626,0.86787348309874768,0.85042110570725382,1.105076347859018,0.84287907701745002,1.1111636185642033,0.5508461670525211,{"$f":"+Spectre!C2991*N2992/L2992","v":0.58348306564395058},0.59665231126370755]
[6791,0.67910000000000004,2.1683657510879608,1.0067379088271131,4.1707251196579614E-2,0.99559529854483164,4.7929072700450635E-3,0.10730632438227154,0.15380648284889623,0.75332078703329042,0.86791542487806128,0.85046809575471394,1.1051374088906463,0.84292821102872328,1.1112283917057484,0.55115162749004298,{"$f":"+Spectre!C2992*N2993/L2993","v":0.5833800560055028},0.59654697669192447]
[6792,0.67920000000000003,2.1677272922762318,1.0067341936438412,4.1682540223916993E-2,0.9956018861044621,4.7857232984655999E-3,0.10728578622844348,0.15375404975082607,0.75339353542247478,0.86795733984160994,0.85051505608397415,1.1051984313050771,0.84297731411499388,1.1112931240790043,0.55145687880955307,{"$f":"+Spectre!C2993*N2994/L2994","v":0.58308200560411783},0.59624219927621114]
[6793,0.67930000000000001,2.1670891154070091,1.0067304801436119,4.1657847573355646E-2,0.99560846383365031,4.7785500947656592E-3,0.10726525502834877,0.15370165269647007,0.75346624082083646,0.86799922801399909,0.85056198672196437,1.1052594151373043,0.8430263863041294,1.1113578157207089,0.55176192121801915,{"$f":"+Spectre!C2994*N2995/L2995","v":0.58286231400553223},0.59601754922588512]
[6794,0.6794,2.1664512203143103,1.0067267683254022,4.1633173228574523E-2,0.99561503174700094,4.7713876428054983E-3,0.10724473077860994,0.15364929164998997,0.75353890326430983,0.86804108941980673,0.85060888769558507,1.1053203604222837,0.84307542762396825,1.1114224666675614,0.55206675492220914,{"$f":"+Spectre!C2995*N2996/L2996","v":0.57835307140590619},0.59140653276708455]
[6795,0.67949999999999999,2.1658136068322755,1.0067230581881896,4.1608517173269612E-2,0.99562158985909721,4.7642359264694848E-3,0.10722421347585172,0.1535969665755908,0.75361152278879517,0.86808292408358467,0.85065575903170898,1.1053812671949348,0.8431244381023193,1.111487076956222,0.55237138012855791,{"$f":"+Spectre!C2996*N2997/L2997","v":0.57315180412567479},0.58608787259170247]
[6796,0.67959999999999998,2.1651762747951655,1.006719349730953,4.1583879391153787E-2,0.99562813818450069,4.7570949296663334E-3,0.10720370311670063,0.15354467743752076,0.75368409943015924,0.86812473202985807,0.85070260075717974,1.1054421354901398,0.84317341776696231,1.1115516466233129,0.55267579704334491,{"$f":"+Spectre!C2997*N2998/L2998","v":0.57029997476176186},0.58317167727859509]
[6797,0.67969999999999997,2.1645392240373642,1.0067156429526716,4.1559259865956925E-2,0.99563467673775163,4.7499646363287429E-3,0.10718319969778542,0.15349242420007109,0.75375663322423547,0.86816651328312577,0.85074941289881278,1.1055029653427435,0.84322236664564754,1.1116161757054166,0.5529800058725165,{"$f":"+Spectre!C2998*N2999/L2999","v":0.57347153598960843},0.58641482082179397]
[6798,0.67979999999999996,2.1639024543933756,1.0067119378523253,4.1534658581425743E-2,0.99564120553336877,4.7428450304136359E-3,0.10716270321573769,0.15344020682757709,0.75382912420682213,0.86820826786785898,0.85079619548339414,1.1055637567875531,0.84327128476609581,1.111680664239078,0.55328400682188583,{"$f":"+Spectre!C2999*N3000/L3000","v":0.57688717960698643},0.58990755570778852]
[6799,0.67989999999999995,2.163265965697827,1.0067082344288949,4.1510075521323915E-2,0.9956477245858496,4.7357360959017943E-3,0.10714221366718997,0.1533880252844157,0.75390157241368627,0.86824999580850393,0.85084294853768272,1.1056245098593405,0.84332017215599897,1.1117451122608029,0.55358780009688857,{"$f":"+Spectre!C3000*N3001/L3001","v":0.57550066009898593},0.58848974237648355]
[6800,0.68,2.1626297577854667,1.0067045326813622,4.1485510669431992E-2,0.99565423390967012,4.7286378167982158E-3,0.10712173104877806,0.15333587953500827,0.75397397788055909,0.86829169712947918,0.85088967208840749,1.1056852245928384,0.84336902884301945,1.1118095198070581,0.55389138590280496,{"$f":"+Spectre!C3001*N3002/L3002","v":0.5705920993010134},0.58347039508513321]
[6801,0.68010000000000004,2.1619938304911654,1.0067008326087095,4.1460964009547401E-2,0.99566073351928519,4.7215501771316337E-3,0.10710125535713917,0.1532837695438182,0.7540463406431398,0.86833337185517745,0.85093636616226986,1.1057459010227437,0.84341785485479048,1.111873886914273,0.55419476444464877,{"$f":"+Spectre!C3002*N3003/L3003","v":0.56624575122913201},0.57902594969273335]
[6802,0.68020000000000003,2.1613581836499129,1.0066971342099198,4.1436435525484358E-2,0.99566722342912806,4.7144731609551124E-3,0.10708078658891268,0.15323169527535216,0.75411866073709333,0.86837502000996469,0.85098303078594284,1.1058065391837166,0.8434666502189162,1.1119382136188378,0.55449793592714514,{"$f":"+Spectre!C3003*N3004/L3004","v":0.569788435566421},0.58264859261483504]
[6803,0.68030000000000002,2.1607228170968229,1.0066934374839773,4.1411925201073958E-2,0.99567370365361119,4.7074067523450855E-3,0.10706032474074063,0.15317965669415967,0.75419093819805127,0.86841664161818066,0.85102966598607055,1.10586713911038,0.84351541496297167,1.1120024999571045,0.55480090055484155,{"$f":"+Spectre!C3004*N3005/L3005","v":0.57430950308447493},0.58727170088113767]
[6804,0.6804,2.1600877306671284,1.0066897424298669,4.1387433020164066E-2,0.99568017420712551,4.7003509354021913E-3,0.10703986980926625,0.15312765376483251,0.75426317306161261,0.86845823670413924,0.8510762717892697,1.1059277008373205,0.84356414911450317,1.1120667459653872,0.55510365853199684,{"$f":"+Spectre!C3005*N3006/L3006","v":0.57877905058030044},0.59184212631541155]
[6805,0.68049999999999999,2.1594529241961844,1.0066860490465734,4.1362958966619304E-2,0.99568663510404076,4.6933056942509155E-3,0.1070194217911362,0.15307568645200642,0.75433536536334089,0.86849980529212645,0.85112284822212714,1.1059882243990866,0.84361285270102659,1.11213095167996,0.55540621006258117,{"$f":"+Spectre!C3006*N3007/L3007","v":0.58307653870727072},0.59623660899119457]
[6806,0.68059999999999998,2.1588183975194659,1.0066823573330836,4.1338503024321099E-2,0.99569308635870557,4.6862710130394633E-3,0.10699898068299769,0.15302375472035826,0.7544075151387688,0.86854134740640399,0.85116939531120339,1.1060487098301921,0.84366152575003084,1.1121951171370614,0.55570855535043151,{"$f":"+Spectre!C3007*N3008/L3008","v":0.58789964428004371},0.60116857232810472]
[6807,0.68069999999999997,2.1581841504725703,1.0066786672883847,4.1314065177167625E-2,0.99569952798544747,4.6792468759397562E-3,0.10697854648150144,0.15297185853460882,0.75447962242339339,0.86858286307120558,0.85121591308302857,1.1061091571651114,0.84371016828897361,1.112259242372889,0.55601069459907393,{"$f":"+Spectre!C3008*N3009/L3009","v":0.58473778748090388},0.59793535224311456]
[6808,0.68079999999999996,2.1575501828912143,1.0066749789114642,4.1289645409073712E-2,0.99570595999857281,4.6722332671475571E-3,0.10695811918329953,0.15291999785952082,0.75455168725267963,0.86862435231073987,0.85126240156410649,1.1061695664382847,0.84375878034528551,1.1123233274236042,0.55631262801179027,{"$f":"+Spectre!C3009*N3010/L3010","v":0.57762912857073745},0.59066625050139532]
[6809,0.68089999999999995,2.1569164946112354,1.0066712922013108,4.1265243703970944E-2,0.99571238241236704,4.6652301708820952E-3,0.10693769878504644,0.15286817265989949,0.75462370966205905,0.8686658151491885,0.85130886078091172,1.1062299376841145,0.84380736194636707,1.1123873723253288,0.55661435579159591,{"$f":"+Spectre!C3010*N3011/L3011","v":0.57184002489955565},{"$f":"+Q3011/R$1","v":0.58474648643464588}]
[6810,0.68100000000000005,2.1562830854685924,1.0066676071569136,4.1240860045807591E-2,0.99571879524109441,4.6582375713864373E-3,0.10691728528339829,0.15281638290059232,0.7546956896869299,0.86870725161070805,0.85135529075989125,1.1062902709369671,0.84385591311959052,1.112451377114148,0.5569158781413508,{"$f":"+Spectre!C3011*N3012/L3012","v":0.57637372972026446},0.58938251722823531]
[6811,0.68110000000000004,2.1556499552993649,1.006663923777263,4.1216494418548591E-2,0.9957251984989981,4.6512554529273553E-3,0.10689687867501402,0.15276462854648998,0.75476762736265657,0.868748661719427,0.85140169152746303,1.1063505662311715,0.84390443389229863,1.1125153418261071,0.55721719526353741,{"$f":"+Spectre!C3012*N3013/L3013","v":0.58218911010440666},0.59532915107483508]
[6812,0.68120000000000003,2.1550171039397505,1.00666024206135,4.1192146806175452E-2,0.9957315922003005,4.6442837997949672E-3,0.10687647895655439,0.15271290956252481,0.75483952272457056,0.86879004549944971,0.85144806311001753,1.1064108236010202,0.84395292429180546,1.1125792664972145,0.55751830736054941,{"$f":"+Spectre!C3013*N3014/L3014","v":0.58511679372599346},0.59832291268047966]
[6813,0.68130000000000002,2.1543845312260692,1.0066565620081662,4.1167817192686383E-2,0.9957379763592028,4.6373225963032162E-3,0.10685608612468213,0.15266122591367173,0.75491137580797019,0.86883140297485306,0.8514944055339172,1.10647104308077,0.84400138434539662,1.1126431511634407,0.55781921463444739,{"$f":"+Spectre!C3014*N3015/L3015","v":0.58249167897010867},0.59563854893685919]
[6814,0.68140000000000001,2.153752236994761,1.0066528836167037,4.1143505562096172E-2,0.99574435098988567,4.6303718267891418E-3,0.10683570017606178,0.15260957756494709,0.75498318664812147,0.86887273416968902,0.85154071882549698,1.1065312247046417,0.84404981408032898,1.1127069958607179,0.55811991728698107,{"$f":"+Spectre!C3015*N3016/L3016","v":0.58027233155536728},0.59336911072610121]
[6815,0.68149999999999999,2.1531202210823843,1.0066492068859563,4.1119211898436175E-2,0.99575071610650856,4.6234314756136048E-3,0.10681532110736101,0.15255796448141079,0.75505495528025557,0.86891403910798215,0.85158700301106205,1.1065913685068176,0.84409821352382997,1.1127708006249402,0.55842041551985577,{"$f":"+Spectre!C3016*N3017/L3017","v":0.5763170355831726},0.58932454350127961]
[6816,0.68159999999999998,2.1524884833256186,1.0066455318149172,4.1094936185754286E-2,0.99575707172321004,4.6165015271609237E-3,0.10679494891524859,0.15250638662816379,0.75512668173957154,0.86895531781373225,0.8516332581168915,1.106651474521446,0.84414658270309884,1.1128345654919642,0.55872070953433273,{"$f":"+Spectre!C3017*N3018/L3018","v":0.5717794035426903},0.5846844968503454]
[6817,0.68169999999999997,2.1518570235612637,1.006641858402582,4.1070678408115055E-2,0.99576341785410805,4.6095819658386258E-3,0.10677458359639548,0.15245484397034917,0.75519836606123569,0.86899657031091282,0.85167948416923556,1.1067115427826373,0.84419492164530618,1.112898290497609,0.55902079953158434,{"$f":"+Spectre!C3018*N3019/L3019","v":0.56810306468868099},0.58092518282156136]
[6818,0.68179999999999996,2.1512258416262378,1.0066381866479457,4.1046438549599419E-2,0.99576975451329974,4.6026727760775698E-3,0.10675422514747562,0.15240333647315263,0.75527000828038027,0.86903779662347069,0.85172568119431669,1.1067715733244665,0.84424323037759352,1.1129619756776548,0.55932068571238336,{"$f":"+Spectre!C3019*N3020/L3020","v":0.56914264458830843},0.58198822609801271]
[6819,0.68189999999999995,2.1505949373575781,1.0066345165500048,4.1022216594304856E-2,0.99577608171486121,4.595773942332306E-3,0.10673387356516399,0.15235186410180115,0.75534160843210518,0.86907899677532763,0.85177184921832916,1.1068315661809716,0.84429150892707427,1.1130256210678451,0.5596203682775025,{"$f":"+Spectre!C3020*N3021/L3021","v":0.57063960424960403},0.58351897222308624]
[6820,0.68200000000000005,2.1499643105924435,1.0066308481077562,4.099801252634537E-2,0.99578239947284808,4.5888854490803476E-3,0.1067135288461383,0.15230042682156403,0.75541316655147706,0.86912017079037907,0.85181798826744015,1.1068915213861554,0.84433975732083255,1.1130892267038848,0.55991984742713719,{"$f":"+Spectre!C3021*N3022/L3022","v":0.5723225429171892},0.58523989491108508]
[6821,0.68210000000000004,2.1493339611681117,1.0066271813201977,4.0973826329851457E-2,0.99578870780129514,4.5820072808226515E-3,0.10669319098707801,0.15224902459775211,0.75548468267352953,0.8691613186924948,0.85186409836778831,1.1069514389739836,0.84438797558592449,1.1131527926214422,0.56021912336159385,{"$f":"+Spectre!C3022*N3023/L3023","v":0.57425667313615536},0.58721767855791218]
[6822,0.68220000000000003,2.1487038889219785,1.0066235161863277,4.0949657988969955E-2,0.99579500671421672,4.575139422083133E-3,0.10667285998466504,0.15219765739571811,0.75555615683326349,0.86920244050551865,0.85191017954548454,1.1070113189783859,0.84443616374937747,1.113216318856147,0.56051819628073485,{"$f":"+Spectre!C3023*N3024/L3024","v":0.57630858296975662},0.58931590011190327]
[6823,0.68230000000000002,2.1480740936915592,1.006619852705146,4.0925507487864214E-2,0.9958012962256062,4.568281857409269E-3,0.10665253583558312,0.15214632518085661,0.75562758906564664,0.86924353625326867,0.85195623182661251,1.1070711614332567,0.84448432183819022,1.1132798054435915,0.56081706638413387,{"$f":"+Spectre!C3024*N3025/L3025","v":0.57572876544877294},0.58872299607684897]
[6824,0.68240000000000001,2.1474445753144891,1.0066161908756524,4.0901374810713952E-2,0.9958075763494364,4.5614345713716128E-3,0.10663221853651797,0.15209502791860352,0.75569897940561404,0.86928460595953716,0.8520022552372275,1.1071309663724533,0.84453244987933362,1.1133432524193316,0.5611157338713868,{"$f":"+Spectre!C3025*N3026/L3026","v":0.57438497052647686},0.58734887162755156]
[6825,0.6825,2.1468153336285201,1.0066125306968476,4.087725994171524E-2,0.99581384709965981,4.5545975485635458E-3,0.10661190808415778,0.15204376557443655,0.75577032788806753,0.86932564964809067,0.85204824980335769,1.1071907338297984,0.84458054789974901,1.1134066598188836,0.56141419894151223,{"$f":"+Spectre!C3026*N3027/L3027","v":0.57453097729226388},0.58749817377425706]
[6826,0.68259999999999998,2.1461863684715268,1.0066088721677333,4.0853162865080624E-2,0.99582010849020797,4.5477707736020058E-3,0.10659160447519248,0.15199253811387511,0.75584163454787634,0.86936666734266976,0.85209421555100295,1.1072504638390768,0.84462861592635041,1.1134700276777285,0.56171246179361756,{"$f":"+Spectre!C3027*N3028/L3028","v":0.58100019112036927},0.59411339812243646]
[6827,0.68269999999999997,2.1455576796814979,1.0066052152873124,4.0829083565038879E-2,0.99582636053499229,4.5409542311265153E-3,0.10657130770631429,0.15194134550247967,0.75591289941987716,0.86940765906698991,0.85214015250613639,1.1073101564340393,0.84467665398602276,1.1135333560313081,0.56201052262627726,{"$f":"+Spectre!C3028*N3029/L3029","v":0.58814885152363949},0.6014234041932095]
[6828,0.68279999999999996,2.1449292670965452,1.0066015600545872,4.0805022025835191E-2,0.99583260324790335,4.5341479058000249E-3,0.10655101777421744,0.15189018770585266,0.75598412253887304,0.86944862484474039,0.85218606069470226,1.1073698116483992,0.84472466210562269,1.1135966449150279,0.56230838163806585,{"$f":"+Spectre!C3029*N3030/L3030","v":0.58755265243290433},0.6008137488554528]
[6829,0.68289999999999995,2.1443011305548954,1.006597906468562,4.0780978231730991E-2,0.99583883664281148,4.5273517823081868E-3,0.10653073467559812,0.15183906468963732,0.75605530393963538,0.86948956469958527,0.85223194014261849,1.1074294295158356,0.84477264031197907,1.1136598943642559,0.56260603902718032,{"$f":"+Spectre!C3030*N3031/L3031","v":0.57703456866619118},0.59005827134635203]
[6830,0.68300000000000005,2.143673269894895,1.0065942545282414,4.0756952167004035E-2,0.99584506073356638,4.5205658453598366E-3,0.10651045840715503,0.15178797641951891,0.75612644365690174,0.86953047865516242,0.85227779087577449,1.1074890100699899,0.84482058863189147,1.1137231044143221,0.56290349499164005,{"$f":"+Spectre!C3031*N3032/L3032","v":0.56715073961885298},0.57995136372132716]
[6831,0.68310000000000004,2.1430456849550112,1.0065906042326309,4.0732943815948434E-2,0.99585127553399755,4.5137900796865067E-3,0.10649018896558822,0.15173692286122314,0.75619754172537768,0.86957136673508473,0.852323612920033,1.1075485533444698,0.84486850709213235,1.1137862751005201,0.56320074972913137,{"$f":"+Spectre!C3032*N3033/L3033","v":0.56710126238830416},0.57990076978690119]
[6832,0.68320000000000003,2.1424183755738251,1.0065869555807365,4.0708953162874366E-2,0.99585748105791394,4.507024470042786E-3,0.10646992634760057,0.15168590398051773,0.75626859817973602,0.86961222896293933,0.85236940630122848,1.1076080593728457,0.8449163957194451,1.1138494064581062,0.56349780343729616,{"$f":"+Spectre!C3033*N3034/L3034","v":0.56946549454789852},0.582318362799355]
[6833,0.68330000000000002,2.1417913415900385,1.0065833085715654,4.0684980192108394E-2,0.9958636773191043,4.5002690012059567E-3,0.1064496705498964,0.15163491974321075,0.75633961305461683,0.8696530653622877,0.85241517104516862,1.1076675281886532,0.84496425454054547,1.113912498522299,0.56379465631335446,{"$f":"+Spectre!C3034*N3035/L3035","v":0.57145208689654858},0.5843497926490846]
[6834,0.68340000000000001,2.141164582842471,1.0065796632041248,4.0661024887993218E-2,0.99586986433133684,4.493523657976355E-3,0.10642942156918285,0.15158397011515243,0.75641058638462688,0.86969387595666603,0.85246090717763268,1.1077269598253909,0.8450120835821201,1.1139755513282801,0.56409130855441525,{"$f":"+Spectre!C3035*N3036/L3036","v":0.57208618762074681},0.58499820506230404]
[6835,0.6835,2.14053809917006,1.0065760194774236,4.0637087234887771E-2,0.99587604210835967,4.4867884251768844E-3,0.10640917940216826,0.15153305506223291,0.75648151820434173,0.86973466076958494,0.85250661472437372,1.1077863543165238,0.84505988287082845,1.1140385649111939,0.56438776035723226,{"$f":"+Spectre!C3036*N3037/L3037","v":0.57284851910510015},0.58577774241114988]
[6836,0.68359999999999999,2.1399118904118595,1.0065723773904707,4.061316721716713E-2,0.9958822106639007,4.4800632876531334E-3,0.10638894404556362,0.15148217455038387,0.75655240854830352,0.86977541982452999,0.85255229371111674,1.1078457116954801,0.84510765243330199,1.1141015393061486,0.56468401191844819,{"$f":"+Spectre!C3037*N3038/L3038","v":0.57135432708864531},0.58424982639681677]
[6837,0.68369999999999997,2.139285956407043,1.0065687369422758,4.0589264819222551E-2,0.99588837001166719,4.4733482302738593E-3,0.10636871549608191,0.15143132854557834,0.75662325745102132,0.86981615314496052,0.8525979441635595,1.1079050319956527,0.84515539229614267,1.114164474548214,0.56498006343435048,{"$f":"+Spectre!C3038*N3039/L3039","v":0.56789523403705855},0.58071266142043876]
[6838,0.68379999999999996,2.1386602969949005,1.0065650981318504,4.0565380025461423E-2,0.99589452016534674,4.4666432379298964E-3,0.10634849375043795,0.15138051701382926,0.75669406494697311,0.86985686075431123,0.85264356610737235,1.1079643152503986,0.84520310248592645,1.1142273706724244,0.56527591510113773,{"$f":"+Spectre!C3039*N3040/L3040","v":0.56480256617447411},0.57755019187019474]
[6839,0.68389999999999995,2.1380349120148394,1.0065614609582048,4.0541512820307206E-2,0.99590066113860654,4.4599482955350002E-3,0.10632827880534898,0.1513297399211912,0.75676483107060311,0.8698975426759914,0.8526891595681988,1.1080235614930403,0.84525078302919943,1.1142902277137758,0.56557156711463108,{"$f":"+Spectre!C3040*N3041/L3041","v":0.56850360063449379},0.58133475888620623]
[6840,0.68400000000000005,2.1374098013063842,1.006557825420352,4.05176631881995E-2,0.99590679294509332,4.4532633880258465E-3,0.10630807065753384,0.15127899723375918,0.75683555585632367,0.86993819893338442,0.85273472457165456,1.1080827707568639,0.84529843395248083,1.1143530457072284,0.56586701967051845,{"$f":"+Spectre!C3041*N3042/L3042","v":0.57377496019294627},0.58672509332647249]
[6841,0.68410000000000004,2.1367849647091797,1.0065541915173051,4.049383111359408E-2,0.99591291559843431,4.4465885003610612E-3,0.10628786930371406,0.15122828891766921,0.75690623933851431,0.86997882954984906,0.85278026114332828,1.1081419430751207,0.84534605528226103,1.1144158246877041,0.56616227296415467,{"$f":"+Spectre!C3042*N3043/L3043","v":0.57872561125894328},0.59178748086556465]
[6842,0.68420000000000003,2.1361604020629841,1.0065505592480768,4.0470016580962595E-2,0.99591902911223618,4.439923617522306E-3,0.10626767474061249,0.1511776149390974,0.75697688155152287,0.87001943454871877,0.85282576930878162,1.1082010784810266,0.84539364704500353,1.1144785646900894,0.56645732719076136,{"$f":"+Spectre!C3043*N3044/L3044","v":0.58274464310834295},0.59589722248992583]
[6843,0.68430000000000002,2.1355361132076736,1.0065469286116824,4.0446219574792837E-2,0.99592513350008571,4.4332687245135513E-3,0.10624748696495447,0.15112697526426086,0.75704748252966425,0.87006001395330146,0.85287124909354906,1.1082601770077622,0.84544120926714339,1.1145412657492342,0.56675218254529369,{"$f":"+Spectre!C3044*N3045/L3045","v":0.5874070523704189},0.60066486259136531]
[6844,0.68440000000000001,2.1349120979832423,1.0065432996071368,4.0422440079588631E-2,0.99593122877554963,4.4266238063613165E-3,0.10622730597346779,0.15107636985941775,0.75711804230722024,0.87010056778687972,0.85291670052313728,1.1083192386884724,0.84548874197508739,1.11460392789995,0.56704683922248478,{"$f":"+Spectre!C3045*N3046/L3046","v":0.58429855424766985},0.5974862054910941]
[6845,0.6845,2.1342883562298005,1.0065396722334559,4.0398678079869743E-2,0.99593731495217463,4.4199888481145453E-3,0.10620713176288114,0.15102579869086544,0.75718856091844267,0.8701410960727114,0.85296212362302704,1.1083782635562676,0.84553624519521531,1.1146665511770131,0.56734129741675687,{"$f":"+Spectre!C3046*N3047/L3047","v":0.57612175688185396},0.58912485734868536]
[6846,{"$f":"+A3048/10000","v":0.68459999999999999},{"$f":"+(1/B3048)^2","v":2.1336648877875763},{"$f":"0.23465+1.076*100/(146-C3048)+0.93161/(41-C3048)","v":1.0065360464896564},{"$f":"9.4977*0.001*C3048^2*D3048*EXP(-h/7.996/1000)","v":4.0374933560172022E-2},{"$f":"+EXP(-0.0168*EXP(-15*ABS(B3048-0.59)))","v":0.99594339204348759},{"$f":"-2.5*LOG(F3048)","v":4.4133638348444852E-3},{"$f":"2.5*LOG(EXP(AOD*(B3048/0.55)^(-1.3)))","v":0.10618696432992661},{"$f":"+E3048+G3048+H3048","v":0.15097526172494313},{"$f":"10^(-0.4*I3048*ma)","v":0.75725903839754816},{"$f":"10^(-0.4*I3048)","v":0.87018159883402912},{"$f":"10^(-0.4*I3048*ma_ref)","v":0.85300751841867106},{"$f":"+L3048/M$1","v":1.1084372516442222},{"$f":"10^(-0.4*I3048*ma_target)","v":0.84558371895387829},{"$f":"+N3048/O$1","v":1.1147291356151623},{"$f":"(O3048/M3048-1)*100","v":0.56763555732242121},{"$f":"+Spectre!C3047*N3048/L3048","v":0.56879148890582421},0.58162914481201788]
[6847,0.68469999999999998,2.1330416924969127,1.0065324223747558,4.0351206505047171E-2,0.99594946006299523,4.4067487516449245E-3,0.10616680367133736,0.15092475892802945,0.75732947477872348,0.87022207609404023,0.85305288493549547,1.1084962029853767,0.84563116327740029,1.1147916812491001,0.56792961913343376,{"$f":"+Spectre!C3048*N3049/L3049","v":0.56981951826874311},0.58268037685549734]
[6848,0.68479999999999996,2.1324187701982709,1.0065287998877723,4.032749689906294E-2,0.99595551902418444,4.4001435836319496E-3,0.10614664978384883,0.15087429026654373,0.75739987009612175,0.87026252787592717,0.85309822319889916,1.1085551176127351,0.84567857819207726,1.1148541881134926,0.56822348304363945,{"$f":"+Spectre!C3049*N3050/L3050","v":0.57253902482134833},0.58546126282400091]
[6849,0.68489999999999995,2.1317961207322269,1.0065251790277243,4.0303804726802873E-2,0.99596156894052223,4.3935483159439461E-3,0.10612650266419914,0.15082385570694595,0.75747022438386369,0.87030295420284653,0.85314353323425385,1.1086139955592664,0.84572596372417719,1.1149166562429687,0.56851714924659458,{"$f":"+Spectre!C3050*N3051/L3051","v":0.57374516085641192},0.58669462141723594]
[6850,0.68500000000000005,2.1311737439394745,1.0065215597936321,4.0280129972866577E-2,0.99596760982545596,4.3869629337413485E-3,0.10610636230912732,0.15077345521573524,0.75754053767603979,0.8703433550979317,0.85318881506690547,1.1086728368579069,0.84577331989994142,1.114979085672122,0.56881061793556675,{"$f":"+Spectre!C3051*N3052/L3052","v":0.57041499120731354},0.58328928965179405]
[6851,0.68510000000000004,2.1305516396608235,1.0065179421845158,4.0256472621869474E-2,0.99597364169241265,4.3803874222073684E-3,0.1060862287153755,0.15072308875945234,0.7576108100067056,0.87038373058428908,0.85323406872217133,1.1087316415415547,0.84582064674558211,1.1150414764355081,0.56910388930366818,{"$f":"+Spectre!C3052*N3053/L3053","v":0.56737984417214005},0.58018563917727195]
[6852,0.68520000000000003,2.1299298077372,1.0065143261993963,4.0232832658442859E-2,0.99597966455480014,4.3738217665467817E-3,0.10606610187968725,0.15067275630467689,0.75768104140988679,0.87042408068500121,0.85327929422534299,1.1087904096430747,0.84586794428728485,1.1151038285676473,0.5693969635438112,{"$f":"+Spectre!C3053*N3054/L3054","v":0.56377715838470033},0.57650164056891384]
[6853,0.68530000000000002,2.1293082480096448,1.006510711837296,4.0209210067233866E-2,0.99598567842600594,4.3672659519871371E-3,0.10604598179880852,0.15062245781802952,0.75775123191957561,0.87046440542312531,0.85332449160168444,1.1088491411952963,0.84591521255120716,1.115166142103023,0.56968984084861951,{"$f":"+Spectre!C3054*N3055/L3055","v":0.55986430005379451},0.57250046880533256]
[6854,0.68540000000000001,2.1286869603193166,1.0065070990972373,4.0185604832905529E-2,0.99599168331939825,4.3607199637776635E-3,0.10602586846948689,0.15057219326617008,0.757821381569733,0.87050470482169395,0.85336966087643351,1.1089078362310147,0.84596245156347938,1.1152284170760827,0.56998252141047256,{"$f":"+Spectre!C3055*N3056/L3056","v":0.5543344344590484},0.56684579383298939]
[6855,0.6855,2.1280659445074885,1.0065034879782433,4.0162016940136595E-2,0.99599767924832527,4.3541837871899957E-3,0.10600576188847237,0.15052196261579898,0.75789149039428738,0.87054497890371463,0.85341480207480092,1.1089664947829898,0.84600966135020372,1.1152906535212368,0.57027500542154996,{"$f":"+Spectre!C3056*N3057/L3057","v":0.53497343273127951},0.54704781320692786]
[6856,0.68559999999999999,2.1274452004155497,1.0064998784793384,4.0138446373621704E-2,0.99600366622611569,4.3476574075176858E-3,0.10598566205251682,0.15047176583365621,0.75796155842713553,0.87058522769216984,0.85345991522197073,1.1090251168839469,0.84605684193745567,1.1153528514728603,0.57056729307380927,{"$f":"+Spectre!C3057*N3058/L3058","v":0.51342736543527423},0.52501544995981764]
[6857,0.68569999999999998,2.1268247278850052,1.0064962705995475,4.0114893118071197E-2,0.99600964426607852,4.3411408100763275E-3,0.10596556895837432,0.15042160288652184,0.75803158570214169,0.87062545121001766,0.85350500034309984,1.1090837025665761,0.84610399335128261,1.1154150109652916,0.57085938455898599,{"$f":"+Spectre!C3058*N3059/L3059","v":0.49062703630481291},0.50170051611807998]
[6858,0.68579999999999997,2.1262045267574763,1.006492664337896,4.0091357158211251E-2,0.99601561338150302,4.3346339802036674E-3,0.10594548260280054,0.15037147374121546,0.75810157225313879,0.87066564948019098,0.8535500574633188,1.1091422518635332,0.84615111561770451,1.1154771320328327,0.571151280068527,{"$f":"+Spectre!C3059*N3060/L3060","v":0.46486252649733906},0.47535449987467765]
[6859,0.68589999999999995,2.125584596874698,1.0064890596934102,4.0067838478783716E-2,0.99602157358565901,4.3281369032592484E-3,0.10592540298255382,0.15032137836459677,0.75817151811392725,0.87070582252559814,0.85359508660773142,1.1092007648074391,0.84619820876271434,1.1155392147097498,0.57144297979374592,{"$f":"+Spectre!C3060*N3061/L3061","v":0.43888988195355816},0.44879565128225962]
[6860,0.68600000000000005,2.1249649380785214,1.0064854566651171,4.0044337064546159E-2,0.99602752489179658,4.3216495646247639E-3,0.10590533009439408,0.150271316723565,0.75824142331827593,0.87074597036912227,0.85364008780141487,1.1092592414308806,0.84624527281227702,1.1156012590302724,0.57173448392560111,{"$f":"+Spectre!C3061*N3062/L3062","v":0.42204877396029095},0.43157443853406274]
[6861,0.68610000000000004,2.1243455502109145,1.0064818552520447,4.0020852900271971E-2,0.99603346731314646,4.3151719497035758E-3,0.10588526393508353,0.15022128878505908,0.75831128789992142,0.87078609303362264,0.85368506106941922,1.1093176817664083,0.84629230779233056,1.1156632650285947,0.57202579265500653,{"$f":"+Spectre!C3062*N3063/L3063","v":0.40957090117938411},0.41881493946245546]
[6862,0.68620000000000003,2.123726433113958,1.0064782554532212,3.9997385970750067E-2,0.99603940086291975,4.3087040439210725E-3,0.10586520450138594,0.15017129451605707,0.75838111189256929,0.87082619054193322,0.85373000643676922,1.1093760858465411,0.84633931372878601,1.1157252327388749,0.57231690617243203,{"$f":"+Spectre!C3063*N3064/L3064","v":0.39857203987681444},0.40756783324146417]
[6863,0.68630000000000002,2.1231075866298488,1.0064746572676764,3.9973936260785138E-2,0.99604532555430814,4.3022458327244308E-3,0.10584515179006776,0.15012133388357735,0.75845089532989218,0.87086626291686342,0.85377492392846122,1.1094344537037601,0.84638629064752624,1.1157871621952342,0.57260782466832527,{"$f":"+Spectre!C3064*N3065/L3065","v":0.39987382186879333},0.40889899652624345]
[6864,0.68640000000000001,2.1224890106008991,1.0064710606944398,3.9950503755197493E-2,0.99605124140048362,4.2957973015828486E-3,0.10582510579789683,0.15007140685467718,0.75852063824553184,0.87090631018119802,0.85381981356946657,1.1094927853705145,0.84643323857440733,1.1158490534317589,0.57289854833275644,{"$f":"+Spectre!C3065*N3066/L3066","v":0.40215728627430591},0.41123399885186168]
[6865,0.6865,2.1218707048695342,1.0064674657325421,3.9927088438823012E-2,0.99605714841459914,4.2893584359869411E-3,0.10580506652164366,0.15002151339645362,0.75859034067309772,0.87094633235769725,0.85386467538472943,1.1095510808792175,0.84648015753525796,1.1159109064824984,0.57318907735561808,{"$f":"+Spectre!C3066*N3067/L3067","v":0.40822416768568431},0.41743781011803238]
[6866,0.68659999999999999,2.1212526692782969,1.0064638723810153,3.9903690296513313E-2,0.99606304660978795,4.2829292214493454E-3,0.10578503395808035,0.14997165347604302,0.75866000264616729,0.8709863294690966,0.85390950939916732,1.1096093402622482,0.84652704755587971,1.115972721381467,0.5734794119266251,{"$f":"+Spectre!C3067*N3068/L3068","v":0.42070483808678416},0.43020016995227783]
[6867,0.68669999999999998,2.1206349036698415,1.0064602806388909,3.9880309313135451E-2,0.99606893599916402,4.2765096435043552E-3,0.10576500810398104,0.14992182706062085,0.75872962419828716,0.87102630153810723,0.85395431563767166,1.109667563551952,0.84657390866204718,1.1160344981626433,0.57376955223520376,{"$f":"+Spectre!C3068*N3069/L3069","v":0.43276696958558164},0.44253454443764795]
[6868,0.68679999999999997,2.1200174078869396,1.0064566905052024,3.9856945473572207E-2,0.99607481659582209,4.2700996877077938E-3,0.1057449889561221,0.1498720341174021,0.75879920536297163,0.87106624858741577,0.85399909412510755,1.1097257507806393,0.84662074087950734,1.1160962368599692,0.57405949847055826,{"$f":"+Spectre!C3069*N3070/L3070","v":0.44696754504731873},0.45705562768651531]
[6869,0.68689999999999996,2.1194001817724759,1.0064531019789829,3.9833598762721814E-2,0.99608068841283737,4.2636993396373809E-3,0.10572497651128172,0.14982227461364092,0.75886874617370326,0.87110617063968421,0.85404384488631313,1.1097839019805862,0.84666754423398027,1.1161579375073518,0.57434925082173738,{"$f":"+Spectre!C3070*N3071/L3071","v":0.46213698430782929},0.47256744204460505]
[6870,0.68700000000000006,2.1187832251694498,1.0064495150592672,3.9810269165498118E-2,0.99608655146326597,4.2573085848922436E-3,0.10570497076624016,0.14977254851663052,0.75893824666393339,0.87114606771754999,0.85408856794610066,1.1098420171840346,0.84671431875115899,1.1162196001386615,0.57463880947745682,{"$f":"+Spectre!C3071*N3072/L3072","v":0.47715378868121561},0.48792317653758055]
[6871,0.68710000000000004,2.1181665379209735,1.0064459297450905,3.9786956666830381E-2,0.99609240576014468,4.2509274090931568E-3,0.10568497171777988,0.14972285579370342,0.7590077068670813,0.87118593984362636,0.85413326332925588,1.1099000964231924,0.84676106445670951,1.1162812247877341,0.57492817462632129,{"$f":"+Spectre!C3072*N3073/L3073","v":0.4911902449566628},0.5022764364208897]
[6872,0.68720000000000003,2.1175501198702769,1.0064423460354883,3.9763661251663515E-2,0.99609825131649088,4.2445557978826615E-3,0.1056649793626849,0.14967319641223109,0.75907712681653516,0.87122578704050213,0.85417793106053819,1.1099581397302334,0.84680778137627055,1.1163428114883689,0.57521734645662459,{"$f":"+Spectre!C3073*N3074/L3074","v":0.50543801795088472},0.51684578245320545]
[6873,0.68730000000000002,2.1169339708607002,1.0064387639294972,3.9740382904957766E-2,0.99610408814530305,4.2381937369244602E-3,0.10564499369774159,0.14962357033962381,0.7591465065456513,0.8712656093307416,0.85422257116468114,1.1100161471372971,0.84685446953545429,1.1164043602743303,0.57550632515646072,{"$f":"+Spectre!C3074*N3075/L3075","v":0.51652902622284291},{"$f":"+Q3075/R$1","v":0.52818711540586871}]
[6874,0.68740000000000001,2.1163180907356991,1.0064351834261545,3.971712161168893E-2,0.99610991625956036,4.231841211903899E-3,0.10562501471973851,0.14957397754333135,0.75921584608775439,0.87130540673688461,0.85426718366639121,1.1100741186764884,0.84690112895984504,1.116465871179346,0.57579511091370161,{"$f":"+Spectre!C3075*N3076/L3076","v":0.52356511084364288},0.53538200485242737]
[6875,0.6875,2.115702479338843,1.0064316045244985,3.9693877356848241E-2,0.99611573567222278,4.2254982085278385E-3,0.1056050424254658,0.14952441799084187,0.7592851454761379,0.87134517928144706,0.8543117685903493,1.1101320543798787,0.84694775967500124,1.1165273442371098,0.57608370391606378,{"$f":"+Spectre!C3076*N3077/L3077","v":0.53055905199178244},0.54253379964577653]
[6876,0.68759999999999999,2.1150871365138157,1.0064280272235679,3.9670650125442346E-2,0.99612154639623107,4.2191647125246643E-3,0.10558507681171612,0.14947489164968314,0.75935440474406324,0.87138492698691972,0.85435632596120947,1.1101899542795048,0.84699436170645337,1.1165887794812779,0.57637210435088626,{"$f":"+Spectre!C3077*N3078/L3078","v":0.52606801452694096},0.53794139921267692]
[6877,0.68769999999999998,2.1144720621044133,1.0064244515224021,3.9647439902493302E-2,0.99612734844450723,4.2128407096437863E-3,0.10556511787528325,0.14942539848742034,0.75942362392476148,0.87142464987577062,0.85440085580360081,1.110247818407371,0.84704093507970601,1.1166501769454731,0.57666031240539706,{"$f":"+Spectre!C3078*N3079/L3079","v":0.51697877663819858},0.52864701671340308]
[6878,0.68779999999999997,2.1138572559545459,1.0064208774200409,3.9624246673038516E-2,0.99613314182995394,4.2065261856562538E-3,0.10554516561296411,0.14937593847165886,0.75949280305143119,0.87146434797044203,0.85444535814212497,1.1103056467954453,0.84708747982023624,1.1167115366632818,0.57694832826664655,{"$f":"+Spectre!C3079*N3080/L3080","v":0.50831982658645469},0.51979263367181772]
[6879,0.68789999999999996,2.1132427179082383,1.0064173049155258,3.9601070422130902E-2,0.99613892656545489,4.2002211263543849E-3,0.10552522002155679,0.14932651157004206,0.75956194215723993,0.87150402129335247,0.85448983300135828,1.1103634394756636,0.84713399595349448,1.1167728586682553,0.57723615212135204,{"$f":"+Spectre!C3080*N3081/L3081","v":0.50148819368959308},0.51280681043610976]
[6880,0.68799999999999994,2.1126284478096271,1.0064137340078985,3.9577911134838606E-2,0.99614470266387467,4.193925517551887E-3,0.10550528109786157,0.14927711775025207,0.7596310412753241,0.87154366986689646,0.85453428040585067,1.1104211964799273,0.84718048350490438,1.1168341429939093,0.57752378415607541,{"$f":"+Spectre!C3081*N3082/L3082","v":0.49440269891386063},0.50556139564464186]
[6881,0.68810000000000004,2.1120144455029619,1.0064101646962005,3.9554768796245095E-2,0.99615047013805902,4.1876393450836118E-3,0.10548534883868088,0.14922775698000959,0.75970010043878855,0.87158329371344467,0.85457870038012607,1.1104789178401038,0.84722694249986263,1.1168953896737239,0.57781122455708989,{"$f":"+Spectre!C3082*N3083/L3083","v":0.49002949460304418},0.50108948786648322]
[6882,0.68820000000000003,2.1114007108326089,1.006406596979476,3.953164339144935E-2,0.99615622900083478,4.1813625948055556E-3,0.10546542324081931,0.14917842922707422,0.75976911968070648,0.87162289285534245,0.85462309294868222,1.1105366035880266,0.84727337296373928,1.1169565987411449,0.57809847351055765,{"$f":"+Spectre!C3083*N3084/L3084","v":0.48840714623700621},0.4994305230065465]
[6883,0.68830000000000002,2.1107872436430419,1.0064030308567682,3.9508534905565391E-2,0.99616197926500971,4.1750952525950987E-3,0.10544550430108285,0.14912913445924333,0.7598380990341207,0.87166246731491248,0.85466745813599154,1.1105942537554965,0.84731977492187793,1.117017770229582,0.57838553120226344,{"$f":"+Spectre!C3084*N3085/L3085","v":0.48679628907057504},0.49778330870323828]
[6884,0.68840000000000001,2.1101740437788523,1.0063994663271214,3.948544332372271E-2,0.99616772094337269,4.1688373043507606E-3,0.10542559201628,0.14907987264435346,0.759907038532042,0.87170201711445239,0.8547117959664996,1.1106518683742788,0.84736614839959512,1.1170789041724105,0.57867239781799196,{"$f":"+Spectre!C3085*N3086/L3086","v":0.48782317986328017},0.49883337647891013]
[6885,0.6885,2.1095611110847416,1.0063959033895815,3.9462368631065982E-2,0.99617345404869373,4.1625887359921969E-3,0.10540568638322126,0.14903064375027944,0.75997593820744946,0.8717415422762359,0.85475610646462641,1.1107094474761063,0.84741249342218072,1.1171400006029695,0.57895907354308385,{"$f":"+Spectre!C3086*N3087/L3087","v":0.48971715629102014},0.50077010006118394]
[6886,0.68859999999999999,2.1089484454055252,1.0063923420431944,3.9439310812755153E-2,0.99617917859372418,4.1563495334599604E-3,0.10538578739871873,0.14898144774493385,0.76004479809329284,0.87178104282251323,0.85480038965476635,1.1107669910926783,0.84745881001489831,1.1172010595545641,0.57924555856276871,{"$f":"+Spectre!C3087*N3088/L3088","v":0.49158265924071298},0.50267770751740903]
[6887,0.68869999999999998,2.1083360465861309,1.0063887822870061,3.9416269853965395E-2,0.99618489459119641,4.1501196827158594E-3,0.10536589505958677,0.14893228459626801,0.76011361822248891,0.87182051877551014,0.85484464556128759,1.1108244992556595,0.8475050982029847,1.1172620810604637,0.57953185306209853,{"$f":"+Spectre!C3088*N3089/L3089","v":0.49345296718419762},0.50459022841640622]
[6888,0.68879999999999997,2.1077239144715989,1.0063852241200648,3.9393245739887103E-2,0.99619060205382393,4.1438991697428304E-3,0.1053460093626418,0.14888315427227172,0.76018239862792392,0.87185997015742822,0.85488887420853243,1.1108819719966816,0.84755135801164982,1.1173230651539023,0.57981795722579221,{"$f":"+Spectre!C3089*N3090/L3090","v":0.49538050420871016},0.50656127006000984]
[6889,0.68889999999999996,2.1071120489070823,1.0063816675414183,3.9370238455725834E-2,0.99619630099430145,4.1376879805448252E-3,0.10532613030470203,0.14883405674097269,0.76025113934245292,0.87189939699044572,0.85493307562081733,1.1109394093473426,0.84759758946607744,1.11738401186808,0.58010387123843543,{"$f":"+Spectre!C3090*N3091/L3091","v":0.49634685669690859},0.50754943317823631]
[6890,0.68899999999999995,2.1065004497378466,1.0063781125501154,3.9347247986702395E-2,0.99620199142530541,4.1314861011463155E-3,0.10530625788258793,0.14878499197043665,0.76031984039889999,0.87193879929671636,0.85497724982243317,1.110996811339207,0.84764379259142475,1.1174449212361612,0.58038959528439182,{"$f":"+Spectre!C3091*N3092/L3092","v":0.4964526106339423},0.50765757398757883]
[6891,0.68910000000000005,2.1058891168092679,1.0063745591452058,3.9324274318052618E-2,0.9962076733594929,4.125293517593386E-3,0.10528639209312138,0.14873595992876737,0.76038850183005846,0.87197817709837078,0.85502139683764533,1.1110541780038066,0.84768996741282243,1.1175057932912753,0.58067512954769196,{"$f":"+Spectre!C3092*N3093/L3093","v":0.49673020410321161},0.5079414327570676]
[6892,0.68920000000000003,2.1052780499668375,1.0063710073257397,3.9301317435027648E-2,0.99621334680950269,4.1191102159526417E-3,0.10526653293312713,0.14868696058410741,0.76045712366868945,0.87201753041751451,0.85506551669069231,1.111111509372638,0.84773611395537463,1.1175666280665173,0.5809604742123442,{"$f":"+Spectre!C3093*N3094/L3094","v":0.50295774376044511},0.51430952833474131]
[6893,0.68930000000000002,2.1046672490561567,1.0063674570907681,3.9278377322893632E-2,0.99621901178795491,4.1129361823115688E-3,0.10524668039943093,0.14863799390463611,0.76052570594752456,0.87205685927623067,0.8551096094057884,1.1111688054771662,0.84778223224415905,1.117627425594947,0.58124562946195724,{"$f":"+Spectre!C3094*N3095/L3095","v":0.51055961192681731},0.52208297109332813]
[6894,0.68940000000000001,2.1040567139229389,1.006363908439343,3.9255453966931871E-2,0.99622466830745093,4.1067714027786546E-3,0.10522683448886141,0.14858905985857193,0.76059424869926318,0.87209616369657716,0.85515367500712103,1.1112260663488214,0.84782832230422711,1.1176881859095893,0.58153059548005093,{"$f":"+Spectre!C3095*N3096/L3096","v":0.51608514811273309},0.52773321894184011]
[6895,0.6895,2.1034464444130094,1.0063603613705163,3.9232547352438703E-2,0.99623031638057358,4.1006158634831437E-3,0.10520699519824836,0.1485401584141702,0.76066275195657485,0.8721354437005896,0.85519771351885265,1.1112832920190017,0.8478743841606039,1.1177489090434349,0.58181537244985648,{"$f":"+Spectre!C3096*N3097/L3097","v":0.51412726637318806},0.52573114770127838]
[6896,0.68959999999999999,2.1028364403723065,1.0063568158833414,3.9209657464725621E-2,0.99623595601988713,4.0944695505750351E-3,0.10518716252442427,0.14849128953972493,0.76073121575209701,0.87217469931027847,0.85524172496511974,1.1113404825190709,0.84792041783828775,1.1178095950294391,0.58209996055436086,{"$f":"+Spectre!C3097*N3098/L3098","v":0.51218307381029726},0.52374307460285807]
[6897,0.68969999999999998,2.1022267016468783,1.006353271976872,3.9186784289119085E-2,0.99624158723793732,4.0883324502250821E-3,0.10516733646422306,0.14844245320356722,0.76079964011843704,0.8722139305476313,0.85528570937003334,1.1113976378803601,0.84796642336225159,1.1178702439005233,0.58238435997648441,{"$f":"+Spectre!C3098*N3099/L3099","v":0.51216346533412516},0.52372302356227562]
[6898,0.68979999999999997,2.101617228082886,1.0063497296501631,3.9163927810960661E-2,0.99624721004725125,4.082204548624911E-3,0.10514751701448105,0.14839364937406663,0.76086802508817097,0.87225313743461175,0.85532966675767885,1.1114547581341669,0.84801240075744078,1.1179308556895728,0.58266857089870339,{"$f":"+Spectre!C3099*N3100/L3100","v":0.51379439499950419},0.52539076340196234]
[6899,0.68989999999999996,2.1010080195266005,1.0063461889022693,3.9141088015606826E-2,0.99625282446033758,4.0760858319867765E-3,0.10512770417203603,0.14834487801962964,0.76093637069384445,0.8722923199931597,0.85537359715211636,1.1115118433117563,0.84805835004877561,1.1179914304294405,0.58295259350347184,{"$f":"+Spectre!C3100*N3101/L3101","v":0.51534471128375514},0.52697607041197336]
[6900,0.69,2.1003990758244071,1.0063426497322474,3.911826488842924E-2,0.99625843048968665,4.0699762865434403E-3,0.10510789793372841,0.1482961391087011,0.76100467696797158,0.87233147824519153,0.85541750057737997,1.1115688934443591,0.8481042712611494,1.1180519681529424,0.58323642797295516,{"$f":"+Spectre!C3101*N3102/L3102","v":0.51400501597117831},0.52560613810081713]
[6901,0.69010000000000005,2.0997903968227987,1.0063391121391534,3.9095458414814335E-2,0.99626402814777026,4.0638758985484099E-3,0.10508809829640005,0.14824743260976281,0.76107294394303648,0.87237061221259993,0.85546137705747893,1.1116259085631741,0.84815016441942948,1.1181124688928614,0.58352007448903009,{"$f":"+Spectre!C3102*N3103/L3103","v":0.51227911217834221},0.52384128056227319]
[6902,0.69020000000000004,2.0991819823683824,1.0063355761220449,3.9072668580163651E-2,0.99626961744704179,4.0577846542758185E-3,0.1050683052568948,0.14819875849133426,0.7611411716514922,0.87240972191725419,0.85550522661639639,1.1116828886993662,0.8481960295484573,1.1181729326819458,0.58380353323355116,{"$f":"+Spectre!C3103*N3104/L3104","v":0.51111174874357646},0.52264756966910608]
[6903,0.69030000000000002,2.0985738323078755,1.0063320416799801,3.9049895369893631E-2,0.99627519839993606,4.0517025400205386E-3,0.10504851881205904,0.1481501167219732,0.76120936012576024,0.87244880738099917,0.85554904927809017,1.1117398338840669,0.84824186667304746,1.1182333595529086,0.58408680438797322,{"$f":"+Spectre!C3104*N3105/L3105","v":0.51145778099726269},0.52300141189022664]
[6904,0.69040000000000001,2.097965946488106,1.006328508812018,3.9027138769435692E-2,0.9962807710188698,4.0456295420977046E-3,0.10502873895874008,0.14810150727027349,0.7612775093982328,0.87248786862565775,0.85559284506649358,1.1117967441483767,0.84828767581798925,1.1182937495384295,0.58436988813359569,{"$f":"+Spectre!C3105*N3106/L3106","v":0.51177450014859327},0.52332527941062212]
[6905,0.6905,2.0973583247560112,1.0063249775172178,3.900439876423601E-2,0.99628633531624144,4.0395656468429466E-3,0.10500896569378837,0.14805293010486734,0.76134561950127055,0.87252690567302782,0.85563661400551327,1.111853619523361,0.84833345700804552,1.118354102671153,0.58465278465151815,{"$f":"+Spectre!C3106*N3107/L3107","v":0.51427402621337359},0.52588121991931391]
[6906,0.69059999999999999,2.0967509669586435,1.0063214477946398,3.898167533975587E-2,0.99629189130443085,4.0335108406126313E-3,0.10498919901405548,0.14800438519442399,0.76141369046720342,0.87256591854488452,0.85568035611903126,1.1119104600400529,0.84837921026795271,1.1184144189836891,0.58493549412259593,{"$f":"+Spectre!C3107*N3108/L3108","v":0.51841415402960667},0.53011479065329303]
[6907,0.69069999999999998,2.0961438729431618,1.0063179196433452,3.8958968481471269E-2,0.99629743899579981,4.0274651097833812E-3,0.10496943891639535,0.14795587250764999,0.761481722328331,0.87260490726297946,0.85572407143090445,1.1119672657294533,0.84842493562242194,1.1184746985086145,0.58521801672752893,{"$f":"+Spectre!C3108*N3109/L3109","v":0.52252938875636668},0.53432290645936908]
[6908,0.69079999999999997,2.0955370425568369,1.006314393062395,3.8936278174873128E-2,0.99630297840269177,4.0214284407523075E-3,0.10494968539766343,0.14790739201328887,0.7615497151169226,0.87264387184904069,0.85576775996496401,1.1120240366225294,0.84847063309613813,1.1185349412784711,0.5855003526467728,{"$f":"+Spectre!C3109*N3110/L3110","v":0.5223344885156006},0.53412360730920339]
[6909,0.69089999999999996,2.0949304756470517,1.0063108680508523,3.8913604405467234E-2,0.99630850953743189,4.0154008199370147E-3,0.10492993845471793,0.14785894368012217,0.76161766886521554,0.87268281232477285,0.85581142174501557,1.1120807727502156,0.84851630271375922,1.1185951473257654,0.58578250206049454,{"$f":"+Spectre!C3110*N3111/L3111","v":0.52181734303232619},0.53359478982327557]
[6910,{"$f":"+A3112/10000","v":0.69099999999999995},{"$f":"+(1/B3112)^2","v":2.0943241720612971},{"$f":"0.23465+1.076*100/(146-C3112)+0.93161/(41-C3112)","v":1.0063073446077797},{"$f":"9.4977*0.001*C3112^2*D3112*EXP(-h/7.996/1000)","v":3.8890947158774121E-2},{"$f":"+EXP(-0.0168*EXP(-15*ABS(B3112-0.59)))","v":0.9963140324123273},{"$f":"-2.5*LOG(F3112)","v":4.0093822337752341E-3},{"$f":"2.5*LOG(EXP(AOD*(B3112/0.55)^(-1.3)))","v":0.10491019808441818},{"$f":"+E3112+G3112+H3112","v":0.14781052747696755},{"$f":"10^(-0.4*I3112*ma)","v":0.76168558360541838},{"$f":"10^(-0.4*I3112)","v":0.87272172871185716},{"$f":"10^(-0.4*I3112*ma_ref)","v":0.85585505679484031},{"$f":"+L3112/M$1","v":1.112137474143414},{"$f":"10^(-0.4*I3112*ma_target)","v":0.84856194449991906},{"$f":"+N3112/O$1","v":1.118655316682972},{"$f":"(O3112/M3112-1)*100","v":0.58606446514879451},{"$f":"+Spectre!C3111*N3112/L3112","v":0.5229184812809049},0.53472078082407748]
[6911,0.69110000000000005,2.0937181316471754,1.0063038227322412,3.88683064203292E-2,0.99631954703966685,4.0033726687251818E-3,0.10489046428362585,0.14776214337268023,0.76175345936970817,0.87276062103195196,0.85589866513819401,1.1121941408329943,0.84860755847922398,1.1187154493825295,0.58634624209141784,{"$f":"+Spectre!C3112*N3113/L3113","v":0.52747828652831552},0.5393835011324678]
[6912,0.69120000000000004,2.0931123542523999,1.0063003024233013,3.8845682175682669E-2,0.9963250534317214,3.9973721112651992E-3,0.10487073704920458,0.14771379133615245,0.76182129619023198,0.87279948930669149,0.85594224679880704,1.1122507728497923,0.84865314467625519,1.1187755454568431,0.58662783306799859,{"$f":"+Spectre!C3113*N3114/L3114","v":0.53217672136218053},0.54418797990487855]
[6913,0.69130000000000003,2.0925068397247943,1.0062967836800247,3.8823074410399519E-2,0.99633055160074324,3.9913805478943533E-3,0.10485101637802011,0.14766547133631397,0.76188909409910477,0.87283833355768703,0.85598580180038408,1.1123073702246113,0.84869870311556761,1.1188356049382835,0.58690923825792662,{"$f":"+Spectre!C3114*N3115/L3115","v":0.53116528006903674},0.54315371032484239]
[6914,0.69140000000000001,2.0919015879122895,1.0062932665014777,3.8800483110059361E-2,0.99633604155896727,3.9853979651312257E-3,0.10483130226693954,0.14761718334213014,0.76195685312841377,0.87287715380652686,0.85602933016660609,1.1123639329882236,0.84874423382169106,1.1188956278591879,0.58719045784034751,{"$f":"+Spectre!C3115*N3116/L3116","v":0.52625855464271243},0.53813623982958159]
[6915,0.6915,2.0912965986629293,1.0062897508867268,3.8777908260256712E-2,0.99634152331860959,3.9794243495153616E-3,0.1048115947128325,0.14756892732260457,0.76202457331021367,0.87291595007477585,0.85607283192112793,1.1124204611713668,0.84878973681912884,1.1189556142518593,0.58747149199422921,{"$f":"+Spectre!C3116*N3117/L3117","v":0.52143397654316093},0.53320277073088074]
[6916,0.69159999999999999,2.0906918718248662,1.0062862368348393,3.8755349846600735E-2,0.9963469968918689,3.9734596876058199E-3,0.10479189371257036,0.14752070324677691,0.76209225467652963,0.87295472238397542,0.85611630708757935,1.1124769548047473,0.84883521213235846,1.1190155641485662,0.58775234089829542,{"$f":"+Spectre!C3117*N3118/L3118","v":0.51281319445492379},0.52438741710588599]
[6917,0.69169999999999998,2.0900874072463624,1.0062827243448829,3.8732807854715279E-2,0.99635246229092533,3.9675039659823764E-3,0.10477219926302642,0.14747251108372406,0.76215989725935585,0.87299347075564393,0.85615975568956559,1.1125334139190381,0.84888065978583238,1.1190754775815441,0.58803300473113662,{"$f":"+Spectre!C3118*N3119/L3119","v":0.50373121747780392},0.51510045939741844]
[6918,0.69179999999999997,2.0894832047757896,1.0062792134159266,3.8710282270238927E-2,0.9963579195279415,3.961557171244438E-3,0.104752511361076,0.14742435080255936,0.76222750109065696,0.87303219521127662,0.85620317775066646,1.1125898385448802,0.84892607980397661,1.1191353545829936,0.58831348367103242,{"$f":"+Spectre!C3119*N3120/L3120","v":0.49773684439485055},0.50897079297672487]
[6919,0.69189999999999996,2.0888792642616303,1.0062757040470394,3.8687773078824886E-2,0.9963633686150617,3.9556192900118848E-3,0.1047328300035964,0.14737622237243317,0.76229506620236664,0.87307089577234531,0.85624657329443699,1.1126462287128824,0.84897147221119174,1.1191951951850823,0.58859377789610701,{"$f":"+Spectre!C3120*N3121/L3121","v":0.49756569285168295},0.50879577853359859]
[6920,0.69199999999999995,2.0882755855524744,1.0062721962372918,3.8665280266141043E-2,0.99636880956441254,3.9496903089243432E-3,0.10471315518746643,0.14732812576253182,0.76236259262638906,0.87310957246029963,0.85628994234440736,1.1127025844536205,0.84901683703185316,1.1192549994199434,0.58887388758430692,{"$f":"+Spectre!C3121*N3122/L3122","v":0.4970855918734014},0.50830484164922551]
[6921,0.69210000000000005,2.087672168497023,1.006268689985754,3.8642803817869914E-2,0.99637424238810257,3.94377021464167E-3,0.10469348690956752,0.1472800609420791,0.76243008039459692,0.87314822529656499,0.85633328492408256,1.1127589057976379,0.8490621742903095,1.1193147673196764,0.58915381291324564,{"$f":"+Spectre!C3122*N3123/L3123","v":0.5007679975508289},0.5120703594299737]
[6922,0.69220000000000004,2.0870690129440854,1.0062651852914981,3.8620343719708641E-2,0.99637966709822245,3.9378589938437059E-3,0.10467382516678253,0.14723202788033488,0.76249752953883365,0.87318685430254428,0.85637660105694258,1.1128151927754457,0.84910748401088498,1.1193744989163474,0.58943355406051445,{"$f":"+Spectre!C3123*N3124/L3124","v":0.50638914442939675},0.51781837590985014]
[6923,0.69230000000000003,2.0864661187425808,1.0062616821535957,3.8597899957368946E-2,0.9963850837068452,3.9319566332300347E-3,0.10465416995599637,0.14718402654659535,0.76256494009091269,0.87322545949961716,0.85641989076644331,1.1128714454175237,0.84915276621787772,1.1194341942419885,0.58971311120330494,{"$f":"+Spectre!C3124*N3125/L3125","v":0.51108549049473684},0.52262071877011285]
[6924,0.69240000000000002,2.0858634857415375,1.0062581805711202,3.857547251657719E-2,0.9963904922260256,3.926063119520584E-3,0.10463452127409621,0.14713605691019399,0.76263231208261573,0.87326404090914034,0.8564631540760147,1.112927663754318,0.84919802093555985,1.1194938533285974,0.58999248451865327,{"$f":"+Spectre!C3125*N3126/L3126","v":0.50837807175734329},0.5198521934394903]
[6925,0.6925,2.0852611137900925,1.0062546805431445,3.8553061383074232E-2,0.99639589266780115,3.9201784394546583E-3,0.10461487911797061,0.1470881189404995,0.76269964554569625,0.87330259855244796,0.85650639100906278,1.1129838478162428,0.84924324818817887,1.1195534762081401,0.59027167418352899,{"$f":"+Spectre!C3126*N3127/L3127","v":0.50490344988263447},0.51629914915357866]
[6926,0.69259999999999999,2.0846590027374905,1.0062511820687432,3.8530666542615478E-2,0.99640128504419101,3.914302579792024E-3,0.10459524348451044,0.14704021260691794,0.76276694051187643,0.87334113245085043,0.8565496015889682,1.1130399976336807,0.84928844799995606,1.1196130629125467,0.59055068037450198,{"$f":"+Spectre!C3127*N3128/L3128","v":0.50279922654034404},0.51414743337206403]
[6927,0.69269999999999998,2.084057152433088,1.0062476851469915,3.8508287980970973E-2,0.99640666936719713,3.9084355273116995E-3,0.10457561437060835,0.14699233787889102,0.76283419701284849,0.87337964262563583,0.85659278583908727,1.1130961132369817,0.84933362039508775,1.1196726134737154,0.59082950326803108,{"$f":"+Spectre!C3128*N3129/L3129","v":0.50321295496832474},0.51457049967394164]
[6928,0.69279999999999997,2.0834555627263467,1.0062441897769645,3.8485925683925136E-2,0.99641204564880326,3.9025772688130421E-3,0.10455599177315883,0.14694449472589699,0.7629014150802752,0.87341812909806926,0.85663594378275143,1.1131521946564635,0.8493787653977446,1.1197321279235102,0.59110814304035308,{"$f":"+Spectre!C3129*N3130/L3130","v":0.50356480733882225},0.51493029337223739]
[6929,0.69289999999999996,2.0828542334668398,1.0062406959577386,3.8463579637276979E-2,0.99641741390097571,3.8967277911148984E-3,0.10453637568905871,0.14689668311745058,0.76296859474578815,0.8734565918893924,0.85667907544326694,1.1132082419224119,0.8494238830320715,1.1197916062937612,0.59138659986746056,{"$f":"+Spectre!C3130*N3131/L3131","v":0.50320283268884802},0.51456014893404767]
[6930,0.69299999999999995,2.0822531645042468,1.0062372036883909,3.8441249826839941E-2,0.99642277413566316,3.8908870810558465E-3,0.10451676611520638,0.14684890302310216,0.76303573604098995,0.87349503102082471,0.85672218084391638,1.1132642550650809,0.84946897332218863,1.1198510486162661,0.59166487392521283,{"$f":"+Spectre!C3131*N3132/L3132","v":0.50259002658140872},0.5139335117582855]
[6931,0.69310000000000005,2.081652355688357,1.0062337129679992,3.8418936238441982E-2,0.99642812636479638,3.885055125494434E-3,0.10449716304850228,0.14680115441243868,0.76310283899745257,0.87353344651356268,0.85676526000795683,1.1133202341146919,0.84951403629219047,1.1199104549227883,0.59194296538918056,{"$f":"+Spectre!C3132*N3133/L3133","v":0.50105297753907418},0.51236177143258732]
[6932,0.69320000000000004,2.0810518068690689,1.0062302237956418,3.8396638857925498E-2,0.99643347060028875,3.8792319113086968E-3,0.10447756648584848,0.14675343725508266,0.76316990364671855,0.87357183838877983,0.85680831295862103,1.1133761791014347,0.84955907196614588,1.1199698252450578,0.592220874434779,{"$f":"+Spectre!C3133*N3134/L3134","v":0.49433651204884244},0.50549371493835638]
[6933,0.69330000000000003,2.0804515178963872,1.0062267361703978,3.8374357671147295E-2,0.99643880685403596,3.873417425396394E-3,0.10445797642414932,0.14670575152069301,0.76323693002030024,0.87361020666762723,0.8568513397191172,1.1134320900554668,0.84960408036809931,1.1200291596147725,0.59249860123726794,{"$f":"+Spectre!C3134*N3135/L3135","v":0.48701265663230864},0.49800455969301355]
[6934,0.69340000000000002,2.0798514886204256,1.0062232500913468,3.8352092663978585E-2,0.99644413513791619,3.8676116546748889E-3,0.10443839286031099,0.14665809717896447,0.76330391814967979,0.87364855137123265,0.8568943403126289,1.1134879670069147,0.84964906152206898,1.1200884580635948,0.59277614597150752,{"$f":"+Spectre!C3135*N3136/L3136","v":0.48351022312132091},0.49442307606062741]
[6935,0.69350000000000001,2.0792517188914053,1.0062197655575695,3.8329843822304983E-2,0.99644945546378982,3.8618145860813886E-3,0.10441881579124174,0.14661047419962811,0.7633708680663096,0.87368687252070154,0.85693731476231505,1.1135438099858714,0.84969401545204803,1.1201477206231556,0.59305350881238006,{"$f":"+Spectre!C3136*N3137/L3137","v":0.48659813125559237},0.49758067845522258]
[6936,0.69359999999999999,2.078652208559657,1.0062162825681469,3.8307611132026527E-2,0.99645476784350018,3.8560262065722166E-3,0.1043992452138514,0.14656288255245015,0.76343777980161254,0.87372517013711648,0.85698026309131015,1.1135996190223993,0.84973894218200496,1.120206947325052,0.59333068993441263,{"$f":"+Spectre!C3137*N3138/L3138","v":0.48913852195792845},0.50017840591863894]
[6937,0.69369999999999998,2.0780529574756179,1.0062128011221607,3.8285394579057566E-2,0.99646007228887279,3.8502465031235366E-3,0.10437968112505167,0.14651532220723276,0.76350465338698204,0.87376344424153785,0.85702318532272481,1.1136553941465295,0.84978384173588306,1.1202661382008483,0.59360768951197684,{"$f":"+Spectre!C3138*N3139/L3139","v":0.49330984755305207},{"$f":"+Q3139/R$1","v":0.50444387856713346}]
[6938,0.69379999999999997,2.0774539654898336,1.0062093212186938,3.8263194149326836E-2,0.99646536881171555,3.84447546273123E-3,0.10436012352175698,0.14646779313381506,0.76357148885377946,0.87380169485500236,0.85706608147964347,1.1137111353882587,0.84982871413759908,1.120325293282074,0.59388450771926671,{"$f":"+Spectre!C3139*N3140/L3140","v":0.49800028037923455},0.50924017472609795]
[6939,0.69389999999999996,2.076855232452957,1.006205842856829,3.8241009828777379E-2,0.99647065742381913,3.838713072410412E-3,0.10434057240088246,0.14642029530207024,0.76363828623333929,0.873839921998525,0.85710895158512823,1.1137668427775549,0.84987355941104659,1.120384412600228,0.59416114473025416,{"$f":"+Spectre!C3140*N3141/L3141","v":0.50185987502098162},0.51318688063605944]
[6940,0.69399999999999995,2.0762567582157487,1.0062023660356505,3.8218841603366548E-2,0.99647593813695701,3.8329593191954274E-3,0.10432102775934599,0.14637282868190796,0.76370504555696517,0.8738781256930982,0.85715179566221544,1.1138225163443529,0.84991837758009292,1.1204434961867742,0.59443760071862251,{"$f":"+Spectre!C3141*N3142/L3142","v":0.5017846982311851},0.51311000710188759]
[6941,0.69410000000000005,2.0756585426290757,1.0061988907542425,3.8196689459065972E-2,0.99648121096288467,3.8272141901406985E-3,0.10430148959406702,0.14632539324327368,0.76377176685593007,0.87391630595969128,0.85719461373391781,1.113878156118556,0.84996316866858046,1.120502544073144,0.5947138758579662,{"$f":"+Spectre!C3142*N3143/L3143","v":0.50140228551986066},0.51271896331415301]
[6942,0.69420000000000004,2.0750605855439157,1.0061954170116907,3.8174553381861681E-2,0.99648647591334083,3.8214776723193918E-3,0.10428195790196736,0.14627798895614844,0.76383845016147811,0.87395446281925104,0.85723740582322261,1.1139337621300354,0.85000793270032637,1.1205615562907356,0.59498997032163548,{"$f":"+Spectre!C3143*N3144/L3144","v":0.5013597039326726},0.51267542065814642]
[6943,0.69430000000000003,2.074462886811351,1.0061919448070806,3.8152433357753833E-2,0.99649173300004634,3.815749752824624E-3,0.10426243267996994,0.14623061579054841,0.76390509550482377,0.87399259629270232,0.85728017195309392,1.1139893344086313,0.8500526696991233,1.1206205328709145,0.59526588428275851,{"$f":"+Spectre!C3144*N3145/L3145","v":0.50185828258077425},0.51318525225438694]
[6944,0.69440000000000002,2.073865446282571,1.0061884741394993,3.8130329372756885E-2,0.99649698223470529,3.810030418768256E-3,0.10424291392500042,0.14618327371652556,0.763971702917152,0.87403070640094693,0.85732291214647116,1.1140448729841526,0.85009737968873866,1.1206794738450134,0.59554161791428584,{"$f":"+Spectre!C3145*N3146/L3146","v":0.50232397570139042},0.51366145609493652]
[6945,0.69450000000000001,2.0732682638088735,1.0061850050080337,3.8108241412899521E-2,0.99650222362900398,3.804319657281975E-3,0.10422340163398564,0.14613596270416712,0.76403827242961764,0.87406879316486441,0.85736562642626957,1.1141003778863761,0.85014206269291492,1.1207383792443317,0.59581717138890156,{"$f":"+Spectre!C3146*N3147/L3147","v":0.50233198686421865},0.51366964807016047]
[6946,0.6946,2.0726713392416629,1.0061815374117717,3.8086169464224655E-2,0.99650745719461165,3.7986174555165683E-3,0.10420389580385497,0.14608868272359621,0.76410480407334591,0.87410685660531162,0.8574083148153796,1.1141558491450467,0.85018671873536922,1.1207972491001359,0.59609254487920094,{"$f":"+Spectre!C3147*N3148/L3148","v":0.50219290478153999},0.51352742689705067]
[6947,0.69469999999999998,2.0720746724324495,1.0061780713498025,3.8064113512789356E-2,0.99651268294318041,3.7929238006419253E-3,0.10418439643153914,0.14604143374497042,0.76417129787943339,0.8741448967431239,0.85745097733666842,1.1142112867898792,0.85023134783979459,1.1208560834436601,0.59636773855746839,{"$f":"+Spectre!C3148*N3149/L3149","v":0.50253664165142531},0.51387892192742879]
[6948,0.69479999999999997,2.0714782632328514,1.006174606821215,3.8042073544664899E-2,0.99651790088634473,3.7872386798476357E-3,0.10416490351397117,0.1459942157384837,0.76423775387894577,0.87418291359911282,0.85749361401297786,1.1142666908505554,0.85027595002985856,1.120914882306105,0.59664275259585509,{"$f":"+Spectre!C3149*N3150/L3150","v":0.50522539614179351},0.51662836175792037]
[6949,0.69489999999999996,2.0708821114945946,1.0061711438250993,3.8020049545936761E-2,0.99652311103572255,3.7815620803417819E-3,0.10414541704808573,0.14594702867436427,0.76430417210292034,0.87422090719406886,0.85753622486712688,1.1143220613567271,0.85032052532920388,1.1209736457186392,0.59691758716629018,{"$f":"+Spectre!C3150*N3151/L3151","v":0.50834682656395569},0.51982024304033003]
[6950,0.69499999999999995,2.0702862170695102,1.0061676823605461,3.7998041502704548E-2,0.99652831340291403,3.775893989352267E-3,0.10412593703081977,0.14589987252287659,0.76437055258236397,0.87425887754875919,0.85757880992190894,1.1143773983380134,0.85036507376144843,1.1210323737123975,0.59719224244043634,{"$f":"+Spectre!C3151*N3152/L3152","v":0.50619164131370542},0.51761641513772572]
[6951,0.69510000000000005,2.0696905798095346,1.0061642224266469,3.7976049401081916E-2,0.99653350799950247,3.770234394125846E-3,0.10410646345911181,0.14585274725431957,0.76443689534825465,0.87429682468392922,0.85762136920009413,1.1144327018240026,0.85040959535018523,1.121091066318483,0.59746671858988964,{"$f":"+Spectre!C3152*N3153/L3153","v":0.49843308102913692},0.50968274371101907]
[6952,0.69520000000000004,2.0690951995667146,1.0061607640224937,3.795407322719678E-2,0.99653869483705404,3.7645832819283645E-3,0.10408699632990182,0.14580565283902697,0.76450320043154163,0.87433474862030203,0.85766390272442916,1.1144879718442529,0.85045409011898321,1.1211497235679662,0.59774101578589089,{"$f":"+Spectre!C3153*N3154/L3154","v":0.49131395582319648},0.50240293944864123]
[6953,0.69530000000000003,2.0685000761932004,1.0061573071471792,3.7932112967191053E-2,0.99654387392711774,3.7589406400448801E-3,0.10406753564013271,0.14575858924736865,0.76456946786314295,0.87437264937857817,0.85770641051763519,1.1145432084282891,0.85049855809138575,1.1212083454918842,0.59801513419961427,{"$f":"+Spectre!C3154*N3155/L3155","v":0.49952511049659948},0.51079942034500248]
[6954,0.69540000000000002,2.067905209541248,1.0061538517997968,3.7910168607220705E-2,0.99654904528122557,3.7533064557794195E-3,0.10404808138674858,0.1457115564497487,0.76463569767394857,0.87441052697943633,0.85774889260241027,1.1145984116056065,0.85054299929091159,1.1212669321212418,0.5982890740019231,{"$f":"+Spectre!C3155*N3156/L3156","v":0.51252616566428888},0.52409391005929751]
[6955,0.69550000000000001,2.0673105994632226,1.0061503979794408,3.7888240133455917E-2,0.99655420891089241,3.7476807164550951E-3,0.10402863356669555,0.14566455441660656,0.76470188989481869,0.87444838144353243,0.85779134900142839,1.1146535814056682,0.85058741374105518,1.1213254834870114,0.59856283536356969,{"$f":"+Spectre!C3156*N3157/L3157","v":0.52436563262288582},0.53620059445326718]
[6956,0.6956,2.0667162458115924,1.0061469456852057,3.7866327532080753E-2,0.9965593648276162,3.7420634094139857E-3,0.10400919217692164,0.14561758311841638,0.7647680445565842,0.87448621279150085,0.85783377973733921,1.1147087178579065,0.85063180146528583,1.1213839996201329,0.59883641845503988,{"$f":"+Spectre!C3157*N3158/L3158","v":0.5311130457576686},0.54310029708212781]
[6957,0.69569999999999999,2.066122148438934,1.0061434949161872,3.7844430789293435E-2,0.99656451304287796,3.7364545220170122E-3,0.1039897572143767,0.14557064252568713,0.76483416169004736,0.87452402104395344,0.85787618483276884,1.1147638209917228,0.8506761624870488,1.1214424805515135,0.59910982344666408,{"$f":"+Spectre!C3158*N3159/L3159","v":0.5385083840704612},0.55066254859671981]
[6958,0.69579999999999997,2.0655283071979285,1.0061400456714809,3.7822549891306116E-2,0.99656965356814142,3.7308540416444214E-3,0.10397032867601262,0.14552373260896317,0.76490024132597956,0.87456180622147983,0.85791856431031932,1.1148188908364873,0.85072049682976403,1.1215009263120281,0.59938305050850627,{"$f":"+Spectre!C3159*N3160/L3160","v":0.53872398324619342},0.55088301385797844]
[6959,0.69589999999999996,2.0649347219413623,1.0061365979501842,3.7800684824344996E-2,0.99657478641485375,3.7252619556949352E-3,0.10395090655878317,0.1454768533388231,0.76496628349512441,0.87459956834464792,0.85796091819256848,1.1148739274215385,0.85076480451682734,1.1215593369325192,0.59965609981056378,{"$f":"+Spectre!C3160*N3161/L3161","v":0.53279040555658252},0.5448155149860755]
[6960,0.69599999999999995,2.0643413925221301,1.0061331517513943,3.7778835574650269E-2,0.99657991159444503,3.7196782515863565E-3,0.10393149085964368,0.1454300046858803,0.76503228822819613,0.87463730743400325,0.85800324650207105,1.1149289307761849,0.85080908557160995,1.1216177124437967,0.5999289715224565,{"$f":"+Spectre!C3161*N3162/L3162","v":0.52745852972916851},0.53936329842125252]
[6961,0.69610000000000005,2.0637483187932291,1.0061297070742092,3.7757002128476047E-2,0.99658502911832836,3.7141029167554471E-3,0.10391208157555143,0.14538318662078292,0.76509825555587918,0.87467502351006954,0.85804554926135723,1.1149839009297038,0.85085334001745871,1.121676052876639,0.60020166581373768,{"$f":"+Spectre!C3162*N3163/L3163","v":0.53111466393455409},0.54310195178135667]
[6962,0.69620000000000004,2.0631555006077642,1.006126263917728,3.7735184472090427E-2,0.99659013899789994,3.7085359386578023E-3,0.10389267870346636,0.14533639911421459,0.76516418550882837,0.87471271659334759,0.85808782649293314,1.1150388379113403,0.85089756787769488,1.1217343582617902,0.60047418285373855,{"$f":"+Spectre!C3163*N3164/L3164","v":0.53738448013937445},0.54951327809067485]
[6963,0.69630000000000003,2.0625629378189458,1.0061228222810499,3.7713382591775486E-2,0.99659524124453958,3.7029773047673681E-3,0.10387328224034917,0.14528964213689202,0.76523007811767108,0.87475038670431771,0.85813007821928222,1.1150937417503104,0.85094176917561704,1.1217926286299646,0.60074652281154606,{"$f":"+Spectre!C3164*N3165/L3165","v":0.54357903071978486},0.55584764002620557]
[6964,0.69640000000000002,2.0619706302800878,1.0061193821632752,3.769159647382711E-2,0.9966003358696095,3.6974270025776504E-3,0.10385389218316304,0.14524291565956782,0.76529593341300384,0.87478803386343673,0.85817230446286319,1.1151486124757981,0.85098594393449767,1.1218508640118425,0.60101868585609175,{"$f":"+Spectre!C3165*N3166/L3166","v":0.54983798571083642},0.5622478599835492]
[6965,0.69650000000000001,2.0613785778446121,1.0061159435635045,3.7669826104555215E-2,0.99660542288445586,3.6918850196001373E-3,0.10383450852887306,0.14519621965302842,0.76536175142539498,0.87482565809114066,0.85821450524611131,1.115203450116957,0.85103009217758596,1.1219090644380731,0.60129067215608512,{"$f":"+Spectre!C3166*N3167/L3167","v":0.55647177381097701},0.56903137305434293]
[6966,0.6966,2.0607867803660436,1.0061125064808398,3.7648071470283533E-2,0.99661050230040771,3.6863513433653882E-3,0.1038151312744459,0.14514955408809482,0.76542753218538362,0.87486325940784293,0.85825668059143834,1.1152582547029095,0.85107421392810589,1.1219672299392724,0.60156248188005801,{"$f":"+Spectre!C3167*N3168/L3168","v":0.55725429054295139},0.56983155123298423]
[6967,0.69669999999999999,2.060195237698013,1.006109070914383,3.7626332557349658E-2,0.99661557412877722,3.6808259614227934E-3,0.10379576041685032,0.14510291893562277,0.7654932757234798,0.87490083783393524,0.8582988305212319,1.1153130262627475,0.85111830920925768,1.1220253605460253,0.60183411519632024,{"$f":"+Spectre!C3168*N3169/L3169","v":0.55333730307794937},0.56582615714051798]
[6968,0.69679999999999997,2.0596039496942562,1.0061056368632364,3.7604609352105058E-2,0.99662063838086001,3.6753088613402053E-3,0.1037763959530569,0.14505631416650216,0.76555898207016426,0.87493839338978729,0.85834095505785646,1.1153677648255325,0.85116237804421657,1.1220834562888833,0.60210557227295958,{"$f":"+Spectre!C3169*N3170/L3170","v":0.54958578682011694},0.56198996894967679]
[6969,0.69689999999999996,2.0590129162086135,1.0061022043265042,3.7582901840915048E-2,0.99662569506793508,3.6698000307040595E-3,0.10375703788003814,0.14500973975165724,0.76562465125588908,0.87497592609574715,0.85838305422365235,1.1154224704202942,0.85120642045613415,1.1221415171983673,0.60237685327797497,{"$f":"+Spectre!C3170*N3171/L3171","v":0.54644847685394016},0.55878184972105072]
[6970,0.69699999999999995,2.0584221370950315,1.0060987733032902,3.7561210010158781E-2,0.99663074420126452,3.6642994571196158E-3,0.10373768619476807,0.14496319566204646,0.76569028331107747,0.87501343597214098,0.85842512804093696,1.1154771430760331,0.85125043646813736,1.1221995433049652,0.60264795837901008,{"$f":"+Spectre!C3171*N3172/L3172","v":0.54345269723888523},0.55571845519153418]
[6971,0.69710000000000005,2.0578316122075586,1.0060953437926996,3.7539533846229142E-2,0.99663578579209411,3.6588071282103517E-3,0.1037183408942233,0.1449166818686628,0.76575587826612335,0.87505092303927301,0.85846717653200322,1.1155317828217175,0.85129442610332884,1.1222575346391335,0.6029188877436864,{"$f":"+Spectre!C3172*N3173/L3173","v":0.5411188431347721},0.55333192586898294]
[6972,0.69720000000000004,2.0572413414003523,1.0060919157938373,3.7517873335532949E-2,0.99664081985165254,3.6533230316188091E-3,0.10369900197538141,0.14487019834253317,0.76582143615139198,0.87508838731742566,0.85850919971912143,1.1155863896862863,0.85133838938478712,1.122315491231296,0.60318964153927013,{"$f":"+Spectre!C3173*N3174/L3174","v":0.54116032986949281},0.55337434896164039]
[6973,0.69730000000000003,2.056651324527671,1.00608848930581,3.7496228464490654E-2,0.99664584639115239,3.6478471550055016E-3,0.10367966943522267,0.14482374505471882,0.76588695699721954,0.87512582882685974,0.85855119762453769,1.1156409636986477,0.85138232633556654,1.1223734131118457,0.60346021993296084,{"$f":"+Spectre!C3174*N3175/L3175","v":0.54143756319940417},0.55365783946340574]
[6974,{"$f":"+A3176/10000","v":0.69740000000000002},{"$f":"+(1/B3176)^2","v":2.0560615614438786},{"$f":"0.23465+1.076*100/(146-C3176)+0.93161/(41-C3176)","v":1.0060850643277242},{"$f":"9.4977*0.001*C3176^2*D3176*EXP(-h/7.996/1000)","v":3.7474599219536546E-2},{"$f":"+EXP(-0.0168*EXP(-15*ABS(B3176-0.59)))","v":0.99665086542178916},{"$f":"-2.5*LOG(F3176)","v":3.6423794860500035E-3},{"$f":"2.5*LOG(EXP(AOD*(B3176/0.55)^(-1.3)))","v":0.10366034327072858},{"$f":"+E3176+G3176+H3176","v":0.14477732197631513},{"$f":"10^(-0.4*I3176*ma)","v":0.76595244083391345},{"$f":"10^(-0.4*I3176)","v":0.87516324758781427},{"$f":"10^(-0.4*I3176*ma_ref)","v":0.85859317027047477},{"$f":"+L3176/M$1","v":1.1156955048876784},{"$f":"10^(-0.4*I3176*ma_target)","v":0.8514262369786969},{"$f":"+N3176/O$1","v":1.1224313003111421},{"$f":"(O3176/M3176-1)*100","v":0.60373062309162506},{"$f":"+Spectre!C3175*N3176/L3176","v":0.53400143550751333},0.54605387795113436]
[6975,0.69750000000000001,2.0554720520034429,1.0060816408586875,3.7452985587118584E-2,0.99665587695474234,3.6369200124497375E-3,0.1036410234788829,0.14473092907845123,0.76601788769175261,0.87520064362050698,0.85863511767913225,1.1157500132822258,0.85147012133718447,1.1224891528595149,0.60400085118210711,{"$f":"+Spectre!C3176*N3177/L3177","v":0.52052845129028635},0.53227680772210173]
[6976,0.6976,2.0548827960609377,1.0060782188978079,3.7431387553698556E-2,0.99666088100117445,3.6314687219210643E-3,0.10362171005667084,0.14468456633229046,0.76608329760098692,0.87523801694513303,0.85867703987268607,1.1158044889111063,0.85151397943401119,1.1225469707872604,0.60427090437089603,{"$f":"+Spectre!C3177*N3178/L3178","v":0.50758524352004097},0.51904147102426568]
[6977,0.69769999999999999,2.0542937934710395,1.0060747984441942,3.7409805105751884E-2,0.99666587757223168,3.6260256021985538E-3,0.10360240300108031,0.14463823370903076,0.76614867059183656,0.87527536758186619,0.85871893687328815,1.1158589318031054,0.85155781129213393,1.1226047541246431,0.60454078282432544,{"$f":"+Spectre!C3178*N3179/L3179","v":0.5107745476319433},0.52230275790941161]
[6978,0.69779999999999998,2.0537050440885296,1.0060713794969565,3.7388238229767751E-2,0.9966708666790437,3.6205906410352248E-3,0.10358310230909998,0.14459193117990296,0.76621400669449424,0.87531269555085933,0.85876080870306792,1.1159133419869784,0.85160161693448688,1.1226625029018968,0.60481048670866233,{"$f":"+Spectre!C3179*N3180/L3180","v":0.5162651129615583},0.52791724560742859]
[6979,0.69789999999999996,2.0531165477682922,1.0060679620552042,3.7366686912248925E-2,0.99667584833272382,3.6151638262023047E-3,0.10356380797772105,0.14454565871617228,0.76627930593912374,0.87535000087224291,0.85880265538413147,1.1159677194914517,0.85164539638397974,1.1227202171492232,0.60508001618977403,{"$f":"+Spectre!C3180*N3181/L3181","v":0.51872015420354012},0.53042769726836847]
[6980,0.69799999999999995,2.0525283043653171,1.0060645461180482,3.7345151139711902E-2,0.99668082254436874,3.6097451454895862E-3,0.10354452000393657,0.14449941628913807,0.76634456835585929,0.87538728356612594,0.85884447693856059,1.116022064345219,0.85168914966349751,1.1227778968967914,0.60534937143346124,{"$f":"+Spectre!C3181*N3182/L3182","v":0.51300615889876278},0.52458473676807904]
[6981,0.69810000000000005,2.051940313734697,1.0060611316846002,3.7323630898686851E-2,0.99668578932505902,3.6043345867048278E-3,0.10352523838474119,0.14445320387013288,0.76640979397480768,0.87542454365259625,0.85888627338841461,1.1160763765769455,0.85173287679590204,1.1228355421747405,0.60561855260530262,{"$f":"+Spectre!C3182*N3183/L3183","v":0.50719281100807245},0.51864018128842282]
[6982,0.69820000000000004,2.0513525757316291,1.0060577187539723,3.7302126175717543E-2,0.99669074868585839,3.5989321376745913E-3,0.10350596311713145,0.14440702143052359,0.76647498282604576,0.87546178115171969,0.85892804475572915,1.1161306562152649,0.85177657780403071,1.1228931530131765,0.6058875598707214,{"$f":"+Spectre!C3183*N3184/L3184","v":0.50492751936566382},0.51632376188619422]
[6983,0.69830000000000003,2.0507650902114127,1.006054307325277,3.7280636957361314E-2,0.99669570063781476,3.5935377862430389E-3,0.10348669419810573,0.14436086894171007,0.76654013493962292,0.87549899608354098,0.85896979106251703,1.1161849032887818,0.85182025271069728,1.1229507294421748,0.60615639339482996,{"$f":"+Spectre!C3184*N3185/L3185","v":0.50550600881057339},0.51691530787042261]
[6984,0.69840000000000002,2.0501778570294529,1.0060508973976281,3.7259163230189206E-2,0.99670064519195922,3.5881515202731348E-3,0.10346743162466451,0.14431474637512687,0.76660525034555904,0.8755361884680829,0.859011512330767,1.1162391178260698,0.85186390153869129,1.1230082714917788,0.60642505334271846,{"$f":"+Spectre!C3185*N3186/L3186","v":0.50584604135105804},0.51726301496447702]
[6985,0.69850000000000001,2.0495908760412562,1.0060474889701394,3.7237704980785741E-2,0.99670558235930695,3.5827733276455587E-3,0.1034481753938101,0.1442686537022414,0.76667032907384569,0.875573358325347,0.85905320858244527,1.1162932998556723,0.85190752431077832,1.1230657791920002,0.60669353987914398,{"$f":"+Spectre!C3186*N3187/L3187","v":0.50845122608416859},0.51992699886358795]
[6986,0.6986,2.0490041471024334,1.0060440820419259,3.7216262195749091E-2,0.99671051215085649,3.5774031962595501E-3,0.1034289255025462,0.14422259089455486,0.76673537115444623,0.87561050567531373,0.85909487983949473,1.1163474494061032,0.85195112104970039,1.1231232525728199,0.60696185316868601,{"$f":"+Spectre!C3187*N3188/L3188","v":0.51112830096023121},0.52266449547022198]
[6987,0.69869999999999999,2.0484176700686993,1.0060406766121026,3.7194834861690923E-2,0.99671543457759038,3.5720411140321819E-3,0.10340968194787865,0.14417655792360176,0.76680037661729539,0.8756476305379417,0.85913652612383518,1.1164015665058458,0.85199469177817588,1.1231806916641871,0.60722999337585737,{"$f":"+Spectre!C3188*N3189/L3189","v":0.51477239700182031},0.52639083896449546]
[6988,0.69879999999999998,2.0478314447958708,1.0060372726797862,3.7173422965236486E-2,0.99672034965047474,3.5666870688988435E-3,0.10339044472681533,0.14413055476095066,0.76686534549229879,0.87568473293316784,0.8591781474573631,1.1164556511833537,0.85203823651889843,1.1232380964960187,0.60749796066472683,{"$f":"+Spectre!C3189*N3190/L3190","v":0.52033498826884628},0.5320789782293831]
[6989,0.69889999999999997,2.0472454711398682,1.0060338702440927,3.7152026493024522E-2,0.99672525738045947,3.5613410488129944E-3,0.10337121383636552,0.14408458137820304,0.76693027780933454,0.87572181288090856,0.85921974386195166,1.1165097034670497,0.852081755294539,1.1232954670982023,0.60776575519954079,{"$f":"+Spectre!C3190*N3191/L3191","v":0.52604666522331667},0.53791956805406871]
[6990,0.69899999999999995,2.0466597489567158,1.0060304693041402,3.7130645431707313E-2,0.99673015777847851,3.5560030417459243E-3,0.10335198927354085,0.14403863774699407,0.76699517359825153,0.87575887040105838,0.85926131535945138,1.1165637233853274,0.85212524812774393,1.1233528035005917,0.60803337714396832,{"$f":"+Spectre!C3191*N3192/L3192","v":0.52540884539845145},0.53726735259987091]
[6991,0.69910000000000005,2.0460742781025383,1.0060270698590461,3.7109279767950525E-2,0.99673505085544933,3.5506730356872347E-3,0.10333277103535431,0.14399272383899206,0.76706003288887059,0.87579590551349062,0.85930286197168948,1.1166177109665503,0.85216871504113634,1.1234101057330115,0.60830082666176732,{"$f":"+Spectre!C3192*N3193/L3193","v":0.52032590468210005},0.53206968962557288]
[6992,0.69920000000000004,2.0454890584335677,1.0060236719079292,3.7087929488433501E-2,0.99673993662227345,3.545351018644353E-3,0.10331355911882123,0.14394683962589908,0.76712485571098377,0.87583291823805698,0.85934438372047017,1.1166716662390517,0.85221215605731515,1.1234673738252532,0.60856810391629601,{"$f":"+Spectre!C3193*N3194/L3194","v":0.51560550116897341},0.52724274633957369]
[6993,0.69930000000000003,2.0449040898061344,1.0060202754499092,3.7066594579848858E-2,0.99674481508983614,3.540036978642773E-3,0.10329435352095809,0.14390098507944971,0.76718964209435569,0.87586990859458846,0.85938588062757482,1.116725589231135,0.85225557119885631,1.1235246078070791,0.6088352090709348,{"$f":"+Spectre!C3194*N3195/L3195","v":0.51333712632341888},0.52492317414613066]
[6994,0.69940000000000002,2.0443193720766741,1.0060168804841059,3.7045275028902744E-2,0.99674968626900662,3.534730903725935E-3,0.10327515423878374,0.14385516017141242,0.76725439206872148,0.87590687660289479,0.85942735271476178,1.1167794799710744,0.85229896048831144,1.1235818077082185,0.60910214228866444,{"$f":"+Spectre!C3195*N3196/L3196","v":0.51129757450995683},0.52283758953348869]
[6995,0.69950000000000001,2.0437349051017244,1.0060134870096398,3.702397082231472E-2,0.99675455017063819,3.5294327819549794E-3,0.10325596126931885,0.14380936487358856,0.76731910566378891,0.87594382228276368,0.85946880000376591,1.1168333384871132,0.85234232394820886,1.1236389735583705,0.60936890373244346,{"$f":"+Spectre!C3196*N3197/L3197","v":0.50870490815301783},0.5201864065510039]
[6996,0.6996,2.0431506887379247,1.0060100950256323,3.7002681946817738E-2,0.99675940680556763,3.5241426014094718E-3,0.10323677460958547,0.14376359915781267,0.76738378290923681,0.87598074565396289,0.85951022251629994,1.1168871648074656,0.85238566160105322,1.123696105387203,0.60963549356494173,{"$f":"+Spectre!C3197*N3198/L3198","v":0.50492454603281578},0.51632072144505647]
[6997,0.69969999999999999,2.0425667228420177,1.0060067045312053,3.6981408389158185E-2,0.99676425618461628,3.5188603501861955E-3,0.10321759425660826,0.14371786299595263,0.7674484238347159,0.87601764673623772,0.85955162027405319,1.1169409589603159,0.85242897346932522,1.123753203224352,0.6099019119486071,{"$f":"+Spectre!C3198*N3199/L3199","v":0.50082851475601597},0.51213224251188671]
[6998,0.69979999999999998,2.041983007270848,1.0060033155254815,3.6960150136095792E-2,0.99676909831858918,3.5135860164001121E-3,0.10319842020741299,0.14367215635990888,0.7675130284698487,0.87605452554931318,0.8595929932986921,1.1169947209738182,0.85247225957548289,1.1238102670994239,0.61016815904588739,{"$f":"+Spectre!C3199*N3200/L3200","v":0.50277292863527967},0.51412054192180279]
[6999,0.69989999999999997,2.0413995418813631,1.005999928007584,3.6938907174403686E-2,0.99677393321827523,3.5083195881841244E-3,0.10317925245902757,0.14362647922161537,0.76757759684422944,0.87609138211289284,0.85963434161186059,1.1170484508760981,0.85251551994195984,1.123867297041993,0.61043423501880856,{"$f":"+Spectre!C3200*N3201/L3201","v":0.50806420778434769},0.51953124553896546]
[7000,0.7,2.0408163265306123,1.0059965419766368,3.6917679490868355E-2,0.99677876089444761,3.5030610536887063E-3,0.10316009100848152,0.14358083155303858,0.76764212898742468,0.8761282164466595,0.85967566523517946,1.1171021486952504,0.85255875459116659,1.1239242930816027,0.61070014002930773,{"$f":"+Spectre!C3201*N3202/L3202","v":0.51341844943692805},0.52500633272688724]
[7001,0.70009999999999994,2.0402333610757468,1.0059931574317644,3.6896467072289586E-2,0.99678358135786349,3.4978104010821493E-3,0.10314093585280668,0.14353521332617841,0.76770662492897168,0.87616502857027412,0.85971696419024657,1.1171558144593403,0.85260196354548989,1.1239812552477657,0.6109658742391888,{"$f":"+Spectre!C3202*N3203/L3203","v":0.52103273634821068},{"$f":"+Q3203/R$1","v":0.53279247452215572}]
[7002,0.70020000000000004,2.0396506453740195,1.005989774372092,3.6875269905480478E-2,0.99678839461926416,3.4925676185504351E-3,0.10312178698903607,0.14348962451306699,0.76777108469838129,0.87620181850337753,0.85975823849863764,1.1172094481964043,0.85264514682729386,1.124038183569964,0.61123143780996703,{"$f":"+Spectre!C3203*N3204/L3204","v":0.52912165928242338},0.54106396490209607]
[7003,0.70030000000000003,2.0390681792827854,1.0059863927967454,3.6854087977267483E-2,0.99679320068937494,3.4873326942973589E-3,0.10310264441420483,0.14344406508576968,0.76783550832513459,0.87623858626558937,0.85979948818190499,1.1172630499344487,0.85268830445891808,1.1240950780776482,0.61149683090300222,{"$f":"+Spectre!C3204*N3205/L3205","v":0.53042184267919978},0.54239349351128918]
[7004,0.70040000000000002,2.0384859626595029,1.0059830127048512,3.6832921274490345E-2,0.99679799957890536,3.4821056165442845E-3,0.10308350812535014,0.14339853501638478,0.76789989583868512,0.8762753318765073,0.85984071326157829,1.1173166197014497,0.85273143646267935,1.1241519388002383,0.61176205367956538,{"$f":"+Spectre!C3205*N3206/L3206","v":0.51736575763758563},0.52904273189571871]
[7005,0.70050000000000001,2.0379039953617304,1.0059796340955365,3.6811769784002045E-2,0.99680279129854898,3.4768863735303848E-3,0.10306437811951086,0.1433530342770433,0.76796424726845847,0.876312055355709,0.85988191375916467,1.117370157525355,0.85277454286087084,1.1242087657671234,0.61202710630055002,{"$f":"+Spectre!C3206*N3207/L3207","v":0.50380748362342309},0.5151784468742352]
[7006,0.7006,2.037322277247128,1.0059762569679289,3.6790633492668832E-2,0.99680757585898383,3.4716749535121578E-3,0.10304525439372722,0.1433075628399082,0.76802856264385289,0.87634875672275137,0.85992308969614895,1.1174236634340828,0.85281762367576275,1.124265559007662,0.61229198892678305,{"$f":"+Spectre!C3207*N3208/L3208","v":0.50485157043970352},0.51624609878870187]
[7007,0.70069999999999999,2.036740808173457,1.0059728813211568,3.6769512387370154E-2,0.9968123532708717,3.4664713447641509E-3,0.10302613694504205,0.14326212067717636,0.76809284199423689,0.87638543599716923,0.85996424109399228,1.117477137455521,0.8528606789296016,1.1243223185511817,0.61255670171893595,{"$f":"+Spectre!C3208*N3209/L3209","v":0.51198532383971163},0.52354086140431044]
[7008,0.70079999999999998,2.0361595879985823,1.0059695071543497,3.6748406454998828E-2,0.99681712354485896,3.4612755355781111E-3,0.10300702577049929,0.14321670776107623,0.76815708534895299,0.87642209319847764,0.86000536797413418,1.1175305796175288,0.85290370864461074,1.1243790444269792,0.61282124483736933,{"$f":"+Spectre!C3209*N3210/L3210","v":0.5175916089740803},0.52927368070958503]
[7009,0.70089999999999997,2.0355786165804681,1.0059661344666371,3.672731568246073E-2,0.99682188669157612,3.4560875142634717E-3,0.10298792086714506,0.14317132406386926,0.76822129273731421,0.87645872834617045,0.86004647035799131,1.1175839899479361,0.85294671284299051,1.1244357366643216,0.61308561844239939,{"$f":"+Spectre!C3210*N3211/L3211","v":0.5130197474923921},0.52459863205703117]
[7010,0.70099999999999996,2.03499789377718,1.0059627632571491,3.6706240056674999E-2,0.9968266427216379,3.4509072691472241E-3,0.10296882223202729,0.14312596955784951,0.76828546418860644,0.87649534145972019,0.86008754826695744,1.1176373684745429,0.85298969154691717,1.1244923952924433,0.61334982269398708,{"$f":"+Spectre!C3211*N3212/L3212","v":0.5070991687549723},0.51854442552440161]
[7011,0.70109999999999995,2.0344174194468865,1.0059593935250168,3.6685179564573976E-2,0.99683139164564338,3.4457347885738011E-3,0.10294972986219576,0.14308064421534356,0.76834959973208705,0.87653193255857897,0.86012860172240369,1.1176907152251199,0.85303264477854446,1.1245490203405497,0.61361385775209332,{"$f":"+Spectre!C3212*N3213/L3213","v":0.50230345716447145},0.51364047445348482]
[7012,0.70120000000000005,2.0338371934478552,1.0059560252693722,3.6664134193103111E-2,0.99683613347417599,3.4405700609050731E-3,0.10293064375470173,0.14303534800870993,0.76841369939698645,0.87656850166217803,0.86016963074567965,1.1177440302274095,0.85307557256000321,1.1246056118378158,0.61387772377636818,{"$f":"+Spectre!C3213*N3214/L3214","v":0.49996765154994516},0.51125194957482056]
[7013,0.70130000000000003,2.0332572156384563,1.005952658489347,3.6643103929221078E-2,0.99684086821780338,3.4354130745204684E-3,0.1029115639065985,0.14299008091034004,0.76847776321250671,0.87660504878992818,0.86021063535811115,1.1177973135091239,0.85311847491340043,1.124662169813385,0.6141414209263063,{"$f":"+Spectre!C3214*N3215/L3215","v":0.49733993967171275},0.50856493009165504]
[7014,0.70140000000000002,2.0326774858771599,1.0059492931840746,3.662208875989964E-2,0.99684559588707766,3.4302638178167286E-3,0.10289249031494148,0.14294484289265785,0.7685417912078214,0.87664157396121856,0.86025161558100216,1.117850565097946,0.85316135186081965,1.1247186942963701,0.61440494936120249,{"$f":"+Spectre!C3215*N3216/L3216","v":0.49682461204096129},0.50803797148728391]
[7015,0.70150000000000001,2.0320980040225383,1.0059459293526882,3.6601088672123715E-2,0.99685031649253542,3.4251222792079112E-3,0.10287342297678706,0.14289963392811869,0.76860578341207797,0.87667807719541857,0.86029257143563453,1.1179037850215308,0.8532042034243229,1.1247751853158552,0.61466830924024052,{"$f":"+Spectre!C3216*N3217/L3217","v":0.49716318016662825},0.50838418111459582]
[7016,0.7016,2.0315187699332622,1.0059425669943225,3.6580103652891278E-2,0.99685503004469733,3.4199884471257458E-3,0.10285436188919433,0.14285445398921137,0.76866973985439413,0.87671455851187607,0.86033350294326683,1.1179569733075023,0.85324702962594712,1.1248316429008915,0.6149315007222711,{"$f":"+Spectre!C3217*N3218/L3218","v":0.49735470143098637},0.50858002502466593]
[7017,0.70169999999999999,2.0309397834681056,1.0059392061081118,3.6559133689213437E-2,0.99685973655406879,3.4148623100190333E-3,0.10283530704922371,0.14280930304845618,0.76873366056386094,0.87675101792991872,0.86037441012513571,1.1180101299834568,0.85328983048770746,1.1248880670805017,0.61519452396612273,{"$f":"+Spectre!C3218*N3219/L3219","v":0.49661134702072518},0.50781989306354225]
[7018,0.70179999999999998,2.0303610444859417,1.0059358466931918,3.6538178768114361E-2,0.9968644360311395,3.4097438563540036E-3,0.10281625845393756,0.14276418107840594,0.76879754556954161,0.87678745546885339,0.86041529300245556,1.1180632550769609,0.85333260603159555,1.1249444578836771,0.61545737913035747,{"$f":"+Spectre!C3219*N3220/L3220","v":0.49567390686932139},0.50686129483517861]
[7019,0.70189999999999997,2.0297825528457438,1.0059324887486989,3.6517238876631289E-2,0.99686912848638376,3.4046330746140751E-3,0.10279721610039977,0.14271908805164513,0.7688613949004719,0.87682387114796656,0.86045615159641853,1.118116348615553,0.85337535627958039,1.1250008153393793,0.61572006637329313,{"$f":"+Spectre!C3220*N3221/L3221","v":0.49727257741852166},0.50849604746861943]
[7020,0.70199999999999996,2.0292043084065883,1.0059291322737693,3.649631400181453E-2,0.99687381393026031,3.3995299532999738E-3,0.10277817998567651,0.14267402394079101,0.76892520858565905,0.87686026498652336,0.86049698592819379,1.1181694106267408,0.85341808125360752,1.1250571394765392,0.6159825858532253,{"$f":"+Spectre!C3221*N3222/L3222","v":0.5037316740731792},0.51510092629817705]
[7021,0.70209999999999995,2.0286263110276472,1.0059257772675407,3.6475404130727328E-2,0.99687849237321235,3.3944344809297301E-3,0.10275915010683533,0.14262898871849239,0.76898898665408366,0.87689663700376919,0.86053779601892877,1.1182224411380046,0.85346078097559985,1.1251134303240575,0.61624493772813871,{"$f":"+Spectre!C3222*N3223/L3223","v":0.50973396480387878},0.52123868906837201]
[7022,0.70220000000000005,2.0280485605681977,1.0059224237291513,3.6454509250446056E-2,0.99688316382566777,3.3893466460384394E-3,0.10274012646094595,0.14258398235743044,0.7690527291346978,0.87693298721892809,0.86057858188974812,1.1182754401767947,0.85350345546745698,1.1251696879108042,0.61650712215584047,{"$f":"+Spectre!C3223*N3224/L3224","v":0.51849236619224937},0.53019476806884702]
[7023,0.70230000000000004,2.027471056887614,1.0059190716577395,3.6433629348060055E-2,0.9968878282980389,3.3842664371784999E-3,0.10272110904507925,0.14253900483031781,0.7691164360564271,0.8769693156512044,0.8606193435617554,1.118328407770534,0.8535461047510563,1.1252259122656205,0.61676913929398225,{"$f":"+Spectre!C3224*N3225/L3225","v":0.52842461926359874},0.54035119265082943]
[7024,0.70240000000000002,2.0268937998453724,1.0059157210524448,3.6412764410671643E-2,0.99689248580072254,3.3791938429196117E-3,0.10270209785630866,0.1424940561098999,0.76918010744816789,0.87700562231978096,0.86066008105603031,1.1183813439466144,0.85358872884825121,1.1252821034173153,0.61703098930003808,{"$f":"+Spectre!C3225*N3226/L3226","v":0.53730372591283437},0.54943070123669835]
[7025,0.70250000000000001,2.0263167893010476,1.0059123719124068,3.6391914425396091E-2,0.99689713634410049,3.374128851848172E-3,0.10268309289170899,0.14244913616895324,0.76924374333879064,0.87704190724382092,0.86070079439363167,1.1184342487324008,0.85363132778087325,1.1253382613946692,0.61729267233125995,{"$f":"+Spectre!C3226*N3227/L3227","v":0.53818569950591555},0.55033258102339733]
[7026,0.7026,2.0257400251143149,1.0059090242367665,3.6371079379361661E-2,0.99690177993853879,3.3690714525681205E-3,0.10266409414835678,0.14240424498028656,0.76930734375713739,0.87707817044246694,0.86074148359559521,1.1184871221552279,0.85367390157073075,1.1253943862264322,0.61755418854483324,{"$f":"+Spectre!C3227*N3228/L3228","v":0.53877216685616658},0.55093228497473956]
[7027,0.70269999999999999,2.0251635071449492,1.0059056780246649,3.6350259259709507E-2,0.99690641659438828,3.3640216337003318E-3,0.10264510162333061,0.14235938251674046,0.76937090873202285,0.8771144119348403,0.86078214868293523,1.1185399642424028,0.85371645023960896,1.1254504779413232,0.61781553809756584,{"$f":"+Spectre!C3228*N3229/L3229","v":0.53814225618268063},0.55028815718191282]
[7028,0.70279999999999998,2.0245872352528256,1.0059023332752437,3.6329454053593772E-2,0.99691104632198468,3.358979383882495E-3,0.10262611531371071,0.14231454875118699,0.76943443829223446,0.87715063174004293,0.86082278967664339,1.1185927750212028,0.85375897380927102,1.125506536568033,0.61807672114628787,{"$f":"+Spectre!C3229*N3230/L3230","v":0.53602291739297314},0.54812098479648241]
[7029,0.70289999999999997,2.0240112092979192,1.0058989899876458,3.6308663748181508E-2,0.99691566913164797,3.3539446917698387E-3,0.10260713521657921,0.14226974365653056,0.76949793246653164,0.87718682987715546,0.86086340659768945,1.1186455545188771,0.85380147230145642,1.1255625621352203,0.61833773784745194,{"$f":"+Spectre!C3230*N3231/L3231","v":0.53396643474653271},0.5460180872210092]
[7030,0.70299999999999996,2.0234354291403034,1.0058956481610137,3.6287888330652593E-2,0.99692028503368335,3.3489175460340382E-3,0.10258816132901985,0.14222496720570649,0.7695613912836472,0.87722300636523909,0.86090399946702101,1.118698302762646,0.85384394573788269,1.1256185546715154,0.6185985883575329,{"$f":"+Spectre!C3231*N3232/L3232","v":0.53403241855009265},0.54608556028272781]
[7031,0.70309999999999995,2.0228598946401517,1.0058923077944917,3.6267127788199849E-2,0.99692489403838036,3.3438979353641856E-3,0.10256919364811806,0.1421802193716821,0.76962481477228628,0.87725916122333392,0.8609445683055641,1.1187510197797017,0.85388639414024425,1.125674514205518,0.61885927283262809,{"$f":"+Spectre!C3232*N3233/L3233","v":0.53511403424015047},0.54719158809976465]
[7032,0.70320000000000005,2.0222846056577373,1.0058889688872239,3.6246382108028947E-2,0.99692949615601356,3.3388858484660606E-3,0.10255023217096135,0.14213550012745635,0.76968820296112639,0.87729529447045995,0.86098511313422188,1.1188037055972067,0.85392881753021299,1.1257304407657978,0.61911979142879048,{"$f":"+Spectre!C3233*N3234/L3234","v":0.53644009525794578},0.54854757838933899]
[7033,0.70330000000000004,2.0217095620534331,1.0058856314383553,3.6225651277358432E-2,0.99693409139684219,3.3338812740624927E-3,0.10253127689463888,0.14209080944605981,0.76975155587881772,0.87733140612561689,0.86102563397387621,1.1188563602422958,0.85397121592943781,1.1257863343808947,0.61938014430182875,{"$f":"+Spectre!C3234*N3235/L3235","v":0.54156266628932404},0.55378576613710373]
[7034,0.70340000000000003,2.0211347636877108,1.0058822954470314,3.620493528341967E-2,0.99693867977111028,3.3288842008932402E-3,0.10251232781624145,0.14204614730055437,0.76981487355398359,0.87736749620778398,0.86106613084538652,1.1189089837420749,0.85401358935954552,1.1258421950793189,0.61964033160737397,{"$f":"+Spectre!C3235*N3236/L3236","v":0.54708447831593654},0.5594322057718274]
[7035,0.70350000000000001,2.0205602104211402,1.0058789609123988,3.618423411345683E-2,0.99694326128904676,3.3238946177148671E-3,0.1024933849328622,0.14200151366403391,0.76987815601521903,0.87740356473592018,0.86110660376959025,1.1189615761236211,0.85405593784213962,1.1258980228895505,0.61990035350087958,{"$f":"+Spectre!C3236*N3237/L3237","v":0.54628197669341549},0.55861159164253538]
[7036,0.7036,2.0199859021143918,1.0058756278336043,3.6163547754726924E-2,0.99694783596086545,3.3189125133007398E-3,0.10247444824159521,0.14195690850962289,0.76994140329109295,0.8774396117289649,0.86114705276730341,1.1190141374139835,0.85409826139880196,1.1259538178400408,0.62016021013771017,{"$f":"+Spectre!C3237*N3238/L3238","v":0.53764206814142002},0.54977667986841916]
[7037,0.70369999999999999,2.0194118386282343,1.0058722962097952,3.6142876194499733E-2,0.99695240379676497,3.3139378764411526E-3,0.10245551773953698,0.14191233181047785,0.77000461541014664,0.87747563720583621,0.86118747785931982,1.1190666676401828,0.85414056005109085,1.1260095799592098,0.62041990167285288,{"$f":"+Spectre!C3238*N3239/L3239","v":0.5292244832572699},0.54116910961983999]
[7038,{"$f":"+A3240/10000","v":0.70379999999999998},{"$f":"+(1/B3240)^2","v":2.0188380198235358},{"$f":"0.23465+1.076*100/(146-C3240)+0.93161/(41-C3240)","v":1.0058689660401197},{"$f":"9.4977*0.001*C3240^2*D3240*EXP(-h/7.996/1000)","v":3.6122219420057854E-2},{"$f":"+EXP(-0.0168*EXP(-15*ABS(B3240-0.59)))","v":0.99695696480692886},{"$f":"-2.5*LOG(F3240)","v":3.3089706959431998E-3},{"$f":"2.5*LOG(EXP(AOD*(B3240/0.55)^(-1.3)))","v":0.10243659342378533},{"$f":"+E3240+G3240+H3240","v":0.14186778353978638},{"$f":"10^(-0.4*I3240*ma)","v":0.77006779240089385},{"$f":"10^(-0.4*I3240)","v":0.8775116411854329},{"$f":"10^(-0.4*I3240*ma_ref)","v":0.86122787906641141},{"$f":"+L3240/M$1","v":1.1191191668292106},{"$f":"10^(-0.4*I3240*ma_target)","v":0.85418283382054261},{"$f":"+N3240/O$1","v":1.1260653092754489},{"$f":"(O3240/M3240-1)*100","v":0.62067942826131706},{"$f":"+Spectre!C3239*N3240/L3240","v":0.52811616373570847},0.54003577526432012]
[7039,0.70389999999999997,2.0182644455612624,1.0058656373237269,3.610157741869658E-2,0.99696151900152552,3.3040109606307772E-3,0.10241767529144047,0.14182326367076784,0.77013093429182078,0.87754762368663275,0.8612682564093278,1.1191716350080303,0.85422508272867059,1.1261210058171189,0.62093879005777897,{"$f":"+Spectre!C3240*N3241/L3241","v":0.5299251630358941},0.54188560378048967]
[7040,0.70399999999999996,2.0176911157024797,1.0058623100597657,3.6080950177724037E-2,0.99696606639070851,3.2990586593443392E-3,0.10239876333960354,0.14177877217667192,0.77019404111138823,0.87758358472829445,0.86130860990879798,1.119224072203578,0.85426730679696661,1.1261766696125524,0.62119798721678166,{"$f":"+Spectre!C3241*N3242/L3242","v":0.53092847759088424},0.54291156320143485]
[7041,0.70409999999999995,2.0171180301083513,1.0058589842473862,3.6060337684461E-2,0.99697060698461615,3.2941137809412604E-3,0.10237985756537808,0.14173430903078033,0.77025711288802778,0.87761952432925583,0.86134893958552772,1.1192764784427598,0.85430950604689926,1.1262323006900514,0.62145701989282376,{"$f":"+Spectre!C3242*N3243/L3243","v":0.52578868112290156},0.53765576123799241]
[7042,0.70420000000000005,2.0165451886401393,1.0058556598857393,3.6039739926241009E-2,0.99697514079337179,3.2891763142955917E-3,0.10236095796586941,0.14168987420640602,0.77032014965014495,0.87765544250833438,0.86138924546020201,1.1193288537524544,0.85435168049991428,1.1262878990778877,0.62171588823995982,{"$f":"+Spectre!C3243*N3244/L3244","v":0.52047013009614695},0.53221717021532933]
[7043,0.70430000000000004,2.0159725911592061,1.0058523369739762,3.6019156890410367E-2,0.9969796678270838,3.284246248298059E-3,0.10234206453818416,0.14164546767689259,0.77038315142611802,0.87769133928432808,0.86142952755348356,1.1193811981595123,0.8543938301774362,1.1263434648043051,0.62197459241233322,{"$f":"+Spectre!C3244*N3245/L3245","v":0.51877104824746667},0.53047973999372988]
[7044,0.70440000000000003,2.0154002375270106,1.0058490155112489,3.5998588564327992E-2,0.99698418809584566,3.2793235718559443E-3,0.10232317727943098,0.14160108941561492,0.77044611824429843,0.87772721467601478,0.86146978588601375,1.1194335116907554,0.85443595510086623,1.1263989978975171,0.62223313256373203,{"$f":"+Spectre!C3245*N3246/L3246","v":0.52161244554937736},0.53338526779260864]
[7045,0.70450000000000002,2.0148281276051097,1.0058456954967099,3.5978034935365458E-2,0.99698870160973585,3.2744082738932001E-3,0.10230429618672064,0.14155673939597929,0.77050905013300974,0.87776306870215226,0.86151002047841174,1.1194857943729777,0.85447805529158327,1.1264544983857068,0.62249150884778892,{"$f":"+Spectre!C3246*N3247/L3247","v":0.52435834228798817},0.53619313957510062]
[7046,0.7046,2.0142562612551602,1.0058423769295117,3.5957495990907057E-2,0.99699320837881777,3.2695003433505735E-3,0.10228542125716494,0.14151241759142258,0.77057194712054944,0.87779890138147765,0.86155023135127518,1.1195380462329445,0.85452013077094446,1.1265099662970295,0.62274972141806995,{"$f":"+Spectre!C3247*N3248/L3248","v":0.52437527030496289},0.53621044965837095]
[7047,0.70469999999999999,2.0136846383389164,1.0058390598088092,3.5936971718349781E-2,0.99699770841314028,3.2645997691850004E-3,0.10226655248787797,0.14146812397541275,0.77063480923518757,0.8778347127327093,0.8615904185251807,1.1195902672973939,0.85456218156028407,1.1265654016596101,0.62300777042780808,{"$f":"+Spectre!C3248*N3249/L3249","v":0.52355016682901612},0.53536672355054971]
[7048,0.70479999999999998,2.0131132587182301,1.0058357441337558,3.5916462105103082E-2,0.99700220172273701,3.2597065403703273E-3,0.10224768987597546,0.14142385852144887,0.77069763650516732,0.87787050277454437,0.86163058202068232,1.1196424575930348,0.85460420768091427,1.1266208045015444,0.6232656560301697,{"$f":"+Spectre!C3249*N3250/L3250","v":0.52361084482281306},0.53542877105008058]
[7049,0.70489999999999997,2.0125421222550512,1.0058324299035071,3.5895967138589217E-2,0.99700668831762695,3.2548206458967062E-3,0.10222883341857503,0.14137962120306097,0.77076042895870478,0.8779062715256607,0.86167072185831284,1.1196946171465485,0.85464620915412493,1.1266761748508984,0.62352337837809912,{"$f":"+Spectre!C3250*N3251/L3251","v":0.52809036659891107},0.54000939588469388]
[7050,0.70499999999999996,2.011971228811428,1.0058291171172182,3.5875486806242904E-2,0.9970111682078141,3.2499420747709581E-3,0.10220998311279555,0.14133541199380942,0.77082318662398952,0.87794201900471647,0.86171083805858373,1.1197467459845887,0.85468818600118412,1.1267315127357103,0.62378093762442965,{"$f":"+Spectre!C3251*N3252/L3252","v":0.53280675144651346},0.54483222980366186]
[7051,0.70509999999999995,2.0114005782495066,1.0058258057740459,3.5855021095511558E-2,0.9970156414032878,3.2450708160162082E-3,0.1021911389557584,0.14129123086728618,0.77088590952918346,0.87797774523034922,0.86175093064198438,1.1197988441337801,0.85473013824333677,1.1267868181839866,0.62403833392166153,{"$f":"+Spectre!C3252*N3253/L3253","v":0.53638295806702352},0.54848915160880285]
[7052,0.70520000000000005,2.0108301704315301,1.005822495873147,3.583456999385512E-2,0.9970201079140224,3.2402068586722473E-3,0.10217230094458618,0.14124707779711354,0.77094859770242241,0.87801345022117705,0.8617909996289832,1.1198509116207203,0.85477206590180599,1.126842091223706,0.62429556742225056,{"$f":"+Spectre!C3253*N3254/L3254","v":0.5383966223183595},0.55054826437558513]
[7053,0.70530000000000004,2.0102600052198407,1.0058191874136786,3.5814133488746083E-2,0.99702456774997783,3.235350191794926E-3,0.10215346907640316,0.14120295275694417,0.77101125117181546,0.87804913399579843,0.86183104504002672,1.1199029484719785,0.85481396899779361,1.1268973318828186,0.62455263827847496,{"$f":"+Spectre!C3254*N3255/L3255","v":0.5408586957699909},0.55306590696354208]
[7054,0.70540000000000003,2.0096900824768773,1.0058158803947992,3.5793711567669528E-2,0.9970290209210988,3.2305008044569991E-3,0.1021346433483359,0.14115885572046244,0.77107386996544358,0.87808479657279137,0.86187106689553994,1.1199549547140957,0.85485584755247779,1.1269525401892435,0.62480954664236865,{"$f":"+Spectre!C3255*N3256/L3256","v":0.53791843525523342},0.55005928460354037]
[7055,0.70550000000000002,2.0091204020651747,1.0058125748156672,3.5773304218122998E-2,0.99703346743731558,3.2256586857472812E-3,0.10211582375751221,0.1411147866613825,0.77113645411136267,0.87812043797071471,0.86191106521592653,1.1200069303735858,0.85489770158701583,1.1270077161708723,0.62506629266583236,{"$f":"+Spectre!C3256*N3257/L3257","v":0.53382265149192976},0.54587105877026021]
[7056,0.7056,2.0085509638473678,1.0058092706754422,3.5752911427616614E-2,0.9970379073085438,3.2208238247708847E-3,0.102097010301062,0.14107074555344951,0.77119900363760052,0.87815605820810694,0.86195104002156886,1.1200588754769341,0.85493953112254228,1.1270628598555665,0.62532287650058915,{"$f":"+Spectre!C3257*N3258/L3258","v":0.53107631204197492},0.54306273428440421]
[7057,0.70569999999999999,2.007981767686188,1.0058059679732843,3.5732533183673018E-2,0.9970423405446841,3.215996210649582E-3,0.10207820297611662,0.14102673237043922,0.77126151857215886,0.87819165730348714,0.86199099133282764,1.1201107900505984,0.85498133618016969,1.1271179712711588,0.62557929829814007,{"$f":"+Spectre!C3258*N3259/L3259","v":0.53385982126829945},0.54590906747057388]
[7058,0.70579999999999998,2.0074128134444629,1.0058026667083537,3.5712169473827271E-2,0.9970467671556229,3.2111758325209581E-3,0.10205940177980949,0.14098274708615771,0.77132399894301273,0.87822723527535473,0.86203091917004204,1.1201626741210087,0.85502311678098897,1.1271730504454531,0.62583555820991954,{"$f":"+Spectre!C3259*N3260/L3260","v":0.53703226731854192},0.54915311580665982]
[7059,0.70589999999999997,2.0068441009851181,1.0057993668798118,3.5691820285626931E-2,0.99705118715123153,3.206362679539377E-3,0.10204060670927531,0.14093878967444162,0.77138644477811003,0.87826279214218905,0.8620708235535306,1.1202145277145674,0.85506487294606848,1.1272280974062239,0.62609165638705111,{"$f":"+Spectre!C3260*N3261/L3261","v":0.53847978249351613},0.55063330148057388]
[7060,0.70599999999999996,2.0062756301711757,1.0057960684868203,3.5671485606632046E-2,0.99705560054136688,3.2015567408752565E-3,0.10202181776165103,0.14089486010915833,0.77144885610537239,0.87829832792245011,0.8621107045035894,1.1202663508576483,0.85510660469645472,1.1272831121812166,0.62634759298059173,{"$f":"+Spectre!C3261*N3262/L3262","v":0.53759061299986599},0.54972406338142521]
[7061,0.70609999999999995,2.0057074008657558,1.0057927715285417,3.5651165424415085E-2,0.99706000733587141,3.196758005715063E-3,0.10200303493407532,0.14085095836420547,0.77151123295269441,0.87833384263457792,0.86215056204049401,1.1203181435765985,0.85514831205317254,1.1273380947981484,0.62660336814137629,{"$f":"+Spectre!C3262*N3263/L3263","v":0.53695844990681352},0.54907763233179552]
[7062,0.70620000000000005,2.0051394129320745,1.005789476004139,3.5630859726560979E-2,0.99706440754457282,3.1919664632616787E-3,0.10198425822368806,0.14080708441351072,0.77157357534794457,0.8783693362969931,0.86219039618449855,1.120369905897737,0.85518999503722459,1.1273930452847065,0.62685898202003987,{"$f":"+Spectre!C3263*N3264/L3264","v":0.53366096448586531},0.54570572247937199]
[7063,0.70630000000000004,2.0045716662334452,1.0057861819127758,3.5610568500667038E-2,0.99706880117728414,3.1871821027342753E-3,0.10196548762763122,0.14076323823103254,0.77163588331896471,0.87840480892809658,0.86223020695583563,1.1204216378473553,0.85523165366959153,1.1274479636685499,0.62711443476708428,{"$f":"+Spectre!C3264*N3265/L3265","v":0.52967517136433329},0.54162996978283662]
[7064,0.70640000000000003,2.0040041606332779,1.0057828892536167,3.5590291734343013E-2,0.99707318824380409,3.1824049133679522E-3,0.10194672314304884,0.1407194197907598,0.77169815689356924,0.87844026054626934,0.86226999437471674,1.1204733394517166,0.85527328797123181,1.1275028499773081,0.62736972653283374,{"$f":"+Spectre!C3265*N3266/L3266","v":0.52736346355720276},0.53926608660043684]
[7065,0.70650000000000002,2.0034368959950797,1.0057795980258262,3.5570029415211007E-2,0.99707756875391684,3.177634884413976E-3,0.10192796476708606,0.14067562906671105,0.77176039609954739,0.87847569116987323,0.86230975846133229,1.1205250107370577,0.85531489796308313,1.1275577042385831,0.62762485746743479,{"$f":"+Spectre!C3266*N3267/L3267","v":0.53158636587469288},{"$f":"+Q3267/R$1","v":0.54358430006082348}]
[7066,0.70660000000000001,2.0028698721824529,1.00577630822857,3.554978153090553E-2,0.99708194271739192,3.1728720051399035E-3,0.10190921249689024,0.14063186603293568,0.77182260096466049,0.87851110081725048,0.86234949923585125,1.120576651729587,0.8553564836660601,1.1276125264799466,0.62787982772083417,{"$f":"+Spectre!C3267*N3268/L3268","v":0.53616939839425048},0.54827077188219997]
[7067,0.70669999999999999,2.0023030890590974,1.005773019861014,3.5529548069073408E-2,0.99708631014398463,3.1681162648290913E-3,0.10189046632961002,0.1405881306635125,0.77188477151664492,0.87854648950672365,0.86238921671842173,1.1206282624554855,0.85539804510105633,1.1276673167289424,0.62813463744284537,{"$f":"+Spectre!C3268*N3269/L3269","v":0.53920552535416566},0.55137542439842036]
[7068,0.70679999999999998,2.0017365464888099,1.0057697329223254,3.5509329017373907E-2,0.99709067104343563,3.1633676527811853E-3,0.10187172626239659,0.14054442293255168,0.77194690778320851,0.87858185725659566,0.86242891092916985,1.1206798429409066,0.85543958228894279,1.1277220750130847,0.62838928678308204,{"$f":"+Spectre!C3269*N3270/L3270","v":0.54027564502579606},0.55246969673124691]
[7069,0.70689999999999997,2.0011702443354831,1.0057664474116708,3.5489124363478515E-2,0.99709502542547102,3.158626158311991E-3,0.10185299229240166,0.14050074281419217,0.77200900979203502,0.87861720408515021,0.86246858188820186,1.1207313932119769,0.8554810952505697,1.1277768013598601,0.62864377589098019,{"$f":"+Spectre!C3270*N3271/L3271","v":0.54140994233211082},0.5536295951915835]
[7070,0.70699999999999996,2.0006041824631038,1.0057631633282187,3.5468934095071063E-2,0.99709937329980292,3.1538917707528771E-3,0.10183426441677976,0.1404570902826037,0.77207107757078008,0.87865253001065169,0.86250822961560203,1.1207829132947951,0.85552258400676506,1.1278314957967264,0.62889810491582043,{"$f":"+Spectre!C3271*N3272/L3272","v":0.53486538671433004},0.54693732858529687]
[7071,0.70709999999999995,2.000038360735759,1.0057598806711374,3.5448758199847788E-2,0.99710371467612868,3.1491644794516115E-3,0.10181554263268681,0.14041346531198623,0.77213311114707317,0.87868783505134407,0.86254785413143331,1.1208344032154316,0.85556404857833446,1.1278861583511111,0.6291522740067057,{"$f":"+Spectre!C3272*N3273/L3273","v":0.52611830363075629},0.5379928233443948]
[7072,0.70720000000000005,1.9994727790176283,1.0057565994395961,3.5428596665517058E-2,0.99710804956413157,3.1444442737716418E-3,0.10179682693728002,0.14036986787656872,0.77219511054851875,0.87872311922545321,0.86258745545573901,1.1208858629999319,0.85560548898606326,1.1279407890504158,0.62940628331258353,{"$f":"+Spectre!C3273*N3274/L3274","v":0.51866518027555009},0.53037148257573075]
[7073,0.70730000000000004,1.9989074371729898,1.0057533196327646,3.5408449479799674E-2,0.99711237797348018,3.1397311430926946E-3,0.10177811732771909,0.14032629795061147,0.77225707580269265,0.87875838255118466,0.86262703360853921,1.1209372926743106,0.85564690525071341,1.1279953879220106,0.62966013298217938,{"$f":"+Spectre!C3274*N3275/L3275","v":0.5168721491764865},0.52853798266388097]
[7074,0.70740000000000003,1.9983423350662157,1.0057500412498133,3.5388316630428587E-2,0.99711669991382901,3.1350250768101729E-3,0.10175941380116496,0.14028275550840372,0.77231900693714595,0.87879362504672465,0.86266658860983481,1.1209886922645584,0.85568829739302643,1.1280499549932392,0.62991382316408551,{"$f":"+Spectre!C3275*N3276/L3276","v":0.51452740748446146},0.52614032001994615]
[7075,0.70750000000000002,1.9977774725617752,1.0057467642899129,3.536819810514906E-2,0.99712101539481823,3.1303260643353943E-3,0.10174071635478002,0.14023924052426448,0.77238090397940384,0.87882884673024075,0.86270612047960515,1.121040061796637,0.85572966543372231,1.1281044902914164,0.63016735400673873,{"$f":"+Spectre!C3276*N3277/L3277","v":0.51924879783995126},0.53096827242139621]
[7076,0.70760000000000001,1.9972128495242321,1.0057434887522354,3.5348093891718536E-2,0.99712532442607371,3.1256340950955915E-3,0.10172202498572923,0.14019575297254336,0.77244276695696346,0.87886404761988024,0.86274562923780818,1.1210914012964805,0.85577100939349837,1.1281589938438277,0.63042072565839824,{"$f":"+Spectre!C3277*N3278/L3278","v":0.53029427578307387},0.54226304742314047]
[7077,0.7077,1.9966484658182468,1.0057402146359529,3.5328003977906731E-2,0.99712962701720709,3.1209491585337899E-3,0.10170333969117852,0.14015229282761904,0.77250459589729747,0.87889922773377194,0.8627851149043817,1.1211427107899972,0.85581232929303119,1.1282134656777307,0.63067393826707896,{"$f":"+Spectre!C3278*N3279/L3279","v":0.5407625997787926},0.55296764208041582]
[7078,0.70779999999999998,1.9960843213085755,1.005736941940238,3.5307928351495536E-2,0.99713392317781568,3.1162712441089287E-3,0.10168466046829575,0.14010886006390022,0.77256639082785161,0.8789343870900248,0.86282457749924191,1.1211939903030672,0.85585362515297581,1.1282679058203549,0.63092699198070701,{"$f":"+Spectre!C3279*N3280/L3280","v":0.5420695995493402},0.55430414090931968]
[7079,0.70789999999999997,1.995520415860069,1.0057336706642641,3.5287867000279048E-2,0.99713821291748272,3.1116003412956154E-3,0.10166598731425081,0.14006545465582548,0.77262815177604482,0.87896952570672859,0.86286401704228421,1.1212452398615436,0.85589489699396515,1.1283223142989005,0.63117988694703087,{"$f":"+Spectre!C3280*N3281/L3281","v":0.54050497637309936},0.55270420409996157]
[7080,0.70799999999999996,1.9949567493376745,1.0057304008072054,3.5267819912063535E-2,0.997142496245777,3.1069364395844893E-3,0.10164732022621513,0.14002207657786314,0.77268987876927053,0.87900464360195385,0.86290343355338317,1.121296459491252,0.85593614483661062,1.1283766911405397,0.63143262331355476,{"$f":"+Spectre!C3281*N3282/L3282","v":0.53840277626213173},0.55055455721421453]
[7081,0.70809999999999995,1.994393321606434,1.0057271323682366,3.5247787074667455E-2,0.99714677317225342,3.1022795284816169E-3,0.10162865920136134,0.13997872580451043,0.7727515718348964,0.87903974079375224,0.862942827052393,1.1213476492179921,0.85597736870150298,1.128431036372417,0.63168520122771632,{"$f":"+Spectre!C3282*N3283/L3283","v":0.53238588808770249},0.54440186753516373]
[7082,0.70820000000000005,1.9938301325314838,1.0057238653465326,3.5227768475921344E-2,0.99715104370645258,3.097629597508973E-3,0.10161000423686459,0.13993540231029489,0.77281323100026322,0.87907481730015591,0.86298219755914662,1.1213988090675358,0.85601856860921111,1.1284853500216481,0.6319376208366867,{"$f":"+Spectre!C3283*N3284/L3284","v":0.52629296149894611},0.53817142325049627]
[7083,0.70830000000000004,1.9932671819780579,1.0057205997412695,3.5207764103667979E-2,0.99715530785790096,3.0929866362041968E-3,0.1015913553299015,0.13989210606977368,0.7728748562926856,0.87910987313917754,0.86302154509345563,1.1214499390656267,0.85605974458028178,1.12853963211532,0.63218988228759265,{"$f":"+Spectre!C3284*N3285/L3285","v":0.52382481048289198},0.53564756592714569]
[7084,0.70840000000000003,1.9927044698114835,1.0057173355516233,3.5187773945762189E-2,0.99715956563611086,3.0883506341207157E-3,0.10157271247764993,0.13984883705753284,0.77293644773945303,0.8791449083288112,0.86306086967511186,1.1215010392379838,0.85610089663524114,1.1285938826804922,0.63244198572725008,{"$f":"+Spectre!C3285*N3286/L3286","v":0.52459868191048142},0.53643890367639568]
[7085,0.70850000000000002,1.9921419958971831,1.0057140727767715,3.5167797990070922E-2,0.99716381705058055,3.0837215808274983E-3,0.10155407567729002,0.13980559524818845,0.77299800536782803,0.87917992288703162,0.86310017132388595,1.1215521096102978,0.85614202479459378,1.1286481017441958,0.63269393130236384,{"$f":"+Spectre!C3286*N3287/L3287","v":0.5253772099324916},0.53723500311966454]
[7086,0.70860000000000001,1.9915797601006753,1.0057108114158915,3.5147836224473268E-2,0.99716806211079434,3.0790994659090545E-3,0.10153544492600347,0.1397623806163858,0.77305952920504739,0.87921491683179409,0.86313945005952775,1.1216031502082326,0.85618312907882277,1.1287022893334333,0.63294571915946118,{"$f":"+Spectre!C3287*N3288/L3288","v":0.5286553156853695},0.54058709590381904]
[7087,0.7087,1.9910177622875711,1.0057075514681615,3.5127888636860324E-2,0.99717230082622221,3.0744842789658003E-3,0.10151682022097348,0.13971919313679959,0.773121019278322,0.8792498901810355,0.86317870590176626,1.1216541610574247,0.85622420950839007,1.1287564454751799,0.63319734944500272,{"$f":"+Spectre!C3288*N3289/L3289","v":0.5325752690653266},0.54459552285210788]
[7088,0.70879999999999999,1.9904560023235791,1.0057042929327604,3.5107955215135309E-2,0.99717653320632049,3.0698760096133271E-3,0.10149820155938556,0.13967603278413421,0.77318247561483644,0.87928484295267284,0.86321793887030984,1.1217051421834843,0.85626526610373555,1.1288105701963813,0.63344882230509381,{"$f":"+Spectre!C3289*N3290/L3290","v":0.53534706888170425},0.54742988234628931]
[7089,0.70889999999999997,1.9898944800745002,1.0057010358088676,3.5088035947213457E-2,0.99718075926053107,3.06527464748325E-3,0.10147958893842583,0.13963289953312252,0.7732438982417501,0.8793197751646048,0.86325714898484673,1.1217560936119952,0.85630629888527909,1.1288646635239568,0.63370013788579538,{"$f":"+Spectre!C3290*N3291/L3291","v":0.53282309139205675},0.54484893854269534]
[7090,0.70899999999999996,1.9893331954062319,1.0056977800956632,3.5068130821022094E-2,0.99718497899828207,3.0606801822224789E-3,0.1014609823552831,0.13958979335852767,0.77330528718619562,0.8793546868347103,0.86329633626504398,1.1218070153685136,0.8563473078734184,1.1289187254847968,0.63395129633299074,{"$f":"+Spectre!C3291*N3292/L3292","v":0.53036486420996221},0.54233522903479514]
[7091,0.70909999999999995,1.9887721481847651,1.0056945257923278,3.5048239824500532E-2,0.99718919242898774,3.0560926034933415E-3,0.10144238180714754,0.13954671423514142,0.77336664247527998,0.87938957798085005,0.86333550073054799,1.1218579074785688,0.85638829308852993,1.1289727561057634,0.63420229779238557,{"$f":"+Spectre!C3292*N3293/L3293","v":0.52933820654477681},0.54128539964834432]
[7092,0.70920000000000005,1.9882113382761855,1.0056912728980425,3.5028362945600092E-2,0.99719339956204811,3.0515119009739411E-3,0.10142378729121126,0.13950366213778531,0.77342796413608417,0.87942444862086511,0.86337464240098449,1.1219087699676638,0.85642925455096885,1.1290267554136906,0.63445314240941908,{"$f":"+Spectre!C3293*N3294/L3294","v":0.52968173006936481},0.54163667651820968]
[7093,0.70930000000000004,1.9876507655466733,1.0056880214119892,3.500850017228415E-2,0.99719760040684957,3.0469380643575574E-3,0.10140519880466736,0.13946063704130907,0.77348925219566422,0.879459298772578,0.86341376129595937,1.1219596028612748,0.85647019228107002,1.1290807234353859,0.63470383032957489,{"$f":"+Spectre!C3294*N3295/L3295","v":0.52997536311723648},0.54193693688049227]
[7094,0.70940000000000003,1.9870904298625034,1.0056847713333503,3.4988651492528007E-2,0.99720179497276451,3.0423710833529989E-3,0.10138661634471152,0.13941763892059253,0.77355050668104908,0.87949412845379216,0.8634528574350574,1.1220104061848517,0.85651110629914595,1.1291346601976273,0.63495436169795916,{"$f":"+Spectre!C3295*N3296/L3296","v":0.52878953218914526},0.54072434168163641]
[7095,0.70950000000000002,1.9865303310900437,1.0056815226613089,3.4968816894318973E-2,0.99720598326915122,3.0378109476847329E-3,0.10136803990854085,0.13937466775054455,0.77361172761924213,0.87952893768229168,0.86349193083784215,1.122061179963816,0.85655199662548842,1.129188565727165,0.63520473665961141,{"$f":"+Spectre!C3296*N3297/L3297","v":0.52728508089188475},0.53918593483395261]
[7096,0.70960000000000001,1.9859704690957576,1.0056782753950486,3.4948996365656293E-2,0.99721016530535433,3.0332576470923928E-3,0.10134946949335366,0.13933172350610235,0.77367291503722191,0.87956372647584258,0.86353098152385821,1.1221119242235651,0.85659286328036854,1.1292424400507226,0.63545495535941576,{"$f":"+Spectre!C3297*N3298/L3298","v":0.5275299342783214},0.53943631457509722]
[7097,0.7097,1.9854108437462012,1.0056750295337533,3.4929189894551134E-2,0.99721434109070461,3.0287111713310248E-3,0.10133090509635047,0.13928880616223263,0.77373406896194019,0.87959849485219166,0.86357000951262874,1.1221626389894679,0.85663370628403568,1.1292962831949949,0.63570501794205647,{"$f":"+Spectre!C3298*N3299/L3299","v":0.53345095143034216},0.54549096941736985]
[7098,0.70979999999999999,1.9848514549080254,1.0056717850766086,3.490939746902666E-2,0.99721851063451894,3.0241715101710829E-3,0.10131234671473338,0.13924591569393113,0.77379518942032355,0.87963324282906663,0.86360901482365626,1.1222133242868673,0.85667452565671853,1.1293500951866489,0.63595492455204017,{"$f":"+Spectre!C3299*N3300/L3300","v":0.53969165935907626},0.55187253047517282]
[7099,0.70989999999999998,1.9842923024479759,1.0056685420227989,3.488961907711792E-2,0.99722267394610031,3.0196386533984294E-3,0.10129379434570622,0.13920305207622258,0.77385627643927235,0.8796679704241761,0.8636479974764234,1.1222639801410796,0.85671532141862416,1.1294038760523235,0.63620467533371805,{"$f":"+Spectre!C3300*N3301/L3301","v":0.53887351284190776},0.55103591834508092]
[7100,0.71,1.9837333862328907,1.0056653003715108,3.4869854706871858E-2,0.9972268310347383,3.0151125908138522E-3,0.10127524798647447,0.13916021528416017,0.7739173300456621,0.87970267765521093,0.86368695749039237,1.122314606577395,0.8567560935899392,1.1294576258186311,0.63645427043130809,{"$f":"+Spectre!C3301*N3302/L3302","v":0.53097441728291173},0.54295853975489605]
[7101,0.71009999999999995,1.9831747061297018,1.0056620601219306,3.4850104346347291E-2,0.99723098190970827,3.010593312233906E-3,0.10125670763424528,0.13911740529282648,0.77397835026634176,0.87973736453984208,0.86372589488500418,1.1223652036210761,0.85679684219082919,1.1295113445121554,0.63670370998885062,{"$f":"+Spectre!C3302*N3303/L3303","v":0.52328895662357833},0.53509961781607884]
[7102,{"$f":"+A3304/10000","v":0.71020000000000005},{"$f":"+(1/B3304)^2","v":1.9826162620054353},{"$f":"0.23465+1.076*100/(146-C3304)+0.93161/(41-C3304)","v":1.0056588212732456},{"$f":"9.4977*0.001*C3304^2*D3304*EXP(-h/7.996/1000)","v":3.483036798361494E-2},{"$f":"+EXP(-0.0168*EXP(-15*ABS(B3304-0.59)))","v":0.99723512658027202},{"$f":"-2.5*LOG(F3304)","v":3.0060808074901905E-3},{"$f":"2.5*LOG(EXP(AOD*(B3304/0.55)^(-1.3)))","v":0.1012381732862275},{"$f":"+E3304+G3304+H3304","v":0.13907462207733262},{"$f":"10^(-0.4*I3304*ma)","v":0.77403933712813522},{"$f":"10^(-0.4*I3304)","v":0.87977203109572244},{"$f":"10^(-0.4*I3304*ma_ref)","v":0.86376480967968072},{"$f":"+L3304/M$1","v":1.1224157712973604},{"$f":"10^(-0.4*I3304*ma_target)","v":0.85683756724143856},{"$f":"+N3304/O$1","v":1.1295650321594528},{"$f":"(O3304/M3304-1)*100","v":0.63695299415018614},{"$f":"+Spectre!C3303*N3304/L3304","v":0.52186811896640251},0.53364671177304079]
[7103,0.71030000000000004,1.9820580537272117,1.0056555838246437,3.481064560675743E-2,0.99723926505567762,3.0015750664295882E-3,0.10121964493963165,0.13903186561281866,0.77410029065784058,0.8798066773404859,0.86380370189382261,1.1224663096314582,0.85687826876189022,1.1296186887870514,0.63720212305895529,{"$f":"+Spectre!C3304*N3305/L3305","v":0.52122715642522599},0.53299128267124785]
[7104,0.71040000000000003,1.9815000811622432,1.0056523477753132,3.4790937203869159E-2,0.99724339734515943,2.9970760789141426E-3,0.10120112259167009,0.13898913587445338,0.77416121088222989,0.87984130329174748,0.86384257154681021,1.1225168186485532,0.85691894677228708,1.1296723144214527,0.63745109685877654,{"$f":"+Spectre!C3305*N3306/L3306","v":0.52123140413650604},0.53299562625361041]
[7105,0.71050000000000002,1.9809423441778371,1.0056491131244429,3.4771242763056417E-2,0.9972475234579381,2.992583834821181E-3,0.10118260623955654,0.13894643283743413,0.77422209782805074,0.87987590896710377,0.86388141865800405,1.1225672983738033,0.85695960129271054,1.1297259090891296,0.63769991569293527,{"$f":"+Spectre!C3306*N3307/L3307","v":0.52280534555095004},0.53460509161433223]
[7106,0.71060000000000001,1.9803848426413926,1.0056458798712227,3.475156227243726E-2,0.9972516434032207,2.9880983240430673E-3,0.10116409588050691,0.13890375647698724,0.77428295152202409,0.87991049438413227,0.8639202432467441,1.1226177488323397,0.8570002323432212,1.1297794728165285,0.63794857970469465,{"$f":"+Spectre!C3307*N3308/L3308","v":0.52445447610528573},0.53629144313806332]
[7107,0.7107,1.9798275764204043,1.0056426480148422,3.4731895720141646E-2,0.99725575719020054,2.9836195364874485E-3,0.10114559151173803,0.13886110676836713,0.77434377199084636,0.87994505956039271,0.86395904533235024,1.1226681700492676,0.85704083994385905,1.1298330056300674,0.63819708903702921,{"$f":"+Spectre!C3308*N3309/L3309","v":0.52523436310105953},0.5370889322272101]
[7108,0.71079999999999999,1.9792705453824568,1.0056394175544925,3.4712243094311208E-2,0.9972598648280574,2.9791474620770066E-3,0.10112709313046921,0.13881848368685742,0.77440455926118745,0.87997960451342527,0.86399782493412181,1.1227185620496654,0.85708142411464272,1.1298865075561373,0.63844544383286905,{"$f":"+Spectre!C3309*N3310/L3310","v":0.525168377392914},0.53702145721791916]
[7109,0.71089999999999998,1.9787137493952309,1.0056361884893648,3.469260438309945E-2,0.99726396632595726,2.9746820907497014E-3,0.10110860073392124,0.1387758872077704,0.77446531335969226,0.8800141292607514,0.86403658207133782,1.1227689248585853,0.85712198487557034,1.1299399786211015,0.63869364423490005,{"$f":"+Spectre!C3310*N3311/L3311","v":0.52516981689844466},0.53702292921317074]
[7110,0.71099999999999997,1.9781571883264988,1.0056329608186509,3.4672979574671636E-2,0.99726806169305282,2.9702234124582877E-3,0.10109011431931617,0.13873331730644609,0.77452603431298062,0.88004863381987497,0.86407531676325788,1.1228192585010539,0.85716252224661937,1.1299934188512959,0.63894169038563042,{"$f":"+Spectre!C3311*N3312/L3312","v":0.52630166892235131},0.53818032720093767]
[7111,0.71109999999999995,1.9776008620441266,1.0056297345415435,3.4653368657204767E-2,0.99727215093848298,2.9657714171707965E-3,0.10107163388387791,0.13869077395825347,0.77458672214764679,0.88008311820828067,0.86411402902912104,1.1228695630020715,0.8572030362477463,1.1300468282730294,0.63918958242745738,{"$f":"+Spectre!C3312*N3313/L3313","v":0.52768667340493391},0.53959659131261584]
[7112,0.71120000000000005,1.977044770416071,1.0056265096572357,3.4633771618887539E-2,0.99727623407137311,2.9613260948702911E-3,0.10105315942483253,0.13864825713859036,0.77464737689025887,0.88011758244343419,0.86415271888814571,1.1229198383866112,0.85724352689888661,1.1301002069125825,0.63943732050257829,{"$f":"+Spectre!C3313*N3314/L3314","v":0.52777387036507795},0.53968575631305626]
[7113,0.71130000000000004,1.9764889133103856,1.005623286164921,3.4614188447920524E-2,0.99728031110083526,2.9568874355546271E-3,0.10103469093940728,0.13860576682288245,0.77470799856736039,0.88015202654278324,0.86419138635953074,1.1229700846796211,0.85728399421995527,1.1301535547962094,0.63968490475305728,{"$f":"+Spectre!C3314*N3315/L3315","v":0.52365934291255789},0.53547836374443947]
[7114,0.71140000000000003,1.9759332905952136,1.0056200640637938,3.4594619132515859E-2,0.99728438203596759,2.9524554292370531E-3,0.10101622842483117,0.13856330298658409,0.77476858720546915,0.88018645052375699,0.86423003146245458,1.1230203019060223,0.85732443823084659,1.1302068719501366,0.63993233532082527,{"$f":"+Spectre!C3315*N3316/L3316","v":0.51918319856920792},0.53090119257142143]
[7115,0.71150000000000002,1.9753779021387912,1.0056168433530488,3.457506366089743E-2,0.99728844688585505,2.9480300659454868E-3,0.10099777187833482,0.13852086560517773,0.77482914283107829,0.8802208544037663,0.86426865421607624,1.1230704900907111,0.85736485895143422,1.1302601584005632,0.64017961234750231,{"$f":"+Spectre!C3316*N3317/L3317","v":0.51914543924036183},0.5308625810123988]
[7116,0.71160000000000001,1.9748227478094476,1.0056136240318814,3.4555522021300827E-2,0.99729250565956917,2.9436113357227552E-3,0.10097932129715079,0.13847845465417435,0.77488966547065474,0.88025523820020279,0.86430725463953362,1.1231206492585561,0.85740525640157106,1.1303134141736613,0.64042673597475286,{"$f":"+Spectre!C3317*N3318/L3318","v":0.52271719741469891},0.53451495396968651]
[7117,0.7117,1.9742678274756049,1.0056104060994877,3.4535994201973334E-2,0.99729655836616793,2.9391992286267135E-3,0.10096087667851307,0.13843607010911313,0.7749501551506407,0.8802896019304407,0.86434583275194554,1.1231707794344012,0.85744563060108936,1.1303666392955758,0.64067370634395271,{"$f":"+Spectre!C3318*N3319/L3319","v":0.52608228790982403},0.53795599474661471]
[7118,0.71179999999999999,1.9737131410057775,1.0056071895550645,3.4516480191173857E-2,0.99730060501469575,2.9347937347302452E-3,0.10094243801965735,0.13839371194556147,0.77501061189745302,0.88032394561183469,0.86438438857241051,1.1232208806430639,0.85748598156980071,1.1304198337924241,0.64092052359627782,{"$f":"+Spectre!C3319*N3320/L3320","v":0.52910177680611425},0.541043633677178]
[7119,0.71189999999999998,1.973158688268571,1.0056039743978085,3.4496979977172958E-2,0.99730464561418386,2.930394844120898E-3,0.10092400531782146,0.13835138013911533,0.77507103573748282,0.88035826926172189,0.86442292212000638,1.1232709529093348,0.85752630932749574,1.1304729976902961,0.64116718787283755,{"$f":"+Spectre!C3320*N3321/L3321","v":0.53202968006473572},0.54403761987707744]
[7120,0.71199999999999997,1.9726044691326856,1.0056007606269177,3.4477493548252885E-2,0.99730868017365004,2.926002546901126E-3,0.10090557857024375,0.13830907466539777,0.77513142669709734,0.88039257289742101,0.86446143341379278,1.1233209962579807,0.85756661389394573,1.1305261310152561,0.6414136993145636,{"$f":"+Spectre!C3321*N3322/L3322","v":0.53363100436019484},0.54567508615197946]
[7121,0.71209999999999996,1.9720504834669108,1.0055975482415909,3.4458020892707442E-2,0.99731270870209854,2.9216168331884077E-3,0.10088715777416563,0.13826679550006149,0.77519178480263684,0.88042685653623165,0.86449992247280705,1.1233710107137398,0.85760689528889966,1.1305792337933394,0.64166005806218784,{"$f":"+Spectre!C3322*N3323/L3323","v":0.52986552334951242},0.54182461802303084]
[7122,0.71220000000000006,1.9714967311401299,1.0055943372410263,3.443856199884205E-2,0.99731673120852049,2.9172376931147635E-3,0.10086874292682907,0.13822454261878589,0.77525211008041839,0.88046112019543576,0.86453838931606874,1.1234209963013269,0.85764715353208743,1.1306323060505554,0.64190626425628672,{"$f":"+Spectre!C3323*N3324/L3324","v":0.52600665500608179},0.53787865480397978]
[7123,0.71230000000000004,1.9709432120213184,1.0055911276244238,3.4419116854973772E-2,0.9973207477018935,2.912865116827236E-3,0.10085033402547837,0.13818231599727937,0.77531240255673206,0.88049536389229688,0.86457683396257623,1.1234709530454294,0.8576873886432177,1.1306853478128862,0.64215231803728123,{"$f":"+Spectre!C3324*N3325/L3325","v":0.52598391345915585},0.53785539997906018]
[7124,0.71240000000000003,1.9703899259795439,1.0055879193909836,3.4399685449431255E-2,0.99732475819118216,2.9084990944872888E-3,0.10083193106735913,0.13814011561127768,0.77537266225784429,0.8805295876440602,0.86461525643130865,1.1235208809707098,0.85772760064197895,1.1307383591062872,0.64239821954545917,{"$f":"+Spectre!C3325*N3326/L3326","v":0.52882096166839332},0.54075648052599934]
[7125,0.71250000000000002,1.9698368728839641,1.005584712539906,3.4380267770554661E-2,0.99732876268533732,2.9041396162716449E-3,0.10081353404971898,0.13809794143654527,0.7754328892099952,0.88056379146795216,0.86465365674122474,1.1235707801018038,0.85776778954803889,1.130791339956686,0.64264396892095288,{"$f":"+Spectre!C3326*N3327/L3327","v":0.53139476482627945},0.54338837456596734]
[7126,0.71260000000000001,1.9692840526038309,1.0055815070703926,3.4360863806695764E-2,0.99733276119329695,2.8997866723713271E-3,0.10079514296980685,0.13805579344887395,0.77549308343940071,0.88059797538118156,0.86469203491126378,1.1236206504633219,0.85780795538104493,1.1308442903899836,0.64288956630362826,{"$f":"+Spectre!C3327*N3328/L3328","v":0.53091608428188397},0.54289889017475312]
[7127,0.7127,1.9687314650084855,1.005578302981645,3.4341473546217818E-2,0.99733675372398556,2.8954402529922552E-3,0.10077675782487336,0.13801367162408343,0.77555324497225175,0.88063213940093898,0.86473039096034565,1.1236704920798495,0.85784809816062435,1.1308972104320547,0.64313501183330679,{"$f":"+Spectre!C3328*N3329/L3329","v":0.52979398988439796},0.54175147004358415]
[7128,0.71279999999999999,1.9681791099673631,1.0055751002728659,3.4322096977495699E-2,0.99734074028631448,2.891100348355006E-3,0.10075837861217102,0.13797157593802173,0.77561337383471352,0.88066628354439613,0.86476872490736933,1.123720304975945,0.85788821790638337,1.1309501001087463,0.64338030564963233,{"$f":"+Spectre!C3329*N3330/L3330","v":0.53056922305148835},0.54254420026687222]
[7129,0.71289999999999998,1.9676269873499883,1.005571898943258,3.4302734088915696E-2,0.99734472088918191,2.8867669486946916E-3,0.10074000532895377,0.13792950636656415,0.77567347005292719,0.8807004078287074,0.86480703677121529,1.1237700891761422,0.85792831463790886,1.1310029594458793,0.6436254478920711,{"$f":"+Spectre!C3330*N3331/L3331","v":0.5404778042331243},{"$f":"+Q3331/R$1","v":0.55267641868325856}]
[7130,0.71299999999999997,1.9670750970259792,1.0055686989920249,3.4283384868875701E-2,0.99734869554147265,2.8824400442613194E-3,0.10072163797247752,0.13788746288561454,0.77573353365300757,0.8807345122710083,0.86484532657074309,1.1238198447049486,0.85796838837476586,1.1310557884692465,0.64387043869986726,{"$f":"+Spectre!C3331*N3332/L3332","v":0.55033837692701226},0.56275954505762726]
[7131,0.71309999999999996,1.9665234388650441,1.0055655004183708,3.4264049305785041E-2,0.9973526642520586,2.8781196253191894E-3,0.10070327653999939,0.13784544547110361,0.77579356466104632,0.88076859688841647,0.86488359432479345,1.1238695715868461,0.8580084391365006,1.1311085872046154,0.64411527821224279,{"$f":"+Spectre!C3332*N3333/L3333","v":0.54961443754856598},0.56201926632667887]
[7132,0.71319999999999995,1.9659720127369824,1.0055623032215006,3.4244727388064534E-2,0.99735662702979822,2.8738056821474962E-3,0.1006849210287786,0.13780345409899064,0.7758535631031086,0.8808026616980309,0.86492184005218709,1.1239192698462916,0.85804846694263803,1.1311613556777258,0.64435996656810879,{"$f":"+Spectre!C3333*N3334/L3334","v":0.54048741303230396},0.55268624435357627]
[7133,0.71330000000000005,1.965420818511685,1.0055591074006198,3.4225419104146462E-2,0.9973605838835371,2.8694982050397229E-3,0.10066657143607566,0.13776148874526184,0.77591352900523558,0.8808367067169337,0.8649600637717253,1.1239689395077161,0.85808847181268344,1.1312140939142912,0.64460450390633195,{"$f":"+Spectre!C3334*N3335/L3335","v":0.53172018813045197},0.54372114269242422]
[7134,0.71340000000000003,1.964869856059136,1.0055559129549334,3.4206124442474582E-2,0.99736453482210752,2.8651971843041261E-3,0.10064822775915275,0.13771954938593145,0.77597346239344367,0.88087073196218812,0.86499826550218917,1.1240185805955252,0.85812845376612112,1.1312668019399978,0.64484889036553472,{"$f":"+Spectre!C3335*N3336/L3336","v":0.52495941843335259},0.53680778204288393]
[7135,0.71350000000000002,1.9643191252494068,1.0055527198836489,3.4186843391504046E-2,0.99736847985432864,2.8609026102634919E-3,0.10062988999527393,0.13767763599704147,0.77603336329372363,0.88090473745083875,0.8650364452623408,1.1240681931340986,0.85816841282241596,1.1313194797805064,0.64509312608427294,{"$f":"+Spectre!C3336*N3337/L3337","v":0.51852606320986239},0.53022922563004338]
[7136,0.71360000000000001,1.9637686259526632,1.0055495281859725,3.4167575939701489E-2,0.99737241898900675,2.8566144732548931E-3,0.10061155814170498,0.13763574855466137,0.77609323173204181,0.88093872319991307,0.86507460307092199,1.1241177771477904,0.85820834900101195,1.1313721274614492,0.64533721120088039,{"$f":"+Spectre!C3337*N3338/L3338","v":0.51477987825117943},0.52639848906607356]
[7137,0.7137,1.9632183580391602,1.0055463378611125,3.4148322075544919E-2,0.99737635223493493,2.8523327636300506E-3,0.10059323219571316,0.13759388703488812,0.77615306773433979,0.88097268922642002,0.86511273894665541,1.1241673326609296,0.858248262321333,1.1314247450084334,0.64558114585355764,{"$f":"+Spectre!C3338*N3339/L3339","v":0.51939579961141669},0.53111859203111422]
[7138,0.71379999999999999,1.962668321379244,1.0055431489082767,3.4129081787523753E-2,0.99738027960089326,2.8480574717550926E-3,0.10057491215456713,0.13755205141384597,0.77621287132653471,0.88100663554735104,0.86515085290824445,1.1242168596978206,0.85828815280278359,1.1314773324470393,0.6458249301803054,{"$f":"+Spectre!C3339*N3340/L3340","v":0.52411990656311858},0.53594932234250581]
[7139,0.71389999999999998,1.9621185158433518,1.0055399613266738,3.41098550641388E-2,0.99738420109564874,2.8437885880106726E-3,0.10055659801553751,0.13751024166768699,0.77627264253451844,0.88104056217967897,0.86518894497437226,1.124266358282741,0.85832802046474688,1.1315298898028199,0.64606856431901338,{"$f":"+Spectre!C3340*N3341/L3341","v":0.52398865784199433},0.53581511133036142]
[7140,0.71399999999999997,1.9615689413020114,1.0055367751155133,3.4090641893902242E-2,0.99738811672795535,2.8395261027918495E-3,0.10053828977589641,0.13746845777259048,0.7763323813841585,0.88107446914035914,0.86522701516370315,1.1243158284399439,0.85836786532658682,1.1315824171013025,0.64631204840737144,{"$f":"+Spectre!C3341*N3342/L3342","v":0.51950650938376619},0.53123180052925445]
[7141,0.71409999999999996,1.9610195976258411,1.005533590274005,3.4071442265337627E-2,0.99739202650655434,2.8352700065078437E-3,0.10051998743291775,0.13742669970476323,0.77639208790129755,0.88110835644632868,0.86526506349488164,1.1243652701936573,0.85840768740764684,1.1316349143679876,0.64655538258293621,{"$f":"+Spectre!C3342*N3343/L3343","v":0.51531975317574685},0.52695054899806315]
[7142,0.71419999999999995,1.9604704846855499,1.0055304068013595,3.4052256166979843E-2,0.99739593044017361,2.8310202895826409E-3,0.10050169098387725,0.13738496744043974,0.77645176211175293,0.88114222411450671,0.86530308998653227,1.1244146835680822,0.85844748672725013,1.1316873816283486,0.6467985669831533,{"$f":"+Spectre!C3343*N3344/L3344","v":0.51007069990342779},0.52158302429806336]
[7143,0.71430000000000005,1.959921602351937,1.0055272246967879,3.4033083587375133E-2,0.99739982853752851,2.8267769424541456E-3,0.10048340042605157,0.13734326095588084,0.77651140404131891,0.88117607216179505,0.86534109465726128,1.1244640685873966,0.85848726330470082,1.1317398189078343,0.64704160174524628,{"$f":"+Spectre!C3344*N3345/L3345","v":0.50462314906648698},0.51601252193224034]
[7144,0.71440000000000003,1.9593729504958932,1.0055240439595017,3.4013924515081055E-2,0.99740372080732098,2.8225399555751457E-3,0.10046511575671979,0.13730158022737599,0.7765710137157632,0.88120990060507653,0.86537907752565402,1.1245134252757514,0.85852701715928115,1.1317922262318643,0.64728448700628327,{"$f":"+Spectre!C3345*N3346/L3346","v":0.50087746519286247},0.51218229776284685]
[7145,0.71450000000000002,1.9588245289883994,1.005520864588713,3.3994778938666516E-2,0.99740760725824062,2.8183093194121063E-3,0.1004468369731622,0.13725992523124081,0.77663059116083055,0.88124370946121711,0.86541703861027786,1.1245627536572735,0.85856674831025537,1.1318446036258345,0.6475272229032214,{"$f":"+Spectre!C3346*N3347/L3347","v":0.50169879245673932},0.51302216242927923]
[7146,0.71460000000000001,1.9582763377005246,1.0055176865836348,3.3975646846711609E-2,0.99741148789896372,2.8140850244462523E-3,0.10042856407266078,0.13721829594381862,0.77669013640224027,0.88127749874706485,0.86545497792968007,1.1246120537560644,0.8586064567768662,1.1318969511151127,0.64776980957279573,{"$f":"+Spectre!C3347*N3348/L3348","v":0.5026184032659794},0.5139625289062234]
[7147,0.7147,1.9577283765034299,1.0055145099434804,3.3956528227807821E-2,0.99741536273815379,2.8098670611729675E-3,0.10041029705249921,0.13717669234148,0.77674964946568681,0.88131126847944896,0.86549289550238839,1.1246613255961999,0.85864614257833738,1.1319492687250412,0.64801224715163031,{"$f":"+Spectre!C3348*N3349/L3349","v":0.50393586645697308},0.51530972731556157]
[7148,0.71479999999999999,1.9571806452683669,1.0055113346674636,3.3937423070557894E-2,0.99741923178446168,2.8056554201016685E-3,0.10039203590996305,0.13713511440062262,0.77680913037684096,0.88134501867518222,0.86553079134691147,1.1247105692017307,0.85868580573387199,1.1320015564809356,0.64825453577623815,{"$f":"+Spectre!C3349*N3350/L3350","v":0.50558616947519874},0.51699727776575854]
[7149,0.71489999999999998,1.956633143866676,1.0055081607547987,3.391833136357579E-2,0.99742309504652515,2.8014500917562936E-3,0.10037378064233875,0.13709356209767082,0.77686857916134877,0.88137874935105887,0.86556866548173916,1.1247597845966837,0.8587254462626539,1.1320538144080856,0.64849667558282142,{"$f":"+Spectre!C3350*N3351/L3351","v":0.50721530091176559},0.51866317879050761]
[7150,0.71499999999999997,1.9560858721697887,1.0055049882047009,3.3899253095486769E-2,0.99742695253296931,2.7972510666748104E-3,0.10035553124691497,0.13705203540907657,0.77692799584483141,0.88141246052385525,0.86560651792534105,1.1248089718050589,0.85876506418384668,1.1321060425317548,0.6487386667076267,{"$f":"+Spectre!C3351*N3352/L3352","v":0.50820636878023639},0.51967661511652974]
[7151,0.71509999999999996,1.9555388300492245,1.0055018170163863,3.3880188254927258E-2,0.99743080425240649,2.7930583354093428E-3,0.10033728772098223,0.13701053431131882,0.77698738045288573,0.88144615221033062,0.86564434869616802,1.1248581308508323,0.85880465951659379,1.1321582408771795,0.64898050928658968,{"$f":"+Spectre!C3352*N3353/L3353","v":0.50914508879176501},0.52063652209153322]
[7152,0.71519999999999995,1.9549920173765947,1.0054986471890703,3.3861136830544959E-2,0.99743465021343614,2.7888718885262869E-3,0.10031905006183216,0.1369690587809034,0.77704673301108429,0.88147982442722594,0.86568215781265156,1.1249072617579547,0.85884423228001905,1.1322104094695711,0.64922220345553505,{"$f":"+Spectre!C3353*N3354/L3354","v":0.50899585808697234},0.5204839232413373]
[7153,0.71530000000000005,1.9544454340235997,1.0054954787219701,3.384209881099879E-2,0.99743849042464483,2.7846917166063135E-3,0.10030081826675818,0.13692760879436328,0.77710605354497475,0.88151347719126438,0.86571994529320373,1.1249563645503515,0.85888378249322639,1.1322625483341138,0.64946374935017648,{"$f":"+Spectre!C3354*N3355/L3355","v":0.50586118422323356},0.51727849961212957]
[7154,0.71540000000000004,1.9538990798620293,1.0054923116143026,3.3823074184958814E-2,0.99744232489460682,2.7805178102437585E-3,0.10028259233305531,0.13688618432825789,0.77716534208008137,0.88154711051915224,0.86575771115621802,1.125005439251924,0.85892331017530055,1.1323146574959668,0.64970514710604998,{"$f":"+Spectre!C3355*N3356/L3356","v":0.50308772864694451},0.51444244698744235]
[7155,0.71550000000000002,1.953352954763764,1.0054891458652864,3.3804062941106362E-2,0.99744615363188327,2.776350160047473E-3,0.10026437225802035,0.13684478535917419,0.77722459864190296,0.88158072442757707,0.86579545542006808,1.1250544858865479,0.85896281534530539,1.1323667369802624,0.64994639685849176,{"$f":"+Spectre!C3356*N3357/L3357","v":0.49428316524894683},0.50543916409818568]
[7156,0.71560000000000001,1.9528070586007713,1.0054859814741393,3.3785065068133835E-2,0.99744997664502277,2.772188756640215E-3,0.10024615803895151,0.13680341186372558,0.77728382325591461,0.88161431893320985,0.86583317810310867,1.1251035044780742,0.85900229802228589,1.1324187868121072,0.65018749874274917,{"$f":"+Spectre!C3357*N3358/L3358","v":0.48068684455906041},0.49153597368536656]
[7157,0.7157,1.952261391245111,1.0054828184400806,3.3766080554744872E-2,0.99745379394256128,2.7680335906587706E-3,0.10022794967314871,0.13676206381855235,0.77734301594756738,0.88164789405270316,0.86587087922367545,1.1251524950503289,0.85904175822526685,1.1324708070165816,0.65042845289389195,{"$f":"+Spectre!C3358*N3359/L3359","v":0.46758584153382066},0.47813928028475294]
[7158,0.71579999999999999,1.9517159525689305,1.0054796567623299,3.3747109389654216E-2,0.99745760553302187,2.7638846527541948E-3,0.10020974715791384,0.13672074120032224,0.7774021767422864,0.88168144980269203,0.86590855880008444,1.125201457627113,0.85908119597325294,1.1325227976187393,0.65066925944674558,{"$f":"+Spectre!C3359*N3360/L3360","v":0.45922134539116571},0.46958599699355141]
[7159,0.71589999999999998,1.9511707424444671,1.0054764964401071,3.3728151561587746E-2,0.99746141142491529,2.7597419335912048E-3,0.10019155049054992,0.13667944398572887,0.77746130566547422,0.88171498619979416,0.86594621685063322,1.1252503922322028,0.8591206112852301,1.1325747586436095,0.65090991853617997,{"$f":"+Spectre!C3360*N3361/L3361","v":0.45186042496014261},0.46205894017425692]
[7160,0.71599999999999997,1.9506257607440467,1.005473337472633,3.370920705928248E-2,0.99746521162673951,2.7556054238486666E-3,0.10017335966836155,0.13663817215149271,0.77752040274250911,0.88174850326061005,0.86598385339360029,1.1252992988893507,0.85916000418016403,1.1326266901161943,0.65115043029668751,{"$f":"+Spectre!C3361*N3362/L3362","v":0.44312948715761152},0.45313094461429893]
[7161,0.71609999999999996,1.9500810073400858,1.005470179859129,3.3690275871486548E-2,0.99746900614697975,2.7514751142195901E-3,0.10015517468865544,0.13659692567436157,0.77757946799874389,0.88178200100172177,0.86602146844724448,1.1253481776222827,0.85919937467700092,1.1326785920614706,0.65139079486280504,{"$f":"+Spectre!C3362*N3363/L3363","v":0.42959656057529344},0.43929257911762265]
[7162,0.71619999999999995,1.949536482105088,1.0054670235988168,3.3671357986959138E-2,0.9974727949941089,2.7473509954106475E-3,0.10013699554873952,0.1365557045311093,0.77763850145950797,0.88181547943969474,0.86605906202980609,1.1253970284547012,0.85923872279466695,1.1327304645043887,0.65163101236878074,{"$f":"+Spectre!C3363*N3364/L3364","v":0.41592339482808355},0.42531080925021275]
[7163,0.71630000000000005,1.9489921849116469,1.005463868690919,3.3652453394470559E-2,0.99747657817658719,2.7432330581425328E-3,0.10011882224592319,0.13651450869853629,0.77769750315010722,0.8818489385910766,0.86609663415950655,1.1254458514102841,0.85927804855206946,1.1327823074698742,0.65187108294875173,{"$f":"+Spectre!C3364*N3365/L3365","v":0.40552555017158598},0.41467828465481005]
[7164,0.71640000000000004,1.948448115632446,1.0054607151346582,3.3633562082802194E-2,0.99748035570286209,2.7391212931500847E-3,0.1001006547775183,0.13647333815347057,0.77775647309582141,0.8818823784723967,0.86613418485454752,1.1254946465126834,0.85931735196809478,1.1328341209828245,0.65211100673667755,{"$f":"+Spectre!C3365*N3366/L3366","v":0.39752927713692776},0.40650153528786986]
[7165,0.71650000000000003,1.9479042741402559,1.0054575629292581,3.3614684040746454E-2,0.99748412758136884,2.7350156911816791E-3,0.10008249314083717,0.13643219287276531,0.77781541132190812,0.88191579910016848,0.86617171413311234,1.1255434137855271,0.8593566330616117,1.1328859050681144,0.65235078386647327,{"$f":"+Spectre!C3366*N3367/L3367","v":0.38965120304283296},0.39844565261823178]
[7166,{"$f":"+A3368/10000","v":0.71660000000000001},{"$f":"+(1/B3368)^2","v":1.9473606603079368},{"$f":"0.23465+1.076*100/(146-C3368)+0.93161/(41-C3368)","v":1.005454412073943},{"$f":"9.4977*0.001*C3368^2*D3368*EXP(-h/7.996/1000)","v":3.3595819257106814E-2},{"$f":"+EXP(-0.0168*EXP(-15*ABS(B3368-0.59)))","v":0.99748789382053016},{"$f":"-2.5*LOG(F3368)","v":2.7309162429995917E-3},{"$f":"2.5*LOG(EXP(AOD*(B3368/0.55)^(-1.3)))","v":0.10006433733319477},{"$f":"+E3368+G3368+H3368","v":0.13639107283330118},{"$f":"10^(-0.4*I3368*ma)","v":0.77787431785359984},{"$f":"10^(-0.4*I3368)","v":0.88194920049088654},{"$f":"10^(-0.4*I3368*ma_ref)","v":0.86620922201336525},{"$f":"+L3368/M$1","v":1.1255921532524191},{"$f":"10^(-0.4*I3368*ma_target)","v":0.8593958918514677},{"$f":"+N3368/O$1","v":1.1329376597505907},{"$f":"(O3368/M3368-1)*100","v":0.65259041447176536},{"$f":"+Spectre!C3367*N3368/L3368","v":0.38475938298692536},0.39344342390843667]
[7167,0.7167,1.9468172740084377,1.005451262567937,3.3576967720697792E-2,0.99749165442875587,2.7268229393803602E-3,0.10004618735190686,0.13634997801198501,0.77793319271610506,0.88198258266102891,0.86624670851345165,1.125640864936938,0.8594351283564915,1.1329893850550747,0.65282989868606922,{"$f":"+Spectre!C3368*N3369/L3369","v":0.3806984176894781},0.38929080239574632]
[7168,0.71679999999999999,1.9462741151147962,1.0054481144104657,3.355812942034489E-2,0.99749540941444381,2.722735771113816E-3,0.10002804319429134,0.13630890838575005,0.77799203593460842,0.88201594562705588,0.86628417365149779,1.1256895488626382,0.85947434259549216,1.1330410810063629,0.65306923664276706,{"$f":"+Spectre!C3369*N3370/L3370","v":0.3784601885226434},0.38700205627068796]
[7169,0.71689999999999998,1.9457311835001374,1.0054449676007549,3.3539304344884661E-2,0.99749915878597906,2.718654729003931E-3,0.10000990485766739,0.13626786393155599,0.77805084753427045,0.88204928940541039,0.86632161744561109,1.1257382050530491,0.85951353458725965,1.1330927476292256,0.65330842847515225,{"$f":"+Spectre!C3370*N3371/L3371","v":0.38476118958494121},0.39344527128147139]
[7170,0.71699999999999997,1.9451884790376766,1.0054418221380308,3.3520492483164646E-2,0.99750290255173435,2.7145798038683304E-3,9.9991772339356036E-2,0.13622684462638901,0.77810962754022772,0.88208261401251808,0.8663590399138803,1.1257868335316761,0.85955270435056352,1.1331443849484066,0.6535474743162073,{"$f":"+Spectre!C3371*N3372/L3372","v":0.39069029203321282},0.39950819390558617]
[7171,0.71709999999999996,1.9446460016007161,1.0054386780215201,3.3501693824043333E-2,0.99750664072007,2.7105109865384154E-3,9.9973645636680084E-2,0.13618585044726184,0.77816837597759192,0.88211591946478718,0.86639644107437497,1.1258354343219996,0.85959185190415477,1.1331959929886255,0.65378637429889253,{"$f":"+Spectre!C3372*N3373/L3373","v":0.39384954781533227},0.40273875426845546]
[7172,0.71719999999999995,1.9441037510626475,1.0054355352504503,3.3482908356390229E-2,0.9975103732993339,2.706448267859362E-3,9.995552474696312E-2,0.13614488137121272,0.77822709287145264,0.88214920577860889,0.86643382094514654,1.1258840074474765,0.85963097726676496,1.133247571774576,0.65402512855596839,{"$f":"+Spectre!C3373*N3374/L3374","v":0.39479776995078902},0.40370837783085878]
[7173,0.71730000000000005,1.943561727296949,1.0054323938240497,3.346413606908575E-2,0.99751410029786147,2.7023916386901192E-3,9.9937409667531507E-2,0.13610393737530738,0.77828577824687328,0.88218247297035646,0.86647117954422648,1.1259325529315376,0.85967008045710525,1.1332991213309247,0.65426373722006215,{"$f":"+Spectre!C3374*N3375/L3375","v":0.39565142575184681},0.40458130069137516]
[7174,0.71740000000000004,1.9430199301771902,1.0054292537415463,3.3445376951021337E-2,0.99751782172397596,2.6983410899031677E-3,9.9919300395712035E-2,0.13606301843663654,0.77834443212889548,0.88221572105638668,0.86650851688962882,1.1259810707975912,0.859709161493869,1.1333506416823154,0.6545022004236678,{"$f":"+Spectre!C3375*N3376/L3376","v":0.39222188298531957},0.401074352951653]
[7175,0.71750000000000003,1.942478359577025,1.0054261150021695,3.3426630991099264E-2,0.99752153758598816,2.6942966123847589E-3,9.9901196928834229E-2,0.13602212453231827,0.77840305454253489,0.88224895005303816,0.86654583299934762,1.1260295610690199,0.85974822039572862,1.1334021328533632,0.65474051829901292,{"$f":"+Spectre!C3376*N3377/L3377","v":0.38790535772434664},0.39666040347268178]
[7176,0.71760000000000002,1.941937015370198,1.0054229776051491,3.340789817823283E-2,0.99752524789219643,2.6902581970349175E-3,9.9883099264228059E-2,0.13598125563949581,0.77846164551278507,0.88228215997663351,0.86658312789135916,1.1260780237691825,0.85978725718133842,1.1334535948686606,0.65497869097832506,{"$f":"+Spectre!C3377*N3378/L3378","v":0.38233546703793669},0.39096480004010398]
[7177,0.7177,1.9413958974305414,1.0054198415497153,3.3389178501346199E-2,0.99752895265088704,2.6862258347670753E-3,9.9865007399226241E-2,0.13594041173533952,0.7785202050646145,0.88231535084347656,0.86662040158361997,1.1261264589214128,0.85982627186933247,1.1335050277527725,0.65521671859365416,{"$f":"+Spectre!C3378*N3379/L3379","v":0.3726207278898564},0.3810307986828767]
[7178,0.71779999999999999,1.9408550056319731,1.0054167068350985,3.3370471949374363E-2,0.99753265187033369,2.6821995165085539E-3,9.9846921331162103E-2,0.13589959279704503,0.77857873322296856,0.88234852266985553,0.86665765409406925,1.1261748665490219,0.85986526447832645,1.13355643153024,0.65545460127676147,{"$f":"+Spectre!C3379*N3380/L3380","v":0.36274685596872891},0.3709340729169614]
[7179,0.71789999999999998,1.9403143398485017,1.0054135734605305,3.3351778511263322E-2,0.997536345558798,2.6781792332000827E-3,9.9828841057371373E-2,0.13585879880183477,0.77863723001276819,0.88238167547204005,0.86669488544062601,1.1262232466752942,0.85990423502691582,1.1336078062255774,0.6556923391594971,{"$f":"+Spectre!C3380*N3381/L3381","v":0.35877584994414302},0.36687344106298214]
[7180,0.71799999999999997,1.9397738999542216,1.0054104414252427,3.3333098175969841E-2,0.99754003372452926,2.6741649757960392E-3,9.9810766575190737E-2,0.13581802972695661,0.77869569545891082,0.88241480926628357,0.86673209564119191,1.1262715993234924,0.8599431835336776,1.1336591518632746,0.65592993237328923,{"$f":"+Spectre!C3381*N3382/L3382","v":0.36007620240742111},0.36820314255451742]
[7181,0.71809999999999996,1.9392336858233159,1.005407310728468,3.3314430932461656E-2,0.99754371637576456,2.6701567352643237E-3,9.9792697881958659E-2,0.13577728554968463,0.77875412958627077,0.88244792406882222,0.86676928471364922,1.1263199245168531,0.85998211001716918,1.1337104684677959,0.65616738104965489,{"$f":"+Spectre!C3382*N3383/L3383","v":0.3611249937966175},0.36927560522437552]
[7182,0.71819999999999995,1.9386936973300548,1.0054041813694388,3.3295776769717227E-2,0.99754739352072874,2.6661545025863653E-3,9.9774634975015472E-2,0.13573656624731906,0.77881253241969728,0.8824810198958748,0.86680645267586198,1.12636822227859,0.86002101449592894,1.13376175606358,0.65640468531980023,{"$f":"+Spectre!C3383*N3384/L3384","v":0.36065027764921559},0.36879017470681807]
[7183,0.71830000000000005,1.9381539343487952,1.0054010533473892,3.3277135676725932E-2,0.99755106516763448,2.6621582687571142E-3,9.9756577851702805E-2,0.13569587179718584,0.77887090398401715,0.88251409676364301,0.86684359954567525,1.1264164926318916,0.86005989698847574,1.1338130146750407,0.6566418453148648,{"$f":"+Spectre!C3384*N3385/L3385","v":0.35998565602799321},0.36811055253821146]
[7184,0.71840000000000004,1.9376143967539841,1.0053979266615529,3.3258507642487979E-2,0.9975547313246822,2.6581680247850471E-3,9.9738526509364156E-2,0.13565520217663718,0.77892924430403243,0.88254715468831135,0.86688072534091576,1.1264647355999229,0.86009875751330966,1.1338642443265661,0.65687886116581051,{"$f":"+Spectre!C3385*N3386/L3386","v":0.35953972790000016},0.36765455978728062]
[7185,0.71850000000000003,1.9370750844201532,1.0053948013111649,3.3239892656014361E-2,0.99755839200006002,2.6541837616922827E-3,9.9720480945344137E-2,0.13561455736305078,0.77898755340452197,0.88258019368604768,0.86691783007939149,1.1265129512058243,0.86013759608891116,1.1339154450425193,0.65711573300344384,{"$f":"+Spectre!C3386*N3387/L3387","v":0.35977893675757538},0.36789916760222979]
[7186,0.71860000000000002,1.9365359972219227,1.0053916772954601,3.3221290706326866E-2,0.99756204720194419,2.6502054705140996E-3,9.9702441156989452E-2,0.13557393733383041,0.7790458313102413,0.8826132137730025,0.86695491377889222,1.1265611394727126,0.86017641273374235,1.1339666168472387,0.65735246095850464,{"$f":"+Spectre!C3387*N3388/L3388","v":0.35993454225174842},0.36805828512116107]
[7187,0.71870000000000001,1.9359971350339995,1.0053885546136743,3.3202701782458079E-2,0.99756569693849872,2.6462331422992978E-3,9.9684407141648279E-2,0.13553334206640566,0.7791040780459213,0.88264621496530937,0.86699197645718917,1.1266093004236808,0.86021520746624525,1.134017759765036,0.65758904516137751,{"$f":"+Spectre!C3388*N3389/L3389","v":0.36451546771379989},0.37274260232862499]
[7188,0.71879999999999999,1.9354584977311784,1.0053854332650438,3.3184125873451355E-2,0.99756934121787544,2.6422667681101986E-3,9.9666378896670085E-2,0.13549277153823164,0.77916229363627065,0.88267919727908484,0.8670290181320347,1.126657434081797,0.86025398030484379,1.1340688738202001,0.65782548574253585,{"$f":"+Spectre!C3389*N3390/L3390","v":0.37313915603887016},0.38156092778438172]
[7189,0.71889999999999998,1.9349200851883399,1.0053823132488053,3.3165562968360804E-2,0.99757298004821415,2.6383063390224013E-3,9.9648356419406253E-2,0.13545222572678944,0.77922047810597328,0.88271216073042846,0.86706603882116295,1.1267055404701056,0.86029273126794215,1.1341199590369924,0.65806178283220884,{"$f":"+Spectre!C3390*N3391/L3391","v":0.38171695053330496},0.39033232358316344]
[7190,0.71899999999999997,1.934381897280453,1.0053791945641966,3.3147013056251326E-2,0.99757661343764248,2.6343518461250234E-3,9.9630339707209636E-2,0.13541170460958599,0.77927863147969001,0.88274510533542294,0.86710303854228976,1.1267536196116277,0.86033146037392572,1.1341710154396507,0.65829793656040358,{"$f":"+Spectre!C3391*N3392/L3392","v":0.37431581223249849},0.3827641411745018]
[7191,0.71909999999999996,1.9338439338825726,1.0053760772104552,3.3128476126198507E-2,0.99758024139427615,2.6304032805203391E-3,9.9612328757434351E-2,0.13537120816415321,0.77933675378205858,0.88277803111013398,0.86714001731311252,1.1268016715293598,0.86037016764116103,1.1342220430523875,0.658533947057105,{"$f":"+Spectre!C3392*N3393/L3393","v":0.36424877011703677},0.37246988535209791]
[7192,0.71919999999999995,1.9333061948698409,1.0053729611868198,3.3109952167288695E-2,0.99758386392621856,2.6264606333242621E-3,9.9594323567436888E-2,0.13533073636804985,0.77939484503769163,0.88281093807060995,0.86717697515130965,1.1268496962462744,0.8604088530879952,1.1342730418993894,0.65876981445203153,{"$f":"+Spectre!C3393*N3394/L3394","v":0.35846351234112811},0.36655405398269431]
[7193,0.71930000000000005,1.9327686801174864,1.0053698464925294,3.3091441168618924E-2,0.99758748104156147,2.6225238956656184E-3,9.9576324134574554E-2,0.1352902891988591,0.77945290527118027,0.88284382623288316,0.86721391207454235,1.1268976937853208,0.8604475167327571,1.1343240120048197,0.65900553887490165,{"$f":"+Spectre!C3394*N3395/L3395","v":0.36595870304850087},{"$f":"+Q3395/R$1","v":0.37421841156603008}]
[7194,0.71940000000000004,1.9322313895008265,1.0053667331268237,3.3072943119297017E-2,0.99759109274838431,2.6185930586868694E-3,9.9558330456206587E-2,0.13524986663419047,0.77951093450709086,0.88287669561296833,0.86725082810045184,1.1269456641694231,0.86048615859375566,1.1343749533928147,0.65924112045518957,{"$f":"+Spectre!C3395*N3396/L3396","v":0.37372675589797438},0.38216178980536575]
[7195,0.71950000000000003,1.9316943228952621,1.0053636210889425,3.3054458008441381E-2,0.99759469905475462,2.6146681135436321E-3,9.9540342529693682E-2,0.13520946865167871,0.77956893276996686,0.88290954622686346,0.86728772324666248,1.1269936074214832,0.86052477868928146,1.1344258660874869,0.65947655932212523,{"$f":"+Spectre!C3396*N3397/L3397","v":0.38096542577064757},0.38956383686433027]
[7196,0.71960000000000002,1.9311574801762821,1.0053605103781267,3.3035985825181129E-2,0.99759829996872795,2.6107490514047957E-3,9.9522360352398073E-2,0.13516909522898399,0.77962690008432822,0.88294237809055021,0.86732459753077973,1.1270415235643785,0.86056337703760666,1.1344767501129243,0.65971185560502743,{"$f":"+Spectre!C3397*N3398/L3398","v":0.38761903177398904},0.39636761512951518]
[7197,0.71970000000000001,1.9306208612194624,1.0053574009936175,3.3017526558656078E-2,0.99760189549834799,2.6068358634524003E-3,9.9504383921684064E-2,0.13512874634379254,0.77968483647467068,0.88297519121999224,0.86736145097039008,1.1270894126209616,0.86060195365698322,1.1345276054931885,0.65994700943290407,{"$f":"+Spectre!C3398*N3399/L3399","v":0.39439892547868266},0.40330053141657701]
[7198,0.7198,1.9300844659004641,1.0053542929346566,3.2999080198016659E-2,0.99760548565164642,2.6029285408817595E-3,9.9486413234916637E-2,0.13508842197381504,0.77974274196546833,0.88300798563113814,0.86739828358306337,1.1271372746140635,0.86064050856564567,1.1345784322523178,0.66018202093460765,{"$f":"+Spectre!C3399*N3400/L3400","v":0.40376819253142976},0.41288126335384229]
[7199,0.71989999999999998,1.9295482940950366,1.0053511862004865,3.2980646732424027E-2,0.99760907043664293,2.5990270749014564E-3,9.9468448289463079E-2,0.13504812209678857,0.77980061658117017,0.8830407613399176,0.86743509538634955,1.1271851095664895,0.86067904178180865,1.1346292304143248,0.66041689023892403,{"$f":"+Spectre!C3400*N3401/L3401","v":0.41376835847122462},0.42310713360153196]
[7200,0.72,1.9290123456790123,1.0053480807903499,3.2962226151049802E-2,0.99761264986134546,2.5951314567331028E-3,9.9450489082691954E-2,0.13500784669047486,0.77985846034620299,0.88307351836224579,0.86747188639778117,1.1272329175010223,0.86071755332366873,1.1346800000031976,0.66065161747448364,{"$f":"+Spectre!C3401*N3402/L3402","v":0.42513709361512153},0.43473246173725921]
[7201,0.72009999999999996,1.9284766205283139,1.0053449767034899,3.2943818443076416E-2,0.99761622393374982,2.5912416776117026E-3,9.9432535611973571E-2,0.1349675957326617,0.77991627328496937,0.88310625671401921,0.8675086566348722,1.1272806984404202,0.8607560432094028,1.1347307410428991,0.6608862027697171,{"$f":"+Spectre!C3402*N3403/L3403","v":0},0]
[7202,0.72019999999999995,1.9279411185189468,1.0053418739391513,3.2925423597696783E-2,0.9976197926618402,2.5873577287851639E-3,9.9414587874679466E-2,0.13492736920116141,0.7799740554218495,0.88313897641111871,0.86754540611511888,1.1273284524074185,0.8607945114571699,1.1347814535573679,0.66112064625296618,{"$f":"+Spectre!C3403*N3404/L3404","v":0},0]
[7203,0.72030000000000005,1.9274058395270037,1.0053387724965774,3.2907041604114423E-2,0.99762335605358887,2.5834796015145444E-3,9.9396645868183142E-2,0.1348871670738121,0.78003180678119988,0.88317167746940828,0.867582134855999,1.127376179424729,0.86083295808510973,1.1348321375705177,0.66135494805232842,{"$f":"+Spectre!C3404*N3405/L3405","v":0},0]
[7204,0.72040000000000004,1.9268707834286642,1.0053356723750142,3.2888672451543519E-2,0.99762691411695614,2.5796072870741676E-3,9.937870958985949E-2,0.13484698932847716,0.78008952738735327,0.88320435990473467,0.8676188428749716,1.1274238795150386,0.86087138311134326,1.1348827931062371,0.66158910829587914,{"$f":"+Spectre!C3405*N3406/L3406","v":0},0]
[7205,0.72050000000000003,1.9263359501001931,1.0053325735737069,3.2870316129208745E-2,0.99763046685989065,2.5757407767512631E-3,9.936077903708504E-2,0.13480683594304504,0.78014721726461989,0.88323702373292878,0.8676555301894785,1.127471552701012,0.8609097865539731,1.1349334201883909,0.66182312711156044,{"$f":"+Spectre!C3406*N3407/L3407","v":0},0]
[7206,0.72060000000000002,1.9258013394179407,1.0053294760919016,3.2851972626345372E-2,0.99763401429032916,2.5718800618462034E-3,9.9342854207237416E-2,0.13476670689542899,0.78020487643728709,0.8832696689698043,0.86769219681694332,1.1275191990052902,0.86094816843108313,1.1349840188408189,0.66205700462700356,{"$f":"+Spectre!C3407*N3408/L3408","v":0},0]
[7207,0.72070000000000001,1.9252669512583438,1.0053263799288452,3.2833641932199231E-2,0.99763755641619667,2.5680251336723872E-3,9.932493509769677E-2,0.13472660216356838,0.78026250492961746,0.88330229563115814,0.86772884277477091,1.1275668184504899,0.86098652876073767,1.1350345890873352,0.66229074096979534,{"$f":"+Spectre!C3408*N3409/L3409","v":0},0]
[7208,0.7208,1.9247327854979239,1.0053232850837843,3.2815324036026626E-2,0.99764109324540651,2.5641759835561134E-3,9.9307021705843962E-2,0.13468652172542669,0.78032010276585229,0.88333490373277135,0.86776546808034871,1.1276144110592052,0.86102486756098395,1.1350851309517316,0.6625243362674782,{"$f":"+Spectre!C3409*N3410/L3410","v":0},0]
[7209,0.72089999999999999,1.9241988420132885,1.0053201915559673,3.2797018927094419E-2,0.99764462478586002,2.5603326028369473E-3,9.928911402906164E-2,0.13464646555899301,0.78037766997020874,0.88336749329040798,0.86780207275104582,1.1276619768540062,0.86106318484984923,1.1351356444577729,0.66275779064726148,{"$f":"+Spectre!C3410*N3411/L3411","v":0},0]
[7210,0.72099999999999997,1.9236651206811315,1.0053170993446421,3.2778726594680035E-2,0.99764815104544702,2.5564949828672323E-3,9.9271212064734327E-2,0.13460643364228159,0.78043520656688081,0.88340006431981488,0.86783865680421302,1.1277095158574393,0.86110148064534264,1.135186129629201,0.66299110423635454,{"$f":"+Spectre!C3411*N3412/L3412","v":0},0]
[7211,0.72109999999999996,1.9231316213782312,1.0053140084490575,3.2760447028071342E-2,0.99765167203204552,2.5526631150123331E-3,9.92533158102476E-2,0.13456642595333129,0.78049271258003994,0.88343261683672325,0.86787522025718367,1.1277570280920286,0.86113975496545481,1.1352365864897325,0.6632242771617225,{"$f":"+Spectre!C3412*N3413/L3413","v":0},0]
[7212,0.72119999999999995,1.9225983439814522,1.005310918868463,3.2742180216566698E-2,0.99765518775352191,2.5488369906505152E-3,9.9235425262989216E-2,0.13452644247020643,0.78055018803383369,0.88346515085684718,0.8679117631272727,1.1278045135802734,0.86117800782815745,1.1352870150630594,0.66345730955024163,{"$f":"+Spectre!C3413*N3414/L3414","v":0},0]
[7213,0.72130000000000005,1.9220652883677434,1.0053078306021084,3.2723926149474947E-2,0.9976586982177309,2.5450166011729411E-3,9.9217540420347528E-2,0.13448648317099543,0.78060763295238811,0.88349766639588523,0.86794828543177738,1.127851972344651,0.86121623925140467,1.1353374153728506,0.6636902015286994,{"$f":"+Spectre!C3414*N3415/L3415","v":0},0]
[7214,0.72140000000000004,1.9215324544141406,1.0053047436492442,3.2705684816115445E-2,0.99766220343251544,2.5412019379837938E-3,9.9199661279713663E-2,0.1344465480338129,0.78066504735980391,0.88353016346951774,0.86798478718797667,1.127899404407614,0.86125444925313066,1.1353877874427487,0.66392295322361683,{"$f":"+Spectre!C3415*N3416/L3416","v":0},0]
[7215,0.72150000000000003,1.920999841997763,1.0053016580091214,3.2687456205817929E-2,0.99766570340570682,2.5373929925001535E-3,9.918178783847964E-2,0.13440663703679773,0.7807224312801605,0.88356264209340962,0.86802126841313165,1.1279468097915928,0.86129263785125165,1.1354381312963726,0.66415556476142612,{"$f":"+Spectre!C3416*N3417/L3417","v":0},0]
[7216,0.72160000000000002,1.920467450995816,1.0052985736809914,3.2669240307922613E-2,0.99766919814512489,2.5335897561517546E-3,9.9163920094038682E-2,0.13436675015811306,0.78077978473751419,0.88359510228320981,0.86805772912448598,1.1279941885189944,0.86133080506366622,1.1354884469573179,0.66438803626844845,{"$f":"+Spectre!C3417*N3418/L3418","v":0},0]
[7217,0.72170000000000001,1.9199352812855901,1.0052954906641063,3.2651037111780148E-2,0.99767268765857775,2.5297922203813498E-3,9.9146058043785984E-2,0.13432688737594747,0.78083710775589832,0.88362754405455002,0.86809416933926531,1.1280415406122024,0.86136895090825349,1.1355387344491545,0.66462036787078294,{"$f":"+Spectre!C3418*N3419/L3419","v":0},0]
[7218,0.7218,1.9194033327444606,1.0052924089577184,3.263284660675158E-2,0.99767617195386182,2.5260003766445866E-3,9.9128201685118669E-2,0.13428704866851482,0.78089440035932223,0.88365996742304531,0.86813058907467622,1.1280888660935759,0.8614070754028742,1.1355889937954282,0.66485255969455093,{"$f":"+Spectre!C3419*N3420/L3420","v":0},0]
[7219,0.72189999999999999,1.9188716052498873,1.0052893285610811,3.2614668782208388E-2,0.99767965103876211,2.5222142164097647E-3,9.9110351015434889E-2,0.13424723401405303,0.78095166257177318,0.88369237240429499,0.86816698834790884,1.1281361649854529,0.86144517856537073,1.1356392250196605,0.66508461186547407,{"$f":"+Spectre!C3420*N3421/L3421","v":0},0]
[7220,0.72199999999999998,1.918340098679415,1.005286249473448,3.2596503627532421E-2,0.99768312492105216,2.5184337311578379E-3,9.9092506032134306E-2,0.13420744339082458,0.7810088944172161,0.88372475901388214,0.86820336717613533,1.1281834373101471,0.86148326041356782,1.1356894281453498,0.66531652450940726,{"$f":"+Spectre!C3421*N3422/L3422","v":0},0]
[7221,0.72209999999999996,1.9178088129106741,1.0052831716940733,3.2578351132115942E-2,0.99768659360849354,2.5146589123830158E-3,9.9074666732618277E-2,0.13416767677711722,0.78106609591959208,0.88375712726737254,0.86823972557650964,1.1282306830899498,0.86152132096527068,1.1357396031959683,0.66554829775178348,{"$f":"+Spectre!C3422*N3423/L3423","v":0},0]
[7222,0.72219999999999995,1.9172777478213783,1.0052800952222116,3.2560211285361532E-2,0.99769005710883674,2.5108897515917954E-3,9.9056833114289894E-2,0.13412793415124322,0.78112326710281976,0.88378947718031609,0.86827606356616749,1.1282779023471272,0.86155936023826696,1.1357897501949656,0.66577993171821337,{"$f":"+Spectre!C3423*N3424/L3424","v":0},0]
[7223,0.72230000000000005,1.9167469032893272,1.0052770200571184,3.2542084076682208E-2,0.99769351542982065,2.5071262403034457E-3,9.9039005174553496E-2,0.13408821549153915,0.78118040799079524,0.88382180876824712,0.86831238116222809,1.1283250951039254,0.86159737825032578,1.1358398691657667,0.66601142653386347,{"$f":"+Spectre!C3424*N3425/L3425","v":0},0]
[7224,0.72240000000000004,1.9162162791924049,1.0052739461980493,3.2523969495501293E-2,0.99769696857917245,2.5033683700502489E-3,9.9021182910815131E-2,0.13404852077636667,0.78123751860739099,0.88385412204668223,0.86834867838179153,1.1283722613825649,0.86163537501919751,1.1358899601317718,0.66624278232394474,{"$f":"+Spectre!C3425*N3426/L3426","v":0},0]
[7225,0.72250000000000003,1.9156858754085795,1.0052708736442604,3.2505867531252446E-2,0.99770041656460795,2.4996161323770139E-3,9.900336632048258E-2,0.13400884998411206,0.78129459897645703,0.8838864170311227,0.86838495524194081,1.128419401205244,0.86167335056261452,1.1359400231163574,0.66647399921349049,{"$f":"+Spectre!C3426*N3427/L3427","v":0},0]
[7226,0.72260000000000002,1.9151556918159036,1.0052678023950088,3.2487778173379667E-2,0.99770385939383166,2.4958695188410781E-3,9.8985555400964459E-2,0.13396920309318522,0.78135164912182187,0.88391869373705356,0.86842121175974174,1.1284665145941388,0.8617113048982914,1.1359900581428763,0.66670507732728979,{"$f":"+Spectre!C3427*N3428/L3428","v":0},0]
[7227,0.72270000000000001,1.9146257282925143,1.0052647324495521,3.2469701411337266E-2,0.99770729707453643,2.4921285210126689E-3,9.8967750149671962E-2,0.13392958008202188,0.78140866906728879,0.88395095217994268,0.86845744795224111,1.1285136015714006,0.86174923804392334,1.1360400652346565,0.66693601679019832,{"$f":"+Spectre!C3428*N3429/L3429","v":0},0]
[7228,0.7228,1.9140959847166328,1.0052616638071474,3.2451637234589825E-2,0.99771072961440388,2.4883931304744188E-3,9.894995056401687E-2,0.13388998092908111,0.78146565883664099,0.88398319237524281,0.86849366383646931,1.1285606621591597,0.86178715001718842,1.1360900444150024,0.66716681772669428,{"$f":"+Spectre!C3429*N3430/L3430","v":0},0]
[7229,0.72289999999999999,1.9135664609665646,1.0052585964670542,3.2433585632612255E-2,0.997714157021104,2.4846633388218471E-3,9.8932156641412944E-2,0.13385040561284706,0.78152261845363724,0.88401541433838982,0.86852985942943861,1.1286076963795229,0.86182504083574574,1.1361399957071943,0.66739748026123369,{"$f":"+Spectre!C3430*N3431/L3431","v":0},0]
[7230,{"$f":"+A3432/10000","v":0.72299999999999998},{"$f":"+(1/B3432)^2","v":1.9130371569206988},{"$f":"0.23465+1.076*100/(146-C3432)+0.93161/(41-C3432)","v":1.0052555304285307},{"$f":"9.4977*0.001*C3432^2*D3432*EXP(-h/7.996/1000)","v":3.2415546594889724E-2},{"$f":"+EXP(-0.0168*EXP(-15*ABS(B3432-0.59)))","v":0.99771757930229565},{"$f":"-2.5*LOG(F3432)","v":2.4809391376627602E-3},{"$f":"2.5*LOG(EXP(AOD*(B3432/0.55)^(-1.3)))","v":9.8914368379275641E-2},{"$f":"+E3432+G3432+H3432","v":0.13381085411182814},{"$f":"10^(-0.4*I3432*ma)","v":0.78157954794201434},{"$f":"10^(-0.4*I3432)","v":0.88404761808480359},{"$f":"10^(-0.4*I3432*ma_ref)","v":0.86856603474814364},{"$f":"+L3432/M$1","v":1.1286547042545729},{"$f":"10^(-0.4*I3432*ma_target)","v":0.86186291051723685},{"$f":"+N3432/O$1","v":1.1361899191344889},{"$f":"(O3432/M3432-1)*100","v":0.66762800451822812},{"$f":"+Spectre!C3431*N3432/L3432","v":0},0]
[7231,0.72309999999999997,1.9125080724575103,1.0052524656908366,3.2397520110917705E-2,0.99772099646562618,2.4772205186177265E-3,9.8896585775021473E-2,0.13377132640455691,0.78163644732548643,0.88407980362988803,0.86860218980956128,1.1287016858063712,0.86190075907928476,1.1362398147201183,0.66785839062175612,{"$f":"+Spectre!C3432*N3433/L3433","v":0},0]
[7232,0.72319999999999995,1.9119792074555564,1.0052494022532321,3.2379506170201897E-2,0.99772440851873145,2.473507473319962E-3,9.8878808826069114E-2,0.13373182246959098,0.78169331662774444,0.88411197098903027,0.8686383246306506,1.1287486410569545,0.86193858653949373,1.1362896824872903,0.66808863869589619,{"$f":"+Spectre!C3433*N3434/L3434","v":0},0]
[7233,0.72330000000000005,1.9114505617934787,1.0052463401149774,3.2361504762258214E-2,0.99772781546923617,2.4697999934150828E-3,9.8861037529838242E-2,0.13369234228551152,0.78175015587245733,0.88414412017760169,0.86867443922835386,1.128795570028339,0.86197639291545081,1.1363395224591899,0.66831874886446041,{"$f":"+Spectre!C3434*N3435/L3435","v":0},0]
[7234,0.72340000000000004,1.9109221353500034,1.0052432792753341,3.2343515876612904E-2,0.99773121732475367,2.4660980705612299E-3,9.8843271883750111E-2,0.13365288583092425,0.78180696508327163,0.88417625121095755,0.86871053361959527,1.1288424727425161,0.86201417822472459,1.1363893346589775,0.66854872125128306,{"$f":"+Spectre!C3435*N3436/L3436","v":0},0]
[7235,0.72350000000000003,1.9103939280039393,1.0052402197335633,3.2325539502802314E-2,0.997734614092886,2.4624016964290641E-3,9.8825511885228062E-2,0.13361345308445943,0.78186374428381034,0.88420836410443704,0.86874660782128132,1.1288893492214553,0.8620519424848655,1.13643911910979,0.66877855597995417,{"$f":"+Spectre!C3436*N3437/L3437","v":0},0]
[7236,0.72360000000000002,1.9098659396341795,1.0052371614889275,3.2307575630373078E-2,0.99773800578122385,2.4587108627017675E-3,9.8807757531696072E-2,0.13357404402477091,0.78192049349767534,0.88424045887336333,0.86878266185030173,1.1289361994871039,0.86208968571340605,1.1364888758347402,0.66900825317388612,{"$f":"+Spectre!C3437*N3438/L3438","v":0},0]
[7237,0.72370000000000001,1.9093381701197016,1.0052341045406892,3.2289624248882036E-2,0.99774139239734672,2.4550255610749239E-3,9.8790008820580533E-2,0.13353465863053748,0.78197721274844456,0.88427253553304308,0.86881869572352777,1.1289830235613849,0.86212740792786025,1.1365386048569166,0.66923781295644691,{"$f":"+Spectre!C3438*N3439/L3439","v":0},0]
[7238,0.7238,1.9088106193395653,1.0052310488881115,3.2271685347896151E-2,0.99774477394882277,2.4513457832566359E-3,9.8772265749308821E-2,0.13349529688046161,0.78203390205967427,0.88430459409876727,0.86885470945781373,1.1290298214661998,0.86216510914572464,1.1365883061993853,0.66946723545084907,{"$f":"+Spectre!C3439*N3440/L3440","v":0},0]
[7239,0.72389999999999999,1.908283287172915,1.0052279945304585,3.2253758916992656E-2,0.99774815044320897,2.447671520967404E-3,9.875452831530987E-2,0.13345595875326993,0.7820905614548983,0.88433663458581091,0.86889070306999661,1.1290765932234272,0.86220278938447759,1.1366379798851876,0.66969652078014974,{"$f":"+Spectre!C3440*N3441/L3441","v":0},0]
[7240,0.72399999999999998,1.9077561734989774,1.005224941466994,3.2235844945758839E-2,0.99775152188805116,2.4440027659400065E-3,9.8736796516014483E-2,0.13341664422771332,0.78214719095762786,0.8843686570094329,0.86892667657689582,1.1291233388549233,0.86224044866157923,1.1366876259373413,0.66992566906722839,{"$f":"+Spectre!C3441*N3442/L3442","v":0},0]
[7241,0.72409999999999997,1.9072292781970641,1.0052218896969831,3.221794342379225E-2,0.99775488829088366,2.4403395099199822E-3,9.8719070348854382E-2,0.13337735328256661,0.7822037905913517,0.88440066138487605,0.86896262999531304,1.1291700583825208,0.86227808699447195,1.1367372443788404,0.67015468043487569,{"$f":"+Spectre!C3442*N3443/L3443","v":0},0]
[7242,0.72419999999999995,1.9067026011465693,1.005218839219691,3.2200054340700522E-2,0.99775824965922988,2.4366817446649022E-3,9.8701349811263828E-2,0.13333808589662927,0.78226036037953539,0.88443264772736696,0.86899856334203296,1.1292167518280305,0.8623157044005797,1.1367868352326549,0.67038355500568247,{"$f":"+Spectre!C3443*N3444/L3444","v":0},0]
[7243,0.72430000000000005,1.906176142226969,1.0052157900343834,3.2182177686101397E-2,0.99776160600060204,2.4330294619447357E-3,9.8683634900677261E-2,0.13329884204872339,0.78231690034562429,0.88446461605211713,0.86903447663382283,1.1292634192132405,0.86235330089730944,1.1368363985217322,0.67061229290221736,{"$f":"+Spectre!C3444*N3445/L3445","v":0},0]
[7244,0.72440000000000004,1.9056499013178252,1.0052127421403267,3.2164313449622804E-2,0.99776495732250103,2.4293826535419665E-3,9.8665925614531969E-2,0.13325962171769673,0.78237341051303877,0.88449656637432084,0.86907036988743236,1.1293100605599162,0.86239087650204904,1.136885934268995,0.6708408942467603,{"$f":"+Spectre!C3445*N3446/L3446","v":0},0]
[7245,0.72450000000000003,1.9051238782987816,1.005209695536788,3.2146461620902768E-2,0.99776830363241686,2.4257413112511112E-3,9.8648221950265624E-2,0.1332204248824195,0.782429890905179,0.88452849870915773,0.86910624311959406,1.1293566758898006,0.86242843123216983,1.1369354424973437,0.67106935916165789,{"$f":"+Spectre!C3446*N3447/L3447","v":0},0]
[7246,0.72460000000000002,1.9045980730495635,1.0052066502230343,3.2128622189589333E-2,0.99777164493782822,2.422105426879202E-3,9.8630523905318276E-2,0.13318125152178681,0.78248634154542152,0.88456041307179079,0.86914209634702322,1.1294032652246142,0.86246596510502382,1.1369849232296532,0.67129768776887921,{"$f":"+Spectre!C3447*N3448/L3448","v":0},0]
[7247,0.72470000000000001,1.9040724854499826,1.0052036061983338,3.2110795145340758E-2,0.99777498124620267,2.4184749922455434E-3,9.8612831477131208E-2,0.13314210161471751,0.78254276245712084,0.884592309477367,0.86917792958641737,1.1294498285860546,0.86250347813794592,1.137034376488776,0.67152588019039339,{"$f":"+Spectre!C3448*N3449/L3449","v":0},0]
[7248,0.7248,1.9035471153799295,1.005200563461955,3.2092980477825224E-2,0.99777831256499672,2.4148499991817115E-3,9.8595144663147088E-2,0.13310297514015401,0.78259915366360933,0.88462418794101816,0.86921374285445718,1.1294963659957975,0.8625409703482535,1.1370838022975418,0.67175393654808069,{"$f":"+Spectre!C3449*N3450/L3450","v":0},0]
[7249,0.72489999999999999,1.9030219627193812,1.0051975220131668,3.2075178176721154E-2,0.99778163890165594,2.4112304395313136E-3,9.8577463460809964E-2,0.13306387207706244,0.78265551518819787,0.88465604847785984,0.86924953616780642,1.1295428774754965,0.86257844175324561,1.1371332006787556,0.67198185696351054,{"$f":"+Spectre!C3450*N3451/L3451","v":0},0]
[7250,0.72499999999999998,1.902497027348395,1.0051944818512384,3.2057388231716853E-2,0.99778496026361463,2.4076163051504683E-3,9.8559787867565668E-2,0.13302479240443299,0.78271184705417396,0.88468789110299151,0.8692853095431109,1.1295893630467821,0.86261589237020353,1.1371825716551995,0.67220964155829677,{"$f":"+Spectre!C3451*N3452/L3452","v":0},0]
[7251,0.72509999999999997,1.9019723091471119,1.0051914429754401,3.2039610632510776E-2,0.99778827665829617,2.4040075879073236E-3,9.8542117880861965E-2,0.13298573610128006,0.78276814928480265,0.884719715831497,0.86932106299699918,1.129635822731262,0.86265332221639068,1.1372319152496315,0.67243729045380896,{"$f":"+Spectre!C3452*N3453/L3453","v":0},0]
[7252,0.72519999999999996,1.9014478079957557,1.0051884053850424,3.2021845368811377E-2,0.99779158809311286,2.4004042796822965E-3,9.852445349814723E-2,0.13294670314664092,0.78282442190332824,0.8847515226784447,0.86935679654608333,1.1296822565505227,0.86269073130905316,1.1372812314847873,0.67266480377128346,{"$f":"+Spectre!C3453*N3454/L3454","v":0},0]
[7253,0.72529999999999994,1.9009235237746325,1.005185369079316,3.2004092430337104E-2,0.99779489457546611,2.3968063723678319E-3,9.8506794716871779E-2,0.13290769351957671,0.78288066493297215,0.88478331165888702,0.86939251020695774,1.129728664526128,0.86272811966541907,1.1373305203833783,0.67289218163186781,{"$f":"+Spectre!C3454*N3455/L3455","v":0},0]
[7254,0.72540000000000004,1.9003994563641298,1.005182334057533,3.1986351806816443E-2,0.99779819611274612,2.3932138578687647E-3,9.8489141534487665E-2,0.13286870719917288,0.78293687839693316,0.88481508278786025,0.8694282039961998,1.1297750466796188,0.86276548730269875,1.1373797819680933,0.67311942415657633,{"$f":"+Spectre!C3455*N3456/L3456","v":0},0]
[7255,0.72550000000000003,1.8998756056447204,1.0051793003189651,3.1968623487987902E-2,0.99780149271233232,2.3896267281018338E-3,9.8471493948447952E-2,0.13282974416453769,0.78299306231838894,0.8848468360803855,0.86946387793036972,1.1298214030325147,0.86280283423808501,1.1374290162615972,0.67334653146622347,{"$f":"+Spectre!C3456*N3457/L3457","v":0},0]
[7256,0.72560000000000002,1.8993519714969567,1.0051762678628851,3.1950907463599923E-2,0.99780478438159304,2.3860449749960461E-3,9.8453851956207927E-2,0.1327908043948039,0.78304921672049366,0.88487857155146776,0.86949953202601016,1.1298677336063119,0.86284016048875234,1.1374782232865308,0.6735735036815127,{"$f":"+Spectre!C3457*N3458/L3458","v":0},0]
[7257,0.72570000000000001,1.8988285538014744,1.005173236688566,3.1933203723410936E-2,0.99780807112788561,2.382468590492555E-3,9.8436215555223666E-2,0.13275188786912717,0.78310534162638068,0.88491028921609627,0.86953516629964733,1.1299140384224851,0.86287746607185856,1.1375274030655136,0.67380034092308083,{"$f":"+Spectre!C3458*N3459/L3459","v":0},{"$f":"+Q3459/R$1","v":0}]
[7258,0.7258,1.8983053524389919,1.0051702067952817,3.1915512257189367E-2,0.99781135295855672,2.3788975665442955E-3,9.8418584742953008E-2,0.13271299456668667,0.78316143705916119,0.88494198908924515,0.86957078076779037,1.129960317502487,0.86291475100454329,1.1375765556211406,0.67402704331134267,{"$f":"+Spectre!C3459*N3460/L3460","v":0},0]
[7259,0.72589999999999999,1.8977823672903091,1.0051671781823059,3.1897833054713554E-2,0.99781462988094183,2.3753318951165903E-3,9.8400959516855485E-2,0.13267412446668564,0.78321750304192361,0.88497367118587189,0.86960637544693065,1.1300065708677476,0.86295201530392851,1.1376256809759835,0.67425361096662417,{"$f":"+Spectre!C3460*N3461/L3461","v":0},0]
[7260,0.72599999999999998,1.8972595982363079,1.0051641508489135,3.1880166105771789E-2,0.99781790190236552,2.371771568186784E-3,9.8383339874391698E-2,0.13263527754835028,0.78327353959773505,0.88500533552091942,0.86964195035354319,1.1300527985396751,0.86298925898711853,1.137674779152591,0.67448004400905148,{"$f":"+Spectre!C3461*N3462/L3462","v":0},0]
[7261,0.72609999999999997,1.8967370451579519,1.0051611247943799,3.1862511400162281E-2,0.99782116903014184,2.3682165777438825E-3,9.8365725813024413E-2,0.13259645379093057,0.78332954674964006,0.88503698210931447,0.86967750550408562,1.1300990005396552,0.8630264820712007,1.137723850173489,0.67470634255872852,{"$f":"+Spectre!C3462*N3463/L3463","v":0},0]
[7262,0.72619999999999996,1.8962147079362885,1.0051581000179806,3.1844868927693205E-2,0.99782443127157361,2.3646669157892757E-3,9.8348117330217463E-2,0.13255765317369994,0.78338552452066157,0.88506861096596789,0.86971304091499857,1.1301451768890518,0.86306368457324389,1.1377728940611795,0.67493250673551497,{"$f":"+Spectre!C3463*N3464/L3464","v":0},0]
[7263,0.72629999999999995,1.8956925864524448,1.0051550765189916,3.1827238678182587E-2,0.99782768863395288,2.3611225743362537E-3,9.8330514423435933E-2,0.13251887567595477,0.78344147293380073,0.88510022210577555,0.86974855660270611,1.130191327609207,0.86310086651030027,1.1378219108381424,0.67515853665918169,{"$f":"+Spectre!C3464*N3465/L3465","v":0},0]
[7264,0.72640000000000005,1.8951706805876301,1.0051520542966901,3.1809620641458376E-2,0.99783094112456094,2.3575835454100083E-3,9.8312917090146876E-2,0.13248012127701525,0.7834973920120365,0.88513181554361731,0.8697840525836148,1.1302374527214401,0.86313802789940375,1.1378709005268333,0.67538443244938851,{"$f":"+Spectre!C3465*N3466/L3466","v":0},0]
[7265,0.72650000000000003,1.8946489902231372,1.005149033350353,3.1792014807358437E-2,0.99783418875066821,2.3540498210477506E-3,9.8295325327818886E-2,0.13244138995622506,0.78355328177832562,0.8851633912943575,0.86981952887411418,1.1302835522470487,0.86317516875757128,1.1379198631496854,0.67561019422563984,{"$f":"+Spectre!C3466*N3467/L3467","v":0},0]
[7266,0.72660000000000002,1.8941275152403394,1.0051460136792583,3.1774421165730482E-2,0.9978374315195343,2.3505213932985903E-3,9.8277739133921516E-2,0.13240268169295058,0.78360914225560374,0.88519494937284537,0.86985498549057771,1.130329626207309,0.86321228910180203,1.1379687987291089,0.67583582210724025,{"$f":"+Spectre!C3467*N3468/L3468","v":0},0]
[7267,0.72670000000000001,1.8936062555206903,1.005142995282684,3.175683970643204E-2,0.9978406694384081,2.3469982542235366E-3,9.8260158505926384E-2,0.13236399646658195,0.78366497346678388,0.88522648979391383,0.86989042244936099,1.1303756746234745,0.8632493889490781,1.1380177072874911,0.6760613162134943,{"$f":"+Spectre!C3468*N3469/L3469","v":0},0]
[7268,0.7268,1.8930852109457275,1.0051399781599091,3.1739270419330584E-2,0.9978439025145277,2.3434803958954954E-3,9.8242583441306292E-2,0.13232533425653237,0.78372077543475782,0.88525801257238101,0.86992583976680304,1.1304216975167767,0.86328646831636346,1.1380665888471955,0.67628667666346232,{"$f":"+Spectre!C3469*N3470/L3470","v":0},0]
[7269,0.72689999999999999,1.892564381397069,1.0051369623102129,3.1721713294303386E-2,0.99784713075512033,2.3399678103993918E-3,9.8225013937535605E-2,0.13228669504223839,0.78377654818239517,0.8852895177230492,0.86996123745922627,1.1304676949084256,0.86332352722060546,1.1381154434305638,0.676511903576138,{"$f":"+Spectre!C3470*N3471/L3471","v":0},0]
[7270,0.72699999999999998,1.8920437667564129,1.0051339477328751,3.1704168321237514E-2,0.99785035416740264,2.3364604898318043E-3,9.8207449992090162E-2,0.13224807880315947,0.78383229173254387,0.88532100526070534,0.86999661554293595,1.130513666819609,0.86336056567873332,1.1381642710599138,0.67673699707033741,{"$f":"+Spectre!C3471*N3472/L3472","v":0},0]
[7271,0.72709999999999997,1.8915233669055402,1.0051309344271762,3.1686635490029889E-2,0.99785357275858044,2.3329584263013297E-3,9.8189891602447329E-2,0.13220948551877854,0.78388800610803022,0.88535247520012084,0.87003197403422083,1.1305596132714935,0.8633975837076594,1.1382130717575407,0.67696195726472119,{"$f":"+Spectre!C3472*N3473/L3473","v":0},0]
[7272,0.72719999999999996,1.8910031817263138,1.0051279223923968,3.1669114790587288E-2,0.99785678653584886,2.3294616119283393E-3,9.8172338766086192E-2,0.13217091516860183,0.78394369133165787,0.88538392755605155,0.87006731294935213,1.1306055342852224,0.86343458132427808,1.1382618455457165,0.67718678427790557,{"$f":"+Spectre!C3473*N3474/L3474","v":0},0]
[7273,0.72729999999999995,1.890483211100676,1.0051249116278185,3.1651606212826214E-2,0.99785999550639237,2.3259700388449781E-3,9.8154791480486656E-2,0.13213236773215786,0.78399934742621014,0.88541536234323848,0.87010263230458507,1.1306514298819188,0.86347155854546742,1.1383105924466914,0.67741147822830694,{"$f":"+Spectre!C3474*N3475/L3475","v":0},0]
[7274,0.72740000000000005,1.8899634549106501,1.0051219021327229,3.1634109746672953E-2,0.9978631996773849,2.3224836991950441E-3,9.8137249743131053E-2,0.13209384318899905,0.78405497441444794,0.88544677957640627,0.87013793211615775,1.130697300082683,0.86350851538808704,1.1383593124826914,0.67763603923420845,{"$f":"+Spectre!C3475*N3476/L3476","v":0},0]
[7275,0.72750000000000004,1.8894439130383438,1.0051188939063929,3.1616625382063668E-2,0.99786639905598928,2.3190025851345915E-3,9.8119713551502299E-2,0.13205534151870058,0.78411057231911019,0.88547817927026518,0.87017321240029144,1.1307431449085936,0.86354545186897991,1.1384080056759205,0.67786046741380446,{"$f":"+Spectre!C3476*N3477/L3477","v":0},0]
[7276,0.72760000000000002,1.8889245853659418,1.0051158869481105,3.1599153108944164E-2,0.99786959364935823,2.3155266888308427E-3,9.8102182903085491E-2,0.13201686270086049,0.78416614116291461,0.88550956143950954,0.87020847317319094,1.1307889643807079,0.86358236800497168,1.1384566720485598,0.67808476288511166,{"$f":"+Spectre!C3477*N3478/L3478","v":0},0]
[7277,0.72770000000000001,1.8884054717757124,1.0051128812571599,3.1581692917270116E-2,0.99787278346463348,2.3120560024631549E-3,9.8084657795366806E-2,0.13197840671510008,0.78422168096855704,0.88554092609881796,0.87024371445104376,1.1308347585200609,0.86361926381287013,1.138505311622767,0.67830892576601354,{"$f":"+Spectre!C3478*N3479/L3479","v":0},0]
[7278,0.7278,1.8878865721500033,1.0051098768328246,3.1564244797006827E-2,0.99787596850894633,2.3085905182224143E-3,9.8067138225833919E-2,0.13193997354106315,0.78427719175871213,0.88557227326285515,0.87027893625002162,1.1308805273476668,0.86365613930946705,1.1385539244206786,0.67853295617432696,{"$f":"+Spectre!C3479*N3480/L3480","v":0},0]
[7279,0.72789999999999999,1.8873678863712431,1.0051068736743891,3.1546808738129414E-2,0.99787914878941741,2.305130228311279E-3,9.8049624191976228E-2,0.13190156315841692,0.78433267355603231,0.88560360294626894,0.87031413858627882,1.1309262708845171,0.86369299451153547,1.1386025104644064,0.67875685422760235,{"$f":"+Spectre!C3480*N3481/L3481","v":0},0]
[7280,0.72799999999999998,1.8868494143219419,1.0051038717811385,3.1529384730622688E-2,0.99788232431315671,2.3016751249441761E-3,9.8032115691284435E-2,0.13186317554685129,0.7843881263831487,0.88563491516369264,0.87034932147595312,1.1309719891515821,0.86372982943583221,1.138651069776041,0.67898062004343451,{"$f":"+Spectre!C3481*N3482/L3482","v":0},0]
[7281,0.72809999999999997,1.8863311558846905,1.0051008711523581,3.1511972764481207E-2,0.99788549508726376,2.2982252003470611E-3,9.8014612721250699E-2,0.13182481068607896,0.7844435502626711,0.88566620992974399,0.87038448493516585,1.1310176821698104,0.86376664409909687,1.1386996023776499,0.67920425373917404,{"$f":"+Spectre!C3482*N3483/L3483","v":0},0]
[7282,0.72819999999999996,1.8858131109421594,1.0050978717873336,3.1494572829709154E-2,0.99788866111882746,2.2947804467576588E-3,9.799711527936894E-2,0.13178646855583576,0.78449894521718699,0.88569748725902575,0.87041962898002145,1.1310633499601292,0.8638034385180513,1.1387481082912776,0.67942775543201606,{"$f":"+Spectre!C3483*N3484/L3484","v":0},0]
[7283,0.72829999999999995,1.8852952793771003,1.0050948736853516,3.1477184916320476E-2,0.99789182241492635,2.2913408564251003E-3,9.7979623363134177E-2,0.13174814913587976,0.78455431126926334,0.88572874716612537,0.87045475362660818,1.1311089925434439,0.8638402127094007,1.1387965875389463,0.67965112523913351,{"$f":"+Spectre!C3484*N3485/L3485","v":0},0]
[7284,0.72840000000000005,1.8847776610723448,1.0050918768456993,3.1459809014338772E-2,0.99789497898262813,2.2879064216105257E-3,9.796213697004312E-2,0.13170985240599242,0.7846096484414451,0.88575998966561509,0.87048985889099695,1.1311546099406382,0.86387696668983294,1.1388450401426558,0.6798743632774551,{"$f":"+Spectre!C3485*N3486/L3486","v":0},0]
[7285,0.72850000000000004,1.8842602559108068,1.0050888812676637,3.1442445113797325E-2,0.99789813082899015,2.2844771345864809E-3,9.794465609759398E-2,0.13167157834597779,0.78466495675625547,0.88579121477205125,0.8705249447892428,1.1312002021725744,0.86391370047601845,1.1388934661243826,0.68009746966386508,{"$f":"+Spectre!C3486*N3487/L3487","v":0},0]
[7286,0.72860000000000003,1.8837430637754777,1.005085886950533,3.1425093204739026E-2,0.99790127796105954,2.281052987636794E-3,9.7927180743286255E-2,0.13163332693566207,0.7847202362361968,0.88582242249997645,0.87056001133738403,1.1312457692600935,0.86395041408461148,1.1389418655060817,0.68032044451507012,{"$f":"+Spectre!C3487*N3488/L3488","v":0},0]
[7287,0.72870000000000001,1.8832260845494315,1.0050828938935958,3.1407753277216496E-2,0.99790442038587257,2.2776339730573034E-3,9.7909710904621208E-2,0.13159509815489501,0.78477548690374976,0.88585361286391673,0.87059505855144237,1.1312913112240151,0.8639871075322485,1.138990238309685,0.68054328794764363,{"$f":"+Spectre!C3488*N3489/L3489","v":0},0]
[7288,0.7288,1.8827093181158203,1.0050799020961407,3.1390425321291895E-2,0.99790755811045517,2.2742200831552492E-3,9.7892246579101366E-2,0.1315568919835485,0.7848307087813734,0.88588478587838371,0.87063008644742301,1.1313368280851368,0.86402378083554876,1.1390385845571016,0.68076600007802579,{"$f":"+Spectre!C3489*N3490/L3490","v":0},0]
[7289,0.72889999999999999,1.8821927643578791,1.0050769115574576,3.1373109327037109E-2,0.99791069114182285,2.2708113102493949E-3,9.7874787764230531E-2,0.13151870840151703,0.78488590189150576,0.88591594155787379,0.87066509504131462,1.1313823198642352,0.86406043401111521,1.1390869042702192,0.68098858102259019,{"$f":"+Spectre!C3490*N3491/L3491","v":0},0]
[7290,0.72899999999999998,1.8816764231589209,1.0050739222768363,3.1355805284533592E-2,0.99791381948698077,2.2674076466699081E-3,9.7857334457514475E-2,0.13148054738871798,0.78494106625656301,0.88594707991686816,0.87070008434908941,1.1314277865820652,0.86409706707553302,1.1391351974709019,0.68121103089751056,{"$f":"+Spectre!C3491*N3492/L3492","v":0},0]
[7291,0.72909999999999997,1.8811602944023389,1.0050709342535671,3.133851318387236E-2,0.99791694315292367,2.2640090847584767E-3,9.783988665646029E-2,0.13144240892509113,0.78499620189894048,0.88597820096983271,0.87073505438670307,1.1314732282593605,0.86413368004537072,1.1391834641809917,0.68143334981884962,{"$f":"+Spectre!C3492*N3493/L3493","v":0},0]
[7292,0.72919999999999996,1.8806443779716064,1.0050679474869411,3.1321233015154083E-2,0.99792006214663564,2.2606156168685542E-3,9.7822444358576024E-2,0.13140429299059866,0.78505130884101215,0.88600930473121875,0.87077000517009528,1.1315186449168335,0.86417027293718007,1.139231704422309,0.68165553790255906,{"$f":"+Spectre!C3493*N3494/L3494","v":0},0]
[7293,0.72929999999999995,1.8801286737502774,1.0050649619762499,3.1303964768489019E-2,0.99792317647509066,2.2572272353647517E-3,9.7805007561372059E-2,0.13136619956522583,0.78510638710512992,0.88604039121546163,0.87080493671518833,1.1315640365751749,0.86420684576749518,1.1392799182166506,0.68187759526441294,{"$f":"+Spectre!C3494*N3495/L3495","v":0},0]
[7294,{"$f":"+A3496/10000","v":0.72940000000000005},{"$f":"+(1/B3496)^2","v":1.8796131816219843},{"$f":"0.23465+1.076*100/(146-C3496)+0.93161/(41-C3496)","v":1.0050619777207854},{"$f":"9.4977*0.001*C3496^2*D3496*EXP(-h/7.996/1000)","v":3.1286708433996932E-2},{"$f":"+EXP(-0.0168*EXP(-15*ABS(B3496-0.59)))","v":0.99792628614525236},{"$f":"-2.5*LOG(F3496)","v":2.2538439326230814E-3},{"$f":"2.5*LOG(EXP(AOD*(B3496/0.55)^(-1.3)))","v":9.7787576262359482E-2},{"$f":"+E3496+G3496+H3496","v":0.1313281286289795},{"$f":"10^(-0.4*I3496*ma)","v":0.7851614367136257},{"$f":"10^(-0.4*I3496)","v":0.88607146043698315},{"$f":"10^(-0.4*I3496*ma_ref)","v":0.87083984903788947},{"$f":"+L3496/M$1","v":1.131609403255055},{"$f":"10^(-0.4*I3496*ma_target)","v":0.86424339855283416},{"$f":"+N3496/O$1","v":1.139328105585792},{"$f":"(O3496/M3496-1)*100","v":0.68209952202007429},{"$f":"+Spectre!C3495*N3496/L3496","v":0},0]
[7295,0.72950000000000004,1.8790979014704412,1.0050589947198401,3.1269464001807246E-2,0.99792939116407375,2.2504657010313177E-3,9.77701504590512E-2,0.13129008016188976,0.78521645768880888,0.88610251241018823,0.87087474215408844,1.1316547449771215,0.86427993130969727,1.1393762665514857,0.68232131828513953,{"$f":"+Spectre!C3496*N3497/L3497","v":0},0]
[7296,0.72960000000000003,1.8785828331794394,1.0050560129727069,3.1252231462058827E-2,0.99793249153849783,2.2470925329882716E-3,9.7752730148961811E-2,0.13125205414400892,0.78527145005296806,0.88613354714946824,0.87090961607965878,1.1317000617620017,0.86431644405456864,1.1394244011354626,0.68254298417502746,{"$f":"+Spectre!C3497*N3498/L3498","v":0},0]
[7297,0.72970000000000002,1.8780679766328525,1.0050530324786793,3.1235010804900199E-2,0.99793558727545717,2.2437244209042718E-3,9.7735315329606776E-2,0.13121405055541124,0.78532641382837132,0.88616456466919913,0.87094447083045823,1.1317453536303013,0.86435293680391501,1.1394725093594305,0.68276451980497921,{"$f":"+Spectre!C3498*N3499/L3499","v":0},0]
[7298,0.7298,1.877553331714632,1.0050500532370514,3.1217802020489332E-2,0.99793867838187378,2.2403613572012896E-3,9.771790599850351E-2,0.13117606937619414,0.78538134903726409,0.8861955649837413,0.87097930642232768,1.1317906206026052,0.8643894095741862,1.1395205912450752,0.68298592529016933,{"$f":"+Spectre!C3499*N3500/L3500","v":0},0]
[7299,0.72989999999999999,1.8770388983088089,1.0050470752471177,3.120060509899374E-2,0.99794176486465969,2.2370033343123287E-3,9.7700502153170693E-2,0.13113811058647676,0.78543625570187214,0.88622654810744106,0.87101412287109203,1.1318358626994767,0.86442586238181551,1.1395686468140611,0.68320720074563912,{"$f":"+Spectre!C3500*N3501/L3501","v":0},0]
[7300,0.73,1.8765246762994932,1.005044098508173,3.1183420030590422E-2,0.99794484673071659,2.2336503446817916E-3,9.7683103791128559E-2,0.13110017416640077,0.78549113384439895,0.88625751405462905,0.87104892019255964,1.1318810799414578,0.86446229524321949,1.1396166760880293,0.68342834628629667,{"$f":"+Spectre!C3501*N3502/L3502","v":0},0]
[7301,0.73009999999999997,1.8760106655708766,1.0050411230195131,3.1166246805465949E-2,0.99794792398693588,2.230302380765476E-3,9.7665710909898618E-2,0.13106226009613003,0.78554598348702764,0.88628846283962137,0.87108369840252275,1.13192627234907,0.86449870817479746,1.1396646790885996,0.68364936202693904,{"$f":"+Spectre!C3502*N3503/L3503","v":0},0]
[7302,0.73019999999999996,1.8754968660072271,1.0050381487804338,3.1149085413816308E-2,0.99795099664019882,2.2269594350303357E-3,9.7648323507004309E-2,0.13102436835585096,0.7856008046519195,0.88631939447671937,0.87111845751675721,1.1319714399428129,0.86453510119293209,1.1397126558373689,0.68387024808214125,{"$f":"+Spectre!C3503*N3504/L3504","v":0},0]
[7303,0.73029999999999995,1.8749832774928941,1.0050351757902314,3.1131935845846975E-2,0.99795406469737613,2.2236214999549592E-3,9.7630941579969752E-2,0.13098649892577169,0.78565559736121526,0.88635030898020917,0.87115319755102294,1.1320165827431659,0.86457147431398973,1.1397606063559129,0.68409100456650052,{"$f":"+Spectre!C3504*N3505/L3505","v":0},0]
[7304,0.73040000000000005,1.8744698999123044,1.0050322040482031,3.1114798091772904E-2,0.99795712816532856,2.2202885680289697E-3,9.7613565126321189E-2,0.13094865178612305,0.78571036163703456,0.88638120636436191,0.87118791852106325,1.1320617007705864,0.86460782755431909,1.1398085306657841,0.6843116315943254,{"$f":"+Spectre!C3505*N3506/L3506","v":0},0]
[7305,0.73050000000000004,1.8739567331499665,1.0050292335536466,3.1097672141818564E-2,0.99796018705090672,2.216960631753142E-3,9.7596194143585946E-2,0.13091082691715766,0.78576509750147572,0.88641208664343429,0.87122262044260546,1.1321067940455112,0.86464416093025309,1.139856428788514,0.68453212927996887,{"$f":"+Spectre!C3506*N3507/L3507","v":0},0]
[7306,0.73060000000000003,1.8734437770904651,1.0050262643058594,3.1080557986217765E-2,0.99796324136095094,2.2136376836396445E-3,9.7578828629293346E-2,0.13087302429915076,0.78581980497661574,0.88644294983166771,0.87125730333136042,1.1321518625883558,0.86468047445810692,1.1399043007456109,0.68475249773747304,{"$f":"+Spectre!C3507*N3508/L3508","v":0},0]
[7307,0.73070000000000002,1.8729310316184657,1.0050232963041403,3.1063455615213828E-2,0.9979662911022914,2.2103197162117987E-3,9.7561468580973282E-2,0.13083524391239892,0.78587448408451188,0.88647379594328957,0.8712919672030236,1.1321969064195156,0.86471676815418042,1.1399521465585629,0.68497273708092443,{"$f":"+Spectre!C3508*N3509/L3509","v":0},0]
[7308,0.73080000000000001,1.8724184966187118,1.0050203295477882,3.1046365019059455E-2,0.997969336281748,2.2070067220043179E-3,9.7544113996157866E-2,0.13079748573722164,0.78592913484719873,0.88650462499251115,0.87132661207327355,1.1322419255593641,0.86475304203475545,1.1399999662488343,0.6851928474241431,{"$f":"+Spectre!C3509*N3510/L3510","v":0},0]
[7309,0.73089999999999999,1.8719061719760262,1.0050173640361026,3.1029286188016814E-2,0.99797237690613061,2.2036986935629454E-3,9.7526764872380267E-2,0.13075974975396004,0.78598375728669101,0.8865354369935301,0.87136123795777287,1.1322869200282537,0.86478929611609767,1.1400477598378678,0.68541282888090471,{"$f":"+Spectre!C3510*N3511/L3511","v":0},0]
[7310,0.73099999999999998,1.8713940575753099,1.0050143997683834,3.1012219112357412E-2,0.99797541298223913,2.2003956234444544E-3,9.7509421207175373E-2,0.13072203594297724,0.78603835142498213,0.88656623196052875,0.87139584487216803,1.1323318898465164,0.86482553041445653,1.1400955273470852,0.68563268156485169,{"$f":"+Spectre!C3511*N3512/L3512","v":0},0]
[7311,0.73109999999999997,1.8708821533015434,1.0050114367439311,3.0995163782362219E-2,0.99797844451686302,2.1970975042171301E-3,9.749208299807921E-2,0.13068434428465855,0.78609291728404462,0.88659700990767465,0.87143043283208954,1.1323768350344634,0.86486174494606427,1.1401432687978852,0.68585240558947103,{"$f":"+Spectre!C3512*N3513/L3513","v":0},0]
[7312,0.73119999999999996,1.8703704590397847,1.0050084749620465,3.0978120188321516E-2,0.99798147151678185,2.1938043284601655E-3,9.7474750242629651E-2,0.13064667475941133,0.78614745488582971,0.88662777084912092,0.87146500185315179,1.1324217556123843,0.86489793972713647,1.1401909842116449,0.6860720010681165,{"$f":"+Spectre!C3513*N3514/L3514","v":0},0]
[7313,0.73129999999999995,1.8698589746751728,1.0050055144220311,3.0961088320535051E-2,0.99798449398876521,2.190516088763781E-3,9.745742293836554E-2,0.13060902734766439,0.78620196425226885,0.8866585147990057,0.87149955195095319,1.1324666516005486,0.86493411477387283,1.1402386736097203,0.68629146811407526,{"$f":"+Spectre!C3514*N3515/L3515","v":0},0]
[7314,0.73140000000000005,1.8693477000929215,1.0050025551231871,3.0944068169311837E-2,0.99798751193957247,2.1872327777294658E-3,9.7440101082827399E-2,0.13057140202986869,0.78625644540527173,0.88668924177145259,0.87153408314107605,1.1325115230192047,0.86497027010245586,1.1402863370134448,0.68651080684045684,{"$f":"+Spectre!C3515*N3516/L3516","v":0},0]
[7315,0.73150000000000004,1.8688366351783265,1.0049995970648167,3.0927059724970302E-2,0.9979905253759529,2.1839543879698582E-3,9.7422784673557444E-2,0.1305337987864976,0.78631089836672685,0.88671995178057028,0.87156859543908649,1.1325563698885799,0.86500640572905163,1.1403339744441296,0.68673001736019312,{"$f":"+Spectre!C3516*N3517/L3517","v":0},0]
[7316,0.73160000000000003,1.8683257798167607,1.0049966402462225,3.0910062977838219E-2,0.99799353430464577,2.1806809121086221E-3,9.7405473708098836E-2,0.13049621759804569,0.78636532315850294,0.88675064484045285,0.87160308886053495,1.1326011922288812,0.86504252166980988,1.1403815859230655,0.68694909978621599,{"$f":"+Spectre!C3517*N3518/L3518","v":0},0]
[7317,0.73170000000000002,1.8678151338936739,1.0049936846667087,3.0893077918252649E-2,0.99799653873238048,2.1774123427803259E-3,9.7388168183996635E-2,0.1304586584450296,0.78641971980244707,0.88678132096518025,0.87163756342095566,1.1326459900602945,0.86507861794086383,1.1404291714715202,0.68716805423125749,{"$f":"+Spectre!C3518*N3519/L3519","v":0},0]
[7318,0.73180000000000001,1.8673046972945966,1.0049907303255785,3.0876104536560027E-2,0.99799953866587632,2.1741486726306854E-3,9.737086809879722E-2,0.13042112130798794,0.78647408832038557,0.88681198016881646,0.87167201913586678,1.1326907634029848,0.86511469455832946,1.1404767311107398,0.68738688080789423,{"$f":"+Spectre!C3519*N3520/L3520","v":0},0]
[7319,0.7319,1.8667944699051355,1.0049877772221367,3.0859142823116054E-2,0.99800253411184248,2.1708898943165614E-3,9.7353573450048012E-2,0.13038360616748063,0.7865284287341251,0.88684262246541268,0.87170645602077101,1.132735512277097,0.86515075153830767,1.1405242648619498,0.68760557962868063,{"$f":"+Spectre!C3520*N3521/L3521","v":0},0]
[7320,0.73199999999999998,1.8662844516109767,1.0049848253556881,3.0842192768285755E-2,0.99800552507697848,2.1676360005054764E-3,9.7336284235298429E-2,0.13034611300408966,0.78658274106545012,0.88687324786900412,0.87174087409115453,1.1327802367027544,0.86518678889688194,1.1405717727463531,0.68782415080599346,{"$f":"+Spectre!C3521*N3522/L3522","v":0},0]
[7321,0.73209999999999997,1.8657746422978838,1.0049818747255381,3.0825254362443464E-2,0.99800851156797343,2.1643869838764616E-3,9.7319000452098944E-2,0.13030864179841886,0.78663702533612501,0.88690385639361169,0.87177527336248817,1.1328249367000609,0.86522280665011919,1.1406192547851306,0.68804259445194305,{"$f":"+Spectre!C3522*N3523/L3523","v":0},{"$f":"+Q3523/R$1","v":0}]
[7322,0.73219999999999996,1.8652650418516978,1.0049789253309924,3.0808327595972736E-2,0.99801149359150698,2.1611428371189666E-3,9.7301722098001794E-2,0.13027119253109348,0.78669128156789381,0.88693444805324195,0.87180965385022646,1.1328696122890984,0.86525880481407069,1.1406667109994426,0.68826091067879513,{"$f":"+Spectre!C3523*N3524/L3524","v":0},0]
[7323,0.73229999999999995,1.8647556501583396,1.0049759771713576,3.0791412459266476E-2,0.99801447115424846,2.1579035529338255E-3,9.72844491705607E-2,0.130233765182761,0.78674550978247848,0.88696502286188661,0.87184401556980762,1.1329142634899283,0.86529478340477017,1.1407141414104263,0.68847909959846021,{"$f":"+Spectre!C3524*N3525/L3525","v":0},0]
[7324,0.73240000000000005,1.864246467103805,1.0049730302459405,3.0774508942726778E-2,0.99801744426285754,2.1546691240325339E-3,9.7267181667330033E-2,0.13019635973408933,0.78679971000158289,0.8869955808335237,0.87187835853665552,1.1329588903225929,0.86533074243823649,1.1407615460391993,0.68869716132284875,{"$f":"+Spectre!C3525*N3526/L3526","v":0},0]
[7325,0.73250000000000004,1.8637374925741705,1.0049700845540481,3.0757617036765033E-2,0.99802041292398391,2.1514395431376098E-3,9.7249919585866568E-2,0.13015897616576921,0.78685388224688757,0.8870261219821155,0.87191268276617673,1.1330034928071124,0.86536668193047073,1.1408089249068556,0.68891509596360478,{"$f":"+Spectre!C3526*N3527/L3527","v":0},0]
[7326,0.73260000000000003,1.8632287264555898,1.0049671400949887,3.0740736731801888E-2,0.99802337714426714,2.1482148029827119E-3,9.7232662923727925E-2,0.13012161445851253,0.78690802654005387,0.88705664632161041,0.87194698827376238,1.1330480709634867,0.86540260189745843,1.1408562780344691,0.68913290363248336,{"$f":"+Spectre!C3527*N3528/L3528","v":0},0]
[7327,0.73270000000000002,1.8627201686342922,1.0049641968680705,3.0723868018267143E-2,0.99802633693033738,2.1449948963119169E-3,9.7215411678473723E-2,0.13008427459305277,0.78696214290272193,0.88708715386594228,0.87198127507478818,1.1330926248116957,0.8654385023551685,1.1409036054430914,0.68935058444086206,{"$f":"+Spectre!C3528*N3529/L3529","v":0},0]
[7328,0.73280000000000001,1.8622118189965866,1.0049612548726021,3.0707010886599884E-2,0.99802929228881443,2.1417798158806845E-3,9.7198165847664136E-2,0.1300469565501447,0.787016231356512,0.88711764462903064,0.87201554318461372,1.1331371543716982,0.86547438331955362,1.1409509071537529,0.68956813850016285,{"$f":"+Spectre!C3529*N3530/L3530","v":0},0]
[7329,0.7329,1.8617036774288593,1.0049583141078928,3.0690165327248383E-2,0.99803224322630879,2.1385695544547689E-3,9.7180925428861628E-2,0.13000966031056477,0.78707029192302336,0.88714811862478027,0.87204979261858284,1.133181659663433,0.86551024480655048,1.1409981831874629,0.6897855659216745,{"$f":"+Spectre!C3530*N3531/L3531","v":0},0]
[7330,0.73299999999999998,1.861195743817573,1.0049553745732527,3.0673331330670125E-2,0.99803518974942051,2.1353641048114285E-3,9.7163690419629634E-2,0.12997238585511117,0.78712432462383441,0.88717857586708171,0.87208402339202362,1.1332261407068178,0.86554608683207857,1.141045433565208,0.69000286681641931,{"$f":"+Spectre!C3531*N3532/L3532","v":0},0]
[7331,0.73309999999999997,1.8606880180492691,1.0049524362679918,3.0656508887331763E-2,0.99803813186474044,2.1321634597380938E-3,9.7146460817532976E-2,0.12993513316460284,0.78717832948050392,0.8872090163698112,0.87211823552024892,1.133270597521751,0.86558190941204238,1.141092658307955,0.69022004129546399,{"$f":"+Spectre!C3532*N3533/L3533","v":0},0]
[7332,0.73319999999999996,1.860180500010566,1.004949499191421,3.0639697987709161E-2,0.99804106957884919,2.1289676120334563E-3,9.7129236620138157E-2,0.12989790221988079,0.78723230651456932,0.88723944014683032,0.87215242901855505,1.1333150301281092,0.86561771256232933,1.141139857436648,0.69043708946967541,{"$f":"+Spectre!C3533*N3534/L3534","v":0},0]
[7333,0.73329999999999995,1.8596731895881584,1.0049465633428512,3.0622898622287304E-2,0.99804400289831774,2.1257765545068634E-3,9.7112017825013219E-2,0.12986069300180739,0.78728625574754774,0.8872698472119861,0.87218660390222291,1.1333594385457493,0.86565349629881061,1.1411870309722101,0.69065401144976502,{"$f":"+Spectre!C3534*N3535/L3535","v":0},0]
[7334,0.73340000000000005,1.8591660866688196,1.0049436287215945,3.0606110781560381E-2,0.99804693182970727,2.1225902799784382E-3,9.709480442972708E-2,0.12982350549126589,0.78734017720093608,0.88730023757911181,0.87222076018651828,1.1334038227945082,0.86568926063734164,1.1412341789355436,0.69087080734639983,{"$f":"+Spectre!C3535*N3536/L3536","v":0},0]
[7335,0.73350000000000004,1.8586591911393997,1.0049406953269631,3.0589334456031722E-2,0.99804985637956922,2.1194087812790798E-3,9.7077596431850599E-2,0.12978633966916139,0.78739407089621083,0.8873306112620255,0.87225489788669042,1.1334481828942016,0.86572500559376131,1.1412813013475285,0.69108747727006925,{"$f":"+Spectre!C3536*N3537/L3537","v":0},0]
[7336,0.73360000000000003,1.8581525028868258,1.0049377631582694,3.057256963621378E-2,0.99805277655444535,2.1162320512503412E-3,9.7060393828955968E-2,0.12974919551642008,0.78744793685482761,0.88736096827453181,0.87228901701797323,1.133492518864625,0.8657607311838923,1.1413283982290239,0.69130402133115165,{"$f":"+Spectre!C3537*N3538/L3538","v":0},0]
[7337,0.73370000000000002,1.8576460217981015,1.0049348322148268,3.0555816312628138E-2,0.99805569236086766,2.1130600827445507E-3,9.7043196618616379E-2,0.12971207301398907,0.7875017750982225,0.88739130863042071,0.87232311759558578,1.1335368307255549,0.86579643742354206,1.1413754696008689,0.69152043963993659,{"$f":"+Spectre!C3538*N3539/L3539","v":0},0]
[7338,0.73380000000000001,1.8571397477603078,1.0049319024959489,3.0539074475805499E-2,0.99805860380535827,2.1098928686249315E-3,9.7026004798406867E-2,0.1296749721428373,0.78755558564781059,0.88742163234346738,0.87235719963473057,1.1335811184967461,0.86583212432850043,1.1414225154838789,0.69173673230649158,{"$f":"+Spectre!C3539*N3540/L3540","v":0},0]
[7339,0.7339,1.8566336806606036,1.0049289740009499,3.0522344116285703E-2,0.99806151089442996,2.1067304017649965E-3,9.7008818365904137E-2,0.12963789288395483,0.7876093685249862,0.88745193942743328,0.87239126315059456,1.1336253821979332,0.86586779191454233,1.1414695358988498,0.69195289944090632,{"$f":"+Spectre!C3540*N3541/L3541","v":0},0]
[7340,0.73399999999999999,1.8561278203862235,1.0049260467291445,3.050562522461767E-2,0.99806441363458531,2.103572675049516E-3,9.699163731868557E-2,0.12960083521835275,0.78766312375112402,0.88748222989606562,0.87242530815834951,1.1336696218488311,0.86590344019742593,1.1415165308665558,0.6921689411530263,{"$f":"+Spectre!C3541*N3542/L3542","v":0},0]
[7341,0.73409999999999997,1.8556221668244783,1.0049231206798475,3.0488917791359347E-2,0.99806731203231769,2.10041968137343E-3,9.697446165433049E-2,0.12956379912706328,0.78771685134757841,0.88751250376309676,0.87245933467315151,1.1337138374691342,0.86593906919289332,1.1415635004077496,0.69238485755265256,{"$f":"+Spectre!C3542*N3543/L3543","v":0},0]
[7342,0.73419999999999996,1.8551167198627574,1.0049201958523746,3.0472221807077884E-2,0.99807020609411068,2.0972714136424484E-3,9.6957291370419557E-2,0.12952678459113989,0.78777055133568308,0.88754276104224561,0.87249334271014123,1.1337580290785172,0.86597467891667124,1.1416104445431636,0.69260064874940852,{"$f":"+Spectre!C3543*N3544/L3544","v":0},0]
[7343,0.73429999999999995,1.8546114793885249,1.0049172722460422,3.045553726234938E-2,0.99807309582643811,2.0941278647730551E-3,9.6940126464534912E-2,0.12948979159165735,0.78782422373675165,0.88757300174721609,0.87252733228444335,1.1338021966966336,0.86601026938446968,1.1416573632935083,0.69281631485289541,{"$f":"+Spectre!C3544*N3545/L3545","v":0},0]
[7344,0.73440000000000005,1.8541064452893237,1.0049143498601663,3.0438864147759072E-2,0.99807598123576424,2.0909890276922635E-3,9.6922966934260016E-2,0.12945282010971135,0.78787786857207709,0.88760322589169871,0.87256130341116778,1.1338463403431183,0.86604584061198242,1.1417042566794726,0.69303185597233696,{"$f":"+Spectre!C3545*N3546/L3546","v":0},0]
[7345,0.73450000000000004,1.8536016174527714,1.0049114286940644,3.0422202453901231E-2,0.99807886232854381,2.0878548953376162E-3,9.6905812777179412E-2,0.12941587012641825,0.78793148586293327,0.88763343348936918,0.87259525610540833,1.1338904600375843,0.86608139261488848,1.1417511247217262,0.69324727221722338,{"$f":"+Spectre!C3546*N3547/L3547","v":0},0]
[7346,0.73460000000000003,1.8530969957665628,1.0049085087470537,3.0405552171379125E-2,0.99808173911122189,2.0847254606573048E-3,9.6888663990879614E-2,0.12937894162291605,0.78798507563057285,0.88766362455388914,0.87262919038224374,1.1339345557996261,0.86611692540884966,1.141797967440916,0.69346256369662296,{"$f":"+Spectre!C3547*N3548/L3548","v":0},0]
[7347,0.73470000000000002,1.8525925801184691,1.0049055900184525,3.0388913290805095E-2,0.99808461159023376,2.0816007166102927E-3,9.6871520572948205E-2,0.12934203458036359,0.78803863789622797,0.88769379909890611,0.87266310625673704,1.1339786276488169,0.866152439009512,1.1418447848576678,0.69367773051953741,{"$f":"+Spectre!C3548*N3549/L3549","v":0},0]
[7348,0.73480000000000001,1.8520883703963378,1.0049026725075789,3.0372285802800488E-2,0.99808747977200551,2.0784806561657074E-3,9.6854382520974516E-2,0.12930514897994072,0.78809217268111142,0.88772395713805363,0.87269700374393566,1.1340226756047105,0.86618793343250611,1.1418915769925877,0.69389277279496842,{"$f":"+Spectre!C3549*N3550/L3550","v":0},0]
[7349,0.7349,1.8515843664880933,1.0048997562137523,3.0355669697995684E-2,0.99809034366295335,2.0753652723035669E-3,9.6837249832548988E-2,0.12926828480284824,0.78814568000641549,0.88775409868495081,0.87273088285887201,1.1340666996868403,0.86622340869344583,1.1419383438662594,0.69410769063167344,{"$f":"+Spectre!C3550*N3551/L3551","v":0},0]
[7350,0.73499999999999999,1.8510805682817344,1.0048968411362917,3.0339064967029979E-2,0.99809320326948425,2.0722545580140546E-3,9.6820122505263312E-2,0.12923144203030734,0.78819915989331291,0.88778422375320332,0.87276474361656331,1.1341106999147204,0.86625886480793035,1.1419850854992468,0.69432248413832109,{"$f":"+Spectre!C3551*N3552/L3552","v":0},0]
[7351,0.73509999999999998,1.8505769756653383,1.0048939272745172,3.0322471600551754E-2,0.99809605859799533,2.0691485062982423E-3,9.680300053671119E-2,0.12919462064356119,0.78825261236295485,0.8878143323564015,0.87279858603201055,1.1341546763078438,0.86629430179154177,1.1420318019120923,0.69453715342353561,{"$f":"+Spectre!C3552*N3553/L3553","v":0},0]
[7352,0.73519999999999996,1.8500735885270576,1.0048910146277492,3.0305889589218347E-2,0.99809890965487447,2.0660471101673654E-3,9.6785883924486948E-2,0.12915782062387265,0.78830603743647443,0.88784442450812318,0.8728324101202003,1.1341986288856851,0.86632971965984695,1.1420784931253172,0.69475169859567476,{"$f":"+Spectre!C3553*N3554/L3554","v":0},0]
[7353,0.73529999999999995,1.8495704067551195,1.0048881031953085,3.0289318923696001E-2,0.99810175644649979,2.0629503626434279E-3,9.6768772666187122E-2,0.12912104195252655,0.78835943513498274,0.8878745002219306,0.87286621589610291,1.1342425576676971,0.86636511842839659,1.1421251591594219,0.6949661197630963,{"$f":"+Spectre!C3554*N3555/L3555","v":0},0]
[7354,0.73540000000000005,1.8490674302378292,1.0048851929765166,3.0272759594659995E-2,0.9981045989792402,2.0598582567585956E-3,9.6751666759408855E-2,0.12908428461082744,0.78841280547957238,0.88790455951137337,0.87290000337467444,1.1342864626733145,0.8664004981127259,1.1421718000348866,0.69518041703395816,{"$f":"+Spectre!C3555*N3556/L3556","v":0},0]
[7355,0.73550000000000004,1.8485646588635669,1.0048822839706952,3.0256211592794537E-2,0.99810743725945483,2.0567707855558013E-3,9.6734566201751498E-2,0.12904754858010184,0.78846614849131424,0.88793460238998567,0.87293377257085436,1.1343303439219501,0.8664358587283536,1.1422184157721698,0.69539459051644048,{"$f":"+Spectre!C3556*N3557/L3557","v":0},0]
[7356,0.73560000000000003,1.8480620925207891,1.0048793761771664,3.0239674908792764E-2,0.99811027129349372,2.0536879420880189E-3,9.6717470990815263E-2,0.12901083384169604,0.78851946419126095,0.8879646288712888,0.87296752349956808,1.1343742014329992,0.86647120029078351,1.1422650063917095,0.69560864031836811,{"$f":"+Spectre!C3557*N3558/L3558","v":0},0]
[7357,0.73570000000000002,1.8475597310980274,1.0048764695952532,3.0223149533356745E-2,0.99811310108769702,2.0506097194191095E-3,9.6700381124201887E-2,0.12897414037697774,0.7885727526004439,0.8879946389687895,0.87300125617572455,1.1344180352258346,0.86650652281550289,1.1423115719139227,0.69582256654767694,{"$f":"+Spectre!C3558*N3559/L3559","v":0},0]
[7358,{"$f":"+A3560/10000","v":0.73580000000000001},{"$f":"+(1/B3560)^2","v":1.8470575744838897},{"$f":"0.23465+1.076*100/(146-C3560)+0.93161/(41-C3560)","v":1.004873564224279},{"$f":"9.4977*0.001*C3560^2*D3560*EXP(-h/7.996/1000)","v":3.0206635457197477E-2},{"$f":"+EXP(-0.0168*EXP(-15*ABS(B3560-0.59)))","v":0.99811592664839588},{"$f":"-2.5*LOG(F3560)","v":2.0475361106228529E-3},{"$f":"2.5*LOG(EXP(AOD*(B3560/0.55)^(-1.3)))","v":9.6683296599514634E-2},{"$f":"+E3560+G3560+H3560","v":0.12893746816733498},{"$f":"10^(-0.4*I3560*ma)","v":0.78862601373987506},{"$f":"10^(-0.4*I3560)","v":0.88802463269598031},{"$f":"10^(-0.4*I3560*ma_ref)","v":0.87303497061421864},{"$f":"+L3560/M$1","v":1.1344618453198119},{"$f":"10^(-0.4*I3560*ma_target)","v":0.8665418263179836},{"$f":"+N3560/O$1","v":1.1423581123592061},{"$f":"(O3560/M3560-1)*100","v":0.69603636931203638},{"$f":"+Spectre!C3559*N3560/L3560","v":0},0]
[7359,0.7359,1.846555622567059,1.0048706600635671,3.019013267103484E-2,0.99811874798191169,2.0444671087837935E-3,9.6666217414357852E-2,0.12890081719417648,0.78867924763054664,0.8880546100663409,0.87306866682992923,1.1345056317342648,0.86657711081368172,1.1424046277479354,0.69625004871909368,{"$f":"+Spectre!C3560*N3561/L3561","v":0},0]
[7360,0.73599999999999999,1.8460538752362949,1.004867757112442,3.0173641165597676E-2,0.99812156509455674,2.0414027069965168E-3,9.6649143566337872E-2,0.12886418743893208,0.78873245429343009,0.88808457109333561,0.87310234483772009,1.1345493944885086,0.86661237631803745,1.1424511181004648,0.69646360487625181,{"$f":"+Spectre!C3561*N3562/L3562","v":0},0]
[7361,0.73609999999999998,1.8455523323804319,1.0048648553702284,3.0157160931623659E-2,0.99812437799263376,2.0383428983661292E-3,9.6632075053061636E-2,0.12882757888305141,0.78878563374947797,0.88811451579041589,0.87313600465244012,1.134593133601838,0.86664762284647578,1.1424975834371298,0.69667703789098034,{"$f":"+Spectre!C3562*N3563/L3563","v":0},0]
[7362,0.73619999999999997,1.8450509938883797,1.0048619548362514,3.0140691959859359E-2,0.99812718668243594,2.0352876760082587E-3,9.6615011872138085E-2,0.12879099150800571,0.7888387860196221,0.88814444417101857,0.87316964628892269,1.1346368490935288,0.86668285041440507,1.1425440237782425,0.69689034787039361,{"$f":"+Spectre!C3563*N3564/L3564","v":0},0]
[7363,0.73629999999999995,1.8445498596491239,1.0048590555098362,3.012423424106022E-2,0.99812999117024748,2.0322370330484517E-3,9.6597954021177684E-2,0.12875442529528636,0.78889191112477453,0.88817435624856689,0.87320326976198559,1.1346805409828356,0.86671805903721855,1.1425904391440962,0.69710353492176136,{"$f":"+Spectre!C3564*N3565/L3565","v":0},0]
[7364,0.73640000000000005,1.8440489295517248,1.0048561573903094,3.0107787765990549E-2,0.99813279146234291,2.0291909626228969E-3,9.6580901497791305E-2,0.12871788022640474,0.78894500908582865,0.88820425203647047,0.87323687508643277,1.1347242092889953,0.86675324873029447,1.1426368295549636,0.69731659915197586,{"$f":"+Spectre!C3565*N3566/L3566","v":0},0]
[7365,0.73650000000000004,1.8435482034853197,1.0048532604769975,3.0091352525423522E-2,0.99813558756498777,2.0261494578776981E-3,9.6563854299592494E-2,0.12868135628289371,0.78899807992365623,0.88823413154812458,0.87327046227705174,1.1347678540312236,0.8667884195089941,1.1426831950310956,0.697529540667996,{"$f":"+Spectre!C3566*N3567/L3567","v":0},0]
[7366,0.73660000000000003,1.8430476813391197,1.0048503647692275,3.0074928510141152E-2,0.99813837948443773,2.0231125119698425E-3,9.6546812424195355E-2,0.12864485344630636,0.78905112365911001,0.88826399479691076,0.87330403134861523,1.1348114752287166,0.86682357138866339,1.1427295355927225,0.6977423595765142,{"$f":"+Spectre!C3567*N3568/L3568","v":0},0]
[7367,0.73670000000000002,1.8425473630024118,1.0048474702663266,3.0058515710934278E-2,0.9981411672269398,2.0200801180658705E-3,9.652977586921585E-2,0.12860837169821598,0.78910414031302312,0.88829384179619675,0.87333758231588121,1.1348550729006519,0.86685870438463375,1.1427758512600559,0.69795505598426733,{"$f":"+Spectre!C3568*N3569/L3569","v":0},0]
[7368,0.73680000000000001,1.8420472483645567,1.0048445769676233,3.0042114118602518E-2,0.99814395079873131,2.0170522693429625E-3,9.6512744632270719E-2,0.1285719110202162,0.78915712990620934,0.88832367255933686,0.87337111519359256,1.1348986470661868,0.86689381851221992,1.1428221420532851,0.69816762999772575,{"$f":"+Spectre!C3569*N3570/L3570","v":0},0]
[7369,0.7369,1.8415473373149918,1.0048416848724453,3.0025723723954366E-2,0.99814673020604028,2.0140289589885767E-3,9.6495718710978756E-2,0.12853547139392169,0.78921009245946139,0.88835348709967099,0.8734046299964765,1.1349421977444587,0.86692891378672132,1.142868407992579,0.69838008172333765,{"$f":"+Spectre!C3570*N3571/L3571","v":0},0]
[7370,0.73699999999999999,1.8410476297432292,1.0048387939801224,3.000934451780712E-2,0.99814950545508563,2.011010180200206E-3,9.647869810295974E-2,0.12849905280096707,0.78926302799355319,0.88838328543052558,0.87343812673924581,1.1349857249545858,0.86696399022342197,1.1429146490980868,0.6985924112673958,{"$f":"+Spectre!C3571*N3572/L3572","v":0},0]
[7371,0.73709999999999998,1.8405481255388547,1.0048359042899835,2.9992976490986815E-2,0.99815227655207694,2.0079959261856198E-3,9.646168280583485E-2,0.12846265522300729,0.78931593652923893,0.88841306756521321,0.87347160543659808,1.1350292287156669,0.8669990478375903,1.1429608653899366,0.69880461873608191,{"$f":"+Spectre!C3572*N3573/L3573","v":0},0]
[7372,0.73719999999999997,1.8400488245915312,1.0048330158013583,2.9976619634328346E-2,0.9981550435032146,2.0049861901627426E-3,9.6444672817227198E-2,0.12842627864171829,0.78936881808725234,0.88844283351703246,0.87350506610321532,1.1350727090467807,0.86703408664447901,1.143007056888236,0.69901670423548889,{"$f":"+Spectre!C3573*N3574/L3574","v":0},0]
[7373,0.73729999999999996,1.8395497267909944,1.0048301285135777,2.9960273938675307E-2,0.99815780631468987,2.0019809653595332E-3,9.6427668134760322E-2,0.12838992303879515,0.78942167268830898,0.88847258329926904,0.87353850875376582,1.1351161659669877,0.86706910665932557,1.1430532236130724,0.69922866787146543,{"$f":"+Spectre!C3574*N3575/L3575","v":0},0]
[7374,0.73740000000000006,1.8390508320270555,1.0048272424259721,2.9943939394880111E-2,0.99816056499268457,1.9989802450143474E-3,9.6410668756060164E-2,0.12835358839595462,0.78947450035310296,0.88850231692519355,0.8735719334029014,1.1351595994953272,0.86710410789735171,1.1430993655845127,0.69944050974994898,{"$f":"+Spectre!C3575*N3576/L3576","v":0},0]
[7375,0.73750000000000004,1.8385521401896006,1.0048243575378726,2.9927615993803888E-2,0.99816331954337134,1.995984022375693E-3,9.6393674678753122E-2,0.1283172746949327,0.78952730110231006,0.88853203440806416,0.87360534006525981,1.1352030096508201,0.86713909037376402,1.1431454828226038,0.69965222997661058,{"$f":"+Spectre!C3576*N3577/L3577","v":0},0]
[7376,0.73760000000000003,1.8380536511685901,1.0048214738486112,2.9911303726316556E-2,0.99816606997291402,1.992992290701749E-3,9.6376685900467773E-2,0.12828098191748608,0.78958007495658578,0.88856173576112496,0.87363872875546378,1.1352463964524679,0.86717405410375337,1.1431915753473711,0.69986382865703245,{"$f":"+Spectre!C3577*N3578/L3578","v":0},0]
[7377,0.73770000000000002,1.8375553648540597,1.0048185913575203,2.9895002583296755E-2,0.99816881628746668,1.9900050432614517E-3,9.6359702418833335E-2,0.12824471004539154,0.78963282193656636,0.88859142099760591,0.87367209948812108,1.1352897599192526,0.86720899910249527,1.1432376431788212,0.70007530589668576,{"$f":"+Spectre!C3578*N3579/L3579","v":0},0]
[7378,0.73780000000000001,1.8370572811361185,1.0048157100639321,2.9878712555631827E-2,0.99817155849317474,1.9870222733332867E-3,9.6342724231481214E-2,0.12820845906044631,0.78968554206286823,0.88862109013072366,0.87370545227782392,1.1353331000701359,0.86724392538514961,1.1432836863369389,0.7002866618009973,{"$f":"+Spectre!C3579*N3580/L3580","v":0},0]
[7379,0.7379,1.8365593999049505,1.0048128299671801,2.9862433634217839E-2,0.99817429659617429,1.9840439742060114E-3,9.6325751336043708E-2,0.12817222894446756,0.78973823535608834,0.8886507431736812,0.87373878713915054,1.1353764169240617,0.86727883296686115,1.1433297048416895,0.70049789647512739,{"$f":"+Spectre!C3580*N3581/L3581","v":0},0]
[7380,0.73799999999999999,1.836061721050815,1.0048099510665978,2.9846165809959611E-2,0.99817703060259222,1.9810701391785365E-3,9.630878373015421E-2,0.12813601967929236,0.78979090183680434,0.88868038013966799,0.87377210408666384,1.1354197104999533,0.86731372186275935,1.1433756987130181,0.70070901002428077,{"$f":"+Spectre!C3581*N3582/L3582","v":0},0]
[7381,0.73809999999999998,1.8355642444640439,1.0048070733615191,2.9829909073770592E-2,0.99817976051854629,1.9781007615598013E-3,9.629182141144825E-2,0.12809983124677865,0.78984354152557368,0.8887100010418596,0.87380540313491162,1.1354629808167149,0.86734859208795778,1.1434216679708489,0.70092000255344011,{"$f":"+Spectre!C3582*N3583/L3583","v":0},0]
[7382,0.73819999999999997,1.835066970035045,1.0048041968512789,2.9813663416572971E-2,0.99818248635014539,1.9751358346685372E-3,9.627486437756208E-2,0.12806366362880359,0.78989615444293515,0.88873960589341838,0.8738386842984277,1.1355062278932329,0.86738344365755549,1.1434676126350869,0.7011308741674771,{"$f":"+Spectre!C3583*N3584/L3584","v":0},0]
[7383,0.73829999999999996,1.834569897654299,1.0048013215352116,2.9797428829297579E-2,0.9981852081034891,1.9721753518337441E-3,9.6257912626133646E-2,0.12802751680726498,0.78994874060940756,0.8887691947074926,0.87387194759173004,1.1355494517483717,0.86741827658663528,1.1435135327256158,0.7013416249712412,{"$f":"+Spectre!C3584*N3585/L3585","v":0},0]
[7384,0.73839999999999995,1.8340730272123622,1.0047984474126532,2.9781205302883969E-2,0.99818792578466797,1.9692193063943317E-3,9.6240966154802265E-2,0.12799139076408056,0.79000130004549041,0.88879876749721731,0.87390519302932235,1.135592652400979,0.86745309089026523,1.1435594282622996,0.7015522550693376,{"$f":"+Spectre!C3585*N3586/L3586","v":0},0]
[7385,0.73850000000000005,1.8335763585998626,1.0047955744829398,2.9764992828280275E-2,0.99819063939976349,1.9662676916992385E-3,9.6224024961208285E-2,0.12795528548118779,0.79005383277166397,0.88882832427571445,0.87393842062569349,1.1356358298698819,0.86748788658349818,1.1436052992649826,0.70176276456632714,{"$f":"+Spectre!C3586*N3587/L3587","v":0},{"$f":"+Q3587/R$1","v":0}]
[7386,0.73860000000000003,1.8330798917075055,1.0047927027454071,2.9748791396443371E-2,0.99819334895484824,1.9633205011071911E-3,9.6207089042994298E-2,0.12791920094054487,0.79010633880838788,0.88885786505609099,0.87397163039531711,1.1356789841738879,0.86752266368137088,1.1436511457534873,0.70197315356665957,{"$f":"+Spectre!C3587*N3588/L3588","v":0},0]
[7387,0.73870000000000002,1.8325836264260682,1.0047898321993924,2.9732600998338726E-2,0.99819605445598547,1.9603777279871845E-3,9.6190158397803066E-2,0.12788313712412896,0.79015881817610456,0.888887389851442,0.87400482235265275,1.1357221153317867,0.86755742219890608,1.1436969677476183,0.70218342217469587,{"$f":"+Spectre!C3588*N3589/L3589","v":0},0]
[7388,0.73880000000000001,1.8320875626464024,1.0047869628442332,2.9716421624940453E-2,0.9981987559092298,1.9574393657177595E-3,9.6173233023279583E-2,0.12784709401393779,0.79021127089523524,0.88891689867484824,0.87403799651214531,1.1357652233623488,0.86759216215111035,1.143742765267159,0.70239357049455275,{"$f":"+Spectre!C3589*N3590/L3590","v":0},0]
[7389,0.7389,1.8315917002594324,1.0047840946792668,2.970025326723124E-2,0.99820145332062638,1.9545054076878462E-3,9.61563129170699E-2,0.12781107159198898,0.79026369698618237,0.88894639153937693,0.87407115288822368,1.1358083082843233,0.86762688355297513,1.143788538331872,0.70260359863039135,{"$f":"+Spectre!C3590*N3591/L3591","v":0},0]
[7390,0.73899999999999999,1.8310960391561575,1.0047812277038317,2.9684095916202434E-2,0.99820414669621171,1.9515758472959189E-3,9.6139398076821619E-2,0.12777506984031997,0.79031609646932899,0.88897586845808185,0.87410429149530344,1.1358513701164428,0.86766158641947699,1.1438342869615015,0.70281350668621734,{"$f":"+Spectre!C3591*N3592/L3592","v":0},0]
[7391,0.73909999999999998,1.8306005792276521,1.0047783619172665,2.9667949562854019E-2,0.99820683604201321,1.9486506779504784E-3,9.6122488500183678E-2,0.12773908874098816,0.79036846936503868,0.88900532944400346,0.87413741234778464,1.1358944088774192,0.86769627076557665,1.1438800111757694,0.70302329476576997,{"$f":"+Spectre!C3592*N3593/L3593","v":0},0]
[7392,0.73919999999999997,1.8301053203650608,1.0047754973189107,2.9651814198194487E-2,0.99820952136404939,1.9457298930698106E-3,9.6105584184806095E-2,0.12770312827607039,0.79042081569365641,0.88903477451016888,0.8741705154600532,1.1359374245859464,0.8677309366062208,1.1439257109943806,0.70323296297294391,{"$f":"+Spectre!C3593*N3594/L3594","v":0},0]
[7393,0.73929999999999996,1.8296102624596049,1.0047726339081036,2.9635689813240992E-2,0.99821220266832955,1.9428134860823478E-3,9.6088685128340373E-2,0.12766718842766372,0.79047313547550713,0.88906420366959182,0.87420360084647997,1.1359804172606986,0.86776558395633974,1.1439713864370169,0.70344251141121195,{"$f":"+Spectre!C3594*N3595/L3595","v":0},0]
[7394,0.73939999999999995,1.8291154054025778,1.0047697716841857,2.9619576399019215E-2,0.99821487996085445,1.9399014504259437E-3,9.6071791328439821E-2,0.12763126917788498,0.7905254287308966,0.889093616935272,0.87423666852142135,1.1360233869203309,0.86780021283084929,1.1440170375233425,0.7036519401842467,{"$f":"+Spectre!C3595*N3596/L3596","v":0},0]
[7395,0.73950000000000005,1.8286207490853468,1.0047669106464969,2.9603473946563433E-2,0.99821755324761563,1.9369937795485979E-3,9.6054902782758425E-2,0.12759537050887046,0.7905776954801117,0.8891230143201968,0.87426971849921886,1.1360663335834795,0.86783482324465044,1.1440626642730007,0.70386124939540995,{"$f":"+Spectre!C3596*N3597/L3597","v":0},0]
[7396,0.73960000000000004,1.8281262933993523,1.0047640507943787,2.958738244691644E-2,0.99822022253459564,1.9340904669082144E-3,9.6038019488951853E-2,0.1275594924027765,0.79062993574342,0.88915239583733896,0.87430275079419995,1.1361092572687621,0.86786941521262817,1.1441082667056146,0.70407043914793022,{"$f":"+Spectre!C3597*N3598/L3598","v":0},0]
[7397,0.73970000000000002,1.8276320382361093,1.0047611921271726,2.9571301891129661E-2,0.99822288782776858,1.9311915059719968E-3,9.6021141444677605E-2,0.12752363484177925,0.79068214954106919,0.88918176149965866,0.8743357654206767,1.1361521579947766,0.86790398874965269,1.1441538448407875,0.70427950954503604,{"$f":"+Spectre!C3598*N3599/L3599","v":0},0]
[7398,0.73980000000000001,1.8271379834872037,1.0047583346442199,2.955523227026292E-2,0.99822554913309902,1.9282968902176549E-3,9.6004268647593552E-2,0.12748779780807412,0.79073433689328876,0.88921111132010267,0.87436876239294725,1.1361950357801025,0.86793854387057989,1.1441993986981041,0.70448846068982274,{"$f":"+Spectre!C3599*N3600/L3600","v":0},0]
[7399,0.7399,1.8266441290442972,1.004755478344864,2.9539173575384731E-2,0.9982282064565432,1.9254066131320778E-3,9.5987401095359789E-2,0.12745198128387661,0.79078649782028831,0.88924044531160418,0.87440174172529483,1.1362378906433002,0.86797308059024936,1.1442449282971268,0.70469729268518577,{"$f":"+Spectre!C3600*N3601/L3601","v":0},0]
[7400,0.74,1.8261504747991233,1.0047526232284472,2.9523125797572006E-2,0.99823085980404824,1.9225206682121768E-3,9.5970538785637313E-2,0.12741618525142151,0.79083863234225871,0.88926976348708331,0.87443470343198837,1.1362807226029115,0.86800759892348667,1.1442904336574002,0.704906005633954,{"$f":"+Spectre!C3601*N3602/L3602","v":0},0]
[7401,0.74009999999999998,1.8256570206434888,1.0047497692943126,2.9507088927910218E-2,0.9982335091815524,1.9196390489646449E-3,9.5953681716088604E-2,0.12738040969296346,0.79089074047937136,0.8892990658594464,0.87446764752728212,1.1363235316774585,0.86804209888510186,1.1443359147984489,0.70511459963893408,{"$f":"+Spectre!C3602*N3603/L3603","v":0},0]
[7402,0.74019999999999997,1.8251637664692741,1.0047469165418044,2.949106295749334E-2,0.99823615459498527,1.9167617489057143E-3,9.5936829884377489E-2,0.12734465459077654,0.79094282225177903,0.88932835244158737,0.87450057402541559,1.1363663178854453,0.86807658048989,1.1443813717397764,0.705323074802644,{"$f":"+Spectre!C3603*N3604/L3604","v":0},0]
[7403,0.74029999999999996,1.8246707121684316,1.0047440649702666,2.9475047877423815E-2,0.99823879605026744,1.9138887615615181E-3,9.591998328816935E-2,0.12730891992715468,0.79099487767961474,0.88935762324638601,0.87453348294061417,1.1364090812453569,0.86811104375263126,1.1444268045008679,0.70553143122762396,{"$f":"+Spectre!C3604*N3605/L3605","v":0},0]
[7404,0.74039999999999995,1.8241778576329879,1.004741214579044,2.945904367881259E-2,0.99824143355331074,1.9110200804678497E-3,9.5903141925130622E-2,0.12727320568441106,0.79104690678299305,0.88938687828670904,0.87456637428708828,1.1364518217756585,0.86814548868809083,1.144472213101188,0.70573966901632534,{"$f":"+Spectre!C3605*N3606/L3606","v":0},0]
[7405,0.74050000000000005,1.8236852027550408,1.0047383653674817,2.9443050352779054E-2,0.99824406711001823,1.9081556991701596E-3,9.5886305792929061E-2,0.12723751184487828,0.79109890958200924,0.8894161175754105,0.87459924807903489,1.1364945394947989,0.8681799153110189,1.1445175975601818,0.70594778827088867,{"$f":"+Spectre!C3606*N3607/L3607","v":0},0]
[7406,0.74060000000000004,1.8231927474267635,1.0047355173349253,2.9427067890451117E-2,0.99824669672628408,1.9052956112236797E-3,9.5869474889234016E-2,0.12720183839090882,0.79115088609673923,0.88944534112533036,0.87463210433063532,1.1365372344212057,0.86821432363615081,1.1445629578972751,0.70615578909358767,{"$f":"+Spectre!C3607*N3608/L3608","v":0},0]
[7407,0.74070000000000003,1.8227004915404001,1.0047326704807207,2.9411096282965114E-2,0.99824932240799391,1.9024398101930564E-3,9.5852649211716295E-2,0.12716618530487447,0.79120283634724031,0.88947454894929612,0.87466494305605713,1.1365799065732889,0.86824871367820677,1.1446082941318731,0.70636367158638524,{"$f":"+Spectre!C3608*N3609/L3609","v":0},0]
[7408,0.74080000000000001,1.8222084349882681,1.0047298248042147,2.9395135521465811E-2,0.99825194416102436,1.8995882896528375E-3,9.5835828758047886E-2,0.12713055256916653,0.79125476035355036,0.8895037410601212,0.87469776426945278,1.1366225559694387,0.86828308545189203,1.1446536062833621,0.70657143585133309,{"$f":"+Spectre!C3609*N3610/L3610","v":0},0]
[7409,0.7409,1.8217165776627564,1.0047269803047543,2.9379185597106405E-2,0.99825456199124341,1.896741043187106E-3,9.5819013525901803E-2,0.12709494016619532,0.79130665813568923,0.88953291747060692,0.87473056798496152,1.1366651826280287,0.8683174389718975,1.1446988943711085,0.70677908199012762,{"$f":"+Spectre!C3610*N3611/L3611","v":0},0]
[7410,0.74099999999999999,1.8212249194563281,1.0047241369816866,2.9363246501048542E-2,0.99825717590451035,1.8938980643894809E-3,9.5802203512952835E-2,0.12705934807839087,0.79135852971365683,0.88956207819354083,0.87476335421670737,1.136707786567412,0.86835177425289867,1.1447441584144595,0.7069866101045541,{"$f":"+Spectre!C3611*N3612/L3612","v":0},0]
[7411,0.74109999999999998,1.8207334602615184,1.0047212948343596,2.9347318224462272E-2,0.99825978590667575,1.8910593468632396E-3,9.5785398716877135E-2,0.12702377628820266,0.79141037510743439,0.88959122324169726,0.87479612297879994,1.1367503678059232,0.86838609130955646,1.1447893984327422,0.70719402029624234,{"$f":"+Spectre!C3612*N3613/L3613","v":0},0]
[7412,0.74119999999999997,1.8202421999709342,1.0047184538621214,2.9331400758526055E-2,0.99826239200358124,1.8882248842214348E-3,9.5768599135352114E-2,0.1269882247780996,0.79146219433698417,0.88962035262783734,0.87482887428533462,1.1367929263618786,0.8684203901565164,1.1448346144452637,0.70740131266662232,{"$f":"+Spectre!C3613*N3614/L3614","v":0},0]
[7413,0.74129999999999996,1.8197511384772569,1.0047156140643214,2.9315494094426804E-2,0.99826499420106007,1.8853946700864133E-3,9.5751804766056117E-2,0.12695269353056934,0.79151398742225021,0.88964946636470954,0.87486160815039271,1.1368354622535761,0.8684546708084101,1.1448798064713128,0.70760848731707959,{"$f":"+Spectre!C3614*N3615/L3615","v":0},0]
[7414,0.74139999999999995,1.8192602756732377,1.0047127754403085,2.929959822335973E-2,0.9982675925049368,1.8825686980900569E-3,9.5735015606669624E-2,0.1269171825281194,0.79156575438315646,0.88967856446504912,0.87489432458804106,1.136877975499295,0.86848893327985344,1.144924974530158,0.70781554434888871,{"$f":"+Spectre!C3615*N3616/L3616","v":0},0]
[7415,0.74150000000000005,1.8187696114517009,1.0047099379894322,2.9283713136528462E-2,0.99827018692102687,1.879746961874265E-3,9.5718231654873823E-2,0.12688169175327654,0.79161749523960878,0.88970764694157745,0.87492702361233199,1.1369204661172954,0.86852317758544839,1.1449701186410484,0.7080224838632132,{"$f":"+Spectre!C3616*N3617/L3617","v":0},0]
[7416,0.74160000000000004,1.8182791457055447,1.0047071017110427,2.9267838825145033E-2,0.99827277745513776,1.8769294550897457E-3,9.5701452908351442E-2,0.12684622118858621,0.7916692100114946,0.88973671380700414,0.87495970523730393,1.1369629341258192,0.86855740373978163,1.1450152388232138,0.70822930596112776,{"$f":"+Spectre!C3617*N3618/L3618","v":0},0]
[7417,0.74170000000000003,1.8177888783277374,1.0047042666044912,2.9251975280429821E-2,0.99827536411306772,1.874116171397345E-3,9.5684679364786723E-2,0.1268107708166139,0.79172089871868134,0.88976576507402461,0.87499236947698034,1.1370053795430894,0.86859161175742483,1.1450603350958639,0.70843601074352947,{"$f":"+Spectre!C3618*N3619/L3619","v":0},0]
[7418,0.74180000000000001,1.8172988092113207,1.0047014326691277,2.923612249361152E-2,0.99827794690060656,1.8713071044672012E-3,9.5667911021865254E-2,0.12677534061994397,0.79177256138101804,0.88979480075532158,0.875025016345371,1.1370478023873112,0.86862580165293513,1.1451054074781895,0.70864259831124876,{"$f":"+Spectre!C3619*N3620/L3620","v":0},0]
[7419,0.7419,1.8168089382494075,1.0046985999043048,2.9220280455927228E-2,0.99828052582353566,1.8685022479787428E-3,9.5651147877273468E-2,0.12673993058117944,0.7918241980183357,0.88982382086356515,0.87505764585647172,1.1370902026766709,0.86865997344085544,1.1451504559893624,0.70884906876498288,{"$f":"+Spectre!C3620*N3621/L3621","v":0},0]
[7420,0.74199999999999999,1.8163192653351834,1.0046957683093736,2.9204449158622334E-2,0.99828310088762751,1.8657015956211735E-3,9.5634389928699576E-2,0.1267045406829431,0.79187580865044593,0.88985282541141186,0.87509025802426332,1.137132580429336,0.86869412713571348,1.1451954806485343,0.70905542220538464,{"$f":"+Spectre!C3621*N3622/L3622","v":0},0]
[7421,0.74209999999999998,1.8158297903619058,1.0046929378836869,2.9188628592950572E-2,0.99828567209864616,1.8629051410929865E-3,9.5617637173832912E-2,0.12666917090787647,0.79192739329714179,0.88988181441150571,0.87512285286271296,1.1371749356634562,0.86872826275202253,1.1452404814748378,0.70926165873292923,{"$f":"+Spectre!C3622*N3623/L3623","v":0},0]
[7422,{"$f":"+A3624/10000","v":0.74219999999999997},{"$f":"+(1/B3624)^2","v":1.8153405132229041},{"$f":"0.23465+1.076*100/(146-C3624)+0.93161/(41-C3624)","v":1.0046901086265974},{"$f":"9.4977*0.001*C3624^2*D3624*EXP(-h/7.996/1000)","v":2.9172818750174009E-2},{"$f":"+EXP(-0.0168*EXP(-15*ABS(B3624-0.59)))","v":0.99828823946234702},{"$f":"-2.5*LOG(F3624)","v":1.8601128781022078E-3},{"$f":"2.5*LOG(EXP(AOD*(B3624/0.55)^(-1.3)))","v":9.5600889610364753E-2},{"$f":"+E3624+G3624+H3624","v":0.12663382123864098},{"$f":"10^(-0.4*I3624*ma)","v":0.79197895197819679},{"$f":"10^(-0.4*I3624)","v":0.88991078787647682},{"$f":"10^(-0.4*I3624*ma_ref)","v":0.87515543038577315},{"$f":"+L3624/M$1","v":1.137217268397162},{"$f":"10^(-0.4*I3624*ma_target)","v":0.86876238030428043},{"$f":"+N3624/O$1","v":1.1452854584873859},{"$f":"(O3624/M3624-1)*100","v":0.70946777844795861},{"$f":"+Spectre!C3623*N3624/L3624","v":0},0]
[7423,0.74229999999999996,1.8148514338115793,1.0046872805374587,2.9157019621562998E-2,0.99829080298447714,1.8573248003660326E-3,9.5584147235986627E-2,0.12659849165791565,0.79203048471336746,0.88993974581894408,0.87518799060738317,1.1372595786485666,0.86879647980697183,1.1453304117052732,0.70967378145079252,{"$f":"+Spectre!C3624*N3625/L3625","v":0},0]
[7424,0.74239999999999995,1.8143625520214033,1.0046844536156241,2.9141231198396154E-2,0.99829336267077462,1.8545409016115487E-3,9.5567410048392476E-2,0.12656318214840018,0.79208199152238967,0.8899686882515111,0.87522053354146667,1.137301866435763,0.86883056127456504,1.1453753411475733,0.70987966784157308,{"$f":"+Spectre!C3625*N3626/L3626","v":0},0]
[7425,0.74250000000000005,1.8138738677459212,1.004681627860448,2.9125453471960452E-2,0.99829591852696931,1.8517611755748925E-3,9.5550678045277102E-2,0.12652789269281245,0.79213347242498156,0.88999761518677045,0.87525305920193419,1.1373441317768276,0.8688646247215146,1.1454202468333416,0.71008543772033139,{"$f":"+Spectre!C3626*N3627/L3627","v":0},0]
[7426,0.74260000000000004,1.8133853808787506,1.0046788032712852,2.9109686433551163E-2,0.99829847055878251,1.8489856160016087E-3,9.5533951224336236E-2,0.12649262327388899,0.79218492744084323,0.89002652663730097,0.87528556760268228,1.1373863746898178,0.86889867016226108,1.1454651287816151,0.71029109118705414,{"$f":"+Spectre!C3627*N3628/L3628","v":0},0]
[7427,0.74270000000000003,1.8128970913135776,1.0046759798474907,2.9093930074471724E-2,0.9983010187719269,1.8462142166467735E-3,9.5517229583267749E-2,0.12645737387438624,0.79223635658965486,0.89005542261566872,0.8753180587575925,1.1374285951927721,0.86893269761122915,1.1455099870114096,0.71049662834157257,{"$f":"+Spectre!C3628*N3629/L3629","v":0},0]
[7428,0.74280000000000002,1.812408998944163,1.0046731575884202,2.9078184386033951E-2,0.99830356317210678,1.8434469712746296E-3,9.5500513119770203E-2,0.12642214447707878,0.79228775989107925,0.89008430313442677,0.87535053268053342,1.137470793303712,0.86896670708282997,1.1455548215417235,0.71070204928356251,{"$f":"+Spectre!C3629*N3630/L3630","v":0},0]
[7429,0.7429,1.8119211036643368,1.0046703364934293,2.9062449359557829E-2,0.99830610376501772,1.8406838736590701E-3,9.5483801831543952E-2,0.12638693506476084,0.79233913736475936,0.8901131682061153,0.87538298938535808,1.1375129690406387,0.86900069859145923,1.1455996323915343,0.71090735411269979,{"$f":"+Spectre!C3630*N3631/L3631","v":0},0]
[7430,0.74299999999999999,1.8114334053680015,1.0046675165618748,2.904672498637163E-2,0.99830864055634716,1.837924917582913E-3,9.546709571629039E-2,0.12635174562024493,0.79239048903032061,0.89014201784326175,0.87541542888590684,1.1375551224215368,0.86903467215149877,1.1456444195798017,0.71111254292848258,{"$f":"+Spectre!C3631*N3632/L3632","v":0},0]
[7431,0.74309999999999998,1.8109459039491318,1.0046646977931135,2.9031011257811882E-2,0.99831117355177379,1.8351700968386256E-3,9.5450394771712091E-2,0.1263165761263626,0.79244181490736942,0.89017085205838098,0.87544785119600566,1.1375972534643728,0.86906862777731586,1.1456891831254661,0.71131761583025366,{"$f":"+Spectre!C3632*N3633/L3633","v":0},0]
[7432,0.74319999999999997,1.8104585993017717,1.0046618801865026,2.9015308165223276E-2,0.99831370275696796,1.832419405227842E-3,9.543369899551353E-2,0.12628142656596464,0.79249311501549347,0.890199670863974,0.8754802563294658,1.1376393621870935,0.8691025654832627,1.1457339230474475,0.71152257291733356,{"$f":"+Spectre!C3633*N3634/L3634","v":0},0]
[7433,0.74329999999999996,1.8099714913200373,1.0046590637413999,2.8999615699958761E-2,0.99831622817759158,1.8296728365614812E-3,9.541700838540014E-2,0.12624629692192038,0.79254438937426219,0.89022847427253005,0.87551264430008502,1.1376814486076283,0.86913648528367737,1.1457786393646483,0.71172741428893183,{"$f":"+Spectre!C3634*N3635/L3635","v":0},0]
[7434,0.74339999999999995,1.8094845798981174,1.0046562484571639,2.8983933853379523E-2,0.99831874981929813,1.8269303846597498E-3,9.5400322939078602E-2,0.12621118717711788,0.79259563800322652,0.89025726229652524,0.8755450151216474,1.1377235127438889,0.86917038719288375,1.1458233320959512,0.71193214004408034,{"$f":"+Spectre!C3635*N3636/L3636","v":0},0]
[7435,0.74350000000000005,1.80899786493027,1.004653434333153,2.8968262616854899E-2,0.99832126768773255,1.8241920433522598E-3,9.5383642654256778E-2,0.12617609731446394,0.79264686092191894,0.89028603494842284,0.87557736880792247,1.1377655546137679,0.86920427122519084,1.1458680012602198,0.7121367502817666,{"$f":"+Spectre!C3636*N3637/L3637","v":0},0]
[7436,0.74360000000000004,1.8085113463108249,1.0046506213687267,2.8952601981762444E-2,0.99832378178853165,1.8214578064775463E-3,9.5366967528644694E-2,0.12614102731688467,0.79269805814985295,0.89031479224067311,0.87560970537266558,1.1378075742351401,0.86923813739489308,1.1459126468762986,0.71234124510086705,{"$f":"+Spectre!C3637*N3638/L3638","v":0},0]
[7437,0.74370000000000003,1.8080250239341833,1.0046478095632438,2.8936951939487882E-2,0.9983262921273236,1.8187276678836716E-3,9.5350297559952557E-2,0.12610597716732411,0.79274922970652462,0.89034353418571399,0.87564202482961917,1.1378495716258625,0.86927198571627107,1.1459572689630133,0.71254562460008053,{"$f":"+Spectre!C3638*N3639/L3639","v":0},0]
[7438,0.74380000000000002,1.8075388976948168,1.0046449989160653,2.8921312481425144E-2,0.99832879870972835,1.81600162142774E-3,9.5333632745892682E-2,0.12607094684874556,0.7928003756114107,0.89037226079597032,0.87567432719251093,1.137891546803774,0.86930581620359049,1.1460018675391703,0.71274988887801705,{"$f":"+Spectre!C3639*N3640/L3640","v":0},0]
[7439,0.74390000000000001,1.807052967487268,1.0046421894265507,2.8905683598976255E-2,0.99833130154135719,1.8132796609763829E-3,9.5316973084178552E-2,0.12603593634413118,0.7928514958839693,0.89040097208385416,0.87570661247505444,1.1379334997866941,0.86933962887110261,1.1460464426235573,0.71295403803333102,{"$f":"+Spectre!C3640*N3641/L3641","v":0},0]
[7440,0.74399999999999999,1.8065672332061509,1.0046393810940615,2.8890065283551494E-2,0.99833380062781352,1.8105617804049106E-3,9.530031857252487E-2,0.12600094563648129,0.79290259054364121,0.89042966806176527,0.87573888069095007,1.1379754305924263,0.86937342373304449,1.1460909942349429,0.71315807216432159,{"$f":"+Spectre!C3641*N3642/L3642","v":0},0]
[7441,0.74409999999999998,1.8060816947461498,1.0046365739179588,2.8874457526569204E-2,0.99833629597469198,1.8078479735982806E-3,9.528366920864742E-2,0.1259659747088149,0.79295365960984843,0.89045834874209029,0.875771131853884,1.1380173392387547,0.8694072008036392,1.1461355223920771,0.71336199136937672,{"$f":"+Spectre!C3642*N3643/L3643","v":0},0]
[7442,0.74419999999999997,1.8055963520020202,1.0046337678976047,2.8858860319455934E-2,0.99833878758757921,1.8051382344502493E-3,9.5267024990263946E-2,0.12593102354417013,0.79300470310199389,0.89048701413720355,0.87580336597752828,1.1380592257434452,0.8694409600970946,1.1461800271136899,0.71356579574668455,{"$f":"+Spectre!C3643*N3644/L3644","v":0},0]
[7443,0.74429999999999996,1.8051112048685873,1.0046309630323609,2.8843273653646282E-2,0.9983412754720532,1.8024325568640983E-3,9.5250385915093064E-2,0.12589609212560343,0.79305572103946265,0.89051566425946593,0.87583558307554121,1.1381010901242465,0.86947470162760465,1.1462245084184937,0.71376948539432217,{"$f":"+Spectre!C3644*N3645/L3645","v":0},0]
[7444,0.74439999999999995,1.804626253240748,1.0046281593215904,2.8827697520583034E-2,0.99834375963368394,1.7997309347519087E-3,9.523375198085457E-2,0.12586118043618952,0.7931067134416222,0.89054429912122668,0.87586778316156755,1.138142932398889,0.86950842540934936,1.1462689663251815,0.71397306041036668,{"$f":"+Spectre!C3645*N3646/L3646","v":0},0]
[7445,0.74450000000000005,1.804141497013469,1.0046253567646566,2.8812131911717057E-2,0.99834624007803285,1.7970333620351644E-3,9.5217123185269925E-2,0.12582628845902216,0.79315768032782041,0.89057291873482169,0.87589996624923805,1.138184752585085,0.86954213145649373,1.1463134008524269,0.71417652089258432,{"$f":"+Spectre!C3646*N3647/L3647","v":0},0]
[7446,0.74460000000000004,1.8036569360817889,1.0046225553609225,2.879657681850736E-2,0.9983487168106534,1.7943398326441483E-3,9.5200499526061785E-2,0.12579141617721329,0.79320862171738793,0.89060152311257434,0.87593213235216971,1.1382265507005294,0.86957581978318932,1.1463578120188862,0.71437986693883015,{"$f":"+Spectre!C3647*N3648/L3648","v":0},0]
[7447,0.74470000000000003,1.8031725703408152,1.0046197551097522,2.8781032232420994E-2,0.99835118983709048,1.7916503405185455E-3,9.518388100095429E-2,0.12575656357389384,0.79325953762963608,0.89063011226679556,0.8759642814839651,1.1382683267628975,0.86960949040357227,1.1464021998431948,0.7145830986468038,{"$f":"+Spectre!C3648*N3649/L3649","v":0},0]
[7448,0.74480000000000002,1.8026883996857261,1.0046169560105105,2.8765498144933115E-2,0.99835365916288077,1.7889648796070808E-3,9.5167267607672301E-2,0.12572173063221251,0.79331042808385921,0.8906586862097835,0.87599641365821423,1.1383100807898492,0.86964314333176551,1.1464465643439707,0.71478621611396065,{"$f":"+Spectre!C3649*N3650/L3650","v":0},0]
[7449,0.74490000000000001,1.8022044240117712,1.0046141580625616,2.8749974547526966E-2,0.99835612479355307,1.7862834438671564E-3,9.5150659343942609E-2,0.12568691733533674,0.79336129309933279,0.89068724495382423,0.87602852888849236,1.1383518127990246,0.86967677858187753,1.1464909055398136,0.71498921943791149,{"$f":"+Spectre!C3650*N3651/L3651","v":0},{"$f":"+Q3651/R$1","v":0}]
[7450,0.745,1.8017206432142698,1.0046113612652718,2.8734461431693899E-2,0.99835858673462741,1.7836060272658173E-3,9.513405620749317E-2,0.1256521236664529,0.79341213269531363,0.89071578851119027,0.8760606271883612,1.1383935228080466,0.86971039616800205,1.1465352234493027,0.71519210871588967,{"$f":"+Spectre!C3651*N3652/L3652","v":0},0]
[7451,0.74509999999999998,1.80123705718861,1.0046085656180059,2.8718958788933192E-2,0.99836104499161593,1.7809326237787841E-3,9.5117458196052967E-2,0.12561734960876494,0.79346294689104158,0.89074431689414246,0.87609270857136912,1.1384352108345206,0.86974399610421915,1.1465795180909999,0.71539488404519513,{"$f":"+Spectre!C3652*N3653/L3653","v":0},0]
[7452,0.74519999999999997,1.8007536658302525,1.0046057711201306,2.8703466610752321E-2,0.99836349957002246,1.7782632273909377E-3,9.5100865307352844E-2,0.12558259514549611,0.79351373570573647,0.89077283011492847,0.87612477305105019,1.1384768768960332,0.86977757840459446,1.1466237894834477,0.71559754552297239,{"$f":"+Spectre!C3653*N3654/L3654","v":0},0]
[7453,0.74529999999999996,1.8002704690347271,1.0046029777710124,2.8687984888666737E-2,0.99836595047534271,1.7755978320960759E-3,9.5084277539124462E-2,0.12554786025988729,0.7935644991586015,0.89080132818578384,0.87615682064092504,1.1385185210101536,0.86981114308317942,1.1466680376451703,0.71580009324627714,{"$f":"+Spectre!C3654*N3655/L3655","v":0},0]
[7454,0.74539999999999995,1.7997874666976328,1.0046001855700186,2.8672513614199927E-2,0.99836839771306407,1.7729364318971547E-3,9.5067694889100857E-2,0.12551314493519794,0.79361523726882155,0.89082981111893145,0.87618885135450097,1.1385601431944341,0.86984469015401134,1.1467122625946728,0.71600252731194303,{"$f":"+Spectre!C3655*N3656/L3656","v":0},0]
[7455,0.74550000000000005,1.7993046587146397,1.0045973945165163,2.8657052778883387E-2,0.99837084128866593,1.770279020805926E-3,9.5051117355016784E-2,0.1254784491547061,0.79366595005556262,0.89085827892658176,0.87622086520527076,1.138601743466408,0.86987821963111334,1.146756464350442,0.71620484781689253,{"$f":"+Spectre!C3656*N3657/L3657","v":0},0]
[7456,0.74560000000000004,1.7988220449814878,1.0045946046098735,2.8641602374256669E-2,0.99837328120761948,1.7676255928431796E-3,9.5034544934607501E-2,0.12544377290170736,0.79371663753797383,0.8908867316209329,0.87625286220671461,1.1386433218435914,0.86991173152849521,1.1468006429309467,0.71640705485784828,{"$f":"+Spectre!C3657*N3658/L3658","v":0},0]
[7457,0.74570000000000003,1.798339625393987,1.0045918158494591,2.862616239186733E-2,0.99837571747538767,1.7649761420387405E-3,9.5017977625610428E-2,0.1254091161595165,0.79376729973518489,0.8909151692141698,0.8762848423722982,1.1386848783434831,0.86994522586015099,1.1468447983546353,0.71660914853133306,{"$f":"+Spectre!C3658*N3659/L3659","v":0},0]
[7458,0.74580000000000002,1.7978573998480163,1.0045890282346412,2.8610732823270875E-2,0.99837815009742525,1.7623306624314718E-3,9.5001415425763902E-2,0.12537447891146625,0.79381793666630796,0.8909435917184656,0.87631680571547388,1.138726412983563,0.86997870264006205,1.1468889306399395,0.71681112893393628,{"$f":"+Spectre!C3659*N3660/L3660","v":0},0]
[7459,0.74590000000000001,1.7973753682395253,1.0045862417647895,2.8595313660030847E-2,0.9983805790791791,1.7596891480689092E-3,9.4984858332807579E-2,0.12533986114090734,0.7938685483504373,0.8909719991459808,0.87634875224968023,1.1387679257812942,0.87001216188219477,1.1469330398052711,0.7170129961620475,{"$f":"+Spectre!C3660*N3661/L3661","v":0},0]
[7460,0.746,1.7968935304645328,1.0045834564392737,2.8579904893718758E-2,0.99838300442608785,1.7570515930076243E-3,9.4968306344482209E-2,0.1253052628312086,0.79391913480664944,0.89100039150886379,0.87638068198834274,1.1388094167541221,0.87004560360050243,1.1469771258690242,0.71721475031196746,{"$f":"+Spectre!C3661*N3662/L3662","v":0},0]
[7461,0.74609999999999999,1.7964118864191283,1.0045806722574637,2.8564506515914103E-2,0.99838542614358206,1.7544179913131044E-3,9.4951759458530349E-2,0.12527068396575755,0.79396969605400214,0.89102876881924986,0.87641259494487289,1.1388508859194744,0.87007902780892343,1.1470211888495745,0.7174163914798859,{"$f":"+Spectre!C3662*N3663/L3663","v":0},0]
[7462,0.74619999999999997,1.795930435999469,1.0045778892187305,2.8549118518204301E-2,0.99838784423708404,1.7517883370598707E-3,9.4935217672695388E-2,0.12523612452795957,0.79402023211153572,0.89105713108926232,0.87644449113266842,1.1388923332947609,0.87011243452138232,1.1470652287652781,0.71761791976185929,{"$f":"+Spectre!C3663*N3664/L3664","v":0},0]
[7463,0.74629999999999996,1.7954491791017833,1.0045751073224445,2.8533740892184755E-2,0.99839025871200815,1.7491626243312383E-3,9.4918680984722115E-2,0.12520158450123811,0.79407074299827229,0.89108547833101215,0.87647637056511429,1.1389337588973742,0.87014582375178984,1.1471092456344736,0.71781933525389974,{"$f":"+Spectre!C3664*N3665/L3665","v":0},0]
[7464,0.74639999999999995,1.7949681156223689,1.0045723265679776,2.8518373629458839E-2,0.99839266957376094,1.7465408472190735E-3,9.4902149392356833E-2,0.12516706386903476,0.79412122873321644,0.89111381055659789,0.87650823325558103,1.1389751627446889,0.87017919551404255,1.1471532394754806,0.71802063805186389,{"$f":"+Spectre!C3665*N3666/L3666","v":0},0]
[7465,0.74650000000000005,1.7944872454575915,1.0045695469547014,2.8503016721637794E-2,0.99839507682774042,1.7439229998246395E-3,9.4885622893347149E-2,0.12513256261480959,0.79417168933535387,0.89114212777810542,0.87654007921742594,1.1390165448540621,0.87021254982202323,1.147197210306601,0.7182218282515862,{"$f":"+Spectre!C3666*N3667/L3667","v":0},0]
[7466,0.74660000000000004,1.7940065685038897,1.0045667684819883,2.8487670160340914E-2,0.99839748047933685,1.7413090762577498E-3,9.4869101485441615E-2,0.12509808072204029,0.79422212482365306,0.89117043000760854,0.87657190846399324,1.1390579052428338,0.87024588668960023,1.1472411581461175,0.71842290594867908,{"$f":"+Spectre!C3667*N3668/L3668","v":0},0]
[7467,0.74670000000000003,1.793526084657767,1.004563991149211,2.8472333937195251E-2,0.99839988053393258,1.7386990706368894E-3,9.4852585166390266E-2,0.1250636181742224,0.79427253521706509,0.89119871725716882,0.87660372100861317,1.1390992439283261,0.87027920613062859,1.1472850830122947,0.71862387123871052,{"$f":"+Spectre!C3668*N3669/L3669","v":0},0]
[7468,0.74680000000000002,1.7930457938157991,1.0045612149557428,2.8457008043835903E-2,0.99840227699690154,1.7360929770898182E-3,9.483607393394454E-2,0.12502917495487026,0.7943229205345218,0.89122698953883539,0.87663551686460273,1.1391405609278433,0.87031250815894878,1.1473289849233788,0.71882472421715971,{"$f":"+Spectre!C3669*N3670/L3670","v":0},0]
[7469,0.74690000000000001,1.7925656958746308,1.0045584399009573,2.8441692471905845E-2,0.9984046698736101,1.7334907897526041E-3,9.4819567785857178E-2,0.12499475104751563,0.79437328079493796,0.89125524686464497,0.87666729604526505,1.1391818562586724,0.87034579278838797,1.1473728638975977,0.7190254649794392,{"$f":"+Spectre!C3670*N3671/L3671","v":0},0]
[7470,0.747,1.792085790730974,1.0045556659842285,2.8426387213055876E-2,0.99840705916941641,1.7308925027703476E-3,9.4803066719881979E-2,0.12496034643570821,0.79442361601721112,0.89128348924662215,0.87669905856389063,1.1392231299380837,0.870379060032759,1.1474167199531613,0.71922609362073953,{"$f":"+Spectre!C3671*N3672/L3672","v":0},0]
[7471,0.74709999999999999,1.7916060782816117,1.0045528932049306,2.8411092258944733E-2,0.99840944488967065,1.7282981102969405E-3,9.4786570733774417E-2,0.1249259611030161,0.79447392622021962,0.89131171669677889,0.87673080443375573,1.139264381983329,0.87041230990586049,1.1474605531082598,0.71942661023618459,{"$f":"+Spectre!C3672*N3673/L3673","v":0},0]
[7472,0.74719999999999998,1.7911265584233962,1.0045501215624391,2.8395807601239092E-2,0.99841182703971487,1.7257076064951854E-3,9.4770079825290482E-2,0.12489159503302476,0.79452421142282514,0.8913399292271158,0.87676253366812384,1.1393056124116432,0.87044554242147842,1.1475043633810675,0.71962701492092052,{"$f":"+Spectre!C3673*N3674/L3674","v":0},0]
[7473,0.74729999999999996,1.7906472310532466,1.0045473510561287,2.8380533231613363E-2,0.9984142056248837,1.7231209855360708E-3,9.4753593992188495E-2,0.12485724820933793,0.79457447164387107,0.89136812684961997,0.87679424628024449,1.1393468212402438,0.87047875759338356,1.1475481507897383,0.71982730776980475,{"$f":"+Spectre!C3674*N3675/L3675","v":0},0]
[7474,0.74739999999999995,1.7901680960681536,1.0045445816853755,2.836526914174994E-2,0.9984165806505032,1.7205382415999796E-3,9.4737113232227416E-2,0.12482292061557734,0.79462470690218279,0.89139630957626725,0.87682594228335398,1.1393880084863304,0.87051195543533333,1.1475919153524083,0.72002748887771695,{"$f":"+Spectre!C3675*N3676/L3676","v":0},0]
[7475,0.74750000000000005,1.7896891533651749,1.0045418134495556,2.8350015323339001E-2,0.9984189521218918,1.7179593688757219E-3,9.4720637543167729E-2,0.12478861223538246,0.79467491721656824,0.89142447741902064,0.87685762169067538,1.1394291741670857,0.87054513596107141,1.1476356570871959,0.72022755833938135,{"$f":"+Spectre!C3676*N3677/L3677","v":0},0]
[7476,0.74760000000000004,1.7892104028414377,1.0045390463480457,2.8334771768078588E-2,0.99842132004436013,1.715384361560655E-3,9.4704166922770838E-2,0.12475432305241008,0.79472510260581819,0.89145263038983147,0.87688928451541892,1.1394703182996755,0.87057829918432805,1.1476793760122019,0.72042751624947776,{"$f":"+Spectre!C3677*N3678/L3678","v":0},0]
[7477,0.74770000000000003,1.7887318443941382,1.0045362803802229,2.8319538467674595E-2,0.99842368442321061,1.7128132138611667E-3,9.4687701368800142E-2,0.1247200530503359,0.79477526308870428,0.8914807685006384,0.87692093077078015,1.139511440901247,0.87061144511881849,1.1477230721455065,0.72062736270246397,{"$f":"+Spectre!C3678*N3679/L3679","v":0},0]
[7478,0.74780000000000002,1.7882534779205415,1.0045335155454644,2.8304315413840726E-2,0.9984260452637379,1.7102459199921927E-3,9.4671240879019458E-2,0.12468580221285237,0.79482539868398172,0.89150889176336834,0.87695256046994274,1.1395525419889316,0.87064457377824578,1.1477667455051748,0.72082709779281995,{"$f":"+Spectre!C3679*N3680/L3680","v":0},0]
[7479,0.74790000000000001,1.7877753033179806,1.0045307518431486,2.8289102598298508E-2,0.99842840257122889,1.7076824741772145E-3,9.4654785451194656E-2,0.12465157052367037,0.79487550941038732,0.89153700018993542,0.87698417362607572,1.1395936215798417,0.87067768517629773,1.1478103961092512,0.72102672161489245,{"$f":"+Spectre!C3680*N3681/L3681","v":0},0]
[7480,0.748,1.7872973204838571,1.0045279892726533,2.8273900012777249E-2,0.99843075635096246,1.705122870648502E-3,9.4638335083092454E-2,0.12461735796651821,0.79492559528664086,0.89156509379224236,0.87701577025233601,1.1396346796910739,0.87071077932664953,1.1478540239757635,0.7212262342628728,{"$f":"+Spectre!C3681*N3682/L3682","v":0},0]
[7481,0.74809999999999999,1.7868195293156426,1.0045252278333578,2.8258707649014135E-2,0.99843310660820961,1.7025671036469917E-3,9.4621889772480899E-2,0.12458316452514202,0.79497565633144396,0.89159317258217929,0.87704735036186676,1.1396757163397071,0.87074385624296191,1.1478976291227208,0.7214256358308635,{"$f":"+Spectre!C3682*N3683/L3683","v":0},0]
[7482,0.74819999999999998,1.7863419297108751,1.0045224675246409,2.824352549875405E-2,0.99843545334823358,1.7000151674221664E-3,9.4605449517129389E-2,0.12454899018330561,0.79502569256348066,0.89162123657162451,0.87707891396779758,1.1397167315428027,0.8707769159388824,1.1479412115681147,0.72162492641296705,{"$f":"+Spectre!C3683*N3684/L3684","v":0},0]
[7483,0.74829999999999997,1.7858645215671627,1.0045197083458823,2.8228353553749724E-2,0.99843779657628973,1.6974670562321756E-3,9.458901431480865E-2,0.12451483492479055,0.79507570400141747,0.89164928577244362,0.8771104610832452,1.1397577253174049,0.87080995842804421,1.1479847713299174,0.7218241061030195,{"$f":"+Spectre!C3684*N3685/L3685","v":0},0]
[7484,0.74839999999999995,1.7853873047821813,1.0045169502964624,2.8213191805761668E-2,0.99844013629762551,1.6949227643438336E-3,9.4572584163290785E-2,0.12448069873339629,0.79512569066390304,0.8916773201964906,0.87714199172131302,1.139798697680541,0.87084298372406721,1.1480283084260841,0.72202317499485691,{"$f":"+Spectre!C3685*N3686/L3686","v":0},0]
[7485,0.74850000000000005,1.7849102792536751,1.0045141933757611,2.8198040246558118E-2,0.99844247251748075,1.6923822860323806E-3,9.4556159060348713E-2,0.12444658159293921,0.79517565256956924,0.89170533985560774,0.87717350589509124,1.139839648649221,0.87087599184055786,1.1480718228745523,0.7222221331822265,{"$f":"+Spectre!C3686*N3687/L3687","v":0},0]
[7486,{"$f":"+A3688/10000","v":0.74860000000000004},{"$f":"+(1/B3688)^2","v":1.7844334448794572},{"$f":"0.23465+1.076*100/(146-C3688)+0.93161/(41-C3688)","v":1.0045114375831599},{"$f":"9.4977*0.001*C3688^2*D3688*EXP(-h/7.996/1000)","v":2.8182898867915137E-2},{"$f":"+EXP(-0.0168*EXP(-15*ABS(B3688-0.59)))","v":0.99844480524108725},{"$f":"-2.5*LOG(F3688)","v":1.6898456155818411E-3},{"$f":"2.5*LOG(EXP(AOD*(B3688/0.55)^(-1.3)))","v":9.4539739003757381E-2},{"$f":"+E3688+G3688+H3688","v":0.12441248348725437},{"$f":"10^(-0.4*I3688*ma)","v":0.79522558973702917},{"$f":"10^(-0.4*I3688)","v":0.89173334476162391},{"$f":"10^(-0.4*I3688*ma_ref)","v":0.87720500361765663},{"$f":"+L3688/M$1","v":1.1398805782404375},{"$f":"10^(-0.4*I3688*ma_target)","v":0.87090898279110818},{"$f":"+N3688/O$1","v":1.1481153146932399},{"$f":"(O3688/M3688-1)*100","v":0.72242098075869787},{"$f":"+Spectre!C3687*N3688/L3688","v":0},0]
[7487,0.74870000000000003,1.7839568015574081,1.0045086829180396,2.8167767661616463E-2,0.99844713447366928,1.6873127472845438E-3,9.4523323991292013E-2,0.12437840440019302,0.79527550218488008,0.8917613349263579,0.87723648490207351,1.1399214864711669,0.87094195658929796,1.1481587839000496,0.72261971781781842,{"$f":"+Spectre!C3688*N3689/L3689","v":0},0]
[7488,0.74880000000000002,1.7834803491854772,1.0045059293797827,2.8152646619453651E-2,0.99844946022044301,1.6847836754417234E-3,9.4506914020730193E-2,0.12434434431562556,0.79532538993169954,0.89178931036161457,0.87726794976139177,1.1399623733583666,0.87097491324869147,1.1482022305128627,0.7228183444530023,{"$f":"+Spectre!C3689*N3690/L3690","v":0},0]
[7489,0.74890000000000001,1.7830040876616815,1.0045031769677704,2.8137535733225923E-2,0.99845178248661715,1.6822583943627964E-3,9.4490509089850017E-2,0.12431030321743873,0.7953752529960495,0.89181727107918773,0.87729939820864944,1.1400032389189789,0.87100785278284099,1.1482456545495454,0.72301686075755267,{"$f":"+Spectre!C3690*N3691/L3691","v":0},0]
[7490,0.749,1.7825280168841053,1.0045004256813861,2.812243499474025E-2,0.99845410127739231,1.679736898366084E-3,9.4474109196431344E-2,0.12427628108953767,0.79542509139647311,0.89184521709085884,0.87733083025687031,1.1400440831699277,0.87104077520528411,1.148289056027944,0.72321526682466164,{"$f":"+Spectre!C3691*N3692/L3692","v":0},0]
[7491,0.74909999999999999,1.7820521367509032,1.0044976755200126,2.8107344395811362E-2,0.99845641659796169,1.67721918177809E-3,9.4457714338254672E-2,0.12424227791584412,0.79547490515149721,0.89187314840839782,0.87736224591906598,1.1400849061281206,0.87107368052954548,1.1483324349658881,0.72341356274745472,{"$f":"+Spectre!C3692*N3693/L3693","v":0},0]
[7492,0.74919999999999998,1.7815764471602957,1.0044949264830334,2.8092263928261644E-2,0.99845872845351069,1.6747052389338595E-3,9.444132451310254E-2,0.12420829368029804,0.79552469427963035,0.89190106504356237,0.87739364520823437,1.1401257078104481,0.87110656876913617,1.1483757913811892,0.72361174861892419,{"$f":"+Spectre!C3693*N3694/L3694","v":0},0]
[7493,0.74929999999999997,1.7811009480105717,1.0044921785698322,2.8077193583921196E-2,0.99846103684921672,1.6721950641772226E-3,9.442493971875815E-2,0.12417432836685657,0.79557445879936373,0.89192896700809776,0.87742502813736023,1.1401664882337827,0.87113943993755327,1.1484191252916405,0.72380982453201792,{"$f":"+Spectre!C3694*N3695/L3695","v":0},0]
[7494,0.74939999999999996,1.780625639200089,1.0044894317797934,2.8062133354627851E-2,0.99846334179024976,1.6696886518601894E-3,9.4408559953006482E-2,0.12414038195949452,0.79562419872917123,0.89195685431373783,0.87745639471941572,1.1402072474149816,0.87117229404828045,1.1484624367150176,0.72400779057946174,{"$f":"+Spectre!C3695*N3696/L3696","v":0},0]
[7495,0.74950000000000006,1.7801505206272716,1.0044866861123023,2.8047083232227082E-2,0.99846564328177212,1.6671859963431914E-3,9.4392185213633184E-2,0.12410645444220346,0.79567391408751009,0.89198472697220443,0.87748774496735982,1.1402479853708836,0.87120513111478848,1.1485057256690787,0.72420564685402589,{"$f":"+Spectre!C3696*N3697/L3697","v":0},0]
[7496,0.74960000000000004,1.7796755921906124,1.004483941566743,2.8032043208572045E-2,0.99846794132893801,1.6646870919955633E-3,9.4375815498425664E-2,0.12407254579899327,0.79572360489281868,0.89201258499520752,0.87751907889413783,1.140288702118311,0.8712379511505336,1.1485489921715633,0.72440339344825855,{"$f":"+Spectre!C3697*N3698/L3698","v":0},0]
[7497,0.74970000000000003,1.7792008537886721,1.0044811981425019,2.8017013275523601E-2,0.99847023593689455,1.6621919331944578E-3,9.4359450805172718E-2,0.12403865601389077,0.79577327116351881,0.89204042839444453,0.87755039651268263,1.1403293976740689,0.87127075416895916,1.1485922362401935,0.72460103045473012,{"$f":"+Spectre!C3698*N3699/L3699","v":0},0]
[7498,0.74980000000000002,1.7787263053200775,1.0044784558389648,2.8001993424950203E-2,0.99847252711078072,1.6597005143259304E-3,9.4343091131663739E-2,0.12400478507093987,0.79582291291801543,0.89206825718160176,0.87758169783591411,1.1403700720549466,0.87130354018349532,1.1486354578926743,0.72479855796578896,{"$f":"+Spectre!C3699*N3700/L3700","v":0},0]
[7499,0.74990000000000001,1.7782519466835256,1.0044757146555181,2.7986983648728061E-2,0.99847481485572798,1.657212829784336E-3,9.4326736475689996E-2,0.12397093295420239,0.79587253017469528,0.89209607136835323,0.87761298287673861,1.1404107252777145,0.87133630920755789,1.148678657146692,0.72499597607380561,{"$f":"+Spectre!C3700*N3701/L3701","v":0},0]
[7500,0.75,1.7777777777777777,1.0044729745915486,2.7971983938740896E-2,0.99847709917686034,1.6547288739722082E-3,9.4310386835043586E-2,0.12393709964775669,0.79592212295192855,0.89212387096636159,0.87764425164805038,1.1404513573591284,0.87136906125455038,1.1487218340199159,0.7251932848709064,{"$f":"+Spectre!C3701*N3702/L3702","v":0},0]
[7501,0.75009999999999999,1.7773037985016653,1.0044702356464437,2.7956994286880175E-2,0.99847938007929382,1.6522486413008616E-3,9.4294042207518622E-2,0.12390328513569966,0.79597169126806677,0.89215165598727642,0.87767550416272899,1.1404919683159247,0.8714017963378613,1.1487649885299964,0.72539048444926202,{"$f":"+Spectre!C3702*N3703/L3703","v":0},0]
[7502,0.75019999999999998,1.776830008754086,1.0044674978195909,2.7942014685044932E-2,0.99848165756813723,1.6497721261895487E-3,9.4277702590909437E-2,0.12386948940214391,0.7960212351414464,0.89217942644273696,0.87770674043364338,1.1405325581648256,0.87143451447086762,1.1488081206945682,0.72558757490084336,{"$f":"+Spectre!C3703*N3704/L3704","v":0},0]
[7503,0.75029999999999997,1.7763564084340051,1.0044647611103785,2.7927045125141853E-2,0.99848393164849136,1.647299323066301E-3,9.4261367983012184E-2,0.12383571243122034,0.7960707545903849,0.89220718234436969,0.87773796047364794,1.1405731269225348,0.87146721566693175,1.1488512305312468,0.72578455631755467,{"$f":"+Spectre!C3704*N3705/L3705","v":0},0]
[7504,0.75039999999999996,1.7758829974404557,1.0044620255181951,2.7912085599085239E-2,0.99848620232544971,1.6448302263672085E-3,9.4245038381624763E-2,0.12380195420707721,0.79612024963318229,0.89223492370378898,0.87776916429558405,1.1406136746057389,0.87149989993940213,1.1488943180576294,0.72598142879118921,{"$f":"+Spectre!C3705*N3706/L3706","v":0},0]
[7505,0.75049999999999994,1.7754097756725369,1.0044592910424295,2.7897136098796935E-2,0.99848846960409809,1.6423648305367786E-3,9.4228713784545309E-2,0.12376821471387903,0.79616972028812327,0.89226265053259846,0.87780035191228123,1.1406542012311096,0.87153256730161577,1.1489373832912981,0.72617819241347359,{"$f":"+Spectre!C3706*N3707/L3707","v":0},0]
[7506,0.75060000000000004,1.7749367430294152,1.0044565576824711,2.7882196616206424E-2,0.99849073348951467,1.6399031300279364E-3,9.421239418957375E-2,0.12373449393580811,0.7962191665734738,0.89229036284238938,0.87783152333655534,1.1406947068152997,0.87156521776689477,1.1489804262498153,0.72637484727604562,{"$f":"+Spectre!C3707*N3708/L3708","v":0},0]
[7507,0.75070000000000003,1.7744638994103259,1.0044538254377098,2.7867267143250801E-2,0.99849299398677016,1.6374451193017843E-3,9.4196079594511595E-2,0.12370079185706417,0.7962685885074825,0.89231806064474095,0.87786267858120925,1.1407351913749464,0.87159785134854795,1.1490234469507263,0.72657139347038768,{"$f":"+Spectre!C3708*N3709/L3709","v":0},0]
[7508,0.75080000000000002,1.7739912447145703,1.0044510943075355,2.7852347671874701E-2,0.99849525110092763,1.6349907928278425E-3,9.4179769997160948E-2,0.12366710846186349,0.79631798610838178,0.89234574395122102,0.87789381765903352,1.1407756549266701,0.87163046805987132,1.1490664454115589,0.72676783108784893,{"$f":"+Spectre!C3709*N3710/L3710","v":0},0]
[7509,0.75090000000000001,1.7735187788415165,1.0044483642913391,2.783743819403035E-2,0.99849750483704258,1.6325401450839267E-3,9.4163465395325566E-2,0.12363344373443984,0.79636735939438619,0.89237341277338555,0.87792494058280535,1.1408160974870742,0.87166306791414783,1.1491094216498241,0.72696416021986732,{"$f":"+Spectre!C3710*N3711/L3711","v":0},0]
[7510,0.751,1.7730465016906001,1.0044456353885118,2.7822538701677519E-2,0.9984997552001631,1.6300931705560285E-3,9.4147165786810511E-2,0.12359979765904405,0.79641670838369338,0.89240106712277867,0.8779560473652892,1.1408565190727453,0.87169565092464607,1.1491523756830135,0.72716038095752555,{"$f":"+Spectre!C3711*N3712/L3712","v":0},0]
[7511,0.75109999999999999,1.7725744131613228,1.0044429075984449,2.7807649186783537E-2,0.9985020021953297,1.6276498637384359E-3,9.413087116942194E-2,0.12356617021994391,0.79646603309448394,0.89242870701093291,0.87798713801923678,1.1408969197002539,0.87172821710462223,1.149195307528603,0.72735649339199515,{"$f":"+Spectre!C3712*N3713/L3713","v":0},0]
[7512,0.75119999999999998,1.7721025131532537,1.0044401809205301,2.7792769641323264E-2,0.99850424582757535,1.6252102191337322E-3,9.4114581540967399E-2,0.12353256140142439,0.7965153335449211,0.89245633244936895,0.8780182125573871,1.1409372993861531,0.87176076646731915,1.1492382172040505,0.7275524976143366,{"$f":"+Spectre!C3713*N3714/L3714","v":0},0]
[7513,0.75129999999999997,1.7716308015660296,1.0044374553541602,2.7777900057279151E-2,0.99850648610192561,1.6227742312526754E-3,9.4098296899255279E-2,0.1234989711877871,0.79656460975315158,0.89248394344959614,0.87804927099246632,1.1409776581469802,0.87179329902596614,1.1492811047267961,0.72774839371536615,{"$f":"+Spectre!C3714*N3715/L3715","v":0},{"$f":"+Q3715/R$1","v":0}]
[7514,0.75139999999999996,1.7711592782993528,1.0044347308987276,2.7763040426641124E-2,0.99850872302339844,1.6203418946143194E-3,9.4082017242096014E-2,0.12346539956335145,0.79661386173730431,0.8925115400231115,0.87808031333718706,1.1410179959992544,0.8718258147937793,1.1493239701142623,0.72794418178601106,{"$f":"+Spectre!C3715*N3716/L3716","v":0},0]
[7515,0.75149999999999995,1.7706879432529929,1.0044320075536253,2.7748190741406647E-2,0.9985109565970044,1.6179132037458916E-3,9.4065742567300256E-2,0.12343184651245279,0.79666308951549192,0.89253912218140119,0.87811133960425081,1.1410583129594809,0.87185831378396195,1.1493668133838555,0.72813986191690994,{"$f":"+Spectre!C3716*N3717/L3717","v":0},0]
[7516,0.75160000000000005,1.7702167963267856,1.004429285318247,2.773335099358069E-2,0.99851318682774648,1.6154881531829138E-3,9.4049472872681103E-2,0.12339831201944471,0.79671229310580893,0.89256668993593846,0.8781423498063442,1.1410986090441451,0.87189079600970321,1.1494096345529625,0.7283354341987458,{"$f":"+Spectre!C3717*N3718/L3718","v":0},0]
[7517,0.75170000000000003,1.7697458374206347,1.0044265641919867,2.7718521175175773E-2,0.99851541372062036,1.6130667374689611E-3,9.4033208156051679E-2,0.12336479606869641,0.79676147252633422,0.89259424329818671,0.8781733439561431,1.1411388842697183,0.8719232614841802,1.1494524336389547,0.72853089872200183,{"$f":"+Spectre!C3718*N3719/L3719","v":0},0]
[7518,0.75180000000000002,1.7692750664345092,1.004423844174239,2.7703701278211861E-2,0.99851763728061427,1.6106489511557819E-3,9.4016948415227342E-2,0.12333129864459498,0.79681062779512857,0.8926217822795961,0.87820432206630938,1.1411791386526546,0.87195571022055596,1.1494952106591847,0.72872625557707238,{"$f":"+Spectre!C3719*N3720/L3720","v":0},0]
[7519,0.75190000000000001,1.7688044832684451,1.0044211252643984,2.7688891294716432E-2,0.99851985751270878,1.608234788803539E-3,9.4000693648024297E-2,0.12329781973154427,0.79685975893023586,0.89264930689160582,0.87823528414949237,1.1412193722093906,0.87198814223198085,1.149537965630989,0.72892150485437401,{"$f":"+Spectre!C3720*N3721/L3721","v":0},0]
[7520,0.752,1.768334087822544,1.0044184074618603,2.7674091216724414E-2,0.99852207442187746,1.6058242449800851E-3,9.3984443852259694E-2,0.12326435931396419,0.79690886594968446,0.89267681714564373,0.87826623021832961,1.1412595849563483,0.87202055753159236,1.1495806985716861,0.72911664664407905,{"$f":"+Spectre!C3721*N3722/L3722","v":0},0]
[7521,0.75209999999999999,1.7678638799969757,1.0044156907660202,2.7659301036278262E-2,0.9985242880130859,1.6034173142620493E-3,9.3968199025752708E-2,0.12323091737629302,0.7969579488714833,0.89270431305312525,0.87829716028544413,1.1412997769099305,0.87205295613251355,1.1496234094985767,0.729311681036382,{"$f":"+Spectre!C3722*N3723/L3723","v":0},0]
[7522,0.75219999999999998,1.7673938596919743,1.004412975176274,2.7644520745427843E-2,0.99852649829129292,1.6010139912335086E-3,9.3951959166322929E-2,0.12319749390298429,0.79700700771362665,0.89273179462545504,0.87832807436344829,1.1413399480865263,0.87208533804785593,1.1496660984289453,0.72950660812125534,{"$f":"+Spectre!C3723*N3724/L3724","v":0},0]
[7523,0.75229999999999997,1.7669240268078421,1.0044102606920187,2.7629750336230531E-2,0.99852870526144943,1.598614270487194E-3,9.3935724271791726E-2,0.12316408887850945,0.79705604249409046,0.8927592618740261,0.87835897246494055,1.1413800985025071,0.87211770329071692,1.149708765380058,0.72970142798862714,{"$f":"+Spectre!C3724*N3725/L3725","v":0},0]
[7524,0.75239999999999996,1.7664543812449462,1.0044075473126508,2.7614989800751111E-2,0.99853090892849927,1.5962181466236476E-3,9.3919494339981646E-2,0.1231307022873564,0.79710505323083447,0.89278671481021932,0.87838985460250696,1.1414202281742272,0.87215005187418115,1.1497514103691646,0.72989614072844766,{"$f":"+Spectre!C3725*N3726/L3726","v":0},0]
[7525,0.75249999999999995,1.7659849229037208,1.0044048350375676,2.760023913106182E-2,0.99853310929737882,1.5938256142515813E-3,9.3903269368716277E-2,0.12309733411402968,0.79715403994180123,0.89281415344540471,0.87842072078872102,1.1414603371180256,0.87218238381132018,1.1497940334134971,0.73009074643035632,{"$f":"+Spectre!C3726*N3727/L3727","v":0},0]
[7526,0.75260000000000005,1.7655156516846657,1.0044021238661671,2.7585498319242341E-2,0.99853530637301713,1.5914366679877592E-3,9.3887049355820401E-2,0.12306398434305051,0.79720300264491706,0.89284157779094042,0.87845157103614391,1.1415004253502248,0.87221469911519278,1.1498366345302706,0.73028524518405913,{"$f":"+Spectre!C3727*N3728/L3728","v":0},0]
[7527,0.75270000000000004,1.7650465674883469,1.0043994137978469,2.7570767357379747E-2,0.99853750016033571,1.589051302457235E-3,9.3870834299120548E-2,0.12303065295895753,0.7972519413580903,0.89286898785817259,0.87848240535732347,1.1415404928871298,0.87224699779884374,1.1498792137366824,0.73047963707908448,{"$f":"+Spectre!C3728*N3729/L3729","v":0},0]
[7528,0.75280000000000002,1.7645776702153968,1.0043967048320059,2.7556046237568577E-2,0.99853969066424908,1.5866695122927522E-3,9.3854624196443942E-2,0.12299733994630527,0.7973008560992132,0.89289638365843704,0.87851322376479568,1.1415805397450307,0.87227927987530618,1.1499217710499137,0.73067392220491634,{"$f":"+Spectre!C3729*N3730/L3730","v":0},0]
[7529,0.75290000000000001,1.7641089597665136,1.0043939969680429,2.7541334951910745E-2,0.9985418778896642,1.584291292135344E-3,9.3838419045619154E-2,0.12296404528966524,0.79734974688616145,0.89292376520305705,0.87854402627108374,1.1416205659402008,0.87231154535759914,1.1499643064871277,0.73086810065086105,{"$f":"+Spectre!C3730*N3731/L3731","v":0},0]
[7530,0.753,1.7636404360424611,1.0043912902053576,2.7526633492515589E-2,0.99854406184148081,1.581916636633973E-3,9.3822218844476515E-2,0.12293076897362608,0.7973986137367931,0.89295113250334479,0.87857481288869754,1.1416605714888957,0.87234379425872888,1.1500068200654701,0.73106217250629157,{"$f":"+Spectre!C3731*N3732/L3732","v":0},0]
[7531,0.75309999999999999,1.7631720989440698,1.0043885845433491,2.7511941851499817E-2,0.99854624252459123,1.5795455404457718E-3,9.3806023590846638E-2,0.12289751098279222,0.79744745666895012,0.89297848557060144,0.87860558363013597,1.1417005564073572,0.872376026591689,1.1500493118020707,0.73125613786024779,{"$f":"+Spectre!C3732*N3733/L3733","v":0},0]
[7532,0.75319999999999998,1.7627039483722347,1.004385879981418,2.7497260020987527E-2,0.99854841994388066,1.5771779982356789E-3,9.3789833282562296E-2,0.12286427130178551,0.79749627570045756,0.89300582441611565,0.87863633850788381,1.1417405207118088,0.8724082423694598,1.150091781714041,0.73144999680188061,{"$f":"+Spectre!C3733*N3734/L3734","v":0},0]
[7533,0.75329999999999997,1.7622359842279176,1.004383176518965,2.7482587993110208E-2,0.99855059410422697,1.5748140046766839E-3,9.3773647917456807E-2,0.1228310499152437,0.79754507084912407,0.89303314905116593,0.87866707753441442,1.1417804644184586,0.872440441605009,1.1501342298184767,0.7316437494201633,{"$f":"+Spectre!C3734*N3735/L3735","v":0},0]
[7534,0.75339999999999996,1.7617682064121458,1.0043804741553908,2.7467925760006704E-2,0.99855276501050061,1.5724535544499436E-3,9.3757467493365207E-2,0.12279784680782185,0.79759384213274065,0.89306045948701818,0.87869780072218806,1.1418203875434982,0.87247262431129102,1.1501766561324553,0.73183739580395812,{"$f":"+Spectre!C3735*N3736/L3736","v":0},0]
[7535,0.75349999999999995,1.7613006148260122,1.0043777728900973,2.7453273313823242E-2,0.9985549326675649,1.5700966422444217E-3,9.37412920081237E-2,0.12276466196419136,0.79764258956908196,0.89308775573492738,0.87872850808365244,1.1418602901031027,0.87250479050124685,1.1502190606730369,0.7320309360420385,{"$f":"+Spectre!C3736*N3737/L3737","v":0},0]
[7536,0.75360000000000005,1.7608332093706751,1.0043750727224856,2.7438630646713365E-2,0.99855709708027607,1.5677432627568891E-3,9.3725121459569377E-2,0.12273149536903963,0.79769131317590691,0.89311503780613788,0.87875919963124338,1.1419001721134319,0.87253694018780614,1.1502614434572664,0.73222437022313347,{"$f":"+Spectre!C3737*N3738/L3738","v":0},0]
[7537,0.75370000000000004,1.7603659899473596,1.0043723736519583,2.7423997750838015E-2,0.9985592582534828,1.565393410692405E-3,9.3708955845541092E-2,0.12269834700707151,0.7977400129709562,0.89314230571188091,0.87878987537738351,1.1419400335906282,0.87256907338388379,1.1503038045021698,0.73241769843581661,{"$f":"+Spectre!C3738*N3739/L3739","v":0},0]
[7538,0.75380000000000003,1.7598989564573542,1.0043696756779183,2.7409374618365429E-2,0.99856141619202676,1.5630470807637142E-3,9.3692795163878406E-2,0.12266521686300755,0.7977886889719551,0.89316955946337806,0.87882053533448379,1.141979874550819,0.87260119010238346,1.150346143824758,0.73261092076861711,{"$f":"+Spectre!C3739*N3740/L3740","v":0},0]
[7539,0.75390000000000001,1.7594321088020146,1.004366978799768,2.7394761241471187E-2,0.99856357090074233,1.5607042676916082E-3,9.3676639412422241E-2,0.12263210492158504,0.79783734119661187,0.89319679907183869,0.87885117951494229,1.1420196950101149,0.87263329035619475,1.1503884614420228,0.73280403730986432,{"$f":"+Spectre!C3740*N3741/L3741","v":0},0]
[7540,0.754,1.7589654468827616,1.0043642830169117,2.7380157612338217E-2,0.99856572238445662,1.558364966204805E-3,9.3660488589015281E-2,0.12259901116755831,0.79788596966261749,0.89322402454846062,0.87888180793114423,1.1420594949846099,0.87266537415819467,1.1504307573709402,0.73299704814793198,{"$f":"+Spectre!C3741*N3742/L3742","v":0},0]
[7541,0.75409999999999999,1.7584989706010803,1.0043615883287522,2.7365563723156683E-2,0.99856787064798957,1.5560291710399478E-3,9.364434269150046E-2,0.12256593558569709,0.7979345743876477,0.89325123590443134,0.87891242059546315,1.1420992744903826,0.87269744152124773,1.1504730316284695,0.73318995337101622,{"$f":"+Spectre!C3742*N3743/L3743","v":0},0]
[7542,0.75419999999999998,1.7580326798585222,1.0043588947346949,2.7350979566124162E-2,0.99857001569615422,1.5536968769412443E-3,9.3628201717723153E-2,0.12253287816078856,0.79798315538936004,0.89327843315092559,0.87894301752026005,1.1421390335434958,0.87272949245820541,1.1505152842315525,0.73338275306722434,{"$f":"+Spectre!C3743*N3744/L3744","v":0},0]
[7543,0.75429999999999997,1.7575665745567035,1.0043562022341437,2.7336405133445443E-2,0.99857215753375606,1.551368078661188E-3,9.3612065665528779E-2,0.12249983887763541,0.79803171268539708,0.8933056162991081,0.87897359871788328,1.142178772159995,0.87276152698190657,1.150557515197115,0.73357544732466362,{"$f":"+Spectre!C3744*N3745/L3745","v":0},0]
[7544,0.75439999999999996,1.7571006545973065,1.0043535108265038,2.7321840417332672E-2,0.99857429616559357,1.5490427709599582E-3,9.3595934532764519E-2,0.12246681772105715,0.79808024629338392,0.89333278536013172,0.87900416420066918,1.1422184903559109,0.87279354510517682,1.1505997245420645,0.73376803623113052,{"$f":"+Spectre!C3745*N3746/L3746","v":0},0]
[7545,0.75449999999999995,1.7566349198820772,1.0043508205111811,2.7307285410005225E-2,0.99857643159645804,1.546720948605657E-3,9.3579808317279134E-2,0.12243381467589001,0.79812875623092872,0.89335994034513799,0.87903471398094124,1.1422581881472575,0.87282554684082925,1.1506419122832927,0.73396051987455468,{"$f":"+Spectre!C3746*N3747/L3747","v":0},0]
[7546,0.75460000000000005,1.7561693703128278,1.0043481312875808,2.7292740103689771E-2,0.99857856383113375,1.544402606374071E-3,9.3563687016922081E-2,0.12240082972698593,0.79817724251562405,0.89338708126525712,0.87906524807101116,1.1422978655500327,0.87285753220166418,1.1506840784376742,0.73415289834262154,{"$f":"+Spectre!C3747*N3748/L3748","v":0},0]
[7547,0.75470000000000004,1.7557040057914353,1.00434544315511,2.7278204490620277E-2,0.99858069287439766,1.5420877390490313E-3,9.3547570629544136E-2,0.12236786285921344,0.79822570516504576,0.89341420813160854,0.87909576648317789,1.1423375225802184,0.87288950120046926,1.1507262230220667,0.7343451717230387,{"$f":"+Spectre!C3748*N3749/L3749","v":0},0]
[7548,0.75480000000000003,1.7552388262198415,1.0043427561131748,2.7263678563037921E-2,0.99858281873101973,1.5397763414220513E-3,9.3531459152997445E-2,0.12233491405745742,0.79827414419675269,0.89344132095530004,0.87912626922972836,1.142377159253781,0.87292145385001929,1.1507683460533116,0.73453734010331395,{"$f":"+Spectre!C3749*N3750/L3750","v":0},0]
[7549,0.75490000000000002,1.7547738315000536,1.0043400701611824,2.7249162313191182E-2,0.9985849414057627,1.5374684082925692E-3,9.3515352585135492E-2,0.12230198330661925,0.79832255962828735,0.89346841974742786,0.87915675632293677,1.1424167755866701,0.87295339016307605,1.1508104475482321,0.73472940357091066,{"$f":"+Spectre!C3750*N3751/L3751","v":0},0]
[7550,{"$f":"+A3752/10000","v":0.755},{"$f":"+(1/B3752)^2","v":1.7543090215341435},{"$f":"0.23465+1.076*100/(146-C3752)+0.93161/(41-C3752)","v":1.0043373852985409},{"$f":"9.4977*0.001*C3752^2*D3752*EXP(-h/7.996/1000)","v":2.7234655733335753E-2},{"$f":"+EXP(-0.0168*EXP(-15*ABS(B3752-0.59)))","v":0.99858706090338245},{"$f":"-2.5*LOG(F3752)","v":1.5351639344675838E-3},{"$f":"2.5*LOG(EXP(AOD*(B3752/0.55)^(-1.3)))","v":9.3499250923812449E-2},{"$f":"+E3752+G3752+H3752","v":0.12226907059161579},{"$f":"10^(-0.4*I3752*ma)","v":0.79837095147717674},{"$f":"10^(-0.4*I3752)","v":0.893495504519078},{"$f":"10^(-0.4*I3752*ma_ref)","v":0.87918722777506564},{"$f":"+L3752/M$1","v":1.1424563715948202},{"$f":"10^(-0.4*I3752*ma_target)","v":0.87298531015238934},{"$f":"+N3752/O$1","v":1.1508525275236368},{"$f":"(O3752/M3752-1)*100","v":0.73492136221324778},{"$f":"+Spectre!C3751*N3752/L3752","v":0},0]

{"sheet":"Spectre","index":5,"n_rows":3542,"n_cols":6,"rows_kept":3542,"cut":false,"hidden":false,"merged":[]}
[3801.7674999999999,2.7420468330383301,{"$f":"+B1/F$1","v":1.6730334237106692},{"$f":"+B1/Spectre!B$2701","v":2.6180195023590849},null,{"$f":"+VLOOKUP('RI1'!F10,Spectre!A1:D3444,2,1)","v":1.6389671564102199}]
[3802.7674999999999,2.7995727062225302,{"$f":"+B2/F$1","v":1.708132280304109},{"$f":"+B2/Spectre!B$2701","v":2.6729433847931401}]
[3803.7674999999999,2.8478186130523699,1.7375690549466902,{"$f":"+B3/Spectre!B$2701","v":2.7190070491578964}]
[3804.7674999999999,2.87562155723572,1.7545327531358874,{"$f":"+B4/Spectre!B$2701","v":2.7455524200166272}]
[3805.7674999999999,2.90296077728271,1.7712135145166525,{"$f":"+B5/Spectre!B$2701","v":2.7716550417515733}]
[3806.7674999999999,2.9247472286224401,1.7845063076361001,{"$f":"+B6/Spectre!B$2701","v":2.7924560557267468}]
[3807.7674999999999,2.9446535110473602,1.7966519338294402,{"$f":"+B7/Spectre!B$2701","v":2.8114619439486348}]
[3808.7674999999999,2.9643578529357901,1.8086743479524832,{"$f":"+B8/Spectre!B$2701","v":2.8302750257397653}]
[3809.7674999999999,2.98348760604858,1.8203461822769056,{"$f":"+B9/Spectre!B$2701","v":2.8485395083595262}]
[3810.7674999999999,3.0017528533935498,1.8314905467466462,{"$f":"+B10/Spectre!B$2701","v":2.8659785882426214}]
[3811.7674999999999,3.0099635124206499,1.8365002011469722,{"$f":"+B11/Spectre!B$2701","v":2.8738178655303654}]
[3812.7674999999999,3.0183539390564,1.8416195390195671,{"$f":"+B12/Spectre!B$2701","v":2.8818287792393655}]
[3813.7674999999999,2.9850189685821502,1.8212805283543001,{"$f":"+B13/Spectre!B$2701","v":2.850001604823293}]
[3814.7674999999999,2.9106192588806201,1.7758862631852008,{"$f":"+B14/Spectre!B$2701","v":2.7789671175119901}]
[3815.7674999999999,2.8509004116058398,1.7394493846051684,{"$f":"+B15/Spectre!B$2701","v":2.7219494528463066}]
[3816.7674999999999,2.85669040679932,1.7429820943186209,{"$f":"+B16/Spectre!B$2701","v":2.7274775569444776}]
[3817.7674999999999,2.8686184883117698,1.7502598981878428,{"$f":"+B17/Spectre!B$2701","v":2.7388661115267934}]
[3818.7674999999999,2.8767826557159402,1.7552411861729249,{"$f":"+B18/Spectre!B$2701","v":2.7466610000848997}]
[3819.7674999999999,2.8826825618743901,1.7588409570013852,{"$f":"+B19/Spectre!B$2701","v":2.752294043692618}]
[3820.7674999999999,2.8812193870544398,1.7579482149996752,{"$f":"+B20/Spectre!B$2701","v":2.7508970506989767}]
[3821.7674999999999,2.8598005771636998,1.7448797347638341,{"$f":"+B21/Spectre!B$2701","v":2.7304470491396873}]
[3822.7674999999999,2.8386139869689901,1.7319529411353918,{"$f":"+B22/Spectre!B$2701","v":2.7102187635940389}]
[3823.7674999999999,2.86112284660339,1.745686504707038,{"$f":"+B23/Spectre!B$2701","v":2.7317095101373523}]
[3824.7674999999999,2.9001011848449698,1.7694687617761502,{"$f":"+B24/Spectre!B$2701","v":2.7689247934273653}]
[3825.7674999999999,2.9331352710723899,1.7896241908207282,{"$f":"+B25/Spectre!B$2701","v":2.8004646930906287}]
[3826.7674999999999,2.9567503929138201,1.8040327296063094,{"$f":"+B26/Spectre!B$2701","v":2.8230116637647016}]
[3827.7674999999999,2.9736623764038099,1.8143514131893481,{"$f":"+B27/Spectre!B$2701","v":2.8391586901637034}]
[3828.7674999999999,2.90985178947449,1.7754179991305317,{"$f":"+B28/Spectre!B$2701","v":2.7782343620212728}]
[3829.7674999999999,2.8271226882934601,1.7249416361006411,{"$f":"+B29/Spectre!B$2701","v":2.6992472354357706}]
[3830.7674999999999,2.7943787574768102,1.7049632425809271,{"$f":"+B30/Spectre!B$2701","v":2.6679843669723242}]
[3831.7674999999999,2.8127472400665301,1.7161705950393815,{"$f":"+B31/Spectre!B$2701","v":2.6855220125986556}]
[3832.7674999999999,2.83199238777161,1.7279128362611225,{"$f":"+B32/Spectre!B$2701","v":2.7038966703217158}]
[3833.7674999999999,2.86807465553284,1.7499280838639237,{"$f":"+B33/Spectre!B$2701","v":2.7383468772073405}]
[3834.7674999999999,2.90643978118896,1.7733361951894429,{"$f":"+B34/Spectre!B$2701","v":2.7749766845352064}]
[3835.7674999999999,2.9208822250366202,1.7821481129824102,{"$f":"+B35/Spectre!B$2701","v":2.7887658726698978}]
[3836.7674999999999,2.9199385643005402,1.7815723474874219,{"$f":"+B36/Spectre!B$2701","v":2.787864895275602}]
[3837.7674999999999,2.91872334480286,1.7808308930336658,{"$f":"+B37/Spectre!B$2701","v":2.7867046421733424}]
[3838.7674999999999,2.9141068458557098,1.7780141807346461,{"$f":"+B38/Spectre!B$2701","v":2.7822969551380092}]
[3839.7674999999999,2.90929102897644,1.7750758565220868,{"$f":"+B39/Spectre!B$2701","v":2.7776989656515396}]
[3840.7674999999999,2.8944973945617698,1.766049663192458,{"$f":"+B40/Spectre!B$2701","v":2.7635744718822401}]
[3841.7674999999999,2.8743598461151101,1.7537629322668877,{"$f":"+B41/Spectre!B$2701","v":2.7443477781847299}]
[3842.7674999999999,2.8852076530456499,1.7603816170209492,{"$f":"+B42/Spectre!B$2701","v":2.7547049207979764}]
[3843.7674999999999,2.9505984783172599,1.8002791982603643,{"$f":"+B43/Spectre!B$2701","v":2.8171380104789203}]
[3844.7674999999999,3.0128724575042698,1.8382750659282721,{"$f":"+B44/Spectre!B$2701","v":2.8765952341983434}]
[3845.7674999999999,3.0538921356201199,1.8633028268296523,{"$f":"+B45/Spectre!B$2701","v":2.9157595241710252}]
[3846.7674999999999,3.0912027359008798,1.8860675296699949,{"$f":"+B46/Spectre!B$2701","v":2.9513825040570105}]
[3847.7674999999999,3.1067769527435298,1.8955699878380778,{"$f":"+B47/Spectre!B$2701","v":2.9662522732151282}]
[3848.7674999999999,3.0979361534118701,1.8901758594096454,{"$f":"+B48/Spectre!B$2701","v":2.9578113579149754}]
[3849.7674999999999,3.0910058021545401,1.8859473724444096,{"$f":"+B49/Spectre!B$2701","v":2.9511944779509727}]
[3850.7674999999999,3.0874285697936998,1.8837647586276232,{"$f":"+B50/Spectre!B$2701","v":2.9477790497488319}]
[3851.7674999999999,3.0841140747070299,1.8817424514241465,{"$f":"+B51/Spectre!B$2701","v":2.9446144747777474}]
[3852.7674999999999,3.0845081806182901,1.8819829113441142,{"$f":"+B52/Spectre!B$2701","v":2.9449907546243357}]
[3853.7674999999999,3.0870707035064702,1.8835464099646679,{"$f":"+B53/Spectre!B$2701","v":2.9474373703479131}]
[3854.7674999999999,3.1049470901489298,1.8944535148279611,{"$f":"+B54/Spectre!B$2701","v":2.9645051783436696}]
[3855.7674999999999,3.1726739406585698,1.9357763993316262,{"$f":"+B55/Spectre!B$2701","v":3.0291686309627948}]
[3856.7674999999999,3.2398898601532,1.9767875442052374,{"$f":"+B56/Spectre!B$2701","v":3.0933442628249805}]
[3857.7674999999999,3.1886243820190399,1.9455084072599644,{"$f":"+B57/Spectre!B$2701","v":3.0443976073791732}]
[3858.7674999999999,3.0845410823821999,1.8820029860379732,{"$f":"+B58/Spectre!B$2701","v":2.9450221681868394}]
[3859.7674999999999,3.02856397628784,1.8478490947440409,{"$f":"+B59/Spectre!B$2701","v":2.8915769995358453}]
[3860.7674999999999,3.06569623947144,1.8705049869249006,{"$f":"+B60/Spectre!B$2701","v":2.9270297088076553}]
[3861.7674999999999,3.09707903862,1.8896528990876413,{"$f":"+B61/Spectre!B$2701","v":2.9569930118481471}]
[3862.7674999999999,3.0864112377166699,1.8831440432746334,{"$f":"+B62/Spectre!B$2701","v":2.9468077332906484}]
[3863.7674999999999,3.0649576187133798,1.8700543245945596,{"$f":"+B63/Spectre!B$2701","v":2.9263244970927604}]
[3864.7674999999999,3.0649642944335902,1.8700583977208478,{"$f":"+B64/Spectre!B$2701","v":2.9263308708590627}]
[3865.7674999999999,3.0925734043121298,1.8869038297788099,{"$f":"+B65/Spectre!B$2701","v":2.9526911748603988}]
[3866.7674999999999,3.1153855323791499,{"$f":"+B66/F$1","v":1.9008224296591059},{"$f":"+B66/Spectre!B$2701","v":2.9744714725016306}]
[3867.7674999999999,3.11485028266907,1.900495852211848,{"$f":"+B67/Spectre!B$2701","v":2.9739604330245739}]
[3868.7674999999999,3.11268877983093,1.8991770321063406,{"$f":"+B68/Spectre!B$2701","v":2.9718966985483886}]
[3869.7674999999999,3.0768465995788601,1.8773082715812219,{"$f":"+B69/Spectre!B$2701","v":2.9376757196152847}]
[3870.7674999999999,3.0139315128326398,1.8389212383205791,{"$f":"+B70/Spectre!B$2701","v":2.8776063866959389}]
[3871.7674999999999,2.9648392200470002,1.8089680494518252,{"$f":"+B71/Spectre!B$2701","v":2.8307346198173566}]
[3872.7674999999999,2.9653153419494598,1.8092585506376466,{"$f":"+B72/Spectre!B$2701","v":2.8311892059356976}]
[3873.7674999999999,2.9664771556854199,1.809967420081074,{"$f":"+B73/Spectre!B$2701","v":2.8322984689075055}]
[3874.7674999999999,2.9674494266510001,1.8105606418316,{"$f":"+B74/Spectre!B$2701","v":2.8332267624431213}]
[3875.7674999999999,2.9680595397949201,1.8109328964808367,{"$f":"+B75/Spectre!B$2701","v":2.8338092791566156}]
[3876.7674999999999,2.96362972259521,1.8082300862491707,{"$f":"+B76/Spectre!B$2701","v":2.8295798299433517}]
[3877.7674999999999,2.9466617107391402,1.7978772174990523,{"$f":"+B77/Spectre!B$2701","v":2.8133793094342878}]
[3878.7674999999999,2.9317569732665998,1.7887832357104325,{"$f":"+B78/Spectre!B$2701","v":2.7991487379828821}]
[3879.7674999999999,2.9590833187103298,1.8054561417762149,{"$f":"+B79/Spectre!B$2701","v":2.8252390674542482}]
[3880.7674999999999,2.9980404376983598,1.8292254521224678,{"$f":"+B80/Spectre!B$2701","v":2.8624340912727786}]
[3881.7674999999999,3.0098693370819101,1.8364427409725133,{"$f":"+B81/Spectre!B$2701","v":2.8737279498985493}]
[3882.7674999999999,2.9796507358550999,1.8180051529411598,{"$f":"+B82/Spectre!B$2701","v":2.8448761861749734}]
[3883.7674999999999,2.9546813964843799,1.8027703513936966,{"$f":"+B83/Spectre!B$2701","v":2.8210362514787692}]
[3884.7674999999999,2.95710229873657,1.8042474415493606,{"$f":"+B84/Spectre!B$2701","v":2.8233476523028451}]
[3885.7674999999999,2.9619705677032502,1.8072177688970683,{"$f":"+B85/Spectre!B$2701","v":2.8279957213817295}]
[3886.7674999999999,2.9852674007415798,1.8214321068398469,{"$f":"+B86/Spectre!B$2701","v":2.850238799983698}]
[3887.7674999999999,3.02509617805481,1.8457332511046691,{"$f":"+B87/Spectre!B$2701","v":2.8882660555742286}]
[3888.7674999999999,3.04766798019409,1.8595052184384859,{"$f":"+B88/Spectre!B$2701","v":2.9098168976284273}]
[3889.7674999999999,2.9746997356414799,1.8149843479212082,{"$f":"+B89/Spectre!B$2701","v":2.8401491279208013}]
[3890.7674999999999,2.89902997016907,1.7688151704752446,{"$f":"+B90/Spectre!B$2701","v":2.7679020315697165}]
[3891.7674999999999,2.91168260574341,1.7765350540158353,{"$f":"+B91/Spectre!B$2701","v":2.7799823674307782}]
[3892.7674999999999,2.9729251861572301,1.8139016236717873,{"$f":"+B92/Spectre!B$2701","v":2.8384548442558795}]
[3893.7674999999999,3.0090527534484899,1.8359445103458492,{"$f":"+B93/Spectre!B$2701","v":2.8729483016985831}]
[3894.7674999999999,2.9678251743316699,1.8107899006542678,{"$f":"+B94/Spectre!B$2701","v":2.8335855144323681}]
[3895.7674999999999,2.9299676418304399,1.7876914923956495,{"$f":"+B95/Spectre!B$2701","v":2.7974403409782767}]
[3896.7674999999999,2.93481540679932,1.7906493094268936,{"$f":"+B96/Spectre!B$2701","v":2.8020688334892223}]
[3897.7674999999999,2.95164847373962,1.8009198428384168,{"$f":"+B97/Spectre!B$2701","v":2.8181405128650963}]
[3898.7674999999999,2.9745798110961901,1.8149111771167654,{"$f":"+B98/Spectre!B$2701","v":2.8400346277617969}]
[3899.7674999999999,3.00913405418396,1.8359941152053194,{"$f":"+B99/Spectre!B$2701","v":2.8730259250668104}]
[3900.7674999999999,3.0423386096954301,1.8562535544391092,{"$f":"+B100/Spectre!B$2701","v":2.9047285834053884}]
[3901.7674999999999,3.05487108230591,1.8639001217064664,{"$f":"+B101/Spectre!B$2701","v":2.9166941914729434}]
[3902.7674999999999,3.0651876926422101,1.8701947019828011,{"$f":"+B102/Spectre!B$2701","v":2.926544164395815}]
[3903.7674999999999,3.07712030410767,1.8774752697591532,{"$f":"+B103/Spectre!B$2701","v":2.9379370440338448}]
[3904.7674999999999,3.0916988849639901,1.8863702502346933,{"$f":"+B104/Spectre!B$2701","v":2.9518562114742761}]
[3905.7674999999999,3.1087236404418901,1.8967577405582874,{"$f":"+B105/Spectre!B$2701","v":2.9681109089969477}]
[3906.7674999999999,3.1562809944152801,1.9257744013177096,{"$f":"+B106/Spectre!B$2701","v":3.0135171648941053}]
[3907.7674999999999,3.2060019969940199,1.9561111914018026,{"$f":"+B107/Spectre!B$2701","v":3.0609892039780444}]
[3908.7674999999999,3.2199923992157,1.9646473003573492,{"$f":"+B108/Spectre!B$2701","v":3.0743467970799907}]
[3909.7674999999999,3.2120554447174099,1.9598046441349548,{"$f":"+B109/Spectre!B$2701","v":3.0667688442108068}]
[3910.7674999999999,3.2083706855773899,1.9575564238911212,{"$f":"+B110/Spectre!B$2701","v":3.0632507528442274}]
[3911.7674999999999,3.2213835716247599,1.9654961107826336,{"$f":"+B111/Spectre!B$2701","v":3.0756750444513266}]
[3912.7674999999999,3.2345161437988299,1.9735088230097866,{"$f":"+B112/Spectre!B$2701","v":3.0882136085829091}]
[3913.7674999999999,3.2309536933898899,1.9713352282583563,{"$f":"+B113/Spectre!B$2701","v":3.0848122937204425}]
[3914.7674999999999,3.2223985195159899,1.9661153714476571,{"$f":"+B114/Spectre!B$2701","v":3.0766440845643919}]
[3915.7674999999999,3.2141757011413601,1.9610982981387324,{"$f":"+B115/Spectre!B$2701","v":3.0687931979165941}]
[3916.7674999999999,3.20756936073303,1.9570675032674065,{"$f":"+B116/Spectre!B$2701","v":3.0624856732529593}]
[3917.7674999999999,3.1985218524932901,1.9515472533927498,{"$f":"+B117/Spectre!B$2701","v":3.0538473988318224}]
[3918.7674999999999,3.2444159984588601,1.9795491238305263,{"$f":"+B118/Spectre!B$2701","v":3.0976656763806574}]
[3919.7674999999999,3.2982695102691699,2.01240732455754,{"$f":"+B119/Spectre!B$2701","v":3.1490833044427178}]
[3920.7674999999999,3.3189737796783398,2.0250398348114476,{"$f":"+B120/Spectre!B$2701","v":3.1688510853727183}]
[3921.7674999999999,3.2937636375427202,2.0096581097799122,{"$f":"+B121/Spectre!B$2701","v":3.1447812398204582}]
[3922.7674999999999,3.27228951454163,1.9965558807833748,{"$f":"+B122/Spectre!B$2701","v":3.124278427054632}]
[3923.7674999999999,3.2704703807830802,1.995445953869077,{"$f":"+B123/Spectre!B$2701","v":3.122541575736157}]
[3924.7674999999999,3.2672817707061799,1.9935004541899473,{"$f":"+B124/Spectre!B$2701","v":3.1194971917868521}]
[3925.7674999999999,3.2847929000854501,2.0041847008576013,{"$f":"+B125/Spectre!B$2701","v":3.1362162637118436}]
[3926.7674999999999,3.3158864974975599,2.0231561593706644,{"$f":"+B126/Spectre!B$2701","v":3.1659034460905655}]
[3927.7674999999999,3.3400244712829599,2.0378837112261077,{"$f":"+B127/Spectre!B$2701","v":3.1889496192471292}]
[3928.7674999999999,3.3153743743896502,2.0228436923966275,{"$f":"+B128/Spectre!B$2701","v":3.1654144871610672}]
[3929.7674999999999,3.29097604751587,2.0079572886158346,{"$f":"+B129/Spectre!B$2701","v":3.1421197371185556}]
[3930.7674999999999,3.2755064964294398,{"$f":"+B130/F$1","v":1.9985186912492392},{"$f":"+B130/Spectre!B$2701","v":3.1273498995107349}]
[3931.7674999999999,3.2636349201202401,1.9912753634846965,{"$f":"+B131/Spectre!B$2701","v":3.1160152943075152}]
[3932.7674999999999,3.2478299140930198,1.9816320915219821,{"$f":"+B132/Spectre!B$2701","v":3.1009251749428079}]
[3933.7674999999999,3.2202491760253902,1.9648039702507549,{"$f":"+B133/Spectre!B$2701","v":3.0745919594482709}]
[3934.7674999999999,3.1924471855163601,1.9478408539367442,{"$f":"+B134/Spectre!B$2701","v":3.0480474991275868}]
[3935.7674999999999,3.1770391464233398,1.9384397875195452,{"$f":"+B135/Spectre!B$2701","v":3.0333363912235907}]
[3936.7674999999999,3.16334128379822,1.930082168776823,{"$f":"+B136/Spectre!B$2701","v":3.0202581056665698}]
[3937.7674999999999,3.1657404899597199,1.9315460212720463,{"$f":"+B137/Spectre!B$2701","v":3.0225487917501574}]
[3938.7674999999999,3.19299292564392,1.9481738320110304,{"$f":"+B138/Spectre!B$2701","v":3.0485685545231247}]
[3939.7674999999999,3.2190420627593999,1.9640674617360667,{"$f":"+B139/Spectre!B$2701","v":3.0734394459193837}]
[3940.7674999999999,3.2207937240600599,1.9651362209810639,{"$f":"+B140/Spectre!B$2701","v":3.0751118766712588}]
[3941.7674999999999,3.2206976413726802,1.9650775970562318,{"$f":"+B141/Spectre!B$2701","v":3.0750201399633483}]
[3942.7674999999999,3.2063231468200701,1.9563071378701586,{"$f":"+B142/Spectre!B$2701","v":3.0612958276642805}]
[3943.7674999999999,3.1791877746582,1.9397507523100577,{"$f":"+B143/Spectre!B$2701","v":3.0353878334361766}]
[3944.7674999999999,3.1548991203308101,1.9249312641754761,{"$f":"+B144/Spectre!B$2701","v":3.0121977952687011}]
[3945.7674999999999,3.15152859687805,1.9228747718049137,{"$f":"+B145/Spectre!B$2701","v":3.0089797261875439}]
[3946.7674999999999,3.1504359245300302,1.922208088312358,{"$f":"+B146/Spectre!B$2701","v":3.0079364772239097}]
[3947.7674999999999,3.1356039047241202,1.9131584745065535,{"$f":"+B147/Spectre!B$2701","v":2.9937753342983449}]
[3948.7674999999999,3.1126637458801301,1.8991617578827529,{"$f":"+B148/Spectre!B$2701","v":2.9718727969247456}]
[3949.7674999999999,3.0939364433288601,1.8877354748861566,{"$f":"+B149/Spectre!B$2701","v":2.9539925613594478}]
[3950.7674999999999,3.0897974967956499,1.8852101365857383,{"$f":"+B150/Spectre!B$2701","v":2.9500408262495266}]
[3951.7674999999999,3.0864360332489,1.8831591720294305,{"$f":"+B151/Spectre!B$2701","v":2.9468314072797899}]
[3952.7674999999999,3.0728383064270002,1.8748626501810719,{"$f":"+B152/Spectre!B$2701","v":2.9338487282173613}]
[3953.7674999999999,3.0552597045898402,1.8641372358441171,{"$f":"+B153/Spectre!B$2701","v":2.91706523572577}]
[3954.7674999999999,3.0377106666564901,1.8534298596378804,{"$f":"+B154/Spectre!B$2701","v":2.9003099699135366}]
[3955.7674999999999,3.0206241607665998,1.8430046928960928,{"$f":"+B155/Spectre!B$2701","v":2.8839963150525292}]
[3956.7674999999999,3.0040414333343501,1.8328869017204781,{"$f":"+B156/Spectre!B$2701","v":2.8681636519131364}]
[3957.7674999999999,3.0177071094512899,1.8412248821757249,{"$f":"+B157/Spectre!B$2701","v":2.8812112068111788}]
[3958.7674999999999,3.03944063186646,1.8544853812224369,{"$f":"+B158/Spectre!B$2701","v":2.901961685924924}]
[3959.7674999999999,3.05692458152771,1.865153044447333,{"$f":"+B159/Spectre!B$2701","v":2.918654807515666}]
[3960.7674999999999,3.0689024925231898,1.8724612512949399,{"$f":"+B160/Spectre!B$2701","v":2.9300909377107658}]
[3961.7674999999999,3.08001685142517,1.8792425701630517,{"$f":"+B161/Spectre!B$2701","v":2.9407025757072476}]
[3962.7674999999999,3.0808696746826199,1.8797629120467279,{"$f":"+B162/Spectre!B$2701","v":2.9415168243528824}]
[3963.7674999999999,3.0809028148651101,1.8797831322093836,{"$f":"+B163/Spectre!B$2701","v":2.9415484655498987}]
[3964.7674999999999,3.0654020309448198,1.8703254784304995,{"$f":"+B164/Spectre!B$2701","v":2.9267488078211472}]
[3965.7674999999999,3.0359768867492698,1.8523720105525958,{"$f":"+B165/Spectre!B$2701","v":2.8986546117499885}]
[3966.7674999999999,3.01578664779663,1.8400531310230865,{"$f":"+B166/Spectre!B$2701","v":2.879377610825562}]
[3967.7674999999999,3.0382552146911599,1.8537621103681896,{"$f":"+B167/Spectre!B$2701","v":2.900829887136525}]
[3968.7674999999999,3.0653283596038801,1.8702805285725039,{"$f":"+B168/Spectre!B$2701","v":2.9266784687572693}]
[3969.7674999999999,3.0664088726043701,1.8709397931564611,{"$f":"+B169/Spectre!B$2701","v":2.9277101083608499}]
[3970.7674999999999,3.0510666370391801,1.8615788761269865,{"$f":"+B170/Spectre!B$2701","v":2.9130618275818714}]
[3971.7674999999999,3.0360236167907702,1.8524005224366304,{"$f":"+B171/Spectre!B$2701","v":2.8986992281141295}]
[3972.7674999999999,3.0195858478546098,1.842371176289046,{"$f":"+B172/Spectre!B$2701","v":2.883004966757384}]
[3973.7674999999999,3.0030834674835201,1.832302408097721,{"$f":"+B173/Spectre!B$2701","v":2.8672490164481803}]
[3974.7674999999999,2.9918410778045699,1.8254429724861043,{"$f":"+B174/Spectre!B$2701","v":2.856515138719331}]
[3975.7674999999999,2.9820754528045699,1.8194845705975702,{"$f":"+B175/Spectre!B$2701","v":2.847191229151238}]
[3976.7674999999999,2.9891712665557901,1.8238140129073004,{"$f":"+B176/Spectre!B$2701","v":2.8539660874658268}]
[3977.7674999999999,3.0308978557586701,1.8492730887891333,{"$f":"+B177/Spectre!B$2701","v":2.8938053137634396}]
[3978.7674999999999,3.0712931156158398,1.8739198669135018,{"$f":"+B178/Spectre!B$2701","v":2.9323734289519576}]
[3979.7674999999999,3.0982980728149401,1.8903966810421318,{"$f":"+B179/Spectre!B$2701","v":2.9581569071025764}]
[3980.7674999999999,3.1217236518859899,1.9046895721348112,{"$f":"+B180/Spectre!B$2701","v":2.9805229083404572}]
[3981.7674999999999,3.14545750617981,1.9191705543808517,{"$f":"+B181/Spectre!B$2701","v":3.003183241000976}]
[3982.7674999999999,3.1695189476013201,1.9338514107527458,{"$f":"+B182/Spectre!B$2701","v":3.02615634347953}]
[3983.7674999999999,3.1943895816803001,1.9490259882186258,{"$f":"+B183/Spectre!B$2701","v":3.0499020374882129}]
[3984.7674999999999,3.2257828712463401,1.9681803010083951,{"$f":"+B184/Spectre!B$2701","v":3.0798753564471855}]
[3985.7674999999999,3.2583310604095499,1.9880392646465068,{"$f":"+B185/Spectre!B$2701","v":3.110951336977152}]
[3986.7674999999999,3.28603315353394,2.0049414295349508,{"$f":"+B186/Spectre!B$2701","v":3.1374004184377555}]
[3987.7674999999999,3.3088567256927499,2.0188670119174557,{"$f":"+B187/Spectre!B$2701","v":3.1591916425355056}]
[3988.7674999999999,3.3295564651489298,2.0314967582642449,{"$f":"+B188/Spectre!B$2701","v":3.1789550984098107}]
[3989.7674999999999,3.3354728221893302,2.0351065664396319,{"$f":"+B189/Spectre!B$2701","v":3.1846038487987767}]
[3990.7674999999999,3.3408567905425999,2.0383915427933146,{"$f":"+B190/Spectre!B$2701","v":3.1897442913248168}]
[3991.7674999999999,3.3433670997619598,2.0399231837475225,{"$f":"+B191/Spectre!B$2701","v":3.1921410550905009}]
[3992.7674999999999,3.3442146778106698,2.0404403253176846,{"$f":"+B192/Spectre!B$2701","v":3.192950295776896}]
[3993.7674999999999,3.3463399410247798,2.04173703416618,{"$f":"+B193/Spectre!B$2701","v":3.1949794298074119}]
[3994.7674999999999,3.3530418872833301,{"$f":"+B194/F$1","v":2.0458261620247451},{"$f":"+B194/Spectre!B$2701","v":3.2013782359099339}]
[3995.7674999999999,3.3595814704895002,2.0498162256331538,{"$f":"+B195/Spectre!B$2701","v":3.2076220229104946}]
[3996.7674999999999,3.3722944259643599,2.0575729127791638,{"$f":"+B196/Spectre!B$2701","v":3.2197599503028309}]
[3997.7674999999999,3.3872919082641602,2.0667234819294626,{"$f":"+B197/Spectre!B$2701","v":3.2340790715789822}]
[3998.7674999999999,3.4072680473327601,2.0789117304800642,{"$f":"+B198/Spectre!B$2701","v":3.2531516567125784}]
[3999.7674999999999,3.4397289752960201,2.0987174525388013,{"$f":"+B199/Spectre!B$2701","v":3.2841443230115424}]
[4000.7674999999999,3.4715240001678498,2.1181168802500125,{"$f":"+B200/Spectre!B$2701","v":3.3145012061214523}]
[4001.7674999999999,3.4474310874939,2.1034168219970337,{"$f":"+B201/Spectre!B$2701","v":3.2914980558874558}]
[4002.7674999999999,3.4130899906158398,2.0824639330121948,{"$f":"+B202/Spectre!B$2701","v":3.2587102638352157}]
[4003.7674999999999,3.3902547359466602,2.0685312226586849,{"$f":"+B203/Spectre!B$2701","v":3.2369078856464353}]
[4004.7674999999999,3.38652563095093,2.066255945218777,{"$f":"+B204/Spectre!B$2701","v":3.2333474542608238}]
[4005.7674999999999,3.3811063766479501,2.0629494394832686,{"$f":"+B205/Spectre!B$2701","v":3.2281733218271618}]
[4006.7674999999999,3.3649423122406001,2.0530870915136159,{"$f":"+B206/Spectre!B$2701","v":3.2127403848889764}]
[4007.7674999999999,3.3471548557281499,2.0422342465112733,{"$f":"+B207/Spectre!B$2701","v":3.1957574845658048}]
[4008.7674999999999,3.3471369743347199,2.0422233363515669,{"$f":"+B208/Spectre!B$2701","v":3.1957404119774866}]
[4009.7674999999999,3.3626255989074698,2.0516735712218459,{"$f":"+B209/Spectre!B$2701","v":3.2105284603461746}]
[4010.7674999999999,3.3751921653747599,2.0593409405270457,{"$f":"+B210/Spectre!B$2701","v":3.2225266201487925}]
[4011.7674999999999,3.3578178882598899,2.0487401929483546,{"$f":"+B211/Spectre!B$2701","v":3.2059382104330769}]
[4012.7674999999999,3.3408544063568102,2.0383900881053543,{"$f":"+B212/Spectre!B$2701","v":3.1897420149797084}]
[4013.7674999999999,3.3294477462768599,2.0314304244932209,{"$f":"+B213/Spectre!B$2701","v":3.1788512970728227}]
[4014.7674999999999,3.3213295936584499,2.0264772119857835,{"$f":"+B214/Spectre!B$2701","v":3.1711003419753214}]
[4015.7674999999999,3.32102251052856,2.0262898481763933,{"$f":"+B215/Spectre!B$2701","v":3.1708071487252245}]
[4016.7674999999999,3.3572232723236102,2.0483773937708638,{"$f":"+B216/Spectre!B$2701","v":3.2053704899627924}]
[4017.7674999999999,3.39415335655212,2.0709099284126178,{"$f":"+B217/Spectre!B$2701","v":3.2406301651693141}]
[4018.7674999999999,3.3992578983306898,2.0740244153372673,{"$f":"+B218/Spectre!B$2701","v":3.2455038200485395}]
[4019.7674999999999,3.3956034183502202,2.0717946696305418,{"$f":"+B219/Spectre!B$2701","v":3.242014638264854}]
[4020.7674999999999,3.3825299739837602,2.0638180336648193,{"$f":"+B220/Spectre!B$2701","v":3.2295325274919779}]
[4021.7674999999999,3.34982061386108,2.0438607331205407,{"$f":"+B221/Spectre!B$2701","v":3.1983026660326179}]
[4022.7674999999999,3.3166522979736301,2.0236234051437574,{"$f":"+B222/Spectre!B$2701","v":3.1666346081397001}]
[4023.7674999999999,3.33259797096252,2.0333525036961744,{"$f":"+B223/Spectre!B$2701","v":3.1818590318658613}]
[4024.7674999999999,3.35856986045837,2.0491990015312713,{"$f":"+B224/Spectre!B$2701","v":3.2066561696805751}]
[4025.7674999999999,3.3669161796569802,2.0542914276765831,{"$f":"+B225/Spectre!B$2701","v":3.2146249710050454}]
[4026.7674999999999,3.3518528938293501,2.04510070913856,{"$f":"+B226/Spectre!B$2701","v":3.2002430226038769}]
[4027.7674999999999,3.3376615047454798,2.0364419699878908,{"$f":"+B227/Spectre!B$2701","v":3.1866935336092008}]
[4028.7674999999999,3.32949018478394,2.0314563179389276,{"$f":"+B228/Spectre!B$2701","v":3.1788918160157698}]
[4029.7674999999999,3.3208358287811302,2.0261759461090461,{"$f":"+B229/Spectre!B$2701","v":3.1706289109031651}]
[4030.7674999999999,3.3284506797790501,2.0308220739878977,{"$f":"+B230/Spectre!B$2701","v":3.1778993295480658}]
[4031.7674999999999,3.3498167991638201,2.0438584056198064,{"$f":"+B231/Spectre!B$2701","v":3.1982990238804487}]
[4032.7674999999999,3.3680620193481401,2.0549905507106709,{"$f":"+B232/Spectre!B$2701","v":3.2157189824646197}]
[4033.7674999999999,3.3693535327911399,2.0557785551791854,{"$f":"+B233/Spectre!B$2701","v":3.2169520786103867}]
[4034.7674999999999,3.36891770362854,2.0555126382199007,{"$f":"+B234/Spectre!B$2701","v":3.2165359627243868}]
[4035.7674999999999,3.3747689723968501,2.0590827334139532,{"$f":"+B235/Spectre!B$2701","v":3.2221225688918702}]
[4036.7674999999999,3.3845202922821001,2.0650324071747188,{"$f":"+B236/Spectre!B$2701","v":3.231432820389303}]
[4037.7674999999999,3.39221858978271,2.0697294491322102,{"$f":"+B237/Spectre!B$2701","v":3.2387829111130371}]
[4038.7674999999999,3.3936078548431401,2.0705770958071281,{"$f":"+B238/Spectre!B$2701","v":3.2401093374082883}]
[4039.7674999999999,3.3945672512054399,2.0711624622426585,{"$f":"+B239/Spectre!B$2701","v":3.2410253386803052}]
[4040.7674999999999,3.4036495685577401,2.0767039505615541,{"$f":"+B240/Spectre!B$2701","v":3.2496968477400499}]
[4041.7674999999999,3.4167299270629901,2.0846848051223614,{"$f":"+B241/Spectre!B$2701","v":3.2621855599137395}]
[4042.7674999999999,3.42287302017212,2.0884329541228484,{"$f":"+B242/Spectre!B$2701","v":3.2680507907226128}]
[4043.7674999999999,3.4142901897430402,2.0831962229317984,{"$f":"+B243/Spectre!B$2701","v":3.2598561759632894}]
[4044.7674999999999,3.4061615467071502,2.0782366097973326,{"$f":"+B244/Spectre!B$2701","v":3.2520952049473077}]
[4045.7674999999999,3.41545534133911,2.0839071289383724,{"$f":"+B245/Spectre!B$2701","v":3.2609686258182524}]
[4046.7674999999999,3.4308731555938698,2.0933141595762099,{"$f":"+B246/Spectre!B$2701","v":3.2756890667371938}]
[4047.7674999999999,3.4363312721252401,2.0966443767254814,{"$f":"+B247/Spectre!B$2701","v":3.2809003035961366}]
[4048.7674999999999,3.4260945320129399,2.0903985284958431,{"$f":"+B248/Spectre!B$2701","v":3.2711265882344307}]
[4049.7674999999999,3.4158854484558101,2.0841695546465497,{"$f":"+B249/Spectre!B$2701","v":3.2613792784759887}]
[4050.7674999999999,3.4006428718566899,2.0748694435738511,{"$f":"+B250/Spectre!B$2701","v":3.246826148922588}]
[4051.7674999999999,3.3837599754333501,2.064568507183937,{"$f":"+B251/Spectre!B$2701","v":3.2307068939339207}]
[4052.7674999999999,3.38230276107788,2.0636794019021316,{"$f":"+B252/Spectre!B$2701","v":3.2293155918030556}]
[4053.7674999999999,3.3992779254913299,2.0740366347161374,{"$f":"+B253/Spectre!B$2701","v":3.2455229413474544}]
[4054.7674999999999,3.4100763797760001,2.0806252074294074,{"$f":"+B254/Spectre!B$2701","v":3.2558329636169407}]
[4055.7674999999999,3.38395428657532,2.0646870642527655,{"$f":"+B255/Spectre!B$2701","v":3.2308924160603389}]
[4056.7674999999999,3.3537080287933398,2.0462326018410675,{"$f":"+B256/Spectre!B$2701","v":3.2020142467334995}]
[4057.7674999999999,3.3380146026611301,2.0366574092749254,{"$f":"+B257/Spectre!B$2701","v":3.1870306603199037}]
[4058.7674999999999,3.3352072238922101,{"$f":"+B258/F$1","v":2.0349445142007685},{"$f":"+B258/Spectre!B$2701","v":3.1843502639535886}]
[4059.7674999999999,3.3310303688049299,2.0323960463617738,{"$f":"+B259/Spectre!B$2701","v":3.1803623349564347}]
[4060.7674999999999,3.3244214057922399,2.0283636513336969,{"$f":"+B260/Spectre!B$2701","v":3.1740523063131896}]
[4061.7674999999999,3.31753373146057,2.0241612032829646,{"$f":"+B261/Spectre!B$2701","v":3.1674761729266456}]
[4062.7674999999999,3.3234391212463401,2.0277643198937358,{"$f":"+B262/Spectre!B$2701","v":3.1731144521281163}]
[4063.7674999999999,3.33644318580627,2.0356986244397848,{"$f":"+B263/Spectre!B$2701","v":3.1855303212582982}]
[4064.7674999999999,3.3431985378265399,2.0398203373086781,{"$f":"+B264/Spectre!B$2701","v":3.1919801174912714}]
[4065.7674999999999,3.3275730609893799,2.0302866033494302,{"$f":"+B265/Spectre!B$2701","v":3.1770614069132987}]
[4066.7674999999999,3.3131484985351598,2.0214855957161757,{"$f":"+B266/Spectre!B$2701","v":3.1632892913669353}]
[4067.7674999999999,3.2813127040863002,2.0020612928408279,{"$f":"+B267/Spectre!B$2701","v":3.1328934827556516}]
[4068.7674999999999,3.2438611984252899,1.9792106179419853,{"$f":"+B268/Spectre!B$2701","v":3.0971359708736994}]
[4069.7674999999999,3.2227468490600599,1.9663279013587707,{"$f":"+B269/Spectre!B$2701","v":3.0769766585848775}]
[4070.7674999999999,3.2430689334869398,1.9787272251325252,{"$f":"+B270/Spectre!B$2701","v":3.0963795413938509}]
[4071.7674999999999,3.2610774040222199,1.9897149197088604,{"$f":"+B271/Spectre!B$2701","v":3.1135734589086663}]
[4072.7674999999999,3.2537820339202899,1.985263720016788,{"$f":"+B272/Spectre!B$2701","v":3.1066080705084191}]
[4073.7674999999999,3.2431294918060298,1.9787641742067352,{"$f":"+B273/Spectre!B$2701","v":3.0964373605596278}]
[4074.7674999999999,3.2311980724334699,1.9714843337743662,{"$f":"+B274/Spectre!B$2701","v":3.0850456190941569}]
[4075.7674999999999,3.2175543308258101,1.9631597364483628,{"$f":"+B275/Spectre!B$2701","v":3.0720190065711233}]
[4076.7674999999999,3.2041049003601101,1.9549536961911818,{"$f":"+B276/Spectre!B$2701","v":3.0591779161744981}]
[4077.7674999999999,3.1663744449615501,1.9319328228008936,{"$f":"+B277/Spectre!B$2701","v":3.0231540719147456}]
[4078.7674999999999,3.1257948875427202,1.9071735972971258,{"$f":"+B278/Spectre!B$2701","v":2.9844099952492571}]
[4079.7674999999999,3.1081972122192401,1.8964365454564875,{"$f":"+B279/Spectre!B$2701","v":2.9676082919967985}]
[4080.7674999999999,3.1103892326354998,1.8977739855678932,{"$f":"+B280/Spectre!B$2701","v":2.9697011636903787}]
[4081.7674999999999,3.1080436706543,1.8963428635517956,{"$f":"+B281/Spectre!B$2701","v":2.9674616953717545}]
[4082.7674999999999,3.0665054321289098,1.8709987080188866,{"$f":"+B282/Spectre!B$2701","v":2.9278023003377842}]
[4083.7674999999999,3.0218920707702601,1.8437782959537876,{"$f":"+B283/Spectre!B$2701","v":2.8852068753817051}]
[4084.7674999999999,3.0042686462402299,1.8330255334831653,{"$f":"+B284/Spectre!B$2701","v":2.8683805876020583}]
[4085.7674999999999,3.00192093849182,1.8315931022479037,{"$f":"+B285/Spectre!B$2701","v":2.8661390705728373}]
[4086.7674999999999,3.0047657489776598,1.83332883592305,{"$f":"+B286/Spectre!B$2701","v":2.8688552055573706}]
[4087.7674999999999,3.0307426452636701,1.8491783886028648,{"$f":"+B287/Spectre!B$2701","v":2.8936571236968129}]
[4088.7674999999999,3.05741667747498,1.8654532920425002,{"$f":"+B288/Spectre!B$2701","v":2.9191246451462498}]
[4089.7674999999999,3.0789260864257799,1.8785770504208628,{"$f":"+B289/Spectre!B$2701","v":2.9396611478196979}]
[4090.7674999999999,3.0989198684692401,1.89077606366238,{"$f":"+B290/Spectre!B$2701","v":2.9587505779071099}]
[4091.7674999999999,3.1066036224365199,1.8954642320233064,{"$f":"+B291/Spectre!B$2701","v":2.9660867829256721}]
[4092.7674999999999,3.0850427150726301,1.8823090523849821,{"$f":"+B292/Spectre!B$2701","v":2.9455011111978573}]
[4093.7674999999999,3.0630686283111599,1.8689017753230066,{"$f":"+B293/Spectre!B$2701","v":2.9245209488625865}]
[4094.7674999999999,3.0566973686218302,1.8650144126846457,{"$f":"+B294/Spectre!B$2701","v":2.9184378718267441}]
[4095.7674999999999,3.0554013252258301,1.8642236443090068,{"$f":"+B295/Spectre!B$2701","v":2.9172004506252716}]
[4096.7674999999999,3.0479602813720699,1.8596835631825135,{"$f":"+B296/Spectre!B$2701","v":2.9100959775388411}]
[4097.7674999999999,3.0309319496154798,1.8492938908269756,{"$f":"+B297/Spectre!B$2701","v":2.8938378654985022}]
[4098.7674999999999,3.0147218704223602,1.8394034673796722,{"$f":"+B298/Spectre!B$2701","v":2.8783609950997029}]
[4099.7674999999999,3.0121304988861102,1.8378223670347906,{"$f":"+B299/Spectre!B$2701","v":2.8758868356003031}]
[4100.7674999999999,3.0128138065338099,1.8382392806044294,{"$f":"+B300/Spectre!B$2701","v":2.8765392361086515}]
[4101.7674999999999,3.0104558467864999,1.836800594210936,{"$f":"+B301/Spectre!B$2701","v":2.8742879307954614}]
[4102.7674999999999,3.0043642520904501,1.8330838664704046,{"$f":"+B302/Spectre!B$2701","v":2.8684718690409454}]
[4103.7674999999999,2.9954459667205802,1.8276424606832358,{"$f":"+B303/Spectre!B$2701","v":2.8599569725247354}]
[4104.7674999999999,2.9635581970214799,1.8081864456103389,{"$f":"+B304/Spectre!B$2701","v":2.8295115395900701}]
[4105.7674999999999,2.9272513389587398,1.7860341664016073,{"$f":"+B305/Spectre!B$2701","v":2.7948469009951435}]
[4106.7674999999999,2.9128162860870401,1.7772267581413244,{"$f":"+B306/Spectre!B$2701","v":2.7810647695302992}]
[4107.7674999999999,2.9192755222320601,1.7811677987654497,{"$f":"+B307/Spectre!B$2701","v":2.7872318437006798}]
[4108.7674999999999,2.9305822849273699,1.7880665109520166,{"$f":"+B308/Spectre!B$2701","v":2.798027182747485}]
[4109.7674999999999,2.97419309616089,1.8146752267294819,{"$f":"+B309/Spectre!B$2701","v":2.8396654045850549}]
[4110.7674999999999,3.0206725597381601,1.8430342230617041,{"$f":"+B310/Spectre!B$2701","v":2.8840425248582524}]
[4111.7674999999999,3.04482126235962,1.8577683210129723,{"$f":"+B311/Spectre!B$2701","v":2.907098941567809}]
[4112.7674999999999,3.05269455909729,1.8625721370668062,{"$f":"+B312/Spectre!B$2701","v":2.9146161160225725}]
[4113.7674999999999,3.06169629096985,1.868064456932615,{"$f":"+B313/Spectre!B$2701","v":2.9232106846176156}]
[4114.7674999999999,3.07104468345642,1.8737682884279609,{"$f":"+B314/Spectre!B$2701","v":2.932136233791562}]
[4115.7674999999999,3.0803804397582999,1.8794644100771145,{"$f":"+B315/Spectre!B$2701","v":2.9410497183364308}]
[4116.7674999999999,3.0880827903747599,1.8841639250041433,{"$f":"+B316/Spectre!B$2701","v":2.9484036788468559}]
[4117.7674999999999,3.0950148105621298,1.8883934302509435,{"$f":"+B317/Spectre!B$2701","v":2.9550221522524218}]
[4118.7674999999999,3.1043019294738801,1.8940598762656955,{"$f":"+B318/Spectre!B$2701","v":2.963889199357066}]
[4119.7674999999999,3.12105464935303,1.9042813866929349,{"$f":"+B319/Spectre!B$2701","v":2.9798841659027593}]
[4120.7674999999999,3.13769435882568,1.9144339449108161,{"$f":"+B320/Spectre!B$2701","v":2.9957712336902622}]
[4121.7674999999999,3.14030241966248,1.9160252280714332,{"$f":"+B321/Spectre!B$2701","v":2.99826132760544}]
[4122.7674999999999,3.1390526294708301,{"$f":"+B322/F$1","v":1.9152626806422417},{"$f":"+B322/Spectre!B$2701","v":2.9970680674990939}]
[4123.7674999999999,3.1390366554260298,1.9152529342329023,{"$f":"+B323/Spectre!B$2701","v":2.9970528159868608}]
[4124.7674999999999,3.1421480178832999,1.9171513020220927,{"$f":"+B324/Spectre!B$2701","v":3.0000234463546196}]
[4125.7674999999999,3.14443707466125,1.9185479479335115,{"$f":"+B325/Spectre!B$2701","v":3.0022089652941486}]
[4126.7674999999999,3.1672301292419398,1.9324549103101174,{"$f":"+B326/Spectre!B$2701","v":3.0239710521745029}]
[4127.7674999999999,3.1934828758239702,1.9484727703870277,{"$f":"+B327/Spectre!B$2701","v":3.0490363434431025}]
[4128.7674999999999,3.1986615657806401,1.9516324981072661,{"$f":"+B328/Spectre!B$2701","v":3.05398079265523}]
[4129.7674999999999,3.1749913692474401,1.9371903560297861,{"$f":"+B329/Spectre!B$2701","v":3.0313812384091321}]
[4130.7674999999999,3.1538774967193599,1.9243079303841586,{"$f":"+B330/Spectre!B$2701","v":3.0112223813893242}]
[4131.7674999999999,3.18288969993591,1.9420094463072077,{"$f":"+B331/Spectre!B$2701","v":3.0389223144875386}]
[4132.7674999999999,3.2156279087066699,1.9619843485758204,{"$f":"+B332/Spectre!B$2701","v":3.0701797197227303}]
[4133.7674999999999,3.2280716896057098,1.9695768014510171,{"$f":"+B333/Spectre!B$2701","v":3.0820606477522023}]
[4134.7674999999999,3.2227685451507599,1.9663411390192176,{"$f":"+B334/Spectre!B$2701","v":3.0769973733253746}]
[4135.7674999999999,3.2176027297973602,1.9631892666139679,{"$f":"+B335/Spectre!B$2701","v":3.0720652163768367}]
[4136.7674999999999,3.2081356048584002,1.9574129916581626,{"$f":"+B336/Spectre!B$2701","v":3.0630263052164448}]
[4137.7674999999999,3.19695997238159,1.9505942873094506,{"$f":"+B337/Spectre!B$2701","v":3.0523561651506506}]
[4138.7674999999999,3.2066080570220898,1.9564809730815023,{"$f":"+B338/Spectre!B$2701","v":3.0615678509048476}]
[4139.7674999999999,3.2282624244689901,1.969693176487902,{"$f":"+B339/Spectre!B$2701","v":3.0822427553609533}]
[4140.7674999999999,3.2452042102813698,1.9800300436704554,{"$f":"+B340/Spectre!B$2701","v":3.0984182360738242}]
[4141.7674999999999,3.2441394329071001,1.9793803800270411,{"$f":"+B341/Spectre!B$2701","v":3.0974016203479651}]
[4142.7674999999999,3.2421009540557901,1.9781366218203331,{"$f":"+B342/Spectre!B$2701","v":3.0954553452794378}]
[4143.7674999999999,3.2479670047760001,1.9817157360797417,{"$f":"+B343/Spectre!B$2701","v":3.1010560647865955}]
[4144.7674999999999,3.2575867176055899,1.9875851110650584,{"$f":"+B344/Spectre!B$2701","v":3.1102406620339935}]
[4145.7674999999999,3.2621908187866202,1.9903942589866765,{"$f":"+B345/Spectre!B$2701","v":3.1146365120747515}]
[4146.7674999999999,3.2545750141143799,1.985747549232638,{"$f":"+B346/Spectre!B$2701","v":3.1073651828918032}]
[4147.7674999999999,3.2466993331909202,1.9809422784908437,{"$f":"+B347/Spectre!B$2701","v":3.0998457320919317}]
[4148.7674999999999,3.2444798946380602,1.9795881094678835,{"$f":"+B348/Spectre!B$2701","v":3.0977266824295899}]
[4149.7674999999999,3.24414134025574,1.9793815437774143,{"$f":"+B349/Spectre!B$2701","v":3.0974034414240594}]
[4150.7674999999999,3.2467489242553702,1.980972536000432,{"$f":"+B350/Spectre!B$2701","v":3.099893080070204}]
[4151.7674999999999,3.2550029754638699,1.9860086657216514,{"$f":"+B351/Spectre!B$2701","v":3.1077737868389423}]
[4152.7674999999999,3.2632927894592298,1.9910666157622836,{"$f":"+B352/Spectre!B$2701","v":3.115688638784317}]
[4153.7674999999999,3.27371048927307,1.9974228748081682,{"$f":"+B353/Spectre!B$2701","v":3.1256351287398281}]
[4154.7674999999999,3.2850136756896999,2.0043194049627973,{"$f":"+B354/Spectre!B$2701","v":3.1364270532689753}]
[4155.7674999999999,3.2889807224273699,2.0067398602612174,{"$f":"+B355/Spectre!B$2701","v":3.1402146638965016}]
[4156.7674999999999,3.28201103210449,2.0024873709446256,{"$f":"+B356/Spectre!B$2701","v":3.1335602242381952}]
[4157.7674999999999,3.2760579586029102,1.9988551605746392,{"$f":"+B357/Spectre!B$2701","v":3.1278764181345471}]
[4158.7674999999999,3.2764077186584499,1.9990685632985266,{"$f":"+B358/Spectre!B$2701","v":3.1282103579620935}]
[4159.7674999999999,3.27804756164551,2.000069097678149,{"$f":"+B359/Spectre!B$2701","v":3.1297760281283367}]
[4160.7674999999999,3.2720026969909699,1.9963808818216577,{"$f":"+B360/Spectre!B$2701","v":3.1240045827379705}]
[4161.7674999999999,3.2567980289459202,1.9871039002875361,{"$f":"+B361/Spectre!B$2701","v":3.1094876470718029}]
[4162.7674999999999,3.2445666790008501,1.9796410601096643,{"$f":"+B362/Spectre!B$2701","v":3.0978095413915692}]
[4163.7674999999999,3.25380659103394,1.9852787033027885,{"$f":"+B363/Spectre!B$2701","v":3.1066315168630485}]
[4164.7674999999999,3.2651059627532999,1.9921729059566773,{"$f":"+B364/Spectre!B$2701","v":3.1174197992400168}]
[4165.7674999999999,3.2583274841308598,1.988037082614563,{"$f":"+B365/Spectre!B$2701","v":3.1109479224594847}]
[4166.7674999999999,3.23569631576538,1.9742288935505135,{"$f":"+B366/Spectre!B$2701","v":3.0893403994120581}]
[4167.7674999999999,3.2174017429351802,1.9630666364188516,{"$f":"+B367/Spectre!B$2701","v":3.0718733204841171}]
[4168.7674999999999,3.2247841358184801,1.9675709322215016,{"$f":"+B368/Spectre!B$2701","v":3.0789217954808552}]
[4169.7674999999999,3.2322299480438201,1.9721139227239155,{"$f":"+B369/Spectre!B$2701","v":3.0860308212575025}]
[4170.7674999999999,3.23445820808411,1.9734734740923336,{"$f":"+B370/Spectre!B$2701","v":3.0881582933967522}]
[4171.7674999999999,3.2332842350006099,1.9727571857403015,{"$f":"+B371/Spectre!B$2701","v":3.0870374210648808}]
[4172.7674999999999,3.2295076847076398,1.9704529600099689,{"$f":"+B372/Spectre!B$2701","v":3.0834316904115937}]
[4173.7674999999999,3.2099559307098402,1.9585236459164377,{"$f":"+B373/Spectre!B$2701","v":3.0647642947074698}]
[4174.7674999999999,3.1890199184417698,1.9457497399927057,{"$f":"+B374/Spectre!B$2701","v":3.0447752530328227}]
[4175.7674999999999,3.1970150470733598,1.9506278906013497,{"$f":"+B375/Spectre!B$2701","v":3.0524087487226752}]
[4176.7674999999999,3.2139017581939702,1.9609311544920045,{"$f":"+B376/Spectre!B$2701","v":3.0685316458635219}]
[4177.7674999999999,3.2329003810882599,1.9725229809785716,{"$f":"+B377/Spectre!B$2701","v":3.0866709295022714}]
[4178.7674999999999,3.25716328620911,1.9873267584831755,{"$f":"+B378/Spectre!B$2701","v":3.1098363831425688}]
[4179.7674999999999,3.2826795578002899,2.0028952654489083,{"$f":"+B379/Spectre!B$2701","v":3.1341985114068693}]
[4180.7674999999999,3.2728633880615199,1.9969060241755994,{"$f":"+B380/Spectre!B$2701","v":3.1248263433224568}]
[4181.7674999999999,3.2549011707305899,1.9859465505457115,{"$f":"+B381/Spectre!B$2701","v":3.1076765869027678}]
[4182.7674999999999,3.2430329322814901,1.9787052593443097,{"$f":"+B382/Spectre!B$2701","v":3.0963451685826939}]
[4183.7674999999999,3.24212622642517,1.9781520415127176,{"$f":"+B383/Spectre!B$2701","v":3.0954794745375929}]
[4184.7674999999999,3.2409553527832,1.9774376442550357,{"$f":"+B384/Spectre!B$2701","v":3.0943615614543654}]
[4185.7674999999999,3.2395892143249498,1.976604108053345,{"$f":"+B385/Spectre!B$2701","v":3.0930572157066822}]
[4186.7674999999999,3.2380230426788299,{"$f":"+B386/F$1","v":1.9756485235317183},{"$f":"+B386/Spectre!B$2701","v":3.0915618846043174}]
[4187.7674999999999,3.2384769916534402,1.9759254961195063,{"$f":"+B387/Spectre!B$2701","v":3.0919953007131475}]
[4188.7674999999999,3.2413494586944598,1.9776781041750033,{"$f":"+B388/Spectre!B$2701","v":3.0947378413009536}]
[4189.7674999999999,3.2440111637115501,1.9793021178147396,{"$f":"+B389/Spectre!B$2701","v":3.0972791529810859}]
[4190.7674999999999,3.24528908729553,1.9800818305618695,{"$f":"+B390/Spectre!B$2701","v":3.0984992739597188}]
[4191.7674999999999,3.2467076778411901,1.9809473698987083,{"$f":"+B391/Spectre!B$2701","v":3.0998536992998158}]
[4192.7674999999999,3.2411692142486599,1.9775681297651471,{"$f":"+B392/Spectre!B$2701","v":3.094565749610684}]
[4193.7674999999999,3.2289340496063201,1.9701029620865353,{"$f":"+B393/Spectre!B$2701","v":3.0828840017782713}]
[4194.7674999999999,3.2190706729888898,1.9640849179915982,{"$f":"+B394/Spectre!B$2701","v":3.0734667620606944}]
[4195.7674999999999,3.22212910652161,1.9659509917080593,{"$f":"+B395/Spectre!B$2701","v":3.0763868575670346}]
[4196.7674999999999,3.2263519763946502,1.9685275350246987,{"$f":"+B396/Spectre!B$2701","v":3.0804187200247934}]
[4197.7674999999999,3.23943424224854,1.9765095533358792,{"$f":"+B397/Spectre!B$2701","v":3.0929092532745774}]
[4198.7674999999999,3.25967240333557,1.9888576720934004,{"$f":"+B398/Spectre!B$2701","v":3.1122320087356941}]
[4199.7674999999999,3.2762718200683598,1.9989856460847444,{"$f":"+B399/Spectre!B$2701","v":3.1280806062908555}]
[4200.7674999999999,3.2781820297241202,2.0001511420791513,{"$f":"+B400/Spectre!B$2701","v":3.1299044139925036}]
[4201.7674999999999,3.2794816493988002,2.0009440924867277,{"$f":"+B401/Spectre!B$2701","v":3.1311452497116341}]
[4202.7674999999999,3.2691464424133301,1.9946381656442966,{"$f":"+B402/Spectre!B$2701","v":3.1212775212969093}]
[4203.7674999999999,3.2514855861663801,1.9838625645726851,{"$f":"+B403/Spectre!B$2701","v":3.1044154948990439}]
[4204.7674999999999,3.2404334545135498,1.9771192130603599,{"$f":"+B404/Spectre!B$2701","v":3.0938632695099213}]
[4205.7674999999999,3.2537496089935298,1.9852439362605161,{"$f":"+B405/Spectre!B$2701","v":3.106577112214929}]
[4206.7674999999999,3.26694560050964,1.9932953431874327,{"$f":"+B406/Spectre!B$2701","v":3.1191762271264207}]
[4207.7674999999999,3.2644426822662398,1.9917682117659086,{"$f":"+B407/Spectre!B$2701","v":3.1167865200305824}]
[4208.7674999999999,3.2549123764038099,1.98595338757913,{"$f":"+B408/Spectre!B$2701","v":3.1076872857247841}]
[4209.7674999999999,3.24696016311646,1.9811014213537863,{"$f":"+B409/Spectre!B$2701","v":3.1000947642469021}]
[4210.7674999999999,3.2434494495391801,1.978959393331108,{"$f":"+B410/Spectre!B$2701","v":3.0967428460733051}]
[4211.7674999999999,3.2401323318481401,1.9769354859708743,{"$f":"+B411/Spectre!B$2701","v":3.0935757671226001}]
[4212.7674999999999,3.2231330871582,1.9665635608084611,{"$f":"+B412/Spectre!B$2701","v":3.0773454264925957}]
[4213.7674999999999,3.2025964260101301,1.9540333151182112,{"$f":"+B413/Spectre!B$2701","v":3.0577376726237779}]
[4214.7674999999999,3.1941227912902801,1.9488632086357791,{"$f":"+B414/Spectre!B$2701","v":3.0496473144704659}]
[4215.7674999999999,3.2137925624847399,1.9608645297833864,{"$f":"+B415/Spectre!B$2701","v":3.06842738925751}]
[4216.7674999999999,3.2329838275909402,1.9725738950572058,{"$f":"+B416/Spectre!B$2701","v":3.086750601581095}]
[4217.7674999999999,3.2074275016784699,1.9569809493337262,{"$f":"+B417/Spectre!B$2701","v":3.062350230718955}]
[4218.7674999999999,3.1752576828002899,1.9373528446750332,{"$f":"+B418/Spectre!B$2701","v":3.0316355061578455}]
[4219.7674999999999,3.1640443801879901,1.9305111562565418,{"$f":"+B419/Spectre!B$2701","v":3.0209293998393307}]
[4220.7674999999999,3.1827926635742201,1.9419502405071949,{"$f":"+B420/Spectre!B$2701","v":3.0388296672415902}]
[4221.7674999999999,3.19986867904663,1.9523690066219541,{"$f":"+B421/Spectre!B$2701","v":3.0551333061841168}]
[4222.7674999999999,3.2028648853302002,1.9541971129826285,{"$f":"+B422/Spectre!B$2701","v":3.0579939890830978}]
[4223.7674999999999,3.20472288131714,1.9553307513106897,{"$f":"+B423/Spectre!B$2701","v":3.0597679448268527}]
[4224.7674999999999,3.2018177509307901,1.95355821403013,{"$f":"+B424/Spectre!B$2701","v":3.0569942183110541}]
[4225.7674999999999,3.1945958137512198,1.9491518187272563,{"$f":"+B425/Spectre!B$2701","v":3.0500989413401727}]
[4226.7674999999999,3.1888473033904998,1.9456444205843242,{"$f":"+B426/Spectre!B$2701","v":3.0446104456469016}]
[4227.7674999999999,3.1950154304504399,1.949407843808405,{"$f":"+B427/Spectre!B$2701","v":3.0504995780794277}]
[4228.7674999999999,3.2025730609893799,1.9540190591761939,{"$f":"+B428/Spectre!B$2701","v":3.0577153644417074}]
[4229.7674999999999,3.2079029083252002,1.9572710141131642,{"$f":"+B429/Spectre!B$2701","v":3.0628041339337706}]
[4230.7674999999999,3.2114903926849401,1.9594598830881822,{"$f":"+B430/Spectre!B$2701","v":3.0662293504198801}]
[4231.7674999999999,3.2124457359314,1.9600427765541821,{"$f":"+B431/Spectre!B$2701","v":3.0671414819052156}]
[4232.7674999999999,3.2006680965423602,1.9528567634953018,{"$f":"+B432/Spectre!B$2701","v":3.0558965646993004}]
[4233.7674999999999,3.1873376369476301,1.9447233121673768,{"$f":"+B433/Spectre!B$2701","v":3.0431690639236324}]
[4234.7674999999999,3.1879043579101598,1.9450690914957258,{"$f":"+B434/Spectre!B$2701","v":3.0437101511561413}]
[4235.7674999999999,3.1980299949646001,1.9512471512663794,{"$f":"+B435/Spectre!B$2701","v":3.0533777888357503}]
[4236.7674999999999,3.1991226673126198,1.9519138347589351,{"$f":"+B436/Spectre!B$2701","v":3.054421037799385}]
[4237.7674999999999,3.1694574356079102,1.9338138798033493,{"$f":"+B437/Spectre!B$2701","v":3.0260976137757059}]
[4238.7674999999999,3.1384432315826398,1.9148908623993888,{"$f":"+B438/Spectre!B$2701","v":2.9964862336891258}]
[4239.7674999999999,3.13754057884216,1.9143401175373276,{"$f":"+B439/Spectre!B$2701","v":2.9956244094307065}]
[4240.7674999999999,3.1534965038299601,1.9240754712479826,{"$f":"+B440/Spectre!B$2701","v":3.0108586214408466}]
[4241.7674999999999,3.1669361591339098,1.9322755472845192,{"$f":"+B441/Spectre!B$2701","v":3.0236903788225162}]
[4242.7674999999999,3.1752901077270499,1.9373726284313051,{"$f":"+B442/Spectre!B$2701","v":3.0316664644513356}]
[4243.7674999999999,3.1837401390075701,1.9425283335029235,{"$f":"+B443/Spectre!B$2701","v":3.0397342867880655}]
[4244.7674999999999,3.17471575737,1.9370221941014873,{"$f":"+B444/Spectre!B$2701","v":3.031118092914487}]
[4245.7674999999999,3.15884184837341,1.9273368816566925,{"$f":"+B445/Spectre!B$2701","v":3.0159621871761093}]
[4246.7674999999999,3.1516809463500999,1.9229677263656284,{"$f":"+B446/Spectre!B$2701","v":3.0091251846400384}]
[4247.7674999999999,3.168301820755,1.9331087925486166,{"$f":"+B447/Spectre!B$2701","v":3.024994269301176}]
[4248.7674999999999,3.18383741378784,1.9425876847717329,{"$f":"+B448/Spectre!B$2701","v":3.0398271616685255}]
[4249.7674999999999,3.1851544380188002,1.9433912544014289,{"$f":"+B449/Spectre!B$2701","v":3.0410846147069597}]
[4250.7674999999999,3.1832232475280802,{"$f":"+B450/F$1","v":1.9422129571529654},{"$f":"+B450/Spectre!B$2701","v":3.0392407751683503}]
[4251.7674999999999,3.1865859031677202,1.9442646490532505,{"$f":"+B451/Spectre!B$2701","v":3.0424513323106366}]
[4252.7674999999999,3.2011694908142099,1.9531626843735137,{"$f":"+B452/Spectre!B$2701","v":3.0563752800758057}]
[4253.7674999999999,3.2155215740203902,1.9619194694927564,{"$f":"+B453/Spectre!B$2701","v":3.0700781947308506}]
[4254.7674999999999,3.2127013206481898,1.9601987191036043,{"$f":"+B454/Spectre!B$2701","v":3.0673855061009365}]
[4255.7674999999999,3.2079093456268302,1.9572749417706556,{"$f":"+B455/Spectre!B$2701","v":3.0628102800655603}]
[4256.7674999999999,3.20885229110718,1.9578502708592598,{"$f":"+B456/Spectre!B$2701","v":3.0637105745563304}]
[4257.7674999999999,3.2171084880828902,1.9628877097996431,{"$f":"+B457/Spectre!B$2701","v":3.0715933300356659}]
[4258.7674999999999,3.2240695953369101,1.967134962239568,{"$f":"+B458/Spectre!B$2701","v":3.0782395748515663}]
[4259.7674999999999,3.1990151405334499,1.9518482283318939,{"$f":"+B459/Spectre!B$2701","v":3.0543183746349558}]
[4260.7674999999999,3.1695899963378902,1.9338947604539842,{"$f":"+B460/Spectre!B$2701","v":3.0262241785637878}]
[4261.7674999999999,3.1569750308990501,1.9261978609831796,{"$f":"+B461/Spectre!B$2701","v":3.0141798089554559}]
[4262.7674999999999,3.1601607799529998,1.9281416150367554,{"$f":"+B462/Spectre!B$2701","v":3.0172214612906281}]
[4263.7674999999999,3.16270208358765,1.9296921669344616,{"$f":"+B463/Spectre!B$2701","v":3.0196478175427415}]
[4264.7674999999999,3.1633331775665301,1.9300772228377552,{"$f":"+B464/Spectre!B$2701","v":3.0202503660931974}]
[4265.7674999999999,3.1640381813049299,1.9305073740678409,{"$f":"+B465/Spectre!B$2701","v":3.0209234813420429}]
[4266.7674999999999,3.1601312160491899,1.9281235769060372,{"$f":"+B466/Spectre!B$2701","v":3.0171932346112706}]
[4267.7674999999999,3.1526870727539098,1.9235816046851999,{"$f":"+B467/Spectre!B$2701","v":3.0100858022762056}]
[4268.7674999999999,3.1440370082855198,1.9183038512936457,{"$f":"+B468/Spectre!B$2701","v":3.0018269945847935}]
[4269.7674999999999,3.1291866302490199,1.9092430363905415,{"$f":"+B469/Spectre!B$2701","v":2.9876483238018872}]
[4270.7674999999999,3.1137096881866499,1.8997999294912742,{"$f":"+B470/Spectre!B$2701","v":2.9728714295242393}]
[4271.7674999999999,3.1003801822662398,1.8916670600385357,{"$f":"+B471/Spectre!B$2701","v":2.9601448392866185}]
[4272.7674999999999,3.0883650779724099,1.8843361600587301,{"$f":"+B472/Spectre!B$2701","v":2.9486731981078025}]
[4273.7674999999999,3.0825765132904102,1.8808043231580576,{"$f":"+B473/Spectre!B$2701","v":2.9431464598167025}]
[4274.7674999999999,3.1006846427917498,1.8918528236911625,{"$f":"+B474/Spectre!B$2701","v":2.9604355285570865}]
[4275.7674999999999,3.1198158264160201,1.9035255308283652,{"$f":"+B475/Spectre!B$2701","v":2.9787013769839179}]
[4276.7674999999999,3.1212348937988299,1.9043913611027912,{"$f":"+B476/Spectre!B$2701","v":2.9800562575930289}]
[4277.7674999999999,3.11232566833496,1.8989554831298709,{"$f":"+B477/Spectre!B$2701","v":2.9715500111882291}]
[4278.7674999999999,3.1029462814331099,1.8932327406910332,{"$f":"+B478/Spectre!B$2701","v":2.9625948695278637}]
[4279.7674999999999,3.08989405632019,1.885269051448164,{"$f":"+B479/Spectre!B$2701","v":2.9501330182264609}]
[4280.7674999999999,3.07681083679199,1.8772864512618028,{"$f":"+B480/Spectre!B$2701","v":2.937641574438639}]
[4281.7674999999999,3.0680482387542698,1.8719400365984897,{"$f":"+B481/Spectre!B$2701","v":2.9292753232580693}]
[4282.7674999999999,3.06103610992432,1.8676616538361968,{"$f":"+B482/Spectre!B$2701","v":2.9225803646568256}]
[4283.7674999999999,3.0532608032226598,1.8629176254575621,{"$f":"+B483/Spectre!B$2701","v":2.9151567479860576}]
[4284.7674999999999,3.0433402061462398,1.8568646688515562,{"$f":"+B484/Spectre!B$2701","v":2.90568487598585}]
[4285.7674999999999,3.0328509807586701,1.8504647691668401,{"$f":"+B485/Spectre!B$2701","v":2.8956700956770582}]
[4286.7674999999999,3.0377640724182098,1.8534624446482091,{"$f":"+B486/Spectre!B$2701","v":2.9003609600439879}]
[4287.7674999999999,3.04634761810303,1.8586996122456492,{"$f":"+B487/Spectre!B$2701","v":2.9085562577068473}]
[4288.7674999999999,3.0449457168579102,1.8578442557245396,{"$f":"+B488/Spectre!B$2701","v":2.907217766782519}]
[4289.7674999999999,3.0202217102050799,1.8427591415682667,{"$f":"+B489/Spectre!B$2701","v":2.8836120679980661}]
[4290.7674999999999,2.9968628883361799,1.8285069817384978,{"$f":"+B490/Spectre!B$2701","v":2.8613098044232497}]
[4291.7674999999999,2.9842362403869598,1.8208029542966815,{"$f":"+B491/Spectre!B$2701","v":2.8492542807238777}]
[4292.7674999999999,2.9724578857421902,1.8136165048314175,{"$f":"+B492/Spectre!B$2701","v":2.8380086806144367}]
[4293.7674999999999,2.9700803756713898,1.8121658899966409,{"$f":"+B493/Spectre!B$2701","v":2.8357387092713457}]
[4294.7674999999999,2.98051953315735,1.8185352412341755,{"$f":"+B494/Spectre!B$2701","v":2.8457056863328418}]
[4295.7674999999999,2.99002265930176,1.8243334819781964,{"$f":"+B495/Spectre!B$2701","v":2.8547789703043911}]
[4296.7674999999999,2.98168992996216,1.8192493475542639,{"$f":"+B496/Spectre!B$2701","v":2.8468231441470455}]
[4297.7674999999999,2.9699020385742201,1.8120570793371518,{"$f":"+B497/Spectre!B$2701","v":2.8355684386571611}]
[4298.7674999999999,2.9701879024505602,1.8122314964236823,{"$f":"+B498/Spectre!B$2701","v":2.8358413724357754}]
[4299.7674999999999,2.9834637641906698,1.8203316353972949,{"$f":"+B499/Spectre!B$2701","v":2.8485167449084323}]
[4300.7674999999999,2.9952139854431201,1.8275009195446275,{"$f":"+B500/Spectre!B$2701","v":2.8597354841455962}]
[4301.7674999999999,2.99561667442322,1.8277466163412501,{"$f":"+B501/Spectre!B$2701","v":2.8601199588345709}]
[4302.7674999999999,2.9944286346435498,1.8270217453302457,{"$f":"+B502/Spectre!B$2701","v":2.8589856560665514}]
[4303.7674999999999,2.99187135696411,1.8254614470232065,{"$f":"+B503/Spectre!B$2701","v":2.8565440483022146}]
[4304.7674999999999,2.9880235195159899,1.823113726122839,{"$f":"+B504/Spectre!B$2701","v":2.8528702549301577}]
[4305.7674999999999,2.9834730625152601,1.8203373086803465,{"$f":"+B505/Spectre!B$2701","v":2.848525622654364}]
[4306.7674999999999,2.9744520187377899,1.8148332058420511,{"$f":"+B506/Spectre!B$2701","v":2.8399126156639314}]
[4307.7674999999999,2.9650514125824001,1.80909751668036,{"$f":"+B507/Spectre!B$2701","v":2.8309372145320926}]
[4308.7674999999999,2.9504246711731001,1.8001731515080057,{"$f":"+B508/Spectre!B$2701","v":2.8169720649204502}]
[4309.7674999999999,2.9313263893127401,1.7885205190646623,{"$f":"+B509/Spectre!B$2701","v":2.7987376300561229}]
[4310.7674999999999,2.91477346420288,1.7784209114885621,{"$f":"+B510/Spectre!B$2701","v":2.7829334212305992}]
[4311.7674999999999,2.9106862545013401,1.7759271399169023,{"$f":"+B511/Spectre!B$2701","v":2.7790310828095568}]
[4312.7674999999999,2.9073219299316402,1.7738744297350406,{"$f":"+B512/Spectre!B$2701","v":2.7758189322256879}]
[4313.7674999999999,2.8944149017334002,1.765999330989005,{"$f":"+B513/Spectre!B$2701","v":2.7634957103414544}]
[4314.7674999999999,2.8747673034668,{"$f":"+B514/F$1","v":1.7540115384394375},{"$f":"+B514/Spectre!B$2701","v":2.7447368055639307}]
[4315.7674999999999,2.8577563762664799,1.7436324853060126,{"$f":"+B515/Spectre!B$2701","v":2.7284953108428867}]
[4316.7674999999999,2.8535671234130899,1.7410764530896223,{"$f":"+B516/Spectre!B$2701","v":2.724495544851167}]
[4317.7674999999999,2.8497865200042698,1.7387697543897529,{"$f":"+B517/Spectre!B$2701","v":2.7208859444111888}]
[4318.7674999999999,2.83182573318481,1.727811153572639,{"$f":"+B518/Spectre!B$2701","v":2.7037375537985611}]
[4319.7674999999999,2.8072457313537602,1.7128139025692164,{"$f":"+B519/Spectre!B$2701","v":2.680269346258719}]
[4320.7674999999999,2.7855703830718999,1.6995888979087599,{"$f":"+B520/Spectre!B$2701","v":2.6595744099656518}]
[4321.7674999999999,2.77787208557129,1.694891855951268,{"$f":"+B521/Spectre!B$2701","v":2.6522243192419177}]
[4322.7674999999999,2.7698171138763401,1.689977192674798,{"$f":"+B522/Spectre!B$2701","v":2.644533687289814}]
[4323.7674999999999,2.75285840034485,1.6796299972077244,{"$f":"+B523/Spectre!B$2701","v":2.6283420445266716}]
[4324.7674999999999,2.7328231334686302,1.6674056723956872,{"$f":"+B524/Spectre!B$2701","v":2.6092130060343597}]
[4325.7674999999999,2.7283122539520299,1.6646534027733475,{"$f":"+B525/Spectre!B$2701","v":2.6049061610873805}]
[4326.7674999999999,2.7655119895935099,1.6873504626235019,{"$f":"+B526/Spectre!B$2701","v":2.640423290925781}]
[4327.7674999999999,2.8022444248199498,1.7097624036332861,{"$f":"+B527/Spectre!B$2701","v":2.6754942571227387}]
[4328.7674999999999,2.8232846260070801,1.7225998794209121,{"$f":"+B528/Spectre!B$2701","v":2.695582775078659}]
[4329.7674999999999,2.8404130935668901,1.7330506486708133,{"$f":"+B529/Spectre!B$2701","v":2.7119364936135901}]
[4330.7674999999999,2.85262250900269,1.7405001057194474,{"$f":"+B530/Spectre!B$2701","v":2.7235936569188244}]
[4331.7674999999999,2.8556480407714799,1.7423461047420372,{"$f":"+B531/Spectre!B$2701","v":2.7264823388626414}]
[4332.7674999999999,2.8584611415863002,1.7440624910673017,{"$f":"+B532/Spectre!B$2701","v":2.7291681984572205}]
[4333.7674999999999,2.8492484092712398,1.7384414313169412,{"$f":"+B533/Spectre!B$2701","v":2.7203721733199999}]
[4334.7674999999999,2.83633661270142,1.7305634231949847,{"$f":"+B534/Spectre!B$2701","v":2.70804439874555}]
[4335.7674999999999,2.8310503959655802,1.7273380890477048,{"$f":"+B535/Spectre!B$2701","v":2.7029972863689933}]
[4336.7674999999999,2.8373942375183101,1.7312087227745117,{"$f":"+B536/Spectre!B$2701","v":2.7090541854360746}]
[4337.7674999999999,2.8427491188049299,1.7344759519350692,{"$f":"+B537/Spectre!B$2701","v":2.7141668565517802}]
[4338.7674999999999,2.83758568763733,1.7313255342177862,{"$f":"+B538/Spectre!B$2701","v":2.7092369759483601}]
[4339.7674999999999,2.8301370143890399,1.7267807980898184,{"$f":"+B539/Spectre!B$2701","v":2.7021252185575806}]
[4340.7674999999999,2.8157882690429701,1.7180260495337232,{"$f":"+B540/Spectre!B$2701","v":2.6884254907856922}]
[4341.7674999999999,2.7913794517517099,1.703133245125902,{"$f":"+B541/Spectre!B$2701","v":2.6651207248246997}]
[4342.7674999999999,2.7675123214721702,1.6885709458228366,{"$f":"+B542/Spectre!B$2701","v":2.642333144472564}]
[4343.7674999999999,2.74452447891235,1.6745451354398087,{"$f":"+B543/Spectre!B$2701","v":2.6203850801967676}]
[4344.7674999999999,2.7214372158050502,1.6604586645688078,{"$f":"+B544/Spectre!B$2701","v":2.5983420923299145}]
[4345.7674999999999,2.70511102676392,1.6504973978178077,{"$f":"+B545/Spectre!B$2701","v":2.5827543639242991}]
[4346.7674999999999,2.6978499889373802,1.6460671456323746,{"$f":"+B546/Spectre!B$2701","v":2.5758217548936266}]
[4347.7674999999999,2.6914193630218501,1.6421435612637805,{"$f":"+B547/Spectre!B$2701","v":2.5696819968645563}]
[4348.7674999999999,2.7125346660614,1.6550268597221816,{"$f":"+B548/Spectre!B$2701","v":2.5898422196914255}]
[4349.7674999999999,2.7349946498870898,1.6687306021906294,{"$f":"+B549/Spectre!B$2701","v":2.611286301160002}]
[4350.7674999999999,2.7637703418731698,1.6862878130679397,{"$f":"+B550/Spectre!B$2701","v":2.6387604208233628}]
[4351.7674999999999,2.7976851463317902,1.7069806038453359,{"$f":"+B551/Spectre!B$2701","v":2.6711412023700367}]
[4352.7674999999999,2.8303849697113002,1.7269320856377661,{"$f":"+B552/Spectre!B$2701","v":2.7023619584489529}]
[4353.7674999999999,2.8419859409332302,1.7340103063187342,{"$f":"+B553/Spectre!B$2701","v":2.7134381984822666}]
[4354.7674999999999,2.85452103614807,1.7416584737428422,{"$f":"+B554/Spectre!B$2701","v":2.7254063105294319}]
[4355.7674999999999,2.8572313785553001,1.7433121630169865,{"$f":"+B555/Spectre!B$2701","v":2.7279940596497987}]
[4356.7674999999999,2.8539392948150599,1.7413035298803403,{"$f":"+B556/Spectre!B$2701","v":2.7248508823227371}]
[4357.7674999999999,2.8550570011138898,1.7419854875964902,{"$f":"+B557/Spectre!B$2701","v":2.7259180329100241}]
[4358.7674999999999,2.8837685585021999,1.7595035673676529,{"$f":"+B558/Spectre!B$2701","v":2.7533309188899509}]
[4359.7674999999999,2.9150352478027299,1.7785806362266852,{"$f":"+B559/Spectre!B$2701","v":2.7831833639236074}]
[4360.7674999999999,2.9214870929718,1.7825171673181326,{"$f":"+B560/Spectre!B$2701","v":2.7893433814241515}]
[4361.7674999999999,2.9137198925018302,1.777778084878566,{"$f":"+B561/Spectre!B$2701","v":2.7819275043267564}]
[4362.7674999999999,2.9090273380279501,1.7749149680335905,{"$f":"+B562/Spectre!B$2701","v":2.7774472018824365}]
[4363.7674999999999,2.9146919250488299,1.778371161160295,{"$f":"+B563/Spectre!B$2701","v":2.7828555702278601}]
[4364.7674999999999,2.9212002754211399,1.7823421683564156,{"$f":"+B564/Spectre!B$2701","v":2.7890695371074901}]
[4365.7674999999999,2.91728615760803,1.7799540071307307,{"$f":"+B565/Spectre!B$2701","v":2.7853324613413921}]
[4366.7674999999999,2.9073688983917201,1.7739030870878718,{"$f":"+B566/Spectre!B$2701","v":2.7758637762243401}]
[4367.7674999999999,2.9052424430847199,1.7726056508953996,{"$f":"+B567/Spectre!B$2701","v":2.7738335040212747}]
[4368.7674999999999,2.9261775016784699,1.7853789749439444,{"$f":"+B568/Spectre!B$2701","v":2.7938216351578742}]
[4369.7674999999999,2.9477412700653098,1.7985359002078225,{"$f":"+B569/Spectre!B$2701","v":2.8144100384998212}]
[4370.7674999999999,2.9445009231567401,1.7965588337999348,{"$f":"+B570/Spectre!B$2701","v":2.811316257861638}]
[4371.7674999999999,2.92861747741699,1.786867702603298,{"$f":"+B571/Spectre!B$2701","v":2.7961512467428267}]
[4372.7674999999999,2.9133775234222399,1.7775691916873566,{"$f":"+B572/Spectre!B$2701","v":2.7816006211690465}]
[4373.7674999999999,2.8981580734252899,1.7682831910878785,{"$f":"+B573/Spectre!B$2701","v":2.7670695721632041}]
[4374.7674999999999,2.88283467292786,1.7589337660933031,{"$f":"+B574/Spectre!B$2701","v":2.7524392745106003}]
[4375.7674999999999,2.89155077934265,1.7642518143413721,{"$f":"+B575/Spectre!B$2701","v":2.7607611369615319}]
[4376.7674999999999,2.90946245193481,1.775180448586485,{"$f":"+B576/Spectre!B$2701","v":2.7778626348649014}]
[4377.7674999999999,2.9211726188659699,1.7823252939760708,{"$f":"+B577/Spectre!B$2701","v":2.7890431315042266}]
[4378.7674999999999,2.9149863719940199,{"$f":"+B578/F$1","v":1.7785508151234868},{"$f":"+B578/Spectre!B$2701","v":2.7831366988488706}]
[4379.7674999999999,2.9101541042327899,1.7756024535639947,{"$f":"+B579/Spectre!B$2701","v":2.7785230025811436}]
[4380.7674999999999,2.8993253707885698,1.7689954063136166,{"$f":"+B580/Spectre!B$2701","v":2.7681840707287639}]
[4381.7674999999999,2.88703060150146,1.7614938714359814,{"$f":"+B581/Spectre!B$2701","v":2.7564454142686214}]
[4382.7674999999999,2.87996172904968,1.7571808671002125,{"$f":"+B582/Spectre!B$2701","v":2.7496962786537704}]
[4383.7674999999999,2.8852005004882799,1.7603772529570678,{"$f":"+B583/Spectre!B$2701","v":2.7546980917626511}]
[4384.7674999999999,2.8896236419677699,1.7630759900624395,{"$f":"+B584/Spectre!B$2701","v":2.7589211672096035}]
[4385.7674999999999,2.8925127983093302,1.7648387809336663,{"$f":"+B585/Spectre!B$2701","v":2.7616796422131791}]
[4386.7674999999999,2.8955721855163601,1.7667054365253079,{"$f":"+B586/Spectre!B$2701","v":2.7646006482575571}]
[4387.7674999999999,2.8920977115631099,1.7645855197596416,{"$f":"+B587/Spectre!B$2701","v":2.7612833305296287}]
[4388.7674999999999,2.87879586219788,1.7564695246872544,{"$f":"+B588/Spectre!B$2701","v":2.7485831458952812}]
[4389.7674999999999,2.8658530712127699,1.7485726056217996,{"$f":"+B589/Spectre!B$2701","v":2.736225778834402}]
[4390.7674999999999,2.8579509258270299,1.7437511878436376,{"$f":"+B590/Spectre!B$2701","v":2.7286810606038165}]
[4391.7674999999999,2.8504016399383501,1.7391450638837074,{"$f":"+B591/Spectre!B$2701","v":2.7214732414494116}]
[4392.7674999999999,2.8518531322479199,1.7400306779144052,{"$f":"+B592/Spectre!B$2701","v":2.7228590803520127}]
[4393.7674999999999,2.8646717071533199,1.7478518077370895,{"$f":"+B593/Spectre!B$2701","v":2.7350978498326937}]
[4394.7674999999999,2.87704706192017,1.7554025110678111,{"$f":"+B594/Spectre!B$2701","v":2.7469134467575378}]
[4395.7674999999999,2.8871321678161599,1.7615558411431245,{"$f":"+B595/Spectre!B$2701","v":2.7565423865702843}]
[4396.7674999999999,2.8971867561340301,1.7676905512125394,{"$f":"+B596/Spectre!B$2701","v":2.7661421891656355}]
[4397.7674999999999,2.8980653285980198,1.7682266037261933,{"$f":"+B597/Spectre!B$2701","v":2.7669810223384492}]
[4398.7674999999999,2.88780736923218,1.7619678087737016,{"$f":"+B598/Spectre!B$2701","v":2.75718704750527}]
[4399.7674999999999,2.8798451423645002,1.7571097328589169,{"$f":"+B599/Spectre!B$2701","v":2.7495849653779216}]
[4400.7674999999999,2.8879735469818102,1.7620692005245859,{"$f":"+B600/Spectre!B$2701","v":2.7573457087593916}]
[4401.7674999999999,2.8985431194305402,1.7685181231935918,{"$f":"+B601/Spectre!B$2701","v":2.7674372018983733}]
[4402.7674999999999,2.9043738842010498,1.7720757080711804,{"$f":"+B602/Spectre!B$2701","v":2.773004231497918}]
[4403.7674999999999,2.9045548439025901,1.7721861188874268,{"$f":"+B603/Spectre!B$2701","v":2.7731770060917236}]
[4404.7674999999999,2.90486788749695,1.7723771194167148,{"$f":"+B604/Spectre!B$2701","v":2.7734758902045868}]
[4405.7674999999999,2.9019904136657702,1.7706214565165002,{"$f":"+B605/Spectre!B$2701","v":2.7707285692920518}]
[4406.7674999999999,2.8985562324523899,1.7685261239773771,{"$f":"+B606/Spectre!B$2701","v":2.7674497217964742}]
[4407.7674999999999,2.9029831886291499,1.7712271885834894,{"$f":"+B607/Spectre!B$2701","v":2.7716764393956059}]
[4408.7674999999999,2.9143526554107702,1.7781641590634363,{"$f":"+B608/Spectre!B$2701","v":2.7825316463187946}]
[4409.7674999999999,2.9244532585143999,1.7843269446104955,{"$f":"+B609/Spectre!B$2701","v":2.7921753823747504}]
[4410.7674999999999,2.9158167839050302,1.7790574829403265,{"$f":"+B610/Spectre!B$2701","v":2.7839295498504733}]
[4411.7674999999999,2.90703296661377,1.7736981215541598,{"$f":"+B611/Spectre!B$2701","v":2.7755430391984297}]
[4412.7674999999999,2.9049487113952601,1.7724264333385917,{"$f":"+B612/Spectre!B$2701","v":2.7735530583037904}]
[4413.7674999999999,2.9071784019470202,1.7737868575197839,{"$f":"+B613/Spectre!B$2701","v":2.7756818962501013}]
[4414.7674999999999,2.9061419963836701,1.7731545046631103,{"$f":"+B614/Spectre!B$2701","v":2.7746923690310501}]
[4415.7674999999999,2.8843903541564901,1.7598829499878954,{"$f":"+B615/Spectre!B$2701","v":2.7539245896944751}]
[4416.7674999999999,2.8605034351348899,1.745308576774756,{"$f":"+B616/Spectre!B$2701","v":2.7311181156779365}]
[4417.7674999999999,2.8601777553558398,1.7451098663992757,{"$f":"+B617/Spectre!B$2701","v":2.7308071669359952}]
[4418.7674999999999,2.8733675479888898,1.7531574911374914,{"$f":"+B618/Spectre!B$2701","v":2.7434003633501987}]
[4419.7674999999999,2.8824779987335201,1.7587161447743249,{"$f":"+B619/Spectre!B$2701","v":2.7520987332822306}]
[4420.7674999999999,2.8769371509552002,1.7553354499528033,{"$f":"+B620/Spectre!B$2701","v":2.7468085072479909}]
[4421.7674999999999,2.87023878097534,1.751248504126182,{"$f":"+B621/Spectre!B$2701","v":2.7404131156631362}]
[4422.7674999999999,2.87516140937805,1.7542519983593989,{"$f":"+B622/Spectre!B$2701","v":2.7451130854105097}]
[4423.7674999999999,2.8868992328643799,1.7614137181293295,{"$f":"+B623/Spectre!B$2701","v":2.7563199876530984}]
[4424.7674999999999,2.8945143222808798,1.7660599914769779,{"$f":"+B624/Spectre!B$2701","v":2.7635906339325107}]
[4425.7674999999999,2.8895125389099099,1.7630082016034547,{"$f":"+B625/Spectre!B$2701","v":2.758815089527507}]
[4426.7674999999999,2.8840799331664999,1.7596935496153643,{"$f":"+B626/Spectre!B$2701","v":2.7536282095612314}]
[4427.7674999999999,2.8854327201843302,1.7605189395644791,{"$f":"+B627/Spectre!B$2701","v":2.7549198077763117}]
[4428.7674999999999,2.8905892372131299,1.7636651386866713,{"$f":"+B628/Spectre!B$2701","v":2.7598430869789086}]
[4429.7674999999999,2.8929355144500701,1.7650966971091593,{"$f":"+B629/Spectre!B$2701","v":2.7620832382010683}]
[4430.7674999999999,2.8861427307128902,1.7609521456392825,{"$f":"+B630/Spectre!B$2701","v":2.7555977033498857}]
[4431.7674999999999,2.8793752193450901,1.7568230138617897,{"$f":"+B631/Spectre!B$2701","v":2.7491362977568583}]
[4432.7674999999999,2.8800404071807901,1.7572288718029319,{"$f":"+B632/Spectre!B$2701","v":2.7497713980423866}]
[4433.7674999999999,2.88386750221252,1.7595639369180329,{"$f":"+B633/Spectre!B$2701","v":2.7534253872119838}]
[4434.7674999999999,2.8867235183715798,1.7613065076265975,{"$f":"+B634/Spectre!B$2701","v":2.7561522210185334}]
[4435.7674999999999,2.8863587379455602,1.7610839403685576,{"$f":"+B635/Spectre!B$2701","v":2.7558039402168011}]
[4436.7674999999999,2.8868312835693399,1.7613722595224415,{"$f":"+B636/Spectre!B$2701","v":2.7562551118174841}]
[4437.7674999999999,2.8784816265106201,1.7562777968139831,{"$f":"+B637/Spectre!B$2701","v":2.7482831236098586}]
[4438.7674999999999,2.8679652214050302,1.7498613136865093,{"$f":"+B638/Spectre!B$2701","v":2.7382423929668169}]
[4439.7674999999999,2.8577950000762899,1.7436560512509791,{"$f":"+B639/Spectre!B$2701","v":2.7285321876336543}]
[4440.7674999999999,2.8488628864288299,1.7382062082736349,{"$f":"+B640/Spectre!B$2701","v":2.7200040883158079}]
[4441.7674999999999,2.8397068977356001,1.7326197700967505,{"$f":"+B641/Spectre!B$2701","v":2.7112622401921951}]
[4442.7674999999999,2.8347809314727801,{"$f":"+B642/F$1","v":1.7296142393003864},{"$f":"+B642/Spectre!B$2701","v":2.7065590835616655}]
[4443.7674999999999,2.83077096939087,1.7271675996186657,{"$f":"+B643/Spectre!B$2701","v":2.7027304987221688}]
[4444.7674999999999,2.8285486698150599,1.7258116849701517,{"$f":"+B644/Spectre!B$2701","v":2.7006087174456948}]
[4445.7674999999999,2.8294553756713898,1.72636490280175,{"$f":"+B645/Spectre!B$2701","v":2.7014744114908051}]
[4446.7674999999999,2.8301906585693399,1.7268135285689439,{"$f":"+B646/Spectre!B$2701","v":2.7021764363225445}]
[4447.7674999999999,2.82353615760803,1.7227533490008033,{"$f":"+B647/Spectre!B$2701","v":2.6958229294876985}]
[4448.7674999999999,2.8147630691528298,1.7174005337104619,{"$f":"+B648/Spectre!B$2701","v":2.6874466623886475}]
[4449.7674999999999,2.8068199157714799,1.7125540952993668,{"$f":"+B649/Spectre!B$2701","v":2.6798627910221762}]
[4450.7674999999999,2.8002059459686302,1.7085186454265724,{"$f":"+B650/Spectre!B$2701","v":2.6735479820542021}]
[4451.7674999999999,2.7936897277832,1.7045428377601746,{"$f":"+B651/Spectre!B$2701","v":2.6673265032357021}]
[4452.7674999999999,2.78980159759521,1.7021705326332639,{"$f":"+B652/Spectre!B$2701","v":2.6636142396312947}]
[4453.7674999999999,2.78648710250854,1.7001482254297873,{"$f":"+B653/Spectre!B$2701","v":2.6604496646602098}]
[4454.7674999999999,2.7866017818450901,1.7002181959207159,{"$f":"+B654/Spectre!B$2701","v":2.660559156859974}]
[4455.7674999999999,2.7925710678100599,1.7038602981688442,{"$f":"+B655/Spectre!B$2701","v":2.6662584421103768}]
[4456.7674999999999,2.79800224304199,1.7071740773441546,{"$f":"+B656/Spectre!B$2701","v":2.6714439562695818}]
[4457.7674999999999,2.7983689308166499,1.7073978083525678,{"$f":"+B657/Spectre!B$2701","v":2.6717940581474084}]
[4458.7674999999999,2.7978696823120099,1.7070931966935194,{"$f":"+B658/Spectre!B$2701","v":2.6713173914814994}]
[4459.7674999999999,2.7936341762542698,1.7045089435306819,{"$f":"+B659/Spectre!B$2701","v":2.6672734643946536}]
[4460.7674999999999,2.7835488319396999,1.6983554679865718,{"$f":"+B660/Spectre!B$2701","v":2.6576442969473955}]
[4461.7674999999999,2.77375435829163,1.6923794643737096,{"$f":"+B661/Spectre!B$2701","v":2.6482928436034796}]
[4462.7674999999999,2.7776365280151398,1.6947481327807159,{"$f":"+B662/Spectre!B$2701","v":2.6519994163451113}]
[4463.7674999999999,2.78247737884521,1.6977017312168632,{"$f":"+B663/Spectre!B$2701","v":2.6566213074552247}]
[4464.7674999999999,2.7880060672760001,1.701075007129786,{"$f":"+B664/Spectre!B$2701","v":2.6618999241294112}]
[4465.7674999999999,2.79343605041504,1.7043880589611193,{"$f":"+B665/Spectre!B$2701","v":2.6670843001160662}]
[4466.7674999999999,2.79805660247803,1.70720724422967,{"$f":"+B666/Spectre!B$2701","v":2.6714958569380807}]
[4467.7674999999999,2.7740209102630602,1.6925420984877537,{"$f":"+B667/Spectre!B$2701","v":2.6485473389867056}]
[4468.7674999999999,2.7463424205779998,1.6756543350101232,{"$f":"+B668/Spectre!B$2701","v":2.6221207933426838}]
[4469.7674999999999,2.7339825630188002,1.668113087151154,{"$f":"+B669/Spectre!B$2701","v":2.6103199926610592}]
[4470.7674999999999,2.7368123531341602,1.6698396562921476,{"$f":"+B670/Spectre!B$2701","v":2.6130217866714065}]
[4471.7674999999999,2.7395784854888898,1.6715273852645745,{"$f":"+B671/Spectre!B$2701","v":2.6156628022673236}]
[4472.7674999999999,2.7454075813293501,1.6750839518605931,{"$f":"+B672/Spectre!B$2701","v":2.6212282384252958}]
[4473.7674999999999,2.7523238658904998,1.6793038561668505,{"$f":"+B673/Spectre!B$2701","v":2.6278316879531407}]
[4474.7674999999999,2.74661493301392,1.6758206058440777,{"$f":"+B674/Spectre!B$2701","v":2.6223809795886948}]
[4475.7674999999999,2.72899222373962,1.6650682797798395,{"$f":"+B675/Spectre!B$2701","v":2.6055553747125737}]
[4476.7674999999999,2.7153019905090301,1.6567153160385921,{"$f":"+B676/Spectre!B$2701","v":2.5924843734599019}]
[4477.7674999999999,2.7244274616241499,1.6622831342095841,{"$f":"+B677/Spectre!B$2701","v":2.6011970843661287}]
[4478.7674999999999,2.7362732887268102,1.6695107513441494,{"$f":"+B678/Spectre!B$2701","v":2.6125071050421704}]
[4479.7674999999999,2.7509782314300502,1.6784828302816235,{"$f":"+B679/Spectre!B$2701","v":2.6265469187733963}]
[4480.7674999999999,2.7682688236236599,1.6890325183128838,{"$f":"+B680/Spectre!B$2701","v":2.6430554287757762}]
[4481.7674999999999,2.7828183174133301,1.697909751595299,{"$f":"+B681/Spectre!B$2701","v":2.6569468248058734}]
[4482.7674999999999,2.7779078483581499,1.6949136762706809,{"$f":"+B682/Spectre!B$2701","v":2.6522584644185536}]
[4483.7674999999999,2.7716186046600302,1.6910763548981802,{"$f":"+B683/Spectre!B$2701","v":2.6462536936544736}]
[4484.7674999999999,2.77129459381104,1.6908786628042765,{"$f":"+B684/Spectre!B$2701","v":2.645944338354115}]
[4485.7674999999999,2.7765150070190399,1.6940638475638259,{"$f":"+B685/Spectre!B$2701","v":2.6509286236056449}]
[4486.7674999999999,2.7816243171691899,1.6971812438643965,{"$f":"+B686/Spectre!B$2701","v":2.6558068311750875}]
[4487.7674999999999,2.7903614044189502,1.7025120933665285,{"$f":"+B687/Spectre!B$2701","v":2.6641487254629905}]
[4488.7674999999999,2.7997033596038801,1.7082119972043768,{"$f":"+B688/Spectre!B$2701","v":2.6730681285051374}]
[4489.7674999999999,2.80115914344788,1.7091002296734084,{"$f":"+B689/Spectre!B$2701","v":2.6744580648289409}]
[4490.7674999999999,2.7977650165557901,1.7070293358920321,{"$f":"+B690/Spectre!B$2701","v":2.6712174599312024}]
[4491.7674999999999,2.79581618309021,1.7058402739526528,{"$f":"+B691/Spectre!B$2701","v":2.6693567754387768}]
[4492.7674999999999,2.8028037548065199,1.7101036734289514,{"$f":"+B692/Spectre!B$2701","v":2.6760282876854009}]
[4493.7674999999999,2.8101937770843501,1.7146126242330764,{"$f":"+B693/Spectre!B$2701","v":2.6830840469864885}]
[4494.7674999999999,2.8132796287536599,1.7164954268610855,{"$f":"+B694/Spectre!B$2701","v":2.6860303204615805}]
[4495.7674999999999,2.8139348030090301,1.7168951751127863,{"$f":"+B695/Spectre!B$2701","v":2.686655860097642}]
[4496.7674999999999,2.8135828971862802,1.7166804631697352,{"$f":"+B696/Spectre!B$2701","v":2.6863198715594989}]
[4497.7674999999999,2.8089437484741202,1.7138499313350881,{"$f":"+B697/Spectre!B$2701","v":2.6818905592456308}]
[4498.7674999999999,2.8041000366210902,1.710894587273381,{"$f":"+B698/Spectre!B$2701","v":2.6772659365213758}]
[4499.7674999999999,2.7979056835174601,1.7071151624817351,{"$f":"+B699/Spectre!B$2701","v":2.6713517642926567}]
[4500.7674999999999,2.7907488346099898,1.7027484801602017,{"$f":"+B700/Spectre!B$2701","v":2.6645186315432672}]
[4501.7674999999999,2.7890853881835902,1.7017335443697599,{"$f":"+B701/Spectre!B$2701","v":2.6629304255604329}]
[4502.7674999999999,2.8068642616271999,1.7125811524954468,{"$f":"+B702/Spectre!B$2701","v":2.6799051310412176}]
[4503.7674999999999,2.8256287574768102,1.7240301286242363,{"$f":"+B703/Spectre!B$2701","v":2.6978208775902224}]
[4504.7674999999999,2.82285451889038,1.7223374537127349,{"$f":"+B704/Spectre!B$2701","v":2.6951721224209231}]
[4505.7674999999999,2.8070085048675502,1.7126691611170877,{"$f":"+B705/Spectre!B$2701","v":2.6800428499203304}]
[4506.7674999999999,2.79464936256409,{"$f":"+B706/F$1","v":1.705128349664508},{"$f":"+B706/Spectre!B$2701","v":2.6682427321422408}]
[4507.7674999999999,2.7936959266662602,1.7045466199488755,{"$f":"+B707/Spectre!B$2701","v":2.6673324217329899}]
[4508.7674999999999,2.7926049232482901,1.7038809547378899,{"$f":"+B708/Spectre!B$2701","v":2.6662907662109281}]
[4509.7674999999999,2.7905366420745898,1.702619012931667,{"$f":"+B709/Spectre!B$2701","v":2.6643160368285312}]
[4510.7674999999999,2.7878885269164999,1.7010032910133035,{"$f":"+B710/Spectre!B$2701","v":2.6617877003155148}]
[4511.7674999999999,2.78501200675964,1.6992482099882753,{"$f":"+B711/Spectre!B$2701","v":2.659041289941027}]
[4512.7674999999999,2.7809863090515101,1.6967919693660123,{"$f":"+B712/Spectre!B$2701","v":2.6551976812238087}]
[4513.7674999999999,2.7778661251068102,1.6948882192313641,{"$f":"+B713/Spectre!B$2701","v":2.652218628379142}]
[4514.7674999999999,2.7630686759948699,1.685859698400995,{"$f":"+B714/Spectre!B$2701","v":2.6380904924576636}]
[4515.7674999999999,2.74431228637695,1.6744156682112741,{"$f":"+B715/Spectre!B$2701","v":2.6201824854820313}]
[4516.7674999999999,2.7317066192627002,1.6667244420235208,{"$f":"+B716/Spectre!B$2701","v":2.6081469936196315}]
[4517.7674999999999,2.7384815216064502,1.6708580833336912,{"$f":"+B717/Spectre!B$2701","v":2.6146154558824959}]
[4518.7674999999999,2.7455780506134002,1.6751879620498049,{"$f":"+B718/Spectre!B$2701","v":2.6213909971006109}]
[4519.7674999999999,2.7377185821533199,1.6703925831861461,{"$f":"+B719/Spectre!B$2701","v":2.6138870254474837}]
[4520.7674999999999,2.7242476940154998,1.6621734507373149,{"$f":"+B720/Spectre!B$2701","v":2.6010254479448731}]
[4521.7674999999999,2.7169764041900599,1.6577369433936497,{"$f":"+B721/Spectre!B$2701","v":2.5940830506302315}]
[4522.7674999999999,2.72418165206909,1.6621331558807941,{"$f":"+B722/Spectre!B$2701","v":2.6009623931853438}]
[4523.7674999999999,2.7315726280212398,1.6666426885601053,{"$f":"+B723/Spectre!B$2701","v":2.6080190630244782}]
[4524.7674999999999,2.7303159236907999,1.6658759225358293,{"$f":"+B724/Spectre!B$2701","v":2.6068192015173191}]
[4525.7674999999999,2.7253477573394802,1.6628446437625553,{"$f":"+B725/Spectre!B$2701","v":2.6020757535783545}]
[4526.7674999999999,2.72505450248718,1.6626657171433405,{"$f":"+B726/Spectre!B$2701","v":2.6017957631298936}]
[4527.7674999999999,2.7355682849884002,1.6690806001140575,{"$f":"+B727/Spectre!B$2701","v":2.6118339897933152}]
[4528.7674999999999,2.7458758354186998,1.6753696525761435,{"$f":"+B728/Spectre!B$2701","v":2.621675312604776}]
[4529.7674999999999,2.7507963180542001,1.6783718375901966,{"$f":"+B729/Spectre!B$2701","v":2.6263732336415533}]
[4530.7674999999999,2.7536492347717298,1.6801125172044107,{"$f":"+B730/Spectre!B$2701","v":2.629097108199459}]
[4531.7674999999999,2.7543067932128902,1.6805137201440723,{"$f":"+B731/Spectre!B$2701","v":2.6297249241806293}]
[4532.7674999999999,2.7487246990203902,1.6771078592208268,{"$f":"+B732/Spectre!B$2701","v":2.6243953173760008}]
[4533.7674999999999,2.7434628009796098,1.6738973628907448,{"$f":"+B733/Spectre!B$2701","v":2.6193714237195516}]
[4534.7674999999999,2.7380948066711399,1.6706221329464015,{"$f":"+B734/Spectre!B$2701","v":2.6142462327057445}]
[4535.7674999999999,2.7326817512512198,1.667319409399594,{"$f":"+B735/Spectre!B$2701","v":2.6090780187693694}]
[4536.7674999999999,2.7288334369659402,1.6649713975616334,{"$f":"+B736/Spectre!B$2701","v":2.6054037701282895}]
[4537.7674999999999,2.7291963100433398,1.6651928010693122,{"$f":"+B737/Spectre!B$2701","v":2.6057502298539466}]
[4538.7674999999999,2.7293536663055402,1.6652888104747388,{"$f":"+B738/Spectre!B$2701","v":2.6059004686311606}]
[4539.7674999999999,2.7264573574066202,1.663521655539637,{"$f":"+B739/Spectre!B$2701","v":2.6031351645922696}]
[4540.7674999999999,2.7229640483856201,1.6613902467390778,{"$f":"+B740/Spectre!B$2701","v":2.5997998637379762}]
[4541.7674999999999,2.7193644046783398,1.6591939588554545,{"$f":"+B741/Spectre!B$2701","v":2.5963630378918028}]
[4542.7674999999999,2.7157785892486599,1.6570061081620131,{"$f":"+B742/Spectre!B$2701","v":2.592939414847276}]
[4543.7674999999999,2.71224808692932,1.6548520062292613,{"$f":"+B743/Spectre!B$2701","v":2.5895686030092762}]
[4544.7674999999999,2.71723079681396,1.6578921585990949,{"$f":"+B744/Spectre!B$2701","v":2.5943259366534028}]
[4545.7674999999999,2.7249805927276598,1.6626206218165482,{"$f":"+B745/Spectre!B$2701","v":2.6017251964315036}]
[4546.7674999999999,2.7229301929473899,1.6613695901700321,{"$f":"+B746/Spectre!B$2701","v":2.5997675396374249}]
[4547.7674999999999,2.7048294544220002,1.6503255991696051,{"$f":"+B747/Spectre!B$2701","v":2.5824855275668783}]
[4548.7674999999999,2.6876361370086701,1.6398352624071602,{"$f":"+B748/Spectre!B$2701","v":2.5660698924449674}]
[4549.7674999999999,2.6847176551818799,1.638054578874012,{"$f":"+B749/Spectre!B$2701","v":2.5632834183965461}]
[4550.7674999999999,2.6859974861145002,1.6388354553715152,{"$f":"+B750/Spectre!B$2701","v":2.5645053604512738}]
[4551.7674999999999,2.6838009357452401,1.637495251352985,{"$f":"+B751/Spectre!B$2701","v":2.562408163701988}]
[4552.7674999999999,2.67550492286682,1.6324335191236519,{"$f":"+B752/Spectre!B$2701","v":2.5544873932593255}]
[4553.7674999999999,2.6677763462066699,1.6277180026290579,{"$f":"+B753/Spectre!B$2701","v":2.5471083929527079}]
[4554.7674999999999,2.6690466403961199,1.628493060374713,{"$f":"+B754/Spectre!B$2701","v":2.5483212296269921}]
[4555.7674999999999,2.6722755432128902,1.6304631442803859,{"$f":"+B755/Spectre!B$2701","v":2.5514040838086474}]
[4556.7674999999999,2.6774628162384002,1.6336281088772797,{"$f":"+B756/Spectre!B$2701","v":2.5563567278631614}]
[4557.7674999999999,2.68627977371216,1.6390076904261077,{"$f":"+B757/Spectre!B$2701","v":2.5647748797122296}]
[4558.7674999999999,2.6950640678405802,1.6443673427498677,{"$f":"+B758/Spectre!B$2701","v":2.573161845633297}]
[4559.7674999999999,2.6974647045135498,1.6458320680578644,{"$f":"+B759/Spectre!B$2701","v":2.5754538975239458}]
[4560.7674999999999,2.6995375156402601,1.6470967737712177,{"$f":"+B760/Spectre!B$2701","v":2.5774329519620571}]
[4561.7674999999999,2.6960415840148899,1.6449637648139015,{"$f":"+B761/Spectre!B$2701","v":2.5740951471281437}]
[4562.7674999999999,2.6844525337219198,1.6378928175727419,{"$f":"+B762/Spectre!B$2701","v":2.5630302888203818}]
[4563.7674999999999,2.6733345985412602,1.6311093166726927,{"$f":"+B763/Spectre!B$2701","v":2.5524152363062425}]
[4564.7674999999999,2.6709167957305899,1.6296341176113729,{"$f":"+B764/Spectre!B$2701","v":2.5501067947308012}]
[4565.7674999999999,2.6700713634490998,1.6291182852603807,{"$f":"+B765/Spectre!B$2701","v":2.5492996027550126}]
[4566.7674999999999,2.66492819786072,1.6259802323907646,{"$f":"+B766/Spectre!B$2701","v":2.544389071085019}]
[4567.7674999999999,2.6543538570404102,1.6195284003458379,{"$f":"+B767/Spectre!B$2701","v":2.5342930252558205}]
[4568.7674999999999,2.64449906349182,1.613515593127556,{"$f":"+B768/Spectre!B$2701","v":2.52488398038063}]
[4569.7674999999999,2.6436693668365501,1.6130093617171066,{"$f":"+B769/Spectre!B$2701","v":2.5240918122825633}]
[4570.7674999999999,2.64486908912659,{"$f":"+B770/F$1","v":1.6137413606991164},{"$f":"+B770/Spectre!B$2701","v":2.5252372691416127}]
[4571.7674999999999,2.64268851280212,1.6124109030899194,{"$f":"+B771/Spectre!B$2701","v":2.5231553239045508}]
[4572.7674999999999,2.63600778579712,1.6083347219542141,{"$f":"+B772/Spectre!B$2701","v":2.5167767772735123}]
[4573.7674999999999,2.6299297809600799,1.6046262859350613,{"$f":"+B773/Spectre!B$2701","v":2.5109736906861206}]
[4574.7674999999999,2.62911081314087,1.6041266006204369,{"$f":"+B774/Spectre!B$2701","v":2.5101917661410464}]
[4575.7674999999999,2.6294219493865998,1.6043164373993577,{"$f":"+B775/Spectre!B$2701","v":2.5104888291778251}]
[4576.7674999999999,2.6240074634552002,1.6010128410397706,{"$f":"+B776/Spectre!B$2701","v":2.5053192494343799}]
[4577.7674999999999,2.6101713180542001,1.5925708503953058,{"$f":"+B777/Spectre!B$2701","v":2.4921089358610127}]
[4578.7674999999999,2.59720730781555,1.5846609846069974,{"$f":"+B778/Spectre!B$2701","v":2.4797313093286601}]
[4579.7674999999999,2.5956625938415501,1.5837184922770211,{"$f":"+B779/Spectre!B$2701","v":2.4782564653322807}]
[4580.7674999999999,2.5947861671447798,1.5831837489825369,{"$f":"+B780/Spectre!B$2701","v":2.4774196808700726}]
[4581.7674999999999,2.6028292179107702,1.5880911388191987,{"$f":"+B781/Spectre!B$2701","v":2.4850989310966249}]
[4582.7674999999999,2.6217808723449698,1.5996543079529286,{"$f":"+B782/Spectre!B$2701","v":2.5031933707367124}]
[4583.7674999999999,2.63962602615356,1.6105423564039274,{"$f":"+B783/Spectre!B$2701","v":2.5202313586115292}]
[4584.7674999999999,2.6195769309997599,1.5983095944017205,{"$f":"+B784/Spectre!B$2701","v":2.5010891173175898}]
[4585.7674999999999,2.5958168506622301,1.583812610588103,{"$f":"+B785/Spectre!B$2701","v":2.4784037448608598}]
[4586.7674999999999,2.5853507518768302,1.5774268213766074,{"$f":"+B786/Spectre!B$2701","v":2.4684110450996259}]
[4587.7674999999999,2.58946752548218,1.5799386310789851,{"$f":"+B787/Spectre!B$2701","v":2.4723416102000262}]
[4588.7674999999999,2.5931959152221702,1.5822134721125032,{"$f":"+B788/Spectre!B$2701","v":2.4759013586821021}]
[4589.7674999999999,2.5967931747436501,1.5844083053081597,{"$f":"+B789/Spectre!B$2701","v":2.4793359081831574}]
[4590.7674999999999,2.6005065441131601,1.5866739818075248,{"$f":"+B790/Spectre!B$2701","v":2.4828813156910474}]
[4591.7674999999999,2.6021163463592498,1.5876561871188355,{"$f":"+B791/Spectre!B$2701","v":2.4844183039089089}]
[4592.7674999999999,2.6014747619628902,1.5872647305885137,{"$f":"+B792/Spectre!B$2701","v":2.4838057394399726}]
[4593.7674999999999,2.6012256145477299,1.5871127156965827,{"$f":"+B793/Spectre!B$2701","v":2.483567861376041}]
[4594.7674999999999,2.6036503314971902,1.5885921333529871,{"$f":"+B794/Spectre!B$2701","v":2.4858829043522963}]
[4595.7674999999999,2.6065943241119398,1.5903883820473159,{"$f":"+B795/Spectre!B$2701","v":2.488693735293384}]
[4596.7674999999999,2.6065843105316202,1.5903822723578811,{"$f":"+B796/Spectre!B$2701","v":2.488684174643927}]
[4597.7674999999999,2.6030366420745898,1.5882176966718125,{"$f":"+B797/Spectre!B$2701","v":2.4852969731211441}]
[4598.7674999999999,2.6004478931427002,1.586638196483682,{"$f":"+B798/Spectre!B$2701","v":2.4828253176013551}]
[4599.7674999999999,2.6074411869049099,1.5909050872110879,{"$f":"+B799/Spectre!B$2701","v":2.4895022930762432}]
[4600.7674999999999,2.61564421653748,1.5959100866099394,{"$f":"+B800/Spectre!B$2701","v":2.4973342860596386}]
[4601.7674999999999,2.61675930023193,1.5965904441693259,{"$f":"+B801/Spectre!B$2701","v":2.4983989326672966}]
[4602.7674999999999,2.6093909740447998,1.5920947310256477,{"$f":"+B802/Spectre!B$2701","v":2.4913638881067062}]
[4603.7674999999999,2.6026701927185099,1.5879941111321958,{"$f":"+B803/Spectre!B$2701","v":2.4849470988778286}]
[4604.7674999999999,2.5984642505645801,1.5854278961000765,{"$f":"+B804/Spectre!B$2701","v":2.4809313984703412}]
[4605.7674999999999,2.5938425064086901,1.5826079834875426,{"$f":"+B805/Spectre!B$2701","v":2.4765187034757674}]
[4606.7674999999999,2.5949583053588898,1.5832887774533251,{"$f":"+B806/Spectre!B$2701","v":2.4775840329869698}]
[4607.7674999999999,2.6011264324188201,1.5870522006774002,{"$f":"+B807/Spectre!B$2701","v":2.483473165419487}]
[4608.7674999999999,2.6059777736663801,1.5900121997405818,{"$f":"+B808/Spectre!B$2701","v":2.4881050724480906}]
[4609.7674999999999,2.59740018844604,1.5847786688630461,{"$f":"+B809/Spectre!B$2701","v":2.4799154656480074}]
[4610.7674999999999,2.5867536067962602,1.5782827597728977,{"$f":"+B810/Spectre!B$2701","v":2.4697504465619922}]
[4611.7674999999999,2.5876698493957502,1.5788417963563375,{"$f":"+B811/Spectre!B$2701","v":2.4706252459875366}]
[4612.7674999999999,2.59913849830627,1.5858392818554607,{"$f":"+B812/Spectre!B$2701","v":2.4815751488672699}]
[4613.7674999999999,2.6081788539886501,1.5913551676662425,{"$f":"+B813/Spectre!B$2701","v":2.4902065942530909}]
[4614.7674999999999,2.6021792888641402,1.5876945908810123,{"$f":"+B814/Spectre!B$2701","v":2.4844783994198041}]
[4615.7674999999999,2.5937762260436998,1.582567543162225,{"$f":"+B815/Spectre!B$2701","v":2.4764554210817264}]
[4616.7674999999999,2.5949361324310298,1.583275248855285,{"$f":"+B816/Spectre!B$2701","v":2.4775628629774493}]
[4617.7674999999999,2.6060972213745099,1.5900850796074313,{"$f":"+B817/Spectre!B$2701","v":2.4882191173380717}]
[4618.7674999999999,2.6161260604858398,1.5962040790468683,{"$f":"+B818/Spectre!B$2701","v":2.497794335406244}]
[4619.7674999999999,2.6213691234588601,1.5994030833420514,{"$f":"+B819/Spectre!B$2701","v":2.5028002459363181}]
[4620.7674999999999,2.6264135837554901,1.6024809121300783,{"$f":"+B820/Spectre!B$2701","v":2.5076165369187811}]
[4621.7674999999999,2.62386131286621,1.6009236686677566,{"$f":"+B821/Spectre!B$2701","v":2.5051797094791728}]
[4622.7674999999999,2.61318159103394,1.5944075394149522,{"$f":"+B822/Spectre!B$2701","v":2.4949830491961418}]
[4623.7674999999999,2.6030504703521702,1.5882261338619821,{"$f":"+B823/Spectre!B$2701","v":2.4853101759227711}]
[4624.7674999999999,2.5908544063568102,1.5807848230659363,{"$f":"+B824/Spectre!B$2701","v":2.4736657601501593}]
[4625.7674999999999,2.5775072574615501,1.5726411889222882,{"$f":"+B825/Spectre!B$2701","v":2.4609223249587324}]
[4626.7674999999999,2.57822608947754,1.5730797773425493,{"$f":"+B826/Spectre!B$2701","v":2.4616086430092148}]
[4627.7674999999999,2.5909156799316402,1.5808222085465362,{"$f":"+B827/Spectre!B$2701","v":2.4737242622194717}]
[4628.7674999999999,2.6021687984466602,1.5876881902539839,{"$f":"+B828/Spectre!B$2701","v":2.4844683835013233}]
[4629.7674999999999,2.6026496887207,1.5879816008157264,{"$f":"+B829/Spectre!B$2701","v":2.484927522309881}]
[4630.7674999999999,2.6018943786621098,1.5875207556696622,{"$f":"+B830/Spectre!B$2701","v":2.4842063761792272}]
[4631.7674999999999,2.6091725826263401,1.5919614816084122,{"$f":"+B831/Spectre!B$2701","v":2.4911553748946829}]
[4632.7674999999999,2.62309741973877,1.6004575866450312,{"$f":"+B832/Spectre!B$2701","v":2.5044503685061232}]
[4633.7674999999999,2.6357228755950901,1.6081608867428643,{"$f":"+B833/Spectre!B$2701","v":2.5165047540329359}]
[4634.7674999999999,2.6408653259277299,{"$f":"+B834/F$1","v":1.6112985032060905},{"$f":"+B834/Spectre!B$2701","v":2.521414602799394}]
[4635.7674999999999,2.6452212333679199,1.6139562181109643,{"$f":"+B835/Spectre!B$2701","v":2.525573485314268}]
[4636.7674999999999,2.64689421653748,1.6149769726532484,{"$f":"+B836/Spectre!B$2701","v":2.5271707966775367}]
[4637.7674999999999,2.64603471755981,1.614452557643278,{"$f":"+B837/Spectre!B$2701","v":2.5263501742655903}]
[4638.7674999999999,2.6446759700775102,1.6136235309742655,{"$f":"+B838/Spectre!B$2701","v":2.5250528851877445}]
[4639.7674999999999,2.6387681961059601,1.6100189596755399,{"$f":"+B839/Spectre!B$2701","v":2.5194123296411752}]
[4640.7674999999999,2.63242888450623,1.6061510898558573,{"$f":"+B840/Spectre!B$2701","v":2.5133597556297986}]
[4641.7674999999999,2.6252737045288099,1.6017854258158946,{"$f":"+B841/Spectre!B$2701","v":2.5065282163219824}]
[4642.7674999999999,2.61733078956604,1.596939132873596,{"$f":"+B842/Spectre!B$2701","v":2.4989445725900223}]
[4643.7674999999999,2.6093833446502699,1.5920900760241732,{"$f":"+B843/Spectre!B$2701","v":2.4913566038023571}]
[4644.7674999999999,2.6003656387329102,1.5865880097490253,{"$f":"+B844/Spectre!B$2701","v":2.4827467836950809}]
[4645.7674999999999,2.5907051563262899,1.5806937595995718,{"$f":"+B845/Spectre!B$2701","v":2.4735232609463087}]
[4646.7674999999999,2.5888798236846902,1.5795800504965793,{"$f":"+B846/Spectre!B$2701","v":2.4717804911305552}]
[4647.7674999999999,2.59353804588318,1.5824222198349158,{"$f":"+B847/Spectre!B$2701","v":2.4762280142052999}]
[4648.7674999999999,2.5972411632537802,1.5846816411760434,{"$f":"+B848/Spectre!B$2701","v":2.4797636334292115}]
[4649.7674999999999,2.5935308933258101,1.5824178557710347,{"$f":"+B849/Spectre!B$2701","v":2.4762211851699747}]
[4650.7674999999999,2.5897507667541499,1.5801114480087584,{"$f":"+B850/Spectre!B$2701","v":2.4726120399990199}]
[4651.7674999999999,2.5819029808044398,1.5753231971161055,{"$f":"+B851/Spectre!B$2701","v":2.4651192224369236}]
[4652.7674999999999,2.5709264278411901,1.5686259592121494,{"$f":"+B852/Spectre!B$2701","v":2.4546391571877741}]
[4653.7674999999999,2.5610184669494598,1.5625807124523354,{"$f":"+B853/Spectre!B$2701","v":2.4451793498166436}]
[4654.7674999999999,2.5576941967010498,1.5605524410282203,{"$f":"+B854/Spectre!B$2701","v":2.4420054418306134}]
[4655.7674999999999,2.55529808998108,1.5590904796273477,{"$f":"+B855/Spectre!B$2701","v":2.4397177149956697}]
[4656.7674999999999,2.5481860637664799,1.5547511454394818,{"$f":"+B856/Spectre!B$2701","v":2.4329273775343356}]
[4657.7674999999999,2.5367455482482901,1.5477708252582969,{"$f":"+B857/Spectre!B$2701","v":2.4220043355268892}]
[4658.7674999999999,2.5272967815399201,1.5420057513997911,{"$f":"+B858/Spectre!B$2701","v":2.4129829522238389}]
[4659.7674999999999,2.5299830436706499,1.5436447483255216,{"$f":"+B859/Spectre!B$2701","v":2.4155477102585903}]
[4660.7674999999999,2.5338008403778098,1.5459741401575837,{"$f":"+B860/Spectre!B$2701","v":2.4191928216822753}]
[4661.7674999999999,2.54020047187805,1.5498788135826798,{"$f":"+B861/Spectre!B$2701","v":2.4253029872249168}]
[4662.7674999999999,2.5489854812622101,1.5552389023128297,{"$f":"+B862/Spectre!B$2701","v":2.4336906360495192}]
[4663.7674999999999,2.5571012496948198,1.5601906601323001,{"$f":"+B863/Spectre!B$2701","v":2.4414393148019018}]
[4664.7674999999999,2.5572974681854199,1.5603103809514958,{"$f":"+B864/Spectre!B$2701","v":2.441626658004405}]
[4665.7674999999999,2.55661964416504,1.5598968131641675,{"$f":"+B865/Spectre!B$2701","v":2.4409794930898085}]
[4666.7674999999999,2.5647263526916499,1.5648430431693898,{"$f":"+B866/Spectre!B$2701","v":2.4487195217307813}]
[4667.7674999999999,2.5806829929351802,1.574578833286429,{"$f":"+B867/Spectre!B$2701","v":2.4639544166444476}]
[4668.7674999999999,2.5966315269470202,1.5843096774643999,{"$f":"+B868/Spectre!B$2701","v":2.479181571984741}]
[4669.7674999999999,2.6185483932495099,1.5976820420153124,{"$f":"+B869/Spectre!B$2701","v":2.50010710203739}]
[4670.7674999999999,2.64029169082642,1.6109485052826629,{"$f":"+B870/Spectre!B$2701","v":2.5208669141660809}]
[4671.7674999999999,2.6691648960113499,1.6285652128975792,{"$f":"+B871/Spectre!B$2701","v":2.5484341363444138}]
[4672.7674999999999,2.7035231590271001,1.6495285756357345,{"$f":"+B872/Spectre!B$2701","v":2.5812383180814367}]
[4673.7674999999999,2.7337086200714098,1.6679459435044257,{"$f":"+B873/Spectre!B$2701","v":2.610058440607987}]
[4674.7674999999999,2.7359325885772701,1.6693028764345104,{"$f":"+B874/Spectre!B$2701","v":2.6121818153260339}]
[4675.7674999999999,2.73481273651123,1.6686196094991967,{"$f":"+B875/Spectre!B$2701","v":2.6111126160281497}]
[4676.7674999999999,2.73646092414856,1.6696252352866834,{"$f":"+B876/Spectre!B$2701","v":2.612686253402277}]
[4677.7674999999999,2.7407503128051798,1.6722423643974429,{"$f":"+B877/Spectre!B$2701","v":2.6167816258885979}]
[4678.7674999999999,2.7443647384643599,1.674447671346422,{"$f":"+B878/Spectre!B$2701","v":2.6202325650744456}]
[4679.7674999999999,2.7441041469574001,1.6742886739522762,{"$f":"+B879/Spectre!B$2701","v":2.6199837605539864}]
[4680.7674999999999,2.74330854415894,1.6738032445796689,{"$f":"+B880/Spectre!B$2701","v":2.6192241441909823}]
[4681.7674999999999,2.7472944259643599,1.6762351919129823,{"$f":"+B881/Spectre!B$2701","v":2.6230297379448735}]
[4682.7674999999999,2.7562029361724898,1.6816706334795124,{"$f":"+B882/Spectre!B$2701","v":2.6315353014461378}]
[4683.7674999999999,2.7638609409332302,1.6863430912104616,{"$f":"+B883/Spectre!B$2701","v":2.6388469219375219}]
[4684.7674999999999,2.75705122947693,1.6821882114560585,{"$f":"+B884/Spectre!B$2701","v":2.6323452250360586}]
[4685.7674999999999,2.7513580322265598,1.678714562073822,{"$f":"+B885/Spectre!B$2701","v":2.6269095405493239}]
[4686.7674999999999,2.7236123085021999,1.6617857763956938,{"$f":"+B886/Spectre!B$2701","v":2.6004188019732242}]
[4687.7674999999999,2.6758675575256299,1.6326547771625279,{"$f":"+B887/Spectre!B$2701","v":2.5548336253504615}]
[4688.7674999999999,2.62953805923462,1.6043872807030604,{"$f":"+B888/Spectre!B$2701","v":2.5105996871846505}]
[4689.7674999999999,2.5868449211120601,1.578338474321809,{"$f":"+B889/Spectre!B$2701","v":2.4698376305796863}]
[4690.7674999999999,2.5434489250183101,1.5518608259296356,{"$f":"+B890/Spectre!B$2701","v":2.4284045074364724}]
[4691.7674999999999,2.5102620124816899,1.5316121513867555,{"$f":"+B891/Spectre!B$2701","v":2.3967186940517009}]
[4692.7674999999999,2.4859054088592498,1.5167512046452798,{"$f":"+B892/Spectre!B$2701","v":2.3734637800486009}]
[4693.7674999999999,2.4636085033416699,1.5031469628333718,{"$f":"+B893/Spectre!B$2701","v":2.3521754005855118}]
[4694.7674999999999,2.4590041637420699,1.5003376694429631,{"$f":"+B894/Spectre!B$2701","v":2.3477793229102519}]
[4695.7674999999999,2.45659351348877,1.4988668344455249,{"$f":"+B895/Spectre!B$2701","v":2.3454777103701359}]
[4696.7674999999999,2.4559977054595898,1.4985033079240508,{"$f":"+B896/Spectre!B$2701","v":2.3449088517272925}]
[4697.7674999999999,2.4572010040283199,1.4992374889380045,{"$f":"+B897/Spectre!B$2701","v":2.3460577231040096}]
[4698.7674999999999,2.45756912231445,{"$f":"+B898/F$1","v":1.4994620927591917},{"$f":"+B898/Spectre!B$2701","v":2.346409190788898}]
[4699.7674999999999,2.45194411277771,1.4960300474526462,{"$f":"+B899/Spectre!B$2701","v":2.3410386097722991}]
[4700.7674999999999,2.4454045295715301,1.4920399838442311,{"$f":"+B900/Spectre!B$2701","v":2.334794822771729}]
[4701.7674999999999,2.44572782516479,1.4922372395317509,{"$f":"+B901/Spectre!B$2701","v":2.3351034951685619}]
[4702.7674999999999,2.4539434909820601,1.4972499487768005,{"$f":"+B902/Spectre!B$2701","v":2.3429475527810442}]
[4703.7674999999999,2.4611108303070099,1.5016230317253618,{"$f":"+B903/Spectre!B$2701","v":2.3497907014489146}]
[4704.7674999999999,2.4547793865203902,1.4977599623759508,{"$f":"+B904/Spectre!B$2701","v":2.3437456393763991}]
[4705.7674999999999,2.4473798274993901,1.4932451928199781,{"$f":"+B905/Spectre!B$2701","v":2.3366807746948686}]
[4706.7674999999999,2.4469177722930899,1.4929632742931223,{"$f":"+B906/Spectre!B$2701","v":2.336239619012666}]
[4707.7674999999999,2.4535603523254399,1.4970161804214543,{"$f":"+B907/Spectre!B$2701","v":2.3425817441219601}]
[4708.7674999999999,2.4590549468994101,1.5003686542965287,{"$f":"+B908/Spectre!B$2701","v":2.3478278090610738}]
[4709.7674999999999,2.4494943618774401,1.4945353555726482,{"$f":"+B909/Spectre!B$2701","v":2.3386996651723915}]
[4710.7674999999999,2.4382221698761,1.4876577363615169,{"$f":"+B910/Spectre!B$2701","v":2.3279373331296727}]
[4711.7674999999999,2.4342424869537398,1.4852295712169041,{"$f":"+B911/Spectre!B$2701","v":2.3241376578730688}]
[4712.7674999999999,2.4373750686645499,1.4871408857289481,{"$f":"+B912/Spectre!B$2701","v":2.3271285477123014}]
[4713.7674999999999,2.4395177364349401,1.4884482137995625,{"$f":"+B913/Spectre!B$2701","v":2.3291742990621214}]
[4714.7674999999999,2.4344677925109899,1.4853670392292246,{"$f":"+B914/Spectre!B$2701","v":2.3243527724859061}]
[4715.7674999999999,2.4283585548400901,1.4816395467977834,{"$f":"+B915/Spectre!B$2701","v":2.3185198657775841}]
[4716.7674999999999,2.4204010963439901,1.4767843802589193,{"$f":"+B916/Spectre!B$2701","v":2.3109223363404525}]
[4717.7674999999999,2.41032862663269,1.4706387600297981,{"$f":"+B917/Spectre!B$2701","v":2.3013054611567831}]
[4718.7674999999999,2.4011669158935498,1.4650488306017997,{"$f":"+B918/Spectre!B$2701","v":2.2925581498048961}]
[4719.7674999999999,2.4007296562194802,1.4647820408297416,{"$f":"+B919/Spectre!B$2701","v":2.2921406681118355}]
[4720.7674999999999,2.4015471935272199,1.465280853331592,{"$f":"+B920/Spectre!B$2701","v":2.292921226849848}]
[4721.7674999999999,2.4014160633087198,1.4652008454937369,{"$f":"+B921/Spectre!B$2701","v":2.2927960278688371}]
[4722.7674999999999,2.3999137878418,1.4642842466094674,{"$f":"+B922/Spectre!B$2701","v":2.2913617028154043}]
[4723.7674999999999,2.3985152244567902,1.4634309266515049,{"$f":"+B923/Spectre!B$2701","v":2.290026398774232}]
[4724.7674999999999,2.3982620239257799,1.4632764387900368,{"$f":"+B924/Spectre!B$2701","v":2.2897846509236097}]
[4725.7674999999999,2.3976814746856698,1.4629222222715181,{"$f":"+B925/Spectre!B$2701","v":2.2892303608894733}]
[4726.7674999999999,2.40296483039856,1.4661458107932444,{"$f":"+B926/Spectre!B$2701","v":2.2942747416518983}]
[4727.7674999999999,2.41478419303894,1.4733572808914417,{"$f":"+B927/Spectre!B$2701","v":2.3055594948972256}]
[4728.7674999999999,2.4256055355071999,1.4799598186091356,{"$f":"+B928/Spectre!B$2701","v":2.3158913700797585}]
[4729.7674999999999,2.4179315567016602,1.4752776144688478,{"$f":"+B929/Spectre!B$2701","v":2.3085644980761422}]
[4730.7674999999999,2.4073538780212398,1.4688237458607736,{"$f":"+B930/Spectre!B$2701","v":2.2984652653637876}]
[4731.7674999999999,2.40601587295532,1.4680073749770213,{"$f":"+B931/Spectre!B$2701","v":2.2971877804883918}]
[4732.7674999999999,2.4153091907501198,1.4736776031804679,{"$f":"+B932/Spectre!B$2701","v":2.3060607460903135}]
[4733.7674999999999,2.42332792282104,1.4785701551999257,{"$f":"+B933/Spectre!B$2701","v":2.3137167775967482}]
[4734.7674999999999,2.41962790489197,1.4763126249531489,{"$f":"+B934/Spectre!B$2701","v":2.3101841176214806}]
[4735.7674999999999,2.4135212898254399,1.4725867326784647,{"$f":"+B935/Spectre!B$2701","v":2.3043537148927786}]
[4736.7674999999999,2.4090845584869398,1.469879703851714,{"$f":"+B936/Spectre!B$2701","v":2.3001176642787011}]
[4737.7674999999999,2.4070079326629599,1.4686126706376206,{"$f":"+B937/Spectre!B$2701","v":2.2981349676884109}]
[4738.7674999999999,2.4052205085754399,1.4675220910732107,{"$f":"+B938/Spectre!B$2701","v":2.2964283917598993}]
[4739.7674999999999,2.4108922481536901,1.4709826482637969,{"$f":"+B939/Spectre!B$2701","v":2.3018435891406486}]
[4740.7674999999999,2.41805124282837,1.475350639804494,{"$f":"+B940/Spectre!B$2701","v":2.3086787706006349}]
[4741.7674999999999,2.4169616699218799,1.4746858474062883,{"$f":"+B941/Spectre!B$2701","v":2.3076384808856436}]
[4742.7674999999999,2.4021301269531299,1.4656365245380771,{"$f":"+B942/Spectre!B$2701","v":2.2934777932291022}]
[4743.7674999999999,2.3881242275238002,1.4570909601107787,{"$f":"+B943/Spectre!B$2701","v":2.2801054038839372}]
[4744.7674999999999,2.3803420066833501,1.4523427131370594,{"$f":"+B944/Spectre!B$2701","v":2.2726751858123562}]
[4745.7674999999999,2.3724949359893799,1.4475548986507965,{"$f":"+B945/Spectre!B$2701","v":2.2651830511537949}]
[4746.7674999999999,2.3727948665618901,1.447737898396299,{"$f":"+B946/Spectre!B$2701","v":2.2654694153685577}]
[4747.7674999999999,2.3841493129730198,1.4546657043420868,{"$f":"+B947/Spectre!B$2701","v":2.2763102813175502}]
[4748.7674999999999,2.3947684764862101,1.4611448845206874,{"$f":"+B948/Spectre!B$2701","v":2.286449122434814}]
[4749.7674999999999,2.39151811599731,1.4591617084233584,{"$f":"+B949/Spectre!B$2701","v":2.283345781147164}]
[4750.7674999999999,2.3856511116027801,1.4555820122887633,{"$f":"+B950/Spectre!B$2701","v":2.2777441511019596}]
[4751.7674999999999,2.37948417663574,1.4518193164086655,{"$f":"+B951/Spectre!B$2701","v":2.2718561568419924}]
[4752.7674999999999,2.3729386329650901,1.4478256160803524,{"$f":"+B952/Spectre!B$2701","v":2.265606678978656}]
[4753.7674999999999,2.3666412830352801,1.4439833487687836,{"$f":"+B953/Spectre!B$2701","v":2.2595941686412031}]
[4754.7674999999999,2.3646056652069101,1.4427413361876233,{"$f":"+B954/Spectre!B$2701","v":2.2576506251867987}]
[4755.7674999999999,2.3637015819549601,1.4421897185127883,{"$f":"+B955/Spectre!B$2701","v":2.2567874351213182}]
[4756.7674999999999,2.3616845607757599,1.4409590524977243,{"$f":"+B956/Spectre!B$2701","v":2.2548616471587666}]
[4757.7674999999999,2.3576786518096902,1.4385148857855348,{"$f":"+B957/Spectre!B$2701","v":2.2510369321059516}]
[4758.7674999999999,2.3538150787353498,1.4361575639446245,{"$f":"+B958/Spectre!B$2701","v":2.2473481148561727}]
[4759.7674999999999,2.3544156551361102,1.4365239998420196,{"$f":"+B959/Spectre!B$2701","v":2.2479215261892338}]
[4760.7674999999999,2.3559625148773198,1.4374678013911597,{"$f":"+B960/Spectre!B$2701","v":2.2493984188962095}]
[4761.7674999999999,2.3567206859588601,1.4379303921627777,{"$f":"+B961/Spectre!B$2701","v":2.2501222966409955}]
[4762.7674999999999,2.3557682037353498,{"$f":"+B962/F$1","v":1.4373492443223312},{"$f":"+B962/Spectre!B$2701","v":2.2492128967697917}]
[4763.7674999999999,2.3546290397643999,1.4366541944145315,{"$f":"+B963/Spectre!B$2701","v":2.2481252590765188}]
[4764.7674999999999,2.3614058494567902,1.4407889994750753,{"$f":"+B964/Spectre!B$2701","v":2.254595542415478}]
[4765.7674999999999,2.3699715137481698,1.4460152569128026,{"$f":"+B965/Spectre!B$2701","v":2.262773767490009}]
[4766.7674999999999,2.3702015876770002,1.446155634301044,{"$f":"+B966/Spectre!B$2701","v":2.2629934347930636}]
[4767.7674999999999,2.3558201789856001,1.4373809565198863,{"$f":"+B967/Spectre!B$2701","v":2.2492625210931823}]
[4768.7674999999999,2.3418114185333301,1.4288336464670399,{"$f":"+B968/Spectre!B$2701","v":2.2358874001338944}]
[4769.7674999999999,2.3431336879730198,1.4296404164102436,{"$f":"+B969/Spectre!B$2701","v":2.2371498611315594}]
[4770.7674999999999,2.3491108417511,1.4332873191286433,{"$f":"+B970/Spectre!B$2701","v":2.2428566583208234}]
[4771.7674999999999,2.35011982917786,1.4339029430737686,{"$f":"+B971/Spectre!B$2701","v":2.2438200075711223}]
[4772.7674999999999,2.3417911529540998,1.4288212816193668,{"$f":"+B972/Spectre!B$2701","v":2.2358680512004585}]
[4773.7674999999999,2.3336913585662802,1.4238792702092296,{"$f":"+B973/Spectre!B$2701","v":2.2281346239602993}]
[4774.7674999999999,2.3293342590332,1.4212208279603786,{"$f":"+B974/Spectre!B$2701","v":2.2239746032728758}]
[4775.7674999999999,2.3262810707092298,1.4193579545574377,{"$f":"+B975/Spectre!B$2701","v":2.2210595157257851}]
[4776.7674999999999,2.3242330551147501,1.4181083775988821,{"$f":"+B976/Spectre!B$2701","v":2.2191041352768153}]
[4777.7674999999999,2.3249866962432901,1.4185682044633756,{"$f":"+B977/Spectre!B$2701","v":2.2198236879658957}]
[4778.7674999999999,2.3256974220275901,1.4190018469445689,{"$f":"+B978/Spectre!B$2701","v":2.2205022664430056}]
[4779.7674999999999,2.3237435817718501,1.417809730160472,{"$f":"+B979/Spectre!B$2701","v":2.2186368016258515}]
[4780.7674999999999,2.3210866451263401,1.4161886258966567,{"$f":"+B980/Spectre!B$2701","v":2.2161000426359365}]
[4781.7674999999999,2.3189611434936501,1.414891771579365,{"$f":"+B981/Spectre!B$2701","v":2.214070680970909}]
[4782.7674999999999,2.3183798789978001,1.4145371186544562,{"$f":"+B982/Spectre!B$2701","v":2.2135157080332375}]
[4783.7674999999999,2.3179042339325,1.4142469084062279,{"$f":"+B983/Spectre!B$2701","v":2.2130615771839199}]
[4784.7674999999999,2.31286573410034,1.4111727163380989,{"$f":"+B984/Spectre!B$2701","v":2.2082509770642234}]
[4785.7674999999999,2.3063397407531698,1.4071909444510626,{"$f":"+B985/Spectre!B$2701","v":2.2020201652307776}]
[4786.7674999999999,2.3028748035430899,1.4050768464372445,{"$f":"+B986/Spectre!B$2701","v":2.198711952883293}]
[4787.7674999999999,2.30654692649841,1.40731735683488,{"$f":"+B987/Spectre!B$2701","v":2.202217979620785}]
[4788.7674999999999,2.3103013038635298,1.4096080539671783,{"$f":"+B988/Spectre!B$2701","v":2.2058025402645609}]
[4789.7674999999999,2.31371998786926,1.4116939310345491,{"$f":"+B989/Spectre!B$2701","v":2.2090665915169194}]
[4790.7674999999999,2.3171155452728298,1.4137656976287052,{"$f":"+B990/Spectre!B$2701","v":2.2123085622217289}]
[4791.7674999999999,2.3162505626678498,1.4132379368364301,{"$f":"+B991/Spectre!B$2701","v":2.2114827042160399}]
[4792.7674999999999,2.3032629489898699,1.4053136696373081,{"$f":"+B992/Spectre!B$2701","v":2.1990825418671052}]
[4793.7674999999999,2.2902717590332,1.3973872204062421,{"$f":"+B993/Spectre!B$2701","v":2.1866789650005036}]
[4794.7674999999999,2.2840652465820299,1.3936003767059912,{"$f":"+B994/Spectre!B$2701","v":2.1807531834117211}]
[4795.7674999999999,2.28112745285034,1.3918079102003631,{"$f":"+B995/Spectre!B$2701","v":2.1779482709679208}]
[4796.7674999999999,2.2797310352325399,1.3909558994615643,{"$f":"+B996/Spectre!B$2701","v":2.1766150156373443}]
[4797.7674999999999,2.28604340553284,1.394807331307292,{"$f":"+B997/Spectre!B$2701","v":2.1826418669489924}]
[4798.7674999999999,2.2921211719512899,1.398515621857642,{"$f":"+B998/Spectre!B$2701","v":2.1884447259018622}]
[4799.7674999999999,2.2961549758911102,1.4009768084189733,{"$f":"+B999/Spectre!B$2701","v":2.1922960741924533}]
[4800.7674999999999,2.2994339466095002,1.4029774407718338,{"$f":"+B1000/Spectre!B$2701","v":2.195426731621414}]
[4801.7674999999999,2.3005466461181601,1.4036563436432599,{"$f":"+B1001/Spectre!B$2701","v":2.1964891018839632}]
[4802.7674999999999,2.29367923736572,1.3994662604402006,{"$f":"+B1002/Spectre!B$2701","v":2.1899323174308551}]
[4803.7674999999999,2.2867588996887198,1.3952438831644061,{"$f":"+B1003/Spectre!B$2701","v":2.1833249981163187}]
[4804.7674999999999,2.28025603294373,1.3912762217505967,{"$f":"+B1004/Spectre!B$2701","v":2.1771162668304416}]
[4805.7674999999999,2.2738666534423801,1.3873778034837265,{"$f":"+B1005/Spectre!B$2701","v":2.1710158895717599}]
[4806.7674999999999,2.2700779438018799,1.3850661588447952,{"$f":"+B1006/Spectre!B$2701","v":2.1673985495584187}]
[4807.7674999999999,2.27498435974121,1.3880597611998762,{"$f":"+B1007/Spectre!B$2701","v":2.1720830401590474}]
[4808.7674999999999,2.2803795337677002,1.3913515745869773,{"$f":"+B1008/Spectre!B$2701","v":2.1772341815071043}]
[4809.7674999999999,2.2773520946502699,1.3895044118140141,{"$f":"+B1009/Spectre!B$2701","v":2.1743436784871921}]
[4810.7674999999999,2.2689557075500502,1.3843814372215213,{"$f":"+B1010/Spectre!B$2701","v":2.1663270739154266}]
[4811.7674999999999,2.26242280006409,1.3803954467394002,{"$f":"+B1011/Spectre!B$2701","v":2.1600896606811673}]
[4812.7674999999999,2.2638211250305198,1.381248621228566,{"$f":"+B1012/Spectre!B$2701","v":2.1614247370878283}]
[4813.7674999999999,2.2654857635497998,1.3822642843629793,{"$f":"+B1013/Spectre!B$2701","v":2.1630140812432028}]
[4814.7674999999999,2.2617099285125701,1.3799604950390372,{"$f":"+B1014/Spectre!B$2701","v":2.1594090334934517}]
[4815.7674999999999,2.2547259330749498,1.3756992775946821,{"$f":"+B1015/Spectre!B$2701","v":2.1527409357644944}]
[4816.7674999999999,2.2492709159851101,1.3723709515397611,{"$f":"+B1016/Spectre!B$2701","v":2.147532658154196}]
[4817.7674999999999,2.2565724849700901,1.3768259334205284,{"$f":"+B1017/Spectre!B$2701","v":2.1545039650517217}]
[4818.7674999999999,2.26422047615051,1.3814922814620418,{"$f":"+B1018/Spectre!B$2701","v":2.1618060248936479}]
[4819.7674999999999,2.2626786231994598,1.3805515347576189,{"$f":"+B1019/Spectre!B$2701","v":2.1603339125113998}]
[4820.7674999999999,2.2556824684143102,1.3762828984046656,{"$f":"+B1020/Spectre!B$2701","v":2.1536542054223893}]
[4821.7674999999999,2.2488474845886199,1.372112598957872,{"$f":"+B1021/Spectre!B$2701","v":2.1471283792627616}]
[4822.7674999999999,2.2423739433288601,1.3681628302059838,{"$f":"+B1022/Spectre!B$2701","v":2.1409476470217306}]
[4823.7674999999999,2.23566865921021,1.364071665784278,{"$f":"+B1023/Spectre!B$2701","v":2.1345456540360623}]
[4824.7674999999999,2.2347471714019802,1.363509428887324,{"$f":"+B1024/Spectre!B$2701","v":2.1336658466512781}]
[4825.7674999999999,2.2382948398590101,1.3656740045733922,{"$f":"+B1025/Spectre!B$2701","v":2.1370530481740606}]
[4826.7674999999999,2.2388224601745601,{"$f":"+B1026/F$1","v":1.3659959270191753},{"$f":"+B1026/Spectre!B$2701","v":2.1375568033467687}]
[4827.7674999999999,2.2232332229614298,1.3564843043169394,{"$f":"+B1027/Spectre!B$2701","v":2.1226726932144651}]
[4828.7674999999999,2.20606470108032,1.3460090963092859,{"$f":"+B1028/Spectre!B$2701","v":2.1062807320816859}]
[4829.7674999999999,2.19832468032837,1.3412865973124768,{"$f":"+B1029/Spectre!B$2701","v":2.0988908053185402}]
[4830.7674999999999,2.19951725006104,1.3420142322306055,{"$f":"+B1030/Spectre!B$2701","v":2.1000294331422649}]
[4831.7674999999999,2.1991832256317099,1.3418104304472545,{"$f":"+B1031/Spectre!B$2701","v":2.0997105171924297}]
[4832.7674999999999,2.1832807064056401,1.3321076617469343,{"$f":"+B1032/Spectre!B$2701","v":2.0845272953127512}]
[4833.7674999999999,2.1666409969329798,1.3219551035290469,{"$f":"+B1033/Spectre!B$2701","v":2.0686402275252385}]
[4834.7674999999999,2.1560688018798801,1.3155045807032841,{"$f":"+B1034/Spectre!B$2701","v":2.0585462304066371}]
[4835.7674999999999,2.1510086059570299,1.3124171509747145,{"$f":"+B1035/Spectre!B$2701","v":2.0537149155464527}]
[4836.7674999999999,2.1455037593841602,1.3090584219414085,{"$f":"+B1036/Spectre!B$2701","v":2.0484590623233703}]
[4837.7674999999999,2.1379492282867401,1.3044490976679639,{"$f":"+B1037/Spectre!B$2701","v":2.0412462352097247}]
[4838.7674999999999,2.1304264068603498,1.2998591207444072,{"$f":"+B1038/Spectre!B$2701","v":2.0340636834860435}]
[4839.7674999999999,2.1195974349975599,1.2932519280252388,{"$f":"+B1039/Spectre!B$2701","v":2.0237245239991619}]
[4840.7674999999999,2.1057152748107901,1.2847818619031235,{"$f":"+B1040/Spectre!B$2701","v":2.0104702769651808}]
[4841.7674999999999,2.0938022136688201,1.2775132225680541,{"$f":"+B1041/Spectre!B$2701","v":1.9990960633570509}]
[4842.7674999999999,2.0978369712829599,1.2799749910045717,{"$f":"+B1042/Spectre!B$2701","v":2.0029483221856887}]
[4843.7674999999999,2.1041164398193399,1.2838063481564344,{"$f":"+B1043/Spectre!B$2701","v":2.0089437599348234}]
[4844.7674999999999,2.11994528770447,1.293464166998759,{"$f":"+B1044/Spectre!B$2701","v":2.0240566427506241}]
[4845.7674999999999,2.1479029655456499,1.3105222744366254,{"$f":"+B1045/Spectre!B$2701","v":2.0507497484069481}]
[4846.7674999999999,2.17537617683411,1.3272847892808117,{"$f":"+B1046/Spectre!B$2701","v":2.0769803007370569}]
[4847.7674999999999,2.2067019939422599,1.34639793440128,{"$f":"+B1047/Spectre!B$2701","v":2.1068891991294292}]
[4848.7674999999999,2.23915362358093,1.3661979831769664,{"$f":"+B1048/Spectre!B$2701","v":2.1378729876824618}]
[4849.7674999999999,2.25692939758301,1.3770437002083031,{"$f":"+B1049/Spectre!B$2701","v":2.1548447339146031}]
[4850.7674999999999,2.2527995109558101,1.3745238897221397,{"$f":"+B1050/Spectre!B$2701","v":2.1509016489161019}]
[4851.7674999999999,2.25030589103699,1.3730024315836606,{"$f":"+B1051/Spectre!B$2701","v":2.148520819566186}]
[4852.7674999999999,2.25558257102966,1.3762219469790926,{"$f":"+B1052/Spectre!B$2701","v":2.1535588265622994}]
[4853.7674999999999,2.2620275020599401,1.3801542594754554,{"$f":"+B1053/Spectre!B$2701","v":2.1597122426620294}]
[4854.7674999999999,2.2614295482635498,1.3797894237348174,{"$f":"+B1054/Spectre!B$2701","v":2.1591413353085893}]
[4855.7674999999999,2.2512950897216801,1.3736059816187065,{"$f":"+B1055/Spectre!B$2701","v":2.1494652751520729}]
[4856.7674999999999,2.2412235736846902,1.3674609432647657,{"$f":"+B1056/Spectre!B$2701","v":2.1398493105064413}]
[4857.7674999999999,2.2285709381103498,1.3597410597241748,{"$f":"+B1057/Spectre!B$2701","v":2.1277689746453792}]
[4858.7674999999999,2.21519231796265,1.3515782236994416,{"$f":"+B1058/Spectre!B$2701","v":2.1149954916985099}]
[4859.7674999999999,2.2040419578552202,1.3447749390431145,{"$f":"+B1059/Spectre!B$2701","v":2.1043494808908707}]
[4860.7674999999999,2.1964380741119398,1.3401355027288842,{"$f":"+B1060/Spectre!B$2701","v":2.0970895334334743}]
[4861.7674999999999,2.1878936290740998,1.3349221920140102,{"$f":"+B1061/Spectre!B$2701","v":2.0889315678304161}]
[4862.7674999999999,2.1601893901825,1.3180187179064022,{"$f":"+B1062/Spectre!B$2701","v":2.0624804376592163}]
[4863.7674999999999,2.1271948814392099,1.2978874366819775,{"$f":"+B1063/Spectre!B$2701","v":2.0309783253247682}]
[4864.7674999999999,2.1000957489013699,1.2813531623788885,{"$f":"+B1064/Spectre!B$2701","v":2.0051049315423337}]
[4865.7674999999999,2.0866959095001198,1.2731773796312957,{"$f":"+B1065/Spectre!B$2701","v":1.9923111891239809}]
[4866.7674999999999,2.07156133651733,1.2639431659232319,{"$f":"+B1066/Spectre!B$2701","v":1.9778611780040334}]
[4867.7674999999999,2.0701127052307098,1.2630592975180874,{"$f":"+B1067/Spectre!B$2701","v":1.9764780707155643}]
[4868.7674999999999,2.07108497619629,1.2636525192686134,{"$f":"+B1068/Spectre!B$2701","v":1.9774063642511803}]
[4869.7674999999999,2.0723304748535201,1.2644124482594774,{"$f":"+B1069/Spectre!B$2701","v":1.9785955269363331}]
[4870.7674999999999,2.0739383697509801,1.2653934898204211,{"$f":"+B1070/Spectre!B$2701","v":1.9801306940781103}]
[4871.7674999999999,2.0752267837524401,1.2661796031945791,{"$f":"+B1071/Spectre!B$2701","v":1.981360830975224}]
[4872.7674999999999,2.0905823707580602,1.275548666476636,{"$f":"+B1072/Spectre!B$2701","v":1.9960218592868157}]
[4873.7674999999999,2.11048364639282,1.2876912378252585,{"$f":"+B1073/Spectre!B$2701","v":2.0150229671839748}]
[4874.7674999999999,2.1242704391479501,1.2961031164289316,{"$f":"+B1074/Spectre!B$2701","v":2.0281861604135814}]
[4875.7674999999999,2.1246104240417498,1.2963105549321803,{"$f":"+B1075/Spectre!B$2701","v":2.028510767226182}]
[4876.7674999999999,2.1248462200164799,1.2964544235715292,{"$f":"+B1076/Spectre!B$2701","v":2.0287358977575001}]
[4877.7674999999999,2.1240584850311302,1.2959737946691934,{"$f":"+B1077/Spectre!B$2701","v":2.0279837933333571}]
[4878.7674999999999,2.12285208702087,1.2952377225608893,{"$f":"+B1078/Spectre!B$2701","v":2.0268319627079956}]
[4879.7674999999999,2.1246798038482702,1.2963528863518485,{"$f":"+B1079/Spectre!B$2701","v":2.0285770088688673}]
[4880.7674999999999,2.1364164352417001,1.3035138787777958,{"$f":"+B1080/Spectre!B$2701","v":2.0397827729388971}]
[4881.7674999999999,2.1481018066406299,1.3106435954125841,{"$f":"+B1081/Spectre!B$2701","v":2.0509395955890808}]
[4882.7674999999999,2.1545491218566899,1.3145773625969013,{"$f":"+B1082/Spectre!B$2701","v":2.05709528803391}]
[4883.7674999999999,2.1588478088378902,1.3172001649907061,{"$f":"+B1083/Spectre!B$2701","v":2.0611995382661532}]
[4884.7674999999999,2.1640930175781299,1.3204004785050587,{"$f":"+B1084/Spectre!B$2701","v":2.0662074975068334}]
[4885.7674999999999,2.1736795902252202,1.3262496333277138,{"$f":"+B1085/Spectre!B$2701","v":2.0753604535572063}]
[4886.7674999999999,2.1838285923004199,1.3324419490403905,{"$f":"+B1086/Spectre!B$2701","v":2.0850503994188947}]
[4887.7674999999999,2.1819155216217001,1.3312747074204241,{"$f":"+B1087/Spectre!B$2701","v":2.0832238601031055}]
[4888.7674999999999,2.1748189926147501,1.3269448287043104,{"$f":"+B1088/Spectre!B$2701","v":2.0764483188849909}]
[4889.7674999999999,2.1699993610382098,1.3240041769910103,{"$f":"+B1089/Spectre!B$2701","v":2.0718466872463415}]
[4890.7674999999999,2.1731276512146001,{"$f":"+B1090/F$1","v":1.3259128730647267},{"$f":"+B1090/Spectre!B$2701","v":2.0748334796643806}]
[4891.7674999999999,2.1764428615570099,1.3279356166745933,{"$f":"+B1091/Spectre!B$2701","v":2.077998737539001}]
[4892.7674999999999,2.1859545707702601,1.3337390942952696,{"$f":"+B1092/Spectre!B$2701","v":2.0870802163529367}]
[4893.7674999999999,2.1993823051452601,1.341931896892004,{"$f":"+B1093/Spectre!B$2701","v":2.0999005920090648}]
[4894.7674999999999,2.2081484794616699,1.3472804935872604,{"$f":"+B1094/Spectre!B$2701","v":2.1082702577073018}]
[4895.7674999999999,2.1963341236114502,1.3400720783337807,{"$f":"+B1095/Spectre!B$2701","v":2.096990284786703}]
[4896.7674999999999,2.1835064888000502,1.3322454206968479,{"$f":"+B1096/Spectre!B$2701","v":2.0847428651946118}]
[4897.7674999999999,2.17868876457214,1.3293059327339152,{"$f":"+B1097/Spectre!B$2701","v":2.0801430546320474}]
[4898.7674999999999,2.1800994873046902,1.3301666716004827,{"$f":"+B1098/Spectre!B$2701","v":2.0814899680332837}]
[4899.7674999999999,2.18106889724731,1.3307581477254486,{"$f":"+B1099/Spectre!B$2701","v":2.082415529954758}]
[4900.7674999999999,2.1817562580108598,1.3311775342646246,{"$f":"+B1100/Spectre!B$2701","v":2.0830718002497974}]
[4901.7674999999999,2.1829886436462398,1.3319294624717031,{"$f":"+B1101/Spectre!B$2701","v":2.0842484430368491}]
[4902.7674999999999,2.1773529052734402,1.3284908710693326,{"$f":"+B1102/Spectre!B$2701","v":2.0788676184672576}]
[4903.7674999999999,2.1671600341796902,1.3222717890981752,{"$f":"+B1103/Spectre!B$2701","v":2.0691357878555605}]
[4904.7674999999999,2.1590058803558398,1.3172966108025281,{"$f":"+B1104/Spectre!B$2701","v":2.0613504599469112}]
[4905.7674999999999,2.1651761531829798,1.3210613432457667,{"$f":"+B1105/Spectre!B$2701","v":2.0672416410900247}]
[4906.7674999999999,2.1725213527679399,1.3255429459162242,{"$f":"+B1106/Spectre!B$2701","v":2.0742546051030564}]
[4907.7674999999999,2.17977643013,1.3299695613817535,{"$f":"+B1107/Spectre!B$2701","v":2.0811815232709532}]
[4908.7674999999999,2.1868987083435099,1.334315150727857,{"$f":"+B1108/Spectre!B$2701","v":2.0879816490162653}]
[4909.7674999999999,2.19268703460693,1.3378468421597332,{"$f":"+B1109/Spectre!B$2701","v":2.093508159672854}]
[4910.7674999999999,2.1886472702026398,1.3353820188785037,{"$f":"+B1110/Spectre!B$2701","v":2.089651120519497}]
[4911.7674999999999,2.1832013130188002,1.3320592206378312,{"$f":"+B1111/Spectre!B$2701","v":2.0844514930206088}]
[4912.7674999999999,2.18213891983032,1.3314110116823772,{"$f":"+B1112/Spectre!B$2701","v":2.0834371536398577}]
[4913.7674999999999,2.1863327026367201,1.3339698078058979,{"$f":"+B1113/Spectre!B$2701","v":2.0874412446872919}]
[4914.7674999999999,2.1897814273834202,1.3360740139415801,{"$f":"+B1114/Spectre!B$2701","v":2.0907339778880321}]
[4915.7674999999999,2.1789286136627202,1.329452274342801,{"$f":"+B1115/Spectre!B$2701","v":2.0803720549500566}]
[4916.7674999999999,2.16641449928284,1.3218169081727495,{"$f":"+B1116/Spectre!B$2701","v":2.0684239747398521}]
[4917.7674999999999,2.16396141052246,1.3203201797296042,{"$f":"+B1117/Spectre!B$2701","v":2.0660818432567889}]
[4918.7674999999999,2.1743495464325,1.3266584006447768,{"$f":"+B1118/Spectre!B$2701","v":2.0760001065329514}]
[4919.7674999999999,2.1837708950042698,1.3324067455917279,{"$f":"+B1119/Spectre!B$2701","v":2.0849953118672402}]
[4920.7674999999999,2.18474674224854,1.3330021493741977,{"$f":"+B1120/Spectre!B$2701","v":2.0859270199205238}]
[4921.7674999999999,2.1849274635314901,1.3331124147216413,{"$f":"+B1121/Spectre!B$2701","v":2.0860995668798079}]
[4922.7674999999999,2.1802017688751198,1.3302290777140096,{"$f":"+B1122/Spectre!B$2701","v":2.0815876232384722}]
[4923.7674999999999,2.1690921783447301,1.323450668221825,{"$f":"+B1123/Spectre!B$2701","v":2.070980537932217}]
[4924.7674999999999,2.1580212116241499,1.3166958246746068,{"$f":"+B1124/Spectre!B$2701","v":2.0604103294167295}]
[4925.7674999999999,2.1458895206451398,1.3092937904535051,{"$f":"+B1125/Spectre!B$2701","v":2.0488273749620642}]
[4926.7674999999999,2.13327288627625,1.3015958727011303,{"$f":"+B1126/Spectre!B$2701","v":2.0367814119121599}]
[4927.7674999999999,2.1276080608367902,1.2981395341056288,{"$f":"+B1127/Spectre!B$2701","v":2.0313728159322246}]
[4928.7674999999999,2.1350116729736301,1.3026567766311323,{"$f":"+B1128/Spectre!B$2701","v":2.0384415504004365}]
[4929.7674999999999,2.1417593955993701,1.3067738344985513,{"$f":"+B1129/Spectre!B$2701","v":2.0448840623290612}]
[4930.7674999999999,2.1424965858459499,1.3072236240161121,{"$f":"+B1130/Spectre!B$2701","v":2.0455879082368846}]
[4931.7674999999999,2.1418361663818399,1.3068206754508973,{"$f":"+B1131/Spectre!B$2701","v":2.044957360641583}]
[4932.7674999999999,2.14138960838318,1.3065482123957877,{"$f":"+B1132/Spectre!B$2701","v":2.0445310012025901}]
[4933.7674999999999,2.14155197143555,1.3066472766459374,{"$f":"+B1133/Spectre!B$2701","v":2.0446860203045416}]
[4934.7674999999999,2.1418504714965798,1.3068294035786598,{"$f":"+B1134/Spectre!B$2701","v":2.0449710187122334}]
[4935.7674999999999,2.1378908157348602,1.3044134578129176,{"$f":"+B1135/Spectre!B$2701","v":2.0411904647545445}]
[4936.7674999999999,2.1327419281005899,1.3012719136921997,{"$f":"+B1136/Spectre!B$2701","v":2.0362744698562962}]
[4937.7674999999999,2.1310901641845699,1.3002641058727693,{"$f":"+B1137/Spectre!B$2701","v":2.0346974179645012}]
[4938.7674999999999,2.1370272636413601,1.3038865698334225,{"$f":"+B1138/Spectre!B$2701","v":2.0403659725559264}]
[4939.7674999999999,2.14300632476807,1.3075346363021891,{"$f":"+B1139/Spectre!B$2701","v":2.046074590821275}]
[4940.7674999999999,2.1393401622772199,1.3052977626244517,{"$f":"+B1140/Spectre!B$2701","v":2.0425742549465489}]
[4941.7674999999999,2.1315875053405802,1.3005675537814507,{"$f":"+B1141/Spectre!B$2701","v":2.0351722635543257}]
[4942.7674999999999,2.12604856491089,1.2971880227102963,{"$f":"+B1142/Spectre!B$2701","v":2.0298838585961705}]
[4943.7674999999999,2.1265108585357702,1.2974700867059485,{"$f":"+B1143/Spectre!B$2701","v":2.0303252419128848}]
[4944.7674999999999,2.12694144248962,1.2977328033517128,{"$f":"+B1144/Spectre!B$2701","v":2.0307363498396347}]
[4945.7674999999999,2.1265854835510298,1.2975156184391305,{"$f":"+B1145/Spectre!B$2701","v":2.0303964915148098}]
[4946.7674999999999,2.1258022785186799,1.297037753443919,{"$f":"+B1146/Spectre!B$2701","v":2.0296487121463711}]
[4947.7674999999999,2.1250011920928999,1.296548978289001,{"$f":"+B1147/Spectre!B$2701","v":2.0288838601896151}]
[4948.7674999999999,2.1240174770355198,1.2959487740362601,{"$f":"+B1148/Spectre!B$2701","v":2.0279446401974708}]
[4949.7674999999999,2.1230609416961701,1.2953651532262831,{"$f":"+B1149/Spectre!B$2701","v":2.0270313705395857}]
[4950.7674999999999,2.1217460632324201,1.2945628928157511,{"$f":"+B1150/Spectre!B$2701","v":2.0257759662117483}]
[4951.7674999999999,2.12027812004089,1.2936672414381205,{"$f":"+B1151/Spectre!B$2701","v":2.0243744205278902}]
[4952.7674999999999,2.1202414035797101,1.2936448392435214,{"$f":"+B1152/Spectre!B$2701","v":2.0243393648132075}]
[4953.7674999999999,2.1263198852539098,1.2973535662002671,{"$f":"+B1153/Spectre!B$2701","v":2.0301429066696222}]
[4954.7674999999999,2.1329383850097701,{"$f":"+B1154/F$1","v":1.3013917799801922},{"$f":"+B1154/Spectre!B$2701","v":2.0364620406933107}]
[4955.7674999999999,2.1326766014099099,1.3012320552420629,{"$f":"+B1155/Spectre!B$2701","v":2.0362120980002927}]
[4956.7674999999999,2.12784719467163,1.2982854393081245,{"$f":"+B1156/Spectre!B$2701","v":2.0316011333466979}]
[4957.7674999999999,2.1251845359802202,1.2966608437932017,{"$f":"+B1157/Spectre!B$2701","v":2.0290589111285193}]
[4958.7674999999999,2.13231229782104,1.30100977892161,{"$f":"+B1158/Spectre!B$2701","v":2.035864272467574}]
[4959.7674999999999,2.1403858661651598,1.3059357887641763,{"$f":"+B1159/Spectre!B$2701","v":2.0435726599115309}]
[4960.7674999999999,2.1373324394226101,1.3040727698924393,{"$f":"+B1160/Spectre!B$2701","v":2.0406573447299294}]
[4961.7674999999999,2.1245071887970002,1.296247566943467,{"$f":"+B1161/Spectre!B$2701","v":2.0284122014829467}]
[4962.7674999999999,2.1133520603179901,1.2894413729112186,{"$f":"+B1162/Spectre!B$2701","v":2.0177616379850902}]
[4963.7674999999999,2.1191573143005402,1.2929833926276266,{"$f":"+B1163/Spectre!B$2701","v":2.023304310691969}]
[4964.7674999999999,2.1248340606689502,1.2964470046629304,{"$f":"+B1164/Spectre!B$2701","v":2.0287242883974468}]
[4965.7674999999999,2.1345729827880899,1.3023891140463,{"$f":"+B1165/Spectre!B$2701","v":2.0380227029003137}]
[4966.7674999999999,2.1471526622772199,1.3100644841352791,{"$f":"+B1166/Spectre!B$2701","v":2.0500333826010233}]
[4967.7674999999999,2.15770387649536,1.3165022057069853,{"$f":"+B1167/Spectre!B$2701","v":2.0601073478826635}]
[4968.7674999999999,2.14442706108093,1.3084014848581855,{"$f":"+B1168/Spectre!B$2701","v":2.0474310648719589}]
[4969.7674999999999,2.1282973289489702,1.2985600843951719,{"$f":"+B1169/Spectre!B$2701","v":2.0320309073033487}]
[4970.7674999999999,2.1181080341339098,1.2923431844559581,{"$f":"+B1170/Spectre!B$2701","v":2.0223024912093188}]
[4971.7674999999999,2.11436891555786,1.2900617973266153,{"$f":"+B1171/Spectre!B$2701","v":2.0187324991742503}]
[4972.7674999999999,2.1109423637390101,1.2879711197889672,{"$f":"+B1172/Spectre!B$2701","v":2.0154609359830218}]
[4973.7674999999999,2.11295866966248,1.2892013493976471,{"$f":"+B1173/Spectre!B$2701","v":2.0173860410420472}]
[4974.7674999999999,2.1160318851470898,1.2910764421794578,{"$f":"+B1174/Spectre!B$2701","v":2.0203202498880519}]
[4975.7674999999999,2.1174969673156698,1.2919703479315345,{"$f":"+B1175/Spectre!B$2701","v":2.0217190639577773}]
[4976.7674999999999,2.1164913177490199,1.2913567605495564,{"$f":"+B1176/Spectre!B$2701","v":2.020758901590634}]
[4977.7674999999999,2.1156058311462398,1.2908164894408178,{"$f":"+B1177/Spectre!B$2701","v":2.0199134670170067}]
[4978.7674999999999,2.1239094734191899,1.2958828766716255,{"$f":"+B1178/Spectre!B$2701","v":2.0278415217640178}]
[4979.7674999999999,2.13385057449341,1.3019483435940951,{"$f":"+B1179/Spectre!B$2701","v":2.0373329703321641}]
[4980.7674999999999,2.1354572772979701,1.3029286578110555,{"$f":"+B1180/Spectre!B$2701","v":2.0388669993013822}]
[4981.7674999999999,2.1220138072967498,1.2947262542737783,{"$f":"+B1181/Spectre!B$2701","v":2.0260315997675322}]
[4982.7674999999999,2.1093156337738002,1.2869785861931304,{"$f":"+B1182/Spectre!B$2701","v":2.0139077857148795}]
[4983.7674999999999,2.1075563430786102,1.2859051719466588,{"$f":"+B1183/Spectre!B$2701","v":2.0122280706586557}]
[4984.7674999999999,2.1081135272979701,1.2862451325231601,{"$f":"+B1184/Spectre!B$2701","v":2.0127600525107212}]
[4985.7674999999999,2.1087067127227801,1.2866070588878769,{"$f":"+B1185/Spectre!B$2701","v":2.0133264071739445}]
[4986.7674999999999,2.1092686653137198,1.286949928840299,{"$f":"+B1186/Spectre!B$2701","v":2.0138629417162273}]
[4987.7674999999999,2.1097452640533398,1.287240720963714,{"$f":"+B1187/Spectre!B$2701","v":2.014317983103592}]
[4988.7674999999999,2.1066246032714799,1.2853366798914725,{"$f":"+B1188/Spectre!B$2701","v":2.0113384749899015}]
[4989.7674999999999,2.1021320819854701,1.282595611366433,{"$f":"+B1189/Spectre!B$2701","v":2.0070491579002643}]
[4990.7674999999999,2.0996692180633501,1.2810929187026492,{"$f":"+B1190/Spectre!B$2701","v":2.0046976934022558}]
[4991.7674999999999,2.1028594970703098,1.2830394366633553,{"$f":"+B1191/Spectre!B$2701","v":2.0077436707931424}]
[4992.7674999999999,2.1064159870147701,1.2852093946948815,{"$f":"+B1192/Spectre!B$2701","v":2.0111392947928333}]
[4993.7674999999999,2.0946137905120898,1.2780083983500066,{"$f":"+B1193/Spectre!B$2701","v":1.9998709312322975}]
[4994.7674999999999,2.0773048400878902,1.2674475092214466,{"$f":"+B1194/Spectre!B$2701","v":1.9833448933725759}]
[4995.7674999999999,2.06413769721985,1.259413704018858,{"$f":"+B1195/Spectre!B$2701","v":1.9707733222369068}]
[4996.7674999999999,2.0684678554534899,1.2620557082937478,{"$f":"+B1196/Spectre!B$2701","v":1.9749076202245923}]
[4997.7674999999999,2.07200360298157,1.264213010540014,{"$f":"+B1197/Spectre!B$2701","v":1.978283440021833}]
[4998.7674999999999,2.07539963722229,1.2662850680717574,{"$f":"+B1198/Spectre!B$2701","v":1.9815258659956567}]
[4999.7674999999999,2.0787541866302499,1.2683318140329805,{"$f":"+B1199/Spectre!B$2701","v":1.9847286835645801}]
[5000.7674999999999,2.0804789066314702,1.2693841353040167,{"$f":"+B1200/Spectre!B$2701","v":1.9863753916167179}]
[5001.7674999999999,2.0765790939331099,1.2670047022061004,{"$f":"+B1201/Spectre!B$2701","v":1.98265197392128}]
[5002.7674999999999,2.0721549987793,1.264305383225542,{"$f":"+B1202/Spectre!B$2701","v":1.9784279879362803}]
[5003.7674999999999,2.0790743827819802,1.2685271786261501,{"$f":"+B1203/Spectre!B$2701","v":1.9850343967127693}]
[5004.7674999999999,2.09363961219788,1.2774140128491136,{"$f":"+B1204/Spectre!B$2701","v":1.9989408166205969}]
[5005.7674999999999,2.10494136810303,1.2843096701909629,{"$f":"+B1205/Spectre!B$2701","v":2.0097313753426738}]
[5006.7674999999999,2.1001329421997101,1.2813758555110815,{"$f":"+B1206/Spectre!B$2701","v":2.0051404425260406}]
[5007.7674999999999,2.0948572158813499,1.27815692199083,{"$f":"+B1207/Spectre!B$2701","v":2.0001033460679647}]
[5008.7674999999999,2.0886864662170401,1.274391898609992,{"$f":"+B1208/Spectre!B$2701","v":1.9942117096558183}]
[5009.7674999999999,2.08207035064697,1.2703551395180277,{"$f":"+B1209/Spectre!B$2701","v":1.9878948519772379}]
[5010.7674999999999,2.0756042003631601,1.2664098802988175,{"$f":"+B1210/Spectre!B$2701","v":1.9817211764060438}]
[5011.7674999999999,2.0714128017425502,1.2638525388632575,{"$f":"+B1211/Spectre!B$2701","v":1.9777193617037183}]
[5012.7674999999999,2.0672121047973602,1.2612895241446522,{"$f":"+B1212/Spectre!B$2701","v":1.9737086692554708}]
[5013.7674999999999,2.06312799453735,1.2587976436673427,{"$f":"+B1213/Spectre!B$2701","v":1.9698092900830722}]
[5014.7674999999999,2.05912089347839,1.2563527496111759,{"$f":"+B1214/Spectre!B$2701","v":1.9659834368577074}]
[5015.7674999999999,2.0552568435668901,1.2539951368326725,{"$f":"+B1215/Spectre!B$2701","v":1.9622941643389058}]
[5016.7674999999999,2.0527253150939901,1.252450549155611,{"$f":"+B1216/Spectre!B$2701","v":1.9598771411017477}]
[5017.7674999999999,2.05046415328979,1.2510709230933337,{"$f":"+B1217/Spectre!B$2701","v":1.9577182553999939}]
[5018.7674999999999,2.0460283756256099,{"$f":"+B1218/F$1","v":1.2483644761417696},{"$f":"+B1218/Spectre!B$2701","v":1.9534831153239638}]
[5019.7674999999999,2.0389821529388401,1.2440652913416281,{"$f":"+B1219/Spectre!B$2701","v":1.9467556049876475}]
[5020.7674999999999,2.0322241783142099,1.2399419783159833,{"$f":"+B1220/Spectre!B$2701","v":1.9403033047750631}]
[5021.7674999999999,2.0281236171722399,1.2374400604917413,{"$f":"+B1221/Spectre!B$2701","v":1.9363882188214079}]
[5022.7674999999999,2.0244228839874299,1.2351820938385745,{"$f":"+B1222/Spectre!B$2701","v":1.932854875942605}]
[5023.7674999999999,2.0209887027740501,1.2330867612994518,{"$f":"+B1223/Spectre!B$2701","v":1.9295760284470276}]
[5024.7674999999999,2.0178966522216801,1.2312001764827416,{"$f":"+B1224/Spectre!B$2701","v":1.926623836474648}]
[5025.7674999999999,2.0149300098419198,1.2293901082527852,{"$f":"+B1225/Spectre!B$2701","v":1.9237913802550248}]
[5026.7674999999999,2.00672054290771,1.2243811811964367,{"$f":"+B1226/Spectre!B$2701","v":1.9159532411398301}]
[5027.7674999999999,1.9975773096084599,1.2188025256001425,{"$f":"+B1227/Spectre!B$2701","v":1.9072235714625503}]
[5028.7674999999999,1.9926327466964699,1.2157856482376823,{"$f":"+B1228/Spectre!B$2701","v":1.9025026593401679}]
[5029.7674999999999,1.99476683139801,1.2170877394316353,{"$f":"+B1229/Spectre!B$2701","v":1.9045402158475917}]
[5030.7674999999999,1.99683856964111,1.2183517905354033,{"$f":"+B1230/Spectre!B$2701","v":1.9065182459304}]
[5031.7674999999999,2.0013575553893999,1.2211090060968108,{"$f":"+B1231/Spectre!B$2701","v":1.9108328304507514}]
[5032.7674999999999,2.0067176818847701,1.224379435570889,{"$f":"+B1232/Spectre!B$2701","v":1.9159505095257077}]
[5033.7674999999999,2.0099189281463601,1.2263326450962109,{"$f":"+B1233/Spectre!B$2701","v":1.9190069581040896}]
[5034.7674999999999,2.0083203315734899,1.2253572768183183,{"$f":"+B1234/Spectre!B$2701","v":1.917480668708244}]
[5035.7674999999999,2.0068023204803498,1.2244310769935061,{"$f":"+B1235/Spectre!B$2701","v":1.9160313197770902}]
[5036.7674999999999,2.0067708492279102,1.2244118751124211,{"$f":"+B1236/Spectre!B$2701","v":1.9160012720216477}]
[5037.7674999999999,2.0073652267456099,1.2247745288211151,{"$f":"+B1237/Spectre!B$2701","v":1.9165687648574201}]
[5038.7674999999999,2.0085830688476598,1.2255175834316281,{"$f":"+B1238/Spectre!B$2701","v":1.9177315219392996}]
[5039.7674999999999,2.0125524997711199,1.2279394934180088,{"$f":"+B1239/Spectre!B$2701","v":1.9215214089119343}]
[5040.7674999999999,2.0165355205535902,1.2303696951257685,{"$f":"+B1240/Spectre!B$2701","v":1.9253242710516936}]
[5041.7674999999999,2.0178961753845202,1.2311998855451485,{"$f":"+B1241/Spectre!B$2701","v":1.9266233812056244}]
[5042.7674999999999,2.01827096939087,1.2314285624926296,{"$f":"+B1242/Spectre!B$2701","v":1.9269812226568239}]
[5043.7674999999999,2.0199127197265598,1.2324302606226187,{"$f":"+B1243/Spectre!B$2701","v":1.9285487138991517}]
[5044.7674999999999,2.0261242389678999,1.2362201591675934,{"$f":"+B1244/Spectre!B$2701","v":1.9344792758126723}]
[5045.7674999999999,2.0325007438659699,1.2401107221194687,{"$f":"+B1245/Spectre!B$2701","v":1.9405673608077554}]
[5046.7674999999999,2.03813576698303,1.2435488771154493,{"$f":"+B1246/Spectre!B$2701","v":1.9459475024738118}]
[5047.7674999999999,2.0433554649353001,1.246733625468615,{"$f":"+B1247/Spectre!B$2701","v":1.9509311048218159}]
[5048.7674999999999,2.0460326671600302,1.2483670945800973,{"$f":"+B1248/Spectre!B$2701","v":1.9534872127451572}]
[5049.7674999999999,2.03666043281555,1.2426487162051407,{"$f":"+B1249/Spectre!B$2701","v":1.944538900120117}]
[5050.7674999999999,2.0265035629272501,1.236451600022199,{"$f":"+B1250/Spectre!B$2701","v":1.9348414423195772}]
[5051.7674999999999,2.0211715698242201,1.2331983358660652,{"$f":"+B1251/Spectre!B$2701","v":1.9297506241169176}]
[5052.7674999999999,2.0199279785156299,1.2324395706255742,{"$f":"+B1252/Spectre!B$2701","v":1.9285632825078591}]
[5053.7674999999999,2.0181729793548602,1.2313687748174302,{"$f":"+B1253/Spectre!B$2701","v":1.9268876648728284}]
[5054.7674999999999,2.0110943317413299,1.2270498062610167,{"$f":"+B1254/Spectre!B$2701","v":1.920129196243022}]
[5055.7674999999999,2.00359058380127,1.2224714668411498,{"$f":"+B1255/Spectre!B$2701","v":1.9129648552802179}]
[5056.7674999999999,2.0019607543945299,1.2214770421509629,{"$f":"+B1256/Spectre!B$2701","v":1.9114087457634319}]
[5057.7674999999999,2.0053346157074001,1.2235355710846725,{"$f":"+B1257/Spectre!B$2701","v":1.9146300017277444}]
[5058.7674999999999,2.0081140995025599,1.2252314463096816,{"$f":"+B1258/Spectre!B$2701","v":1.9172837648562744}]
[5059.7674999999999,2.0064058303832999,1.2241891623855781,{"$f":"+B1259/Spectre!B$2701","v":1.9156527635853935}]
[5060.7674999999999,2.0042519569396999,1.2228749972815516,{"$f":"+B1260/Spectre!B$2701","v":1.913596313413567}]
[5061.7674999999999,1.9993269443512001,1.2198700483603742,{"$f":"+B1261/Spectre!B$2701","v":1.908894067321085}]
[5062.7674999999999,1.9911801815032999,1.2148993795974055,{"$f":"+B1262/Spectre!B$2701","v":1.9011157960822733}]
[5063.7674999999999,1.98420822620392,1.2106455083272512,{"$f":"+B1263/Spectre!B$2701","v":1.8944591938961146}]
[5064.7674999999999,1.99158811569214,1.2151482767075426,{"$f":"+B1264/Spectre!B$2701","v":1.9015052787304887}]
[5065.7674999999999,2.0018734931945801,1.2214238005715885,{"$f":"+B1265/Spectre!B$2701","v":1.9113254315324293}]
[5066.7674999999999,2.0050966739654501,1.2233903932261538,{"$f":"+B1266/Spectre!B$2701","v":1.9144028224858203}]
[5067.7674999999999,1.99525487422943,1.2173855140572654,{"$f":"+B1267/Spectre!B$2701","v":1.9050061836914847}]
[5068.7674999999999,1.98612177371979,1.2118130408848047,{"$f":"+B1268/Spectre!B$2701","v":1.8962861884809181}]
[5069.7674999999999,1.98148465156555,1.2089837455349233,{"$f":"+B1269/Spectre!B$2701","v":1.8918588110603909}]
[5070.7674999999999,1.9771649837493901,1.2063481418870616,{"$f":"+B1270/Spectre!B$2701","v":1.8877345289911862}]
[5071.7674999999999,1.9770430326461801,1.2062737345978534,{"$f":"+B1271/Spectre!B$2701","v":1.8876180939388409}]
[5072.7674999999999,1.9846112728118901,1.2108914233270689,{"$f":"+B1272/Spectre!B$2701","v":1.8948440100368573}]
[5073.7674999999999,1.9920234680175799,1.2154139027292337,{"$f":"+B1273/Spectre!B$2701","v":1.9019209393474652}]
[5074.7674999999999,1.99439537525177,1.216861099047301,{"$f":"+B1274/Spectre!B$2701","v":1.9041855612795477}]
[5075.7674999999999,1.9951426982879601,1.2173170709886956,{"$f":"+B1275/Spectre!B$2701","v":1.9048990816540849}]
[5076.7674999999999,1.9957125186920199,1.217664741411395,{"$f":"+B1276/Spectre!B$2701","v":1.9054431281352378}]
[5077.7674999999999,1.99575638771057,1.2176915076698758,{"$f":"+B1277/Spectre!B$2701","v":1.9054850128852461}]
[5078.7674999999999,1.99580097198486,1.2177187103347467,{"$f":"+B1278/Spectre!B$2701","v":1.9055275805387899}]
[5079.7674999999999,1.9987055063247701,1.2194908839433207,{"$f":"+B1279/Spectre!B$2701","v":1.9083007379683188}]
[5080.7674999999999,2.0027537345886199,1.2219608713668129,{"$f":"+B1280/Spectre!B$2701","v":1.9121658581468159}]
[5081.7674999999999,2.0034809112548801,1.2224045511949388,{"$f":"+B1281/Spectre!B$2701","v":1.9128601434051826}]
[5082.7674999999999,1.9876651763916,{"$f":"+B1282/F$1","v":1.2127547331363997},{"$f":"+B1282/Spectre!B$2701","v":1.8977597804874828}]
[5083.7674999999999,1.9713882207870499,1.2028235056917929,{"$f":"+B1283/Spectre!B$2701","v":1.882219058608372}]
[5084.7674999999999,1.97042691707611,1.2022369755058888,{"$f":"+B1284/Spectre!B$2701","v":1.8813012362602606}]
[5085.7674999999999,1.9763214588165301,1.2058334732864366,{"$f":"+B1285/Spectre!B$2701","v":1.8869291580914827}]
[5086.7674999999999,1.9820595979690601,1.2093345435367389,{"$f":"+B1286/Spectre!B$2701","v":1.8924077516835285}]
[5087.7674999999999,1.9874095916748,1.2125987905869713,{"$f":"+B1287/Spectre!B$2701","v":1.8975157562917524}]
[5088.7674999999999,1.99329781532288,1.2161914334444259,{"$f":"+B1288/Spectre!B$2701","v":1.9031376458084404}]
[5089.7674999999999,1.98674464225769,1.212193078114632,{"$f":"+B1289/Spectre!B$2701","v":1.8968808836407456}]
[5090.7674999999999,1.97141325473785,1.2028387799153808,{"$f":"+B1290/Spectre!B$2701","v":1.8822429602320154}]
[5091.7674999999999,1.9598524570465099,1.1957850707265638,{"$f":"+B1291/Spectre!B$2701","v":1.8712050766138062}]
[5092.7674999999999,1.96801817417145,1.2007673042588238,{"$f":"+B1292/Spectre!B$2701","v":1.8790014447962391}]
[5093.7674999999999,1.9781470298767101,1.2069473278582259,{"$f":"+B1293/Spectre!B$2701","v":1.8886721555417478}]
[5094.7674999999999,1.9781954288482699,1.2069768580238369,{"$f":"+B1294/Spectre!B$2701","v":1.8887183653474708}]
[5095.7674999999999,1.96776759624481,1.2006144165541131,{"$f":"+B1295/Spectre!B$2701","v":1.8787622009252374}]
[5096.7674999999999,1.95824718475342,1.1948056293223772,{"$f":"+B1296/Spectre!B$2701","v":1.8696724134516496}]
[5097.7674999999999,1.9644196033477801,1.1985716709847858,{"$f":"+B1297/Spectre!B$2701","v":1.8755656433053691}]
[5098.7674999999999,1.97126352787018,1.2027474255114292,{"$f":"+B1298/Spectre!B$2701","v":1.8821000057591508}]
[5099.7674999999999,1.9738676548004199,1.2043363084369076,{"$f":"+B1299/Spectre!B$2701","v":1.8845863437048935}]
[5100.7674999999999,1.97140324115753,1.2028326702259455,{"$f":"+B1300/Spectre!B$2701","v":1.8822333995825582}]
[5101.7674999999999,1.96888291835785,1.2012949195823024,{"$f":"+B1301/Spectre!B$2701","v":1.8798270751674164}]
[5102.7674999999999,1.9622111320495601,1.1972241935264472,{"$f":"+B1302/Spectre!B$2701","v":1.873457064830532}]
[5103.7674999999999,1.95431816577911,1.192408376296932,{"$f":"+B1303/Spectre!B$2701","v":1.8659211105286122}]
[5104.7674999999999,1.95514404773712,1.1929122802066472,{"$f":"+B1304/Spectre!B$2701","v":1.8667096364745097}]
[5105.7674999999999,1.9689425230026201,1.2013312867813259,{"$f":"+B1305/Spectre!B$2701","v":1.8798839837951462}]
[5106.7674999999999,1.9816520214080799,1.2090858646297906,{"$f":"+B1306/Spectre!B$2701","v":1.8920186104870713}]
[5107.7674999999999,1.9772797822952299,1.2064181851123885,{"$f":"+B1307/Spectre!B$2701","v":1.887844135008206}]
[5108.7674999999999,1.96826064586639,1.2009152460244608,{"$f":"+B1308/Spectre!B$2701","v":1.8792329490938589}]
[5109.7674999999999,1.9636536836624101,1.198104352477289,{"$f":"+B1309/Spectre!B$2701","v":1.8748343674389691}]
[5110.7674999999999,1.9701954126357999,1.2020957253048676,{"$f":"+B1310/Spectre!B$2701","v":1.8810802031501357}]
[5111.7674999999999,1.9767812490463299,1.2061140098597301,{"$f":"+B1311/Spectre!B$2701","v":1.8873681512458322}]
[5112.7674999999999,1.97091448307037,1.2025344591939255,{"$f":"+B1312/Spectre!B$2701","v":1.88176674883513}]
[5113.7674999999999,1.9620932340621899,1.1971522592067698,{"$f":"+B1313/Spectre!B$2701","v":1.873344499564868}]
[5114.7674999999999,1.95711386203766,1.1941141434000833,{"$f":"+B1314/Spectre!B$2701","v":1.8685903528038967}]
[5115.7674999999999,1.96252405643463,1.1974151213213369,{"$f":"+B1315/Spectre!B$2701","v":1.8737558351261396}]
[5116.7674999999999,1.96801233291626,1.200763740273318,{"$f":"+B1316/Spectre!B$2701","v":1.878995867750719}]
[5117.7674999999999,1.96992564201355,1.201931127362075,{"$f":"+B1317/Spectre!B$2701","v":1.8808226347010109}]
[5118.7674999999999,1.97021460533142,1.2021074355429557,{"$f":"+B1318/Spectre!B$2701","v":1.8810985277282688}]
[5119.7674999999999,1.9698743820190401,1.2018998515709103,{"$f":"+B1319/Spectre!B$2701","v":1.8807736932811558}]
[5120.7674999999999,1.9671324491500899,1.2002268876812885,{"$f":"+B1320/Spectre!B$2701","v":1.8781557825880999}]
[5121.7674999999999,1.9642804861068699,1.1984867899422547,{"$f":"+B1321/Spectre!B$2701","v":1.8754328185682316}]
[5122.7674999999999,1.96396255493164,1.1982928073026475,{"$f":"+B1322/Spectre!B$2701","v":1.8751292679478953}]
[5123.7674999999999,1.9650450944900499,1.1989533083713702,{"$f":"+B1323/Spectre!B$2701","v":1.8761628424448167}]
[5124.7674999999999,1.9646954536437999,1.1987399783818808,{"$f":"+B1324/Spectre!B$2701","v":1.8758290164345259}]
[5125.7674999999999,1.94910109043121,1.1892252281005233,{"$f":"+B1325/Spectre!B$2701","v":1.8609400121602284}]
[5126.7674999999999,1.93312871456146,1.1794798370429418,{"$f":"+B1326/Spectre!B$2701","v":1.8456900933688412}]
[5127.7674999999999,1.9271323680877701,1.1758212240864605,{"$f":"+B1327/Spectre!B$2701","v":1.8399649716014541}]
[5128.7674999999999,1.9281303882598899,1.1764301564669639,{"$f":"+B1328/Spectre!B$2701","v":1.8409178496642487}]
[5129.7674999999999,1.9291343688964799,1.1770427255673654,{"$f":"+B1329/Spectre!B$2701","v":1.8418764185898098}]
[5130.7674999999999,1.9316039085388199,1.1785494913574432,{"$f":"+B1330/Spectre!B$2701","v":1.8442342568541297}]
[5131.7674999999999,1.93427753448486,1.1801807784369818,{"$f":"+B1331/Spectre!B$2701","v":1.8467869502598036}]
[5132.7674999999999,1.93600261211395,1.1812333179112129,{"$f":"+B1332/Spectre!B$2701","v":1.8484339997637089}]
[5133.7674999999999,1.9367315769195601,1.1816780887553138,{"$f":"+B1333/Spectre!B$2701","v":1.8491299922809141}]
[5134.7674999999999,1.9375253915786701,1.182162427111946,{"$f":"+B1334/Spectre!B$2701","v":1.8498879013850797}]
[5135.7674999999999,1.93855428695679,1.1827901977015491,{"$f":"+B1335/Spectre!B$2701","v":1.8508702581170471}]
[5136.7674999999999,1.9396662712097199,1.1834686641665915,{"$f":"+B1336/Spectre!B$2701","v":1.8519319454760705}]
[5137.7674999999999,1.9388630390167201,1.1829785797925036,{"$f":"+B1337/Spectre!B$2701","v":1.851165044808708}]
[5138.7674999999999,1.9349737167358401,1.1806055473216159,{"$f":"+B1338/Spectre!B$2701","v":1.8474516430317511}]
[5139.7674999999999,1.9312266111373899,1.1783192869876031,{"$f":"+B1339/Spectre!B$2701","v":1.8438740252405657}]
[5140.7674999999999,1.93002700805664,1.1775873607399916,{"$f":"+B1340/Spectre!B$2701","v":1.8427286821987718}]
[5141.7674999999999,1.9291850328445399,1.1770736376865387,{"$f":"+B1341/Spectre!B$2701","v":1.8419247909233853}]
[5142.7674999999999,1.9270601272582999,1.1757771470412386,{"$f":"+B1342/Spectre!B$2701","v":1.839895998344637}]
[5143.7674999999999,1.9227998256683401,1.1731777651236099,{"$f":"+B1343/Spectre!B$2701","v":1.83582839726866}]
[5144.7674999999999,1.9186643362045299,1.1706545361207372,{"$f":"+B1344/Spectre!B$2701","v":1.8318799628591504}]
[5145.7674999999999,1.9217954874038701,1.1725649778200073,{"$f":"+B1345/Spectre!B$2701","v":1.8348694868913218}]
[5146.7674999999999,1.92741847038269,{"$f":"+B1346/F$1","v":1.1759957866417874},{"$f":"+B1346/Spectre!B$2701","v":1.8402381330145801}]
[5147.7674999999999,1.92999744415283,1.1775693226092736,{"$f":"+B1347/Spectre!B$2701","v":1.842700455519414}]
[5148.7674999999999,1.92518651485443,1.1746339805070332,{"$f":"+B1348/Spectre!B$2701","v":1.8381071325404166}]
[5149.7674999999999,1.92048275470734,1.1717640266286453,{"$f":"+B1349/Spectre!B$2701","v":1.8336161312740904}]
[5150.7674999999999,1.91580557823181,1.1689102925210173,{"$f":"+B1350/Spectre!B$2701","v":1.8291505112557245}]
[5151.7674999999999,1.9111858606338501,1.1660916163932549,{"$f":"+B1351/Spectre!B$2701","v":1.8247397511545014}]
[5152.7674999999999,1.90669310092926,1.1633504023994186,{"$f":"+B1352/Spectre!B$2701","v":1.8204502064303523}]
[5153.7674999999999,1.90294337272644,1.1610625419086489,{"$f":"+B1353/Spectre!B$2701","v":1.8168700846595467}]
[5154.7674999999999,1.8987185955047601,1.1584848348416363,{"$f":"+B1354/Spectre!B$2701","v":1.8128364011256937}]
[5155.7674999999999,1.90055596828461,1.1596058901188357,{"$f":"+B1355/Spectre!B$2701","v":1.8145906664842546}]
[5156.7674999999999,1.90525615215302,1.162473661965286,{"$f":"+B1356/Spectre!B$2701","v":1.819078253232923}]
[5157.7674999999999,1.90830338001251,1.1643328986483226,{"$f":"+B1357/Spectre!B$2701","v":1.8219876499172374}]
[5158.7674999999999,1.90419101715088,1.1618237801186766,{"$f":"+B1358/Spectre!B$2701","v":1.818061296055296}]
[5159.7674999999999,1.89963603019714,1.1590445987690536,{"$f":"+B1359/Spectre!B$2701","v":1.8137123387237872}]
[5160.7674999999999,1.89416062831879,1.1557038351320672,{"$f":"+B1360/Spectre!B$2701","v":1.8084845983628064}]
[5161.7674999999999,1.8879828453064,1.1519345204217464,{"$f":"+B1361/Spectre!B$2701","v":1.8025862467325906}]
[5162.7674999999999,1.8829599618911701,1.1488698565597617,{"$f":"+B1362/Spectre!B$2701","v":1.7977905566733596}]
[5163.7674999999999,1.88709676265717,1.151393885641016,{"$f":"+B1363/Spectre!B$2701","v":1.8017402430726839}]
[5164.7674999999999,1.89226186275482,1.1545453216398698,{"$f":"+B1364/Spectre!B$2701","v":1.8066717171176772}]
[5165.7674999999999,1.88957142829895,1.1529037790102035,{"$f":"+B1365/Spectre!B$2701","v":1.8041029754789788}]
[5166.7674999999999,1.8779703378677399,1.1458254855948433,{"$f":"+B1366/Spectre!B$2701","v":1.793026621628419}]
[5167.7674999999999,1.8670971393585201,1.1391913084139931,{"$f":"+B1367/Spectre!B$2701","v":1.7826452359397518}]
[5168.7674999999999,1.86183869838715,1.1359829213814625,{"$f":"+B1368/Spectre!B$2701","v":1.7776246429837239}]
[5169.7674999999999,1.85660171508789,1.1327876265405759,{"$f":"+B1369/Spectre!B$2701","v":1.772624537133672}]
[5170.7674999999999,1.85672152042389,1.1328607246106206,{"$f":"+B1370/Spectre!B$2701","v":1.7727389234754207}]
[5171.7674999999999,1.8632792234420801,1.1368618438475386,{"$f":"+B1371/Spectre!B$2701","v":1.7790000106988206}]
[5172.7674999999999,1.86915075778961,1.140444303889258,{"$f":"+B1372/Spectre!B$2701","v":1.7846059657997304}]
[5173.7674999999999,1.8649090528488199,1.1378562685377258,{"$f":"+B1373/Spectre!B$2701","v":1.7805561202156064}]
[5174.7674999999999,1.85794305801392,1.1336060339874756,{"$f":"+B1374/Spectre!B$2701","v":1.7739052088922236}]
[5175.7674999999999,1.85550653934479,1.1321194156256613,{"$f":"+B1375/Spectre!B$2701","v":1.771578898007673}]
[5176.7674999999999,1.8621780872345,1.1361899962127198,{"$f":"+B1376/Spectre!B$2701","v":1.7779486807100457}]
[5177.7674999999999,1.86861860752106,1.1401196175363506,{"$f":"+B1377/Spectre!B$2701","v":1.7840978855713172}]
[5178.7674999999999,1.8655871152877801,1.1382699817938506,{"$f":"+B1378/Spectre!B$2701","v":1.7812035127647146}]
[5179.7674999999999,1.8598651885986299,1.1347788034216844,{"$f":"+B1379/Spectre!B$2701","v":1.7757403983194133}]
[5180.7674999999999,1.8552396297454801,1.1319565633084163,{"$f":"+B1380/Spectre!B$2701","v":1.7713240611726704}]
[5181.7674999999999,1.85434794425964,1.1314125100109766,{"$f":"+B1381/Spectre!B$2701","v":1.7704727081017555}]
[5182.7674999999999,1.85321581363678,1.130721751432666,{"$f":"+B1382/Spectre!B$2701","v":1.7693917856265615}]
[5183.7674999999999,1.85269927978516,1.1304065932859026,{"$f":"+B1383/Spectre!B$2701","v":1.7688986154586139}]
[5184.7674999999999,1.85236632823944,1.1302034461121369,{"$f":"+B1384/Spectre!B$2701","v":1.768580723864082}]
[5185.7674999999999,1.8534642457962001,1.130873329918207,{"$f":"+B1385/Spectre!B$2701","v":1.7696289807869572}]
[5186.7674999999999,1.8591210842132599,1.1343247953090387,{"$f":"+B1386/Spectre!B$2701","v":1.7750299510107761}]
[5187.7674999999999,1.86511754989624,1.1379834809999185,{"$f":"+B1387/Spectre!B$2701","v":1.7807551865954192}]
[5188.7674999999999,1.8624230623245199,1.1363394654007153,{"$f":"+B1388/Spectre!B$2701","v":1.7781825751700298}]
[5189.7674999999999,1.85378289222717,1.131067748964204,{"$f":"+B1389/Spectre!B$2701","v":1.7699332143108288}]
[5190.7674999999999,1.84589171409607,1.1262530227506637,{"$f":"+B1390/Spectre!B$2701","v":1.7623989672677476}]
[5191.7674999999999,1.84071016311646,1.1230915494048774,{"$f":"+B1391/Spectre!B$2701","v":1.7574517864414976}]
[5192.7674999999999,1.8350088596344001,1.1196129540835731,{"$f":"+B1392/Spectre!B$2701","v":1.7520083623813909}]
[5193.7674999999999,1.8365008831024201,1.1205232978096109,{"$f":"+B1393/Spectre!B$2701","v":1.7534328991508543}]
[5194.7674999999999,1.8434087038040201,1.1247380379736116,{"$f":"+B1394/Spectre!B$2701","v":1.7600282676535686}]
[5195.7674999999999,1.8488619327545199,1.1280652730125638,{"$f":"+B1395/Spectre!B$2701","v":1.765234838005038}]
[5196.7674999999999,1.83901715278625,1.1220585754837171,{"$f":"+B1396/Spectre!B$2701","v":1.755835353779305}]
[5197.7674999999999,1.8276165723800699,1.1151026213258861,{"$f":"+B1397/Spectre!B$2701","v":1.744950440552451}]
[5198.7674999999999,1.8225075006485001,1.1119853704941123,{"$f":"+B1398/Spectre!B$2701","v":1.7400724606175202}]
[5199.7674999999999,1.82412958145142,1.1129750674484262,{"$f":"+B1399/Spectre!B$2701","v":1.7416211720127013}]
[5200.7674999999999,1.82543921470642,1.1137741275454378,{"$f":"+B1400/Spectre!B$2701","v":1.7428715683812888}]
[5201.7674999999999,1.82538342475891,1.1137400878471488,{"$f":"+B1401/Spectre!B$2701","v":1.7428183019057286}]
[5202.7674999999999,1.8250828981399501,1.1135567244296547,{"$f":"+B1402/Spectre!B$2701","v":1.7425313686046866}]
[5203.7674999999999,1.82280933856964,1.1121695339899818,{"$f":"+B1403/Spectre!B$2701","v":1.7403606459083674}]
[5204.7674999999999,1.81701767444611,1.1086358059949588,{"$f":"+B1404/Spectre!B$2701","v":1.7348309483686233}]
[5205.7674999999999,1.8108881711959799,1.1048959487158445,{"$f":"+B1405/Spectre!B$2701","v":1.7289786927268651}]
[5206.7674999999999,1.81811606884003,1.1093059807386223,{"$f":"+B1406/Spectre!B$2701","v":1.735879660560522}]
[5207.7674999999999,1.8275626897811901,1.1150697453779643,{"$f":"+B1407/Spectre!B$2701","v":1.7448989951529756}]
[5208.7674999999999,1.8372502326965301,1.1209805062357707,{"$f":"+B1408/Spectre!B$2701","v":1.754148354418732}]
[5209.7674999999999,1.8468542098998999,1.1268402802805448,{"$f":"+B1409/Spectre!B$2701","v":1.7633179277884086}]
[5210.7674999999999,1.8566807508468599,{"$f":"+B1410/F$1","v":1.1328358494464841},{"$f":"+B1410/Spectre!B$2701","v":1.7726999979740463}]
[5211.7674999999999,1.8551971912384,1.1319306698627092,{"$f":"+B1411/Spectre!B$2701","v":1.7712835422297233}]
[5212.7674999999999,1.84964227676392,1.1285413923822216,{"$f":"+B1412/Spectre!B$2701","v":1.7659798857593445}]
[5213.7674999999999,1.8432629108428999,1.1246490838047924,{"$f":"+B1413/Spectre!B$2701","v":1.7598890691501294}]
[5214.7674999999999,1.8342519998550399,1.1191511633903308,{"$f":"+B1414/Spectre!B$2701","v":1.7512857366264103}]
[5215.7674999999999,1.8250937461853001,1.1135633432598782,{"$f":"+B1415/Spectre!B$2701","v":1.7425417259749354}]
[5216.7674999999999,1.8231388330459599,1.1123705718662025,{"$f":"+B1416/Spectre!B$2701","v":1.7406752368024876}]
[5217.7674999999999,1.82545495033264,1.1137837284859806,{"$f":"+B1417/Spectre!B$2701","v":1.7428865922590102}]
[5218.7674999999999,1.8274122476577801,1.1149779545676228,{"$f":"+B1418/Spectre!B$2701","v":1.7447553577765758}]
[5219.7674999999999,1.8283765316009499,1.1155663031134728,{"$f":"+B1419/Spectre!B$2701","v":1.7456760255560655}]
[5220.7674999999999,1.8289203643798799,1.1158981174373919,{"$f":"+B1420/Spectre!B$2701","v":1.7461952598755184}]
[5221.7674999999999,1.83532214164734,1.1198041000816579,{"$f":"+B1421/Spectre!B$2701","v":1.7523074741287661}]
[5222.7674999999999,1.8453909158706701,1.125947465544443,{"$f":"+B1422/Spectre!B$2701","v":1.7619208209775215}]
[5223.7674999999999,1.85424220561981,1.1313479945999043,{"$f":"+B1423/Spectre!B$2701","v":1.7703717521961553}]
[5224.7674999999999,1.8550040721893299,1.131812840137864,{"$f":"+B1424/Spectre!B$2701","v":1.7710991582758642}]
[5225.7674999999999,1.8551822900772099,1.1319215780629548,{"$f":"+B1425/Spectre!B$2701","v":1.7712693150727929}]
[5226.7674999999999,1.8514149188995399,1.1296229528812753,{"$f":"+B1426/Spectre!B$2701","v":1.7676723483481813}]
[5227.7674999999999,1.8435994386673,1.1248544130104963,{"$f":"+B1427/Spectre!B$2701","v":1.760210375262319}]
[5228.7674999999999,1.8366454839706401,1.1206115246344466,{"$f":"+B1428/Spectre!B$2701","v":1.7535709594817344}]
[5229.7674999999999,1.8380528688430799,1.1214702269378669,{"$f":"+B1429/Spectre!B$2701","v":1.754914685999815}]
[5230.7674999999999,1.8408674001693699,1.1231874860759052,{"$f":"+B1430/Spectre!B$2701","v":1.7576019114014552}]
[5231.7674999999999,1.8386087417602499,1.1218093874359867,{"$f":"+B1431/Spectre!B$2701","v":1.755445415862066}]
[5232.7674999999999,1.8277720212936399,1.1151974669809452,{"$f":"+B1432/Spectre!B$2701","v":1.7450988582535796}]
[5233.7674999999999,1.81711626052856,1.1086959573421438,{"$f":"+B1433/Spectre!B$2701","v":1.7349250752388887}]
[5234.7674999999999,1.8205605745315601,1.1107974723051062,{"$f":"+B1434/Spectre!B$2701","v":1.7382135972011892}]
[5235.7674999999999,1.82605981826782,1.114152782821703,{"$f":"+B1435/Spectre!B$2701","v":1.7434641010132637}]
[5236.7674999999999,1.83113360404968,1.1172485042716513,{"$f":"+B1436/Spectre!B$2701","v":1.7483083910405726}]
[5237.7674999999999,1.8350017070770299,1.1196085900196917,{"$f":"+B1437/Spectre!B$2701","v":1.7520015333460655}]
[5238.7674999999999,1.8388370275497401,1.1219486738082594,{"$f":"+B1438/Spectre!B$2701","v":1.7556633759062912}]
[5239.7674999999999,1.8389582633972199,1.1220226446910837,{"$f":"+B1439/Spectre!B$2701","v":1.7557791280551105}]
[5240.7674999999999,1.83766222000122,1.1212318763154447,{"$f":"+B1440/Spectre!B$2701","v":1.7545417068536382}]
[5241.7674999999999,1.8355700969696001,1.1199553876296053,{"$f":"+B1441/Spectre!B$2701","v":1.7525442140201382}]
[5242.7674999999999,1.83077156543732,1.1170276099047667,{"$f":"+B1442/Spectre!B$2701","v":1.747962728035716}]
[5243.7674999999999,1.8256851434707599,1.11392417860862,{"$f":"+B1443/Spectre!B$2701","v":1.74310637337932}]
[5244.7674999999999,1.82878625392914,1.1158162912395848,{"$f":"+B1444/Spectre!B$2701","v":1.7460672154631192}]
[5245.7674999999999,1.83581495285034,1.1201047840832088,{"$f":"+B1445/Spectre!B$2701","v":1.7527779946628759}]
[5246.7674999999999,1.8415900468826301,1.1236284019969069,{"$f":"+B1446/Spectre!B$2701","v":1.7582918716041169}]
[5247.7674999999999,1.83993244171143,1.1226170301919767,{"$f":"+B1447/Spectre!B$2701","v":1.7567092426668114}]
[5248.7674999999999,1.8384424448013299,1.1217079229507043,{"$f":"+B1448/Spectre!B$2701","v":1.7552866407906886}]
[5249.7674999999999,1.8367789983749401,1.1206929871602682,{"$f":"+B1449/Spectre!B$2701","v":1.7536984348078635}]
[5250.7674999999999,1.8350353240966799,1.1196291011199409,{"$f":"+B1450/Spectre!B$2701","v":1.7520336298121046}]
[5251.7674999999999,1.8312023878097501,1.1172904720193277,{"$f":"+B1451/Spectre!B$2701","v":1.748374063596978}]
[5252.7674999999999,1.8152996301651001,1.1075875578502108,{"$f":"+B1452/Spectre!B$2701","v":1.7331906140827875}]
[5253.7674999999999,1.7977854013443,1.0969014200882066,{"$f":"+B1453/Spectre!B$2701","v":1.7164685829091524}]
[5254.7674999999999,1.78925573825836,1.0916971284386885,{"$f":"+B1454/Spectre!B$2701","v":1.7083247306457687}]
[5255.7674999999999,1.7909356355667101,1.0927221015760573,{"$f":"+B1455/Spectre!B$2701","v":1.7099286434098508}]
[5256.7674999999999,1.79200828075409,1.093376565689743,{"$f":"+B1456/Spectre!B$2701","v":1.7109527710745707}]
[5257.7674999999999,1.7953418493270901,1.0954105103969092,{"$f":"+B1457/Spectre!B$2701","v":1.7141355568065326}]
[5258.7674999999999,1.79910659790039,1.0977075354218315,{"$f":"+B1458/Spectre!B$2701","v":1.7177300195515239}]
[5259.7674999999999,1.7992578744888299,1.0977998353729612,{"$f":"+B1459/Spectre!B$2701","v":1.7178744536487152}]
[5260.7674999999999,1.7942309379577599,1.0947326985414458,{"$f":"+B1460/Spectre!B$2701","v":1.7130748938028026}]
[5261.7674999999999,1.7895644903182999,1.0918855105296488,{"$f":"+B1461/Spectre!B$2701","v":1.708619517337439}]
[5262.7674999999999,1.7964391708373999,1.0960800305309877,{"$f":"+B1462/Spectre!B$2701","v":1.7151832446431281}]
[5263.7674999999999,1.80603086948395,1.1019323129327647,{"$f":"+B1463/Spectre!B$2701","v":1.7243410948354949}]
[5264.7674999999999,1.81050896644592,1.1046645805956374,{"$f":"+B1464/Spectre!B$2701","v":1.7286166400372163}]
[5265.7674999999999,1.8053346872329701,1.1015075440481308,{"$f":"+B1465/Spectre!B$2701","v":1.7236764020635476}]
[5266.7674999999999,1.80026066303253,1.0984116771293857,{"$f":"+B1466/Spectre!B$2701","v":1.7188318844017267}]
[5267.7674999999999,1.7966054677963299,1.0961814950162763,{"$f":"+B1467/Spectre!B$2701","v":1.7153420197145148}]
[5268.7674999999999,1.79356241226196,1.0943248040371629,{"$f":"+B1468/Spectre!B$2701","v":1.7124366066341283}]
[5269.7674999999999,1.79076480865479,1.0926178731836504,{"$f":"+B1469/Spectre!B$2701","v":1.7097655432827683}]
[5270.7674999999999,1.7890753746032699,1.0915870812944339,{"$f":"+B1470/Spectre!B$2701","v":1.708152525138243}]
[5271.7674999999999,1.7868835926055899,1.0902497866518246,{"$f":"+B1471/Spectre!B$2701","v":1.7060598810791743}]
[5272.7674999999999,1.7904621362686199,1.0924332005469926,{"$f":"+B1472/Spectre!B$2701","v":1.7094765612711298}]
[5273.7674999999999,1.79640460014343,1.0960589375555521,{"$f":"+B1473/Spectre!B$2701","v":1.7151502376390415}]
[5274.7674999999999,1.8003066778182999,{"$f":"+B1474/F$1","v":1.0984397526070364},{"$f":"+B1474/Spectre!B$2701","v":1.7188758178623413}]
[5275.7674999999999,1.7949191331863401,1.0951525942214102,{"$f":"+B1475/Spectre!B$2701","v":1.7137319608186337}]
[5276.7674999999999,1.78900647163391,1.0915450408123593,{"$f":"+B1476/Spectre!B$2701","v":1.7080867387645819}]
[5277.7674999999999,1.7857323884964,1.0895473905698241,{"$f":"+B1477/Spectre!B$2701","v":1.7049607478431035}]
[5278.7674999999999,1.78448581695557,1.0887868069693813,{"$f":"+B1478/Spectre!B$2701","v":1.7037705608026572}]
[5279.7674999999999,1.78360772132874,1.0882510453933207,{"$f":"+B1479/Spectre!B$2701","v":1.7029321828988671}]
[5280.7674999999999,1.7861121892929099,1.089779122362023,{"$f":"+B1480/Spectre!B$2701","v":1.7053233696190317}]
[5281.7674999999999,1.7889791727066,1.0915283846352033,{"$f":"+B1481/Spectre!B$2701","v":1.7080606746130764}]
[5282.7674999999999,1.79073894023895,1.0926020898192683,{"$f":"+B1482/Spectre!B$2701","v":1.7097408449383242}]
[5283.7674999999999,1.7910282611846899,1.0927786162033442,{"$f":"+B1483/Spectre!B$2701","v":1.7100170794173499}]
[5284.7674999999999,1.79145884513855,1.0930413328491146,{"$f":"+B1484/Spectre!B$2701","v":1.7104281873441096}]
[5285.7674999999999,1.7887209653854399,1.0913708419290238,{"$f":"+B1485/Spectre!B$2701","v":1.7078141464377352}]
[5286.7674999999999,1.7856206893920901,1.0894792384388476,{"$f":"+B1486/Spectre!B$2701","v":1.7048541010747273}]
[5287.7674999999999,1.7841378450393699,1.0885744952614627,{"$f":"+B1487/Spectre!B$2701","v":1.7034383282339394}]
[5288.7674999999999,1.78502237796783,1.0891141844950147,{"$f":"+B1488/Spectre!B$2701","v":1.7042828522695197}]
[5289.7674999999999,1.7859849929809599,1.0897015147593003,{"$f":"+B1489/Spectre!B$2701","v":1.7052019266074459}]
[5290.7674999999999,1.7901530265808101,1.0922446002528372,{"$f":"+B1490/Spectre!B$2701","v":1.7091814331276918}]
[5291.7674999999999,1.7952964305877701,1.0953827985912503,{"$f":"+B1491/Spectre!B$2701","v":1.7140921924321975}]
[5292.7674999999999,1.7998416423797601,1.0981560157202288,{"$f":"+B1492/Spectre!B$2701","v":1.7184318167487511}]
[5293.7674999999999,1.80298483371735,1.1000738035937052,{"$f":"+B1493/Spectre!B$2701","v":1.7214328363237299}]
[5294.7674999999999,1.8064548969268801,1.1021910291866395,{"$f":"+B1494/Spectre!B$2701","v":1.7247459428131995}]
[5295.7674999999999,1.80196404457092,1.0994509789431701,{"$f":"+B1495/Spectre!B$2701","v":1.720458219165135}]
[5296.7674999999999,1.7945841550827,1.0949482105628787,{"$f":"+B1496/Spectre!B$2701","v":1.7134121343307609}]
[5297.7674999999999,1.78785359859467,1.0908416264487883,{"$f":"+B1497/Spectre!B$2701","v":1.7069860120869378}]
[5298.7674999999999,1.7838648557662999,1.0884079334899213,{"$f":"+B1498/Spectre!B$2701","v":1.7031776867189146}]
[5299.7674999999999,1.7794874906539899,1.0857371263933973,{"$f":"+B1499/Spectre!B$2701","v":1.6989983170980554}]
[5300.7674999999999,1.78036880493164,1.0862748517982068,{"$f":"+B1500/Spectre!B$2701","v":1.6998397680677453}]
[5301.7674999999999,1.7840270996093801,1.0885069250056729,{"$f":"+B1501/Spectre!B$2701","v":1.7033325920036106}]
[5302.7674999999999,1.7875216007232699,1.090639061150209,{"$f":"+B1502/Spectre!B$2701","v":1.7066690310304531}]
[5303.7674999999999,1.79055392742157,1.0924892060334912,{"$f":"+B1503/Spectre!B$2701","v":1.7095642005578378}]
[5304.7674999999999,1.7936094999313399,1.0943535341243984,{"$f":"+B1504/Spectre!B$2701","v":1.712481564450046}]
[5305.7674999999999,1.7945264577865601,1.0949130071142223,{"$f":"+B1505/Spectre!B$2701","v":1.7133570467791159}]
[5306.7674999999999,1.7932260036468499,1.0941195475658576,{"$f":"+B1506/Spectre!B$2701","v":1.7121154143391943}]
[5307.7674999999999,1.7916818857193,1.0931774189078727,{"$f":"+B1507/Spectre!B$2701","v":1.7106411394290941}]
[5308.7674999999999,1.77919232845306,1.0855570360238158,{"$f":"+B1508/Spectre!B$2701","v":1.6987165055735098}]
[5309.7674999999999,1.7656556367874101,1.0772977541872604,{"$f":"+B1509/Spectre!B$2701","v":1.6857921009458818}]
[5310.7674999999999,1.75968241691589,1.0736532517039994,{"$f":"+B1510/Spectre!B$2701","v":1.6800890597260532}]
[5311.7674999999999,1.76280128955841,1.075556201760272,{"$f":"+B1511/Spectre!B$2701","v":1.6830668605809145}]
[5312.7674999999999,1.76506972312927,1.076940264620829,{"$f":"+B1512/Spectre!B$2701","v":1.6852326891352494}]
[5313.7674999999999,1.7536449432373,1.0699695453801865,{"$f":"+B1513/Spectre!B$2701","v":1.6743246710055242}]
[5314.7674999999999,1.7390896081924401,1.0610887481122655,{"$f":"+B1514/Spectre!B$2701","v":1.6604276979299073}]
[5315.7674999999999,1.7323311567306501,1.0569651441490278,{"$f":"+B1515/Spectre!B$2701","v":1.6539749424482997}]
[5316.7674999999999,1.7392871379852299,1.0612092690098427,{"$f":"+B1516/Spectre!B$2701","v":1.660616293122225}]
[5317.7674999999999,1.74587154388428,1.0652266807519253,{"$f":"+B1517/Spectre!B$2701","v":1.6669028754108508}]
[5318.7674999999999,1.74779725074768,1.0664016322180776,{"$f":"+B1518/Spectre!B$2701","v":1.6687414793557083}]
[5319.7674999999999,1.7480707168579099,1.0665684849272123,{"$f":"+B1519/Spectre!B$2701","v":1.6690025761397564}]
[5320.7674999999999,1.7487119436264,1.0669597232543395,{"$f":"+B1520/Spectre!B$2701","v":1.6696147991569257}]
[5321.7674999999999,1.7506238222122199,1.0681262375303227,{"$f":"+B1521/Spectre!B$2701","v":1.6714402003001561}]
[5322.7674999999999,1.75257992744446,1.0693197362679816,{"$f":"+B1522/Spectre!B$2701","v":1.6733078276451625}]
[5323.7674999999999,1.75279557704926,1.0694513127940617,{"$f":"+B1523/Spectre!B$2701","v":1.6735137230603101}]
[5324.7674999999999,1.7523552179336499,1.0691826319276467,{"$f":"+B1524/Spectre!B$2701","v":1.6730932821185953}]
[5325.7674999999999,1.7498462200164799,1.0676517910518202,{"$f":"+B1525/Spectre!B$2701","v":1.6706977703427257}]
[5326.7674999999999,1.7393125295639,1.0612247614366255,{"$f":"+B1526/Spectre!B$2701","v":1.6606405361976362}]
[5327.7674999999999,1.72800469398499,1.0543253946404798,{"$f":"+B1527/Spectre!B$2701","v":1.6498441727955371}]
[5328.7674999999999,1.7279349565505999,1.0542828450176167,{"$f":"+B1528/Spectre!B$2701","v":1.6497775897010845}]
[5329.7674999999999,1.73661053180695,1.059576163570352,{"$f":"+B1529/Spectre!B$2701","v":1.6580607542851633}]
[5330.7674999999999,1.74404728412628,1.0641136262585114,{"$f":"+B1530/Spectre!B$2701","v":1.665161129950391}]
[5331.7674999999999,1.7450326681137101,1.0647148487928229,{"$f":"+B1531/Spectre!B$2701","v":1.6661019433841082}]
[5332.7674999999999,1.7455364465713501,1.0650222243589955,{"$f":"+B1532/Spectre!B$2701","v":1.6665829351057224}]
[5333.7674999999999,1.7475656270980799,1.0662603092826581,{"$f":"+B1533/Spectre!B$2701","v":1.6685203324283275}]
[5334.7674999999999,1.7513231039047199,1.0685528975093008,{"$f":"+B1534/Spectre!B$2701","v":1.6721078523207376}]
[5335.7674999999999,1.7548234462737999,1.070688597639343,{"$f":"+B1535/Spectre!B$2701","v":1.6754498683931003}]
[5336.7674999999999,1.7513498067855799,1.0685691900144652,{"$f":"+B1536/Spectre!B$2701","v":1.6721333473859636}]
[5337.7674999999999,1.7470340728759799,1.0659359866017424,{"$f":"+B1537/Spectre!B$2701","v":1.6680128212861938}]
[5338.7674999999999,1.7430334091186499,{"$f":"+B1538/F$1","v":1.0634950202030669},{"$f":"+B1538/Spectre!B$2701","v":1.6641931141926189}]
[5339.7674999999999,1.7396106719970701,1.0614066701661591,{"$f":"+B1539/Spectre!B$2701","v":1.6609251931535696}]
[5340.7674999999999,1.7363703250885001,1.0594296037582713,{"$f":"+B1540/Spectre!B$2701","v":1.6578314125153866}]
[5341.7674999999999,1.7381966114044201,1.0605438947364505,{"$f":"+B1541/Spectre!B$2701","v":1.6595750928691873}]
[5342.7674999999999,1.7416311502456701,1.0626394454787684,{"$f":"+B1542/Spectre!B$2701","v":1.6628542818165324}]
[5343.7674999999999,1.7438555955886801,1.0639966693464402,{"$f":"+B1543/Spectre!B$2701","v":1.6649781118035933}]
[5344.7674999999999,1.7426724433898899,1.063274780445761,{"$f":"+B1544/Spectre!B$2701","v":1.6638484755430558}]
[5345.7674999999999,1.7411259412765501,1.0623311970998159,{"$f":"+B1545/Spectre!B$2701","v":1.6623719242878474}]
[5346.7674999999999,1.7463792562484699,1.0655364565532304,{"$f":"+B1546/Spectre!B$2701","v":1.6673876231018905}]
[5347.7674999999999,1.75378954410553,1.0700577722050282,{"$f":"+B1547/Spectre!B$2701","v":1.6744627313364138}]
[5348.7674999999999,1.7597452402114899,1.0736915827317777,{"$f":"+B1548/Spectre!B$2701","v":1.680149041419692}]
[5349.7674999999999,1.7599184513092001,1.0737972658121449,{"$f":"+B1549/Spectre!B$2701","v":1.6803144178918832}]
[5350.7674999999999,1.7603453397750899,1.0740577276915793,{"$f":"+B1550/Spectre!B$2701","v":1.6807219974837289}]
[5351.7674999999999,1.7520444393157999,1.068993013351927,{"$f":"+B1551/Spectre!B$2701","v":1.6727965605335937}]
[5352.7674999999999,1.73811006546021,1.060491089563466,{"$f":"+B1552/Spectre!B$2701","v":1.6594924615417197}]
[5353.7674999999999,1.7269152402877801,1.0536606749766666,{"$f":"+B1553/Spectre!B$2701","v":1.6488039968977928}]
[5354.7674999999999,1.7304185628891,1.0557981934666607,{"$f":"+B1554/Spectre!B$2701","v":1.6521488584015434}]
[5355.7674999999999,1.7351044416427599,1.058657237185342,{"$f":"+B1555/Spectre!B$2701","v":1.6566227870795514}]
[5356.7674999999999,1.7382538318634,1.0605788072475135,{"$f":"+B1556/Spectre!B$2701","v":1.6596297251518084}]
[5357.7674999999999,1.7392781972885101,1.0612038139299864,{"$f":"+B1557/Spectre!B$2701","v":1.6606077568280615}]
[5358.7674999999999,1.7404803037643399,1.0619372675999568,{"$f":"+B1558/Spectre!B$2701","v":1.6617554900322196}]
[5359.7674999999999,1.72951948642731,1.0552496306365431,{"$f":"+B1559/Spectre!B$2701","v":1.6512904486607913}]
[5360.7674999999999,1.71714162826538,1.0476973998834627,{"$f":"+B1560/Spectre!B$2701","v":1.639472461573583}]
[5361.7674999999999,1.7151970863342301,1.0465109563824173,{"$f":"+B1561/Spectre!B$2701","v":1.6376158745023606}]
[5362.7674999999999,1.72696781158447,1.0536927508462068,{"$f":"+B1562/Spectre!B$2701","v":1.6488541903074532}]
[5363.7674999999999,1.7379565238952599,1.0603974076587681,{"$f":"+B1563/Spectre!B$2701","v":1.6593458649166661}]
[5364.7674999999999,1.7365096807479901,1.0595146302695988,{"$f":"+B1564/Spectre!B$2701","v":1.6579644648870357}]
[5365.7674999999999,1.7315206527710001,1.0564706229766661,{"$f":"+B1565/Spectre!B$2701","v":1.6532010989283654}]
[5366.7674999999999,1.7262502908706701,1.0532549625043273,{"$f":"+B1566/Spectre!B$2701","v":1.6481691242467857}]
[5367.7674999999999,1.72003614902496,1.0494634638025957,{"$f":"+B1567/Spectre!B$2701","v":1.6422360583536451}]
[5368.7674999999999,1.7136044502258301,1.0455392248244229,{"$f":"+B1568/Spectre!B$2701","v":1.6360952759692813}]
[5369.7674999999999,1.71269106864929,1.0449819338665365,{"$f":"+B1569/Spectre!B$2701","v":1.6352232081578693}]
[5370.7674999999999,1.71371221542358,1.0456049767202606,{"$f":"+B1570/Spectre!B$2701","v":1.6361981667682224}]
[5371.7674999999999,1.71526074409485,1.0465497965509776,{"$f":"+B1571/Spectre!B$2701","v":1.6376766529167812}]
[5372.7674999999999,1.71917045116425,1.0489352666039367,{"$f":"+B1572/Spectre!B$2701","v":1.6414095174444301}]
[5373.7674999999999,1.72334408760071,1.0514817706141826,{"$f":"+B1573/Spectre!B$2701","v":1.6453943733756839}]
[5374.7674999999999,1.72155141830444,1.0503879907362523,{"$f":"+B1574/Spectre!B$2701","v":1.6436827894879227}]
[5375.7674999999999,1.71637582778931,1.0472301541103703,{"$f":"+B1575/Spectre!B$2701","v":1.6387412995244484}]
[5376.7674999999999,1.7116882801055899,1.044370092110112,{"$f":"+B1576/Spectre!B$2701","v":1.6342657774048575}]
[5377.7674999999999,1.70897877216339,1.0427169119767563,{"$f":"+B1577/Spectre!B$2701","v":1.6316788250052823}]
[5378.7674999999999,1.70627117156982,1.0410648955937678,{"$f":"+B1578/Spectre!B$2701","v":1.6290936936817917}]
[5379.7674999999999,1.70987176895142,1.0432617653525775,{"$f":"+B1579/Spectre!B$2701","v":1.6325314300660121}]
[5380.7674999999999,1.7198629379272501,1.0493577807222285,{"$f":"+B1580/Spectre!B$2701","v":1.6420706818814541}]
[5381.7674999999999,1.7294157743453999,1.0551863517102362,{"$f":"+B1581/Spectre!B$2701","v":1.6511914276485316}]
[5382.7674999999999,1.7243444919586199,1.0520921576826465,{"$f":"+B1582/Spectre!B$2701","v":1.6463495277835869}]
[5383.7674999999999,1.71867322921753,1.0486318914296537,{"$f":"+B1583/Spectre!B$2701","v":1.6409347856718615}]
[5384.7674999999999,1.71333527565002,1.0453749905536156,{"$f":"+B1584/Spectre!B$2701","v":1.6358382766064261}]
[5385.7674999999999,1.7089532613754299,1.0427013468155752,{"$f":"+B1585/Spectre!B$2701","v":1.6316544681126153}]
[5386.7674999999999,1.7047815322876001,1.0401560065556965,{"$f":"+B1586/Spectre!B$2701","v":1.6276714332574465}]
[5387.7674999999999,1.7078038454055799,1.0420000417495436,{"$f":"+B1587/Spectre!B$2701","v":1.6305570421353734}]
[5388.7674999999999,1.7127727270126301,1.0450317569292018,{"$f":"+B1588/Spectre!B$2701","v":1.6353011729778639}]
[5389.7674999999999,1.7156891822814899,1.0468112039775781,{"$f":"+B1589/Spectre!B$2701","v":1.6380857121329346}]
[5390.7674999999999,1.7141913175582899,1.0458972962660407,{"$f":"+B1590/Spectre!B$2701","v":1.6366555983179609}]
[5391.7674999999999,1.7127091884612999,1.0449929894950396,{"$f":"+B1591/Spectre!B$2701","v":1.6352405083806989}]
[5392.7674999999999,1.7170282602310201,1.0476282294709156,{"$f":"+B1592/Spectre!B$2701","v":1.6393642213636339}]
[5393.7674999999999,1.72353219985962,1.0515965454943101,{"$f":"+B1593/Spectre!B$2701","v":1.6455739770048143}]
[5394.7674999999999,1.7286450862884499,1.0547161238268183,{"$f":"+B1594/Spectre!B$2701","v":1.6504555990919147}]
[5395.7674999999999,1.72685539722443,1.0536241623088465,{"$f":"+B1595/Spectre!B$2701","v":1.6487468606355511}]
[5396.7674999999999,1.7256760597228999,1.0529046009089016,{"$f":"+B1596/Spectre!B$2701","v":1.6476208665271834}]
[5397.7674999999999,1.71978664398193,1.0493112307074699,{"$f":"+B1597/Spectre!B$2701","v":1.6419978388379464}]
[5398.7674999999999,1.71137022972107,1.0441760367361066,{"$f":"+B1598/Spectre!B$2701","v":1.6339621129672655}]
[5399.7674999999999,1.70590603351593,1.0408421101325327,{"$f":"+B1599/Spectre!B$2701","v":1.6287450714282914}]
[5400.7674999999999,1.7149082422256501,1.0463347209359348,{"$f":"+B1600/Spectre!B$2701","v":1.6373400952923585}]
[5401.7674999999999,1.72547602653503,1.0527825525889658,{"$f":"+B1601/Spectre!B$2701","v":1.6474298811725014}]
[5402.7674999999999,1.72675228118896,{"$f":"+B1602/F$1","v":1.053561247054525},{"$f":"+B1602/Spectre!B$2701","v":1.6486484087095614}]
[5403.7674999999999,1.7181973457336399,1.0483415357126225,{"$f":"+B1603/Spectre!B$2701","v":1.6404804271880227}]
[5404.7674999999999,1.7104190587997401,1.0435956889740361,{"$f":"+B1604/Spectre!B$2701","v":1.6330539650858671}]
[5405.7674999999999,1.7080053091049201,1.0421229628822535,{"$f":"+B1605/Spectre!B$2701","v":1.6307493932971169}]
[5406.7674999999999,1.70574307441711,1.0407426822103911,{"$f":"+B1606/Spectre!B$2701","v":1.6285894832400603}]
[5407.7674999999999,1.70649397373199,1.0412008361837293,{"$f":"+B1607/Spectre!B$2701","v":1.6293064181322645}]
[5408.7674999999999,1.7112053632736199,1.0440754450635978,{"$f":"+B1608/Spectre!B$2701","v":1.6338047037029493}]
[5409.7674999999999,1.71564793586731,1.0467860378758544,{"$f":"+B1609/Spectre!B$2701","v":1.6380463313625466}]
[5410.7674999999999,1.7140535116195701,1.0458132153018913,{"$f":"+B1610/Spectre!B$2701","v":1.6365240255706386}]
[5411.7674999999999,1.71088874340057,1.0438822625023663,{"$f":"+B1611/Spectre!B$2701","v":1.6335024050724183}]
[5412.7674999999999,1.70922839641571,1.0428692178062806,{"$f":"+B1612/Spectre!B$2701","v":1.6319171583382368}]
[5413.7674999999999,1.71077644824982,1.0438137466994042,{"$f":"+B1613/Spectre!B$2701","v":1.6333951892177723}]
[5414.7674999999999,1.7123064994812001,1.0447472926984169,{"$f":"+B1614/Spectre!B$2701","v":1.6348560336917242}]
[5415.7674999999999,1.7104450464248699,1.0436115450728163,{"$f":"+B1615/Spectre!B$2701","v":1.633078777247567}]
[5416.7674999999999,1.7069776058196999,1.0414959196366333,{"$f":"+B1616/Spectre!B$2701","v":1.6297681747377082}]
[5417.7674999999999,1.7025723457336399,1.038808092690968,{"$f":"+B1617/Spectre!B$2701","v":1.6255621718790736}]
[5418.7674999999999,1.6916654109954801,1.0321533316754703,{"$f":"+B1618/Spectre!B$2701","v":1.6151485759071111}]
[5419.7674999999999,1.68059182167053,1.025396887971495,{"$f":"+B1619/Spectre!B$2701","v":1.6045758634120035}]
[5420.7674999999999,1.6770813465118399,1.0232550054176195,{"$f":"+B1620/Spectre!B$2701","v":1.6012241728729277}]
[5421.7674999999999,1.6777770519256601,1.0236794833646601,{"$f":"+B1621/Spectre!B$2701","v":1.6018884103758517}]
[5422.7674999999999,1.67823445796967,1.0239585652499932,{"$f":"+B1622/Spectre!B$2701","v":1.6023251271850929}]
[5423.7674999999999,1.67783915996552,1.0237173779860484,{"$f":"+B1623/Spectre!B$2701","v":1.6019477091659553}]
[5424.7674999999999,1.67727291584015,1.0233718895952923,{"$f":"+B1624/Spectre!B$2701","v":1.6014070772024698}]
[5425.7674999999999,1.67947065830231,1.024712820957806,{"$f":"+B1625/Spectre!B$2701","v":1.6035054121243142}]
[5426.7674999999999,1.6846903562545801,1.0278975693109715,{"$f":"+B1626/Spectre!B$2701","v":1.6084890144723183}]
[5427.7674999999999,1.6895931959152199,1.0308889896341087,{"$f":"+B1627/Spectre!B$2701","v":1.6131700905552793}]
[5428.7674999999999,1.6900075674057,1.0311418144017432,{"$f":"+B1628/Spectre!B$2701","v":1.6135657193352941}]
[5429.7674999999999,1.69001269340515,1.0311449419808592,{"$f":"+B1629/Spectre!B$2701","v":1.6135706134772787}]
[5430.7674999999999,1.68927097320557,1.0306923885561741,{"$f":"+B1630/Spectre!B$2701","v":1.6128624425137497}]
[5431.7674999999999,1.68738400936127,1.0295410757693864,{"$f":"+B1631/Spectre!B$2701","v":1.6110608291769162}]
[5432.7674999999999,1.6855610609054601,1.0284288213543542,{"$f":"+B1632/Spectre!B$2701","v":1.6093203357062713}]
[5433.7674999999999,1.67915523052216,1.0245203657405575,{"$f":"+B1633/Spectre!B$2701","v":1.6032042516663421}]
[5434.7674999999999,1.67140448093414,1.0197913206479174,{"$f":"+B1634/Spectre!B$2701","v":1.5958040813501941}]
[5435.7674999999999,1.6665688753128101,1.0168409225252844,{"$f":"+B1635/Spectre!B$2701","v":1.5911871981993213}]
[5436.7674999999999,1.66845095157623,1.0179892532017467,{"$f":"+B1636/Spectre!B$2701","v":1.5929841450286724}]
[5437.7674999999999,1.6703631877899201,1.0191559856809247,{"$f":"+B1637/Spectre!B$2701","v":1.5948098876236705}]
[5438.7674999999999,1.66519927978516,1.0160052770260481,{"$f":"+B1638/Spectre!B$2701","v":1.5898795517512267}]
[5439.7674999999999,1.65654408931732,1.0107243960553782,{"$f":"+B1639/Spectre!B$2701","v":1.5816158499178303}]
[5440.7674999999999,1.6487497091293299,1.0059687301730538,{"$f":"+B1640/Spectre!B$2701","v":1.5741740224861855}]
[5441.7674999999999,1.6461876630783101,1.0044055224900936,{"$f":"+B1641/Spectre!B$2701","v":1.571727862031632}]
[5442.7674999999999,1.6427803039550799,1.0023265551905334,{"$f":"+B1642/Spectre!B$2701","v":1.5684746234185361}]
[5443.7674999999999,1.64736664295197,1.0051248656868434,{"$f":"+B1643/Spectre!B$2701","v":1.5728535146882316}]
[5444.7674999999999,1.65681505203247,1.0108897213421542,{"$f":"+B1644/Spectre!B$2701","v":1.5818745565395145}]
[5445.7674999999999,1.66476285457611,1.0157389963947718,{"$f":"+B1645/Spectre!B$2701","v":1.589462866778947}]
[5446.7674999999999,1.66344714164734,1.0149362268434579,{"$f":"+B1646/Spectre!B$2701","v":1.5882066657303278}]
[5447.7674999999999,1.6610746383667001,1.0134886668533991,{"$f":"+B1647/Spectre!B$2701","v":1.5859414747119658}]
[5448.7674999999999,1.65777492523193,1.0114753787152784,{"$f":"+B1648/Spectre!B$2701","v":1.5827910130805551}]
[5449.7674999999999,1.6533677577972401,1.0087863880192458,{"$f":"+B1649/Spectre!B$2701","v":1.5785831891458357}]
[5450.7674999999999,1.64903557300568,1.0061431472595903,{"$f":"+B1650/Spectre!B$2701","v":1.5744469562648093}]
[5451.7674999999999,1.64560770988464,1.0040516696435606,{"$f":"+B1651/Spectre!B$2701","v":1.5711741410837656}]
[5452.7674999999999,1.6422022581100499,1.0019738660943736,{"$f":"+B1652/Spectre!B$2701","v":1.5679227235467643}]
[5453.7674999999999,1.6411042213439899,1.0013039095538989,{"$f":"+B1653/Spectre!B$2701","v":1.5668743528066238}]
[5454.7674999999999,1.64448070526123,1.0033640386443656,{"$f":"+B1654/Spectre!B$2701","v":1.5700981127505564}]
[5455.7674999999999,1.64762687683105,1.0052836448777882,{"$f":"+B1655/Spectre!B$2701","v":1.5731019777569135}]
[5456.7674999999999,1.64934301376343,1.006330729272169,{"$f":"+B1656/Spectre!B$2701","v":1.5747404909666647}]
[5457.7674999999999,1.6506209373474099,1.0071104420192989,{"$f":"+B1657/Spectre!B$2701","v":1.5759606119452976}]
[5458.7674999999999,1.65232062339783,1.0081474890667472,{"$f":"+B1658/Spectre!B$2701","v":1.577583418373792}]
[5459.7674999999999,1.6551218032836901,1.0098566019522033,{"$f":"+B1659/Spectre!B$2701","v":1.5802578962428195}]
[5460.7674999999999,1.65799343585968,1.0116087008669123,{"$f":"+B1660/Spectre!B$2701","v":1.5829996401098347}]
[5461.7674999999999,1.6561641693115201,1.010492591528781,{"$f":"+B1661/Spectre!B$2701","v":1.5812531143246462}]
[5462.7674999999999,1.6516247987747199,1.0077229383853081,{"$f":"+B1662/Spectre!B$2701","v":1.5769190670536122}]
[5463.7674999999999,1.6477239131927499,1.005342850677807,{"$f":"+B1663/Spectre!B$2701","v":1.5731946250028714}]
[5464.7674999999999,1.64924144744873,1.0062687595650259,{"$f":"+B1664/Spectre!B$2701","v":1.5746435186650019}]
[5465.7674999999999,1.6508731842041,1.0072643480055803,{"$f":"+B1665/Spectre!B$2701","v":1.5762014492578724}]
[5466.7674999999999,1.64867579936981,{"$f":"+B1666/F$1","v":1.0059236348462617},{"$f":"+B1666/Spectre!B$2701","v":1.5741034557877958}]
[5467.7674999999999,1.6436287164688099,1.0028442059014777,{"$f":"+B1667/Spectre!B$2701","v":1.5692846608257125}]
[5468.7674999999999,1.6396687030792201,1.0004280419325404,{"$f":"+B1668/Spectre!B$2701","v":1.565503765416256}]
[5469.7674999999999,1.64468741416931,1.0034901600905897,{"$f":"+B1669/Spectre!B$2701","v":1.5702954718715401}]
[5470.7674999999999,1.6511949300766,1.0074606581459278,{"$f":"+B1670/Spectre!B$2701","v":1.576508642030388}]
[5471.7674999999999,1.65362513065338,1.0089434215846429,{"$f":"+B1671/Spectre!B$2701","v":1.5788289206003951}]
[5472.7674999999999,1.6500827074050901,1.0067820462120889,{"$f":"+B1672/Spectre!B$2701","v":1.5754467270368531}]
[5473.7674999999999,1.6468424797058101,1.0048050525385994,{"$f":"+B1673/Spectre!B$2701","v":1.5723530602159257}]
[5474.7674999999999,1.6374226808548,0.99905765313882022,{"$f":"+B1674/Spectre!B$2701","v":1.5633593345059538}]
[5475.7674999999999,1.62658154964447,0.99244304151104668,{"$f":"+B1675/Spectre!B$2701","v":1.5530085656590087}]
[5476.7674999999999,1.6240302324295,0.99088637992390527,{"$f":"+B1676/Spectre!B$2701","v":1.5505726487574381}]
[5477.7674999999999,1.6421247720718399,1.0019265887356377,{"$f":"+B1677/Spectre!B$2701","v":1.567848742330707}]
[5478.7674999999999,1.6596868038177499,1.0126418929912613,{"$f":"+B1678/Spectre!B$2701","v":1.5846164142237855}]
[5479.7674999999999,1.6619136333465601,1.0140005715468998,{"$f":"+B1679/Spectre!B$2701","v":1.5867425205559644}]
[5480.7674999999999,1.65850925445557,1.0119234226072915,{"$f":"+B1680/Spectre!B$2701","v":1.5834921273742564}]
[5481.7674999999999,1.65255522727966,1.0082906303621126,{"$f":"+B1681/Spectre!B$2701","v":1.577807410732551}]
[5482.7674999999999,1.6377743482589699,0.99927221961307477,{"$f":"+B1682/Spectre!B$2701","v":1.5636950954095854}]
[5483.7674999999999,1.62235975265503,0.98986715280398618,{"$f":"+B1683/Spectre!B$2701","v":1.5489777275565435}]
[5484.7674999999999,1.62208235263824,0.98969789985971268,{"$f":"+B1684/Spectre!B$2701","v":1.5487128748030599}]
[5485.7674999999999,1.6327264308929399,0.99619228152750239,{"$f":"+B1685/Spectre!B$2701","v":1.5588755037267108}]
[5486.7674999999999,1.64186775684357,1.0017697733734354,{"$f":"+B1686/Spectre!B$2701","v":1.5676033523279154}]
[5487.7674999999999,1.6311613321304299,0.99523735161546079,{"$f":"+B1687/Spectre!B$2701","v":1.5573811969796489}]
[5488.7674999999999,1.6201251745223999,0.98850374651247497,{"$f":"+B1688/Spectre!B$2701","v":1.5468442231027597}]
[5489.7674999999999,1.6166086196899401,0.98635815450429698,{"$f":"+B1689/Spectre!B$2701","v":1.5434867278836524}]
[5490.7674999999999,1.6205706596374501,0.98877555495799974,{"$f":"+B1690/Spectre!B$2701","v":1.5472695581864497}]
[5491.7674999999999,1.6242333650589,0.99101031933819173,{"$f":"+B1691/Spectre!B$2701","v":1.5507665933607642}]
[5492.7674999999999,1.62648677825928,0.99238521766459598,{"$f":"+B1692/Spectre!B$2701","v":1.5529180809409129}]
[5493.7674999999999,1.62850654125214,0.9936175565708153,{"$f":"+B1693/Spectre!B$2701","v":1.5548464867003402}]
[5494.7674999999999,1.62906193733215,0.99395642613134172,{"$f":"+B1694/Spectre!B$2701","v":1.5553767612935676}]
[5495.7674999999999,1.62689745426178,0.99263578766588845,{"$f":"+B1695/Spectre!B$2701","v":1.5533101813860042}]
[5496.7674999999999,1.6246815919876101,0.99128380067487187,{"$f":"+B1696/Spectre!B$2701","v":1.5511945462413301}]
[5497.7674999999999,1.6292204856872601,0.9940531628807574,{"$f":"+B1697/Spectre!B$2701","v":1.5555281382433497}]
[5498.7674999999999,1.6355724334716799,0.997928742546632,{"$f":"+B1698/Spectre!B$2701","v":1.5615927768838034}]
[5499.7674999999999,1.6389671564102199,1,{"$f":"+B1699/Spectre!B$2701","v":1.5648339508678217}]
[5500.7674999999999,1.63247323036194,0.99603779366604062,{"$f":"+B1700/Spectre!B$2701","v":1.5586337558760985}]
[5501.7674999999999,1.6260416507720901,0.99211362742226006,{"$f":"+B1701/Spectre!B$2701","v":1.5524930873089813}]
[5502.7674999999999,1.6246970891952499,0.99129325614661778,{"$f":"+B1702/Spectre!B$2701","v":1.5512093424845395}]
[5503.7674999999999,1.6258951425552399,0.99202423684705721,{"$f":"+B1703/Spectre!B$2701","v":1.5523532059020162}]
[5504.7674999999999,1.6274768114089999,0.99298927684042981,{"$f":"+B1704/Spectre!B$2701","v":1.5538633332475908}]
[5505.7674999999999,1.6311849355697601,0.99525175302627478,{"$f":"+B1705/Spectre!B$2701","v":1.5574037327962311}]
[5506.7674999999999,1.6352190971374501,0.99771315779080094,{"$f":"+B1706/Spectre!B$2701","v":1.5612554225385893}]
[5507.7674999999999,1.6325211524963399,0.9960670328940584,{"$f":"+B1707/Spectre!B$2701","v":1.558679510412798}]
[5508.7674999999999,1.6233655214309699,0.99048081292036272,{"$f":"+B1708/Spectre!B$2701","v":1.5499380037409429}]
[5509.7674999999999,1.61466872692108,0.98517454764477397,{"$f":"+B1709/Spectre!B$2701","v":1.5416345796853907}]
[5510.7674999999999,1.61384642124176,0.98467282576700255,{"$f":"+B1710/Spectre!B$2701","v":1.5408494682571607}]
[5511.7674999999999,1.6130018234252901,0.98415750255679257,{"$f":"+B1711/Spectre!B$2701","v":1.5400430730021539}]
[5512.7674999999999,1.6159508228302,0.98595680609583902,{"$f":"+B1712/Spectre!B$2701","v":1.5428586842679706}]
[5513.7674999999999,1.6233876943588299,0.99049434151840277,{"$f":"+B1713/Spectre!B$2701","v":1.5499591737504637}]
[5514.7674999999999,1.63032162189484,0.99472501051557616,{"$f":"+B1714/Spectre!B$2701","v":1.5565794682321246}]
[5515.7674999999999,1.6273695230484,0.99292381588217915,{"$f":"+B1715/Spectre!B$2701","v":1.553760897717664}]
[5516.7674999999999,1.6215158700943,0.98935226600016624,{"$f":"+B1716/Spectre!B$2701","v":1.5481720152050722}]
[5517.7674999999999,1.6179894208908101,0.98720063703695149,{"$f":"+B1717/Spectre!B$2701","v":1.5448050731537633}]
[5518.7674999999999,1.62034523487091,0.98863801421128106,{"$f":"+B1718/Spectre!B$2701","v":1.5470543297563566}]
[5519.7674999999999,1.6230052709579501,0.99026100956944696,{"$f":"+B1719/Spectre!B$2701","v":1.5495940479949155}]
[5520.7674999999999,1.6164923906326301,0.98628723846619615,{"$f":"+B1720/Spectre!B$2701","v":1.5433757560595711}]
[5521.7674999999999,1.6066435575485201,0.98027806796781869,{"$f":"+B1721/Spectre!B$2701","v":1.5339724020471566}]
[5522.7674999999999,1.59955418109894,0.97595255331558628,{"$f":"+B1722/Spectre!B$2701","v":1.5272036898643673}]
[5523.7674999999999,1.6052178144455,0.97940816456710456,{"$f":"+B1723/Spectre!B$2701","v":1.5326111476717439}]
[5524.7674999999999,1.6111820936203001,0.98304721197050915,{"$f":"+B1724/Spectre!B$2701","v":1.5383056525974088}]
[5525.7674999999999,1.61356937885284,0.984503791025924,{"$f":"+B1725/Spectre!B$2701","v":1.5405849569554448}]
[5526.7674999999999,1.61340248584747,0.98440196286864989,{"$f":"+B1726/Spectre!B$2701","v":1.540425612797788}]
[5527.7674999999999,1.6129188537597701,0.98410687941575192,{"$f":"+B1727/Spectre!B$2701","v":1.5399638561923539}]
[5528.7674999999999,1.60940396785736,0.98196230568914433,{"$f":"+B1728/Spectre!B$2701","v":1.5366079544148192}]
[5529.7674999999999,1.60541808605194,0.97953035835583102,{"$f":"+B1729/Spectre!B$2701","v":1.5328023606609282}]
[5530.7674999999999,1.60594034194946,{"$f":"+B1730/F$1","v":0.97984900775370165},{"$f":"+B1730/Spectre!B$2701","v":1.5333009940571398}]
[5531.7674999999999,1.61260545253754,0.98391566068326886,{"$f":"+B1731/Spectre!B$2701","v":1.5396646306277226}]
[5532.7674999999999,1.6189714670181301,0.98779982300811575,{"$f":"+B1732/Spectre!B$2701","v":1.5457426997043249}]
[5533.7674999999999,1.6177572011947601,0.98705895042954039,{"$f":"+B1733/Spectre!B$2701","v":1.5445833571401031}]
[5534.7674999999999,1.6155865192413299,0.98573452977538611,{"$f":"+B1734/Spectre!B$2701","v":1.5425108587352518}]
[5535.7674999999999,1.6142538785934399,0.98492143193954618,{"$f":"+B1735/Spectre!B$2701","v":1.5412384956363523}]
[5536.7674999999999,1.6145873069763199,0.98512487005090543,{"$f":"+B1736/Spectre!B$2701","v":1.5415568424999078}]
[5537.7674999999999,1.61489057540894,0.98530990635955507,{"$f":"+B1737/Spectre!B$2701","v":1.5418463935978259}]
[5538.7674999999999,1.6131386756896999,0.98424100164576123,{"$f":"+B1738/Spectre!B$2701","v":1.5401737352114386}]
[5539.7674999999999,1.6105049848556501,0.98263408058956492,{"$f":"+B1739/Spectre!B$2701","v":1.5376591705863383}]
[5540.7674999999999,1.6075526475906401,0.98083274048737734,{"$f":"+B1740/Spectre!B$2701","v":1.5348403724373756}]
[5541.7674999999999,1.60303771495819,0.97807799789550076,{"$f":"+B1741/Spectre!B$2701","v":1.5305296577037055}]
[5542.7674999999999,1.5983463525772099,0.97521560839450827,{"$f":"+B1742/Spectre!B$2701","v":1.5260504934319448}]
[5543.7674999999999,1.59616911411285,0.97388718734845836,{"$f":"+B1743/Spectre!B$2701","v":1.5239717350780386}]
[5544.7674999999999,1.5953168869018599,0.97336720913677988,{"$f":"+B1744/Spectre!B$2701","v":1.5231580555186923}]
[5545.7674999999999,1.5939151048660301,0.97251192535006858,{"$f":"+B1745/Spectre!B$2701","v":1.5218196784116198}]
[5546.7674999999999,1.5889203548431401,0.9694644268060284,{"$f":"+B1746/Spectre!B$2701","v":1.5170508492246855}]
[5547.7674999999999,1.5835366249084499,0.96617959592114233,{"$f":"+B1747/Spectre!B$2701","v":1.5119106343331565}]
[5548.7674999999999,1.58066093921661,0.96442502403689634,{"$f":"+B1748/Spectre!B$2701","v":1.5091650206794502}]
[5549.7674999999999,1.58042180538177,0.96427911883440054,{"$f":"+B1749/Spectre!B$2701","v":1.5089367032649768}]
[5550.7674999999999,1.5802863836288501,0.96419649255821782,{"$f":"+B1750/Spectre!B$2701","v":1.5088074068627721}]
[5551.7674999999999,1.58362936973572,0.96623618328282757,{"$f":"+B1751/Spectre!B$2701","v":1.5119991841579117}]
[5552.7674999999999,1.5876104831695601,0.96866522124022003,{"$f":"+B1752/Spectre!B$2701","v":1.5158002252215861}]
[5553.7674999999999,1.59052658081055,0.97044445008540137,{"$f":"+B1753/Spectre!B$2701","v":1.5185844229248893}]
[5554.7674999999999,1.5909574031829801,0.97070731219996242,{"$f":"+B1754/Spectre!B$2701","v":1.5189957584861513}]
[5555.7674999999999,1.5919774770736701,0.97132970044410782,{"$f":"+B1755/Spectre!B$2701","v":1.519969692741211}]
[5556.7674999999999,1.58272016048431,0.96568143802887052,{"$f":"+B1756/Spectre!B$2701","v":1.511131099950437}]
[5557.7674999999999,1.57050061225891,0.9582257985564091,{"$f":"+B1757/Spectre!B$2701","v":1.499464262178499}]
[5558.7674999999999,1.5644732713699301,0.95454827465642966,{"$f":"+B1758/Spectre!B$2701","v":1.4937095479246834}]
[5559.7674999999999,1.5749968290328999,0.96096912184779082,{"$f":"+B1759/Spectre!B$2701","v":1.5037571076030596}]
[5560.7674999999999,1.5860302448272701,0.96770105405962126,{"$f":"+B1760/Spectre!B$2701","v":1.5142914636830727}]
[5561.7674999999999,1.5877830982208301,0.96877054064860169,{"$f":"+B1761/Spectre!B$2701","v":1.5159650326075069}]
[5562.7674999999999,1.5836167335510301,0.96622847343663543,{"$f":"+B1762/Spectre!B$2701","v":1.5119871195288341}]
[5563.7674999999999,1.5805256366729701,0.96434247049510591,{"$f":"+B1763/Spectre!B$2701","v":1.5090358380944922}]
[5564.7674999999999,1.5847316980361901,0.96690875826162359,{"$f":"+B1764/Spectre!B$2701","v":1.5130516523192361}]
[5565.7674999999999,1.5889358520507799,0.9694738822777742,{"$f":"+B1765/Spectre!B$2701","v":1.5170656454678948}]
[5566.7674999999999,1.59274566173553,0.97179840090516056,{"$f":"+B1766/Spectre!B$2701","v":1.5207031311354537}]
[5567.7674999999999,1.59601438045502,0.97379277809978926,{"$f":"+B1767/Spectre!B$2701","v":1.5238240002804453}]
[5568.7674999999999,1.59871542453766,0.97544079409088214,{"$f":"+B1768/Spectre!B$2701","v":1.5264028716548805}]
[5569.7674999999999,1.5941075086593599,0.97262931866852365,{"$f":"+B1769/Spectre!B$2701","v":1.5220033794619434}]
[5570.7674999999999,1.58825719356537,0.96905980534965785,{"$f":"+B1770/Spectre!B$2701","v":1.5164176838325074}]
[5571.7674999999999,1.58249127864838,0.96554178798461265,{"$f":"+B1771/Spectre!B$2701","v":1.510912570819942}]
[5572.7674999999999,1.5768731832504299,0.96211396127315174,{"$f":"+B1772/Spectre!B$2701","v":1.5055485912041564}]
[5573.7674999999999,1.5712076425552399,0.95865718627126628,{"$f":"+B1773/Spectre!B$2701","v":1.500139312320695}]
[5574.7674999999999,1.5702221393585201,0.95805589100255673,{"$f":"+B1774/Spectre!B$2701","v":1.4991983850697219}]
[5575.7674999999999,1.57050728797913,0.95822987168270313,{"$f":"+B1775/Spectre!B$2701","v":1.4994706359448102}]
[5576.7674999999999,1.57064509391785,0.95831395264685248,{"$f":"+B1776/Spectre!B$2701","v":1.4996022086921328}]
[5577.7674999999999,1.57026302814484,0.95808083890109152,{"$f":"+B1777/Spectre!B$2701","v":1.4992374243883519}]
[5578.7674999999999,1.56989657878876,0.95785725336147487,{"$f":"+B1778/Spectre!B$2701","v":1.4988875501450367}]
[5579.7674999999999,1.56964719295502,0.95770509300074724,{"$f":"+B1779/Spectre!B$2701","v":1.4986494444465939}]
[5580.7674999999999,1.5694760084152199,0.95760064640513942,{"$f":"+B1780/Spectre!B$2701","v":1.4984860028677343}]
[5581.7674999999999,1.56831049919128,0.95688952219537016,{"$f":"+B1781/Spectre!B$2701","v":1.4973732115610032}]
[5582.7674999999999,1.56267142295837,0.95344889422985257,{"$f":"+B1782/Spectre!B$2701","v":1.491989200108256}]
[5583.7674999999999,1.5565878152847299,0.9497370396939967,{"$f":"+B1783/Spectre!B$2701","v":1.4861807641098659}]
[5584.7674999999999,1.55535912513733,0.9489873662532603,{"$f":"+B1784/Spectre!B$2701","v":1.4850076496577378}]
[5585.7674999999999,1.5590074062347401,0.95121332977128514,{"$f":"+B1785/Spectre!B$2701","v":1.4884909129441364}]
[5586.7674999999999,1.5623421669006301,0.95324800182242864,{"$f":"+B1786/Spectre!B$2701","v":1.4916748368486474}]
[5587.7674999999999,1.5615376234054601,0.95275711736997137,{"$f":"+B1787/Spectre!B$2701","v":1.4909066841914891}]
[5588.7674999999999,1.5606551170349099,0.95221866462117855,{"$f":"+B1788/Spectre!B$2701","v":1.4900640950492401}]
[5589.7674999999999,1.5587699413299601,0.95106844285036596,{"$f":"+B1789/Spectre!B$2701","v":1.4882641889712451}]
[5590.7674999999999,1.5556449890136701,0.94916178333979073,{"$f":"+B1790/Spectre!B$2701","v":1.4852805834363521}]
[5591.7674999999999,1.5525538921356199,0.94727578039826721,{"$f":"+B1791/Spectre!B$2701","v":1.4823293020020194}]
[5592.7674999999999,1.5497947931289699,0.94559234275532311,{"$f":"+B1792/Spectre!B$2701","v":1.4796950016241717}]
[5593.7674999999999,1.5471044778823899,0.9439508728600553,{"$f":"+B1793/Spectre!B$2701","v":1.4771263738027292}]
[5594.7674999999999,1.54775166511536,{"$f":"+B1794/F$1","v":0.94434574790708647},{"$f":"+B1794/Spectre!B$2701","v":1.4777442876826741}]
[5595.7674999999999,1.55849921703339,0.95090326303238659,{"$f":"+B1795/Spectre!B$2701","v":1.4880057099840729}]
[5596.7674999999999,1.5695148706436199,0.95762435781890876,{"$f":"+B1796/Spectre!B$2701","v":1.4985231072930236}]
[5597.7674999999999,1.5725139379501301,0.95945420980513096,{"$f":"+B1797/Spectre!B$2701","v":1.5013865218061269}]
[5598.7674999999999,1.57205510139465,0.95917425510702403,{"$f":"+B1798/Spectre!B$2701","v":1.5009484391898242}]
[5599.7674999999999,1.5706864595413199,0.95833919148297442,{"$f":"+B1799/Spectre!B$2701","v":1.4996417032797769}]
[5600.7674999999999,1.56386935710907,0.95417980219589371,{"$f":"+B1800/Spectre!B$2701","v":1.4931329497084769}]
[5601.7674999999999,1.5565321445465099,0.9497030727301059,{"$f":"+B1801/Spectre!B$2701","v":1.4861276114515618}]
[5602.7674999999999,1.5557441711425799,0.94922229835897332,{"$f":"+B1802/Spectre!B$2701","v":1.4853752793929065}]
[5603.7674999999999,1.5605217218398999,0.95213727482975519,{"$f":"+B1803/Spectre!B$2701","v":1.4899367335403666}]
[5604.7674999999999,1.56403076648712,0.95427828457085695,{"$f":"+B1804/Spectre!B$2701","v":1.4932870582723814}]
[5605.7674999999999,1.55671238899231,0.94981304713996217,{"$f":"+B1805/Spectre!B$2701","v":1.4862997031418315}]
[5606.7674999999999,1.5477579832077,0.94434960283017955,{"$f":"+B1806/Spectre!B$2701","v":1.4777503199972082}]
[5607.7674999999999,1.54353547096252,0.94177327771672914,{"$f":"+B1807/Spectre!B$2701","v":1.4737187989912075}]
[5608.7674999999999,1.5477148294448899,0.94432327297808871,{"$f":"+B1808/Spectre!B$2701","v":1.4777091181507349}]
[5609.7674999999999,1.55137479305267,0.9465563644671191,{"$f":"+B1809/Spectre!B$2701","v":1.4812035355281639}]
[5610.7674999999999,1.5500677824020399,0.94575890452686451,{"$f":"+B1810/Spectre!B$2701","v":1.4799556431391965}]
[5611.7674999999999,1.5476281642913801,0.94427039507069999,{"$f":"+B1811/Spectre!B$2701","v":1.4776263730060022}]
[5612.7674999999999,1.5476758480071999,0.94429948882992099,{"$f":"+B1812/Spectre!B$2701","v":1.4776718999081897}]
[5613.7674999999999,1.5534597635269201,0.94782848908907724,{"$f":"+B1813/Spectre!B$2701","v":1.4831941993263387}]
[5614.7674999999999,1.5593721866607699,0.95143589702933129,{"$f":"+B1814/Spectre!B$2701","v":1.4888391937458785}]
[5615.7674999999999,1.5535596609115601,0.94788944051464374,{"$f":"+B1815/Spectre!B$2701","v":1.483289578186419}]
[5616.7674999999999,1.54127717018127,0.94039539728000565,{"$f":"+B1816/Spectre!B$2701","v":1.4715626449035859}]
[5617.7674999999999,1.53090035915375,0.93406408613265601,{"$f":"+B1817/Spectre!B$2701","v":1.4616551942667053}]
[5618.7674999999999,1.5332345962524401,0.93548829838093728,{"$f":"+B1818/Spectre!B$2701","v":1.4638838499460576}]
[5619.7674999999999,1.5353022813796999,0.93674987651517427,{"$f":"+B1819/Spectre!B$2701","v":1.4658580102421843}]
[5620.7674999999999,1.53793716430664,0.93835752491534796,{"$f":"+B1820/Spectre!B$2701","v":1.4683737130398344}]
[5621.7674999999999,1.5407632589340201,0.94008183928999967,{"$f":"+B1821/Spectre!B$2701","v":1.4710719787152586}]
[5622.7674999999999,1.5429387092590301,0.94140916932007468,{"$f":"+B1822/Spectre!B$2701","v":1.4731490298103265}]
[5623.7674999999999,1.5385314226150499,0.93872010588964372,{"$f":"+B1823/Spectre!B$2701","v":1.468941092058351}]
[5624.7674999999999,1.5330326557159399,0.93536508631063409,{"$f":"+B1824/Spectre!B$2701","v":1.4636910435152906}]
[5625.7674999999999,1.52931427955627,0.93309635496655141,{"$f":"+B1825/Spectre!B$2701","v":1.460140855682672}]
[5626.7674999999999,1.5284292697906501,0.9325563747954061,{"$f":"+B1826/Spectre!B$2701","v":1.4592958763780683}]
[5627.7674999999999,1.52732825279236,0.93188459989498551,{"$f":"+B1827/Spectre!B$2701","v":1.4582446602065493}]
[5628.7674999999999,1.5340951681137101,0.9360133680004864,{"$f":"+B1828/Spectre!B$2701","v":1.4647054967132975}]
[5629.7674999999999,1.54278540611267,0.94131563288417941,{"$f":"+B1829/Spectre!B$2701","v":1.4730026608197944}]
[5630.7674999999999,1.5482990741729701,0.94467974426294332,{"$f":"+B1830/Spectre!B$2701","v":1.4782669365197851}]
[5631.7674999999999,1.54391193389893,0.94200297294578705,{"$f":"+B1831/Spectre!B$2701","v":1.4740782338839897}]
[5632.7674999999999,1.53989458084106,0.93955182373138235,{"$f":"+B1832/Spectre!B$2701","v":1.4702425923746463}]
[5633.7674999999999,1.53560626506805,0.93693534923020771,{"$f":"+B1833/Spectre!B$2701","v":1.4661482442436282}]
[5634.7674999999999,1.53114008903503,0.93421035500713734,{"$f":"+B1834/Spectre!B$2701","v":1.4618840807674489}]
[5635.7674999999999,1.5289071798324601,0.93284796699720274,{"$f":"+B1835/Spectre!B$2701","v":1.459752169755248}]
[5636.7674999999999,1.53699374198914,0.93778190488915636,{"$f":"+B1836/Spectre!B$2701","v":1.4674729632800503}]
[5637.7674999999999,1.54603731632233,0.94329975452868053,{"$f":"+B1837/Spectre!B$2701","v":1.4761074817317614}]
[5638.7674999999999,1.54495477676392,0.94263925345995803,{"$f":"+B1838/Spectre!B$2701","v":1.47507390723484}]
[5639.7674999999999,1.53374791145325,0.93580149269895774,{"$f":"+B1839/Spectre!B$2701","v":1.464373947048115}]
[5640.7674999999999,1.5233062505721999,0.92943061403905824,{"$f":"+B1840/Spectre!B$2701","v":1.4544045798242449}]
[5641.7674999999999,1.5214936733245901,0.92832468751666231,{"$f":"+B1841/Spectre!B$2701","v":1.4526739884548348}]
[5642.7674999999999,1.5199104547500599,0.92735870197611137,{"$f":"+B1842/Spectre!B$2701","v":1.4511623814849333}]
[5643.7674999999999,1.5224024057388299,0.92887914183301978,{"$f":"+B1843/Spectre!B$2701","v":1.453541617393276}]
[5644.7674999999999,1.53028357028961,0.93368775835712514,{"$f":"+B1844/Spectre!B$2701","v":1.4610663037869003}]
[5645.7674999999999,1.5376789569854701,0.93819998220916256,{"$f":"+B1845/Spectre!B$2701","v":1.4681271848644839}]
[5646.7674999999999,1.5324560403823899,0.93501327002725421,{"$f":"+B1846/Spectre!B$2701","v":1.4631405094505896}]
[5647.7674999999999,1.52292716503143,0.92919931865324934,{"$f":"+B1847/Spectre!B$2701","v":1.4540426409518523}]
[5648.7674999999999,1.51543128490448,0.92462577970365378,{"$f":"+B1848/Spectre!B$2701","v":1.4468858119279087}]
[5649.7674999999999,1.5145467519760101,0.92408609047009571,{"$f":"+B1849/Spectre!B$2701","v":1.4460412878923192}]
[5650.7674999999999,1.5130981206893901,0.92320222206495162,{"$f":"+B1850/Spectre!B$2701","v":1.4446581806038501}]
[5651.7674999999999,1.5151503086090099,0.9244543447274427,{"$f":"+B1851/Spectre!B$2701","v":1.4466175446567673}]
[5652.7674999999999,1.5186783075332599,0.92660691923782967,{"$f":"+B1852/Spectre!B$2701","v":1.4499859663323935}]
[5653.7674999999999,1.52133941650391,0.92823056920558045,{"$f":"+B1853/Spectre!B$2701","v":1.4525267089262555}]
[5654.7674999999999,1.51943159103394,0.92706652789913435,{"$f":"+B1854/Spectre!B$2701","v":1.450705177569716}]
[5655.7674999999999,1.5170426368713399,0.92560893056214277,{"$f":"+B1855/Spectre!B$2701","v":1.448424279770097}]
[5656.7674999999999,1.51894271373749,0.92676824413271597,{"$f":"+B1856/Spectre!B$2701","v":1.4502384130050319}]
[5657.7674999999999,1.5250449180603001,0.9304914452346682,{"$f":"+B1857/Spectre!B$2701","v":1.4560646044952752}]
[5658.7674999999999,1.5300554037094101,{"$f":"+B1858/F$1","v":0.93354854471925108},{"$f":"+B1858/Spectre!B$2701","v":1.460848457559931}]
[5659.7674999999999,1.5184497833252,0.92646748739676665,{"$f":"+B1859/Spectre!B$2701","v":1.4497677786536662}]
[5660.7674999999999,1.50428891181946,0.91782736825200228,{"$f":"+B1860/Spectre!B$2701","v":1.4362474268763958}]
[5661.7674999999999,1.4973460435867301,0.91359124417497284,{"$f":"+B1861/Spectre!B$2701","v":1.4296185961005714}]
[5662.7674999999999,1.50446176528931,0.9179328331291805,{"$f":"+B1862/Spectre!B$2701","v":1.4364124618968284}]
[5663.7674999999999,1.5107897520065301,0.92179379318104648,{"$f":"+B1863/Spectre!B$2701","v":1.4424542232689326}]
[5664.7674999999999,1.50772893428802,0.91992626477662487,{"$f":"+B1864/Spectre!B$2701","v":1.4395318514174837}]
[5665.7674999999999,1.50189661979675,0.91636773435186381,{"$f":"+B1865/Spectre!B$2701","v":1.4339633421936215}]
[5666.7674999999999,1.49720466136932,0.91350498117887968,{"$f":"+B1866/Spectre!B$2701","v":1.4294836088355813}]
[5667.7674999999999,1.4956752061843901,0.91257179885185868,{"$f":"+B1867/Spectre!B$2701","v":1.4280233334479091}]
[5668.7674999999999,1.4941642284393299,0.91164989035652955,{"$f":"+B1868/Spectre!B$2701","v":1.4265806997348245}]
[5669.7674999999999,1.49400687217712,0.91155388095109724,{"$f":"+B1869/Spectre!B$2701","v":1.4264304609576015}]
[5670.7674999999999,1.49470722675323,0.91198119553966039,{"$f":"+B1870/Spectre!B$2701","v":1.4270991373334863}]
[5671.7674999999999,1.4953247308731099,0.91235795972158118,{"$f":"+B1871/Spectre!B$2701","v":1.4276887107168268}]
[5672.7674999999999,1.4956556558609,0.91255987041057562,{"$f":"+B1872/Spectre!B$2701","v":1.4280046674180085}]
[5673.7674999999999,1.4962857961654701,0.91294434443868877,{"$f":"+B1873/Spectre!B$2701","v":1.4286063054304268}]
[5674.7674999999999,1.4927351474762001,0.9107779503926684,{"$f":"+B1874/Spectre!B$2701","v":1.4252162584762562}]
[5675.7674999999999,1.4853155612945601,0.90625096145782547,{"$f":"+B1875/Spectre!B$2701","v":1.418132272495811}]
[5676.7674999999999,1.4785851240158101,0.90214445007812738,{"$f":"+B1876/Spectre!B$2701","v":1.4117062640692344}]
[5677.7674999999999,1.4795955419540401,0.90276094683602648,{"$f":"+B1877/Spectre!B$2701","v":1.4126709791265948}]
[5678.7674999999999,1.4823557138443,0.90444503908855545,{"$f":"+B1878/Spectre!B$2701","v":1.4153063038597455}]
[5679.7674999999999,1.4821523427963299,0.90432095420547853,{"$f":"+B1879/Spectre!B$2701","v":1.4151121316219175}]
[5680.7674999999999,1.4754713773727399,0.90024462760097046,{"$f":"+B1880/Spectre!B$2701","v":1.4087333573563574}]
[5681.7674999999999,1.4686814546585101,0.89610182175664732,{"$f":"+B1881/Spectre!B$2701","v":1.4022505541193069}]
[5682.7674999999999,1.46819055080414,0.89580230150546347,{"$f":"+B1882/Spectre!B$2701","v":1.4017818546612819}]
[5683.7674999999999,1.46930575370789,0.89648273179925442,{"$f":"+B1883/Spectre!B$2701","v":1.4028466150862051}]
[5684.7674999999999,1.4699187278747601,0.89685673207404504,{"$f":"+B1884/Spectre!B$2701","v":1.4034318634138312}]
[5685.7674999999999,1.46868348121643,0.89610305824141279,{"$f":"+B1885/Spectre!B$2701","v":1.4022524890126475}]
[5686.7674999999999,1.4671550989151001,0.89517053052397055,{"$f":"+B1886/Spectre!B$2701","v":1.4007932379802688}]
[5687.7674999999999,1.47335624694824,0.89895410117630881,{"$f":"+B1887/Spectre!B$2701","v":1.4067138977925548}]
[5688.7674999999999,1.4850056171417201,0.90606185202288181,{"$f":"+B1888/Spectre!B$2701","v":1.4178363476315816}]
[5689.7674999999999,1.49505174160004,0.91219139795003967,{"$f":"+B1889/Spectre!B$2701","v":1.427428069201802}]
[5690.7674999999999,1.4932608604431199,0.91109870908808444,{"$f":"+B1890/Spectre!B$2701","v":1.4257181925728792}]
[5691.7674999999999,1.4907467365264899,0.90956474063313586,{"$f":"+B1891/Spectre!B$2701","v":1.4233177866550155}]
[5692.7674999999999,1.4866096973419201,0.90704056608309114,{"$f":"+B1892/Spectre!B$2701","v":1.4193678726211889}]
[5693.7674999999999,1.4807442426681501,0.90346181549566817,{"$f":"+B1893/Spectre!B$2701","v":1.4137677222003013}]
[5694.7674999999999,1.4750627279281601,0.89999529408444356,{"$f":"+B1894/Spectre!B$2701","v":1.4083431918046068}]
[5695.7674999999999,1.4745788574218801,0.89970006516274892,{"$f":"+B1895/Spectre!B$2701","v":1.407881207564661}]
[5696.7674999999999,1.47512078285217,0.90003071573629467,{"$f":"+B1896/Spectre!B$2701","v":1.4083986208080195}]
[5697.7674999999999,1.4751791954040501,0.90006635559134107,{"$f":"+B1897/Spectre!B$2701","v":1.4084543912631999}]
[5698.7674999999999,1.4742392301559399,0.89949284486268866,{"$f":"+B1898/Spectre!B$2701","v":1.4075569422038177}]
[5699.7674999999999,1.4732792377471899,0.89890711475516616,{"$f":"+B1899/Spectre!B$2701","v":1.4066403718455209}]
[5700.7674999999999,1.4764531850814799,0.90084366810333805,{"$f":"+B1900/Spectre!B$2701","v":1.4096707562724071}]
[5701.7674999999999,1.4814649820327801,0.9039015676663027,{"$f":"+B1901/Spectre!B$2701","v":1.4144558613268781}]
[5702.7674999999999,1.4857596158981301,0.90652189709057029,{"$f":"+B1902/Spectre!B$2701","v":1.41855624177243}]
[5703.7674999999999,1.4847452640533401,0.90590300009753255,{"$f":"+B1903/Spectre!B$2701","v":1.4175877707456344}]
[5704.7674999999999,1.48392105102539,0.90540011446939372,{"$f":"+B1904/Spectre!B$2701","v":1.4168008382413195}]
[5705.7674999999999,1.4840164184570299,0.90545830198783606,{"$f":"+B1905/Spectre!B$2701","v":1.4168918920456948}]
[5706.7674999999999,1.48479068279266,0.90593071190319152,{"$f":"+B1906/Spectre!B$2701","v":1.4176311351199695}]
[5707.7674999999999,1.48525166511536,0.90621197582046831,{"$f":"+B1907/Spectre!B$2701","v":1.4180712664468784}]
[5708.7674999999999,1.48339927196503,0.90508175600911633,{"$f":"+B1908/Spectre!B$2701","v":1.4163026601141313}]
[5709.7674999999999,1.48116683959961,0.90371965893676898,{"$f":"+B1909/Spectre!B$2701","v":1.4141712043709445}]
[5710.7674999999999,1.47982442378998,0.90290059688029045,{"$f":"+B1910/Spectre!B$2701","v":1.4128895082570994}]
[5711.7674999999999,1.47995352745056,0.90297936823338021,{"$f":"+B1911/Spectre!B$2701","v":1.4130127723447699}]
[5712.7674999999999,1.4800612926483201,0.90304512012922422,{"$f":"+B1912/Spectre!B$2701","v":1.4131156631437205}]
[5713.7674999999999,1.4787306785583501,0.90223325877814964,{"$f":"+B1913/Spectre!B$2701","v":1.4118452349381616}]
[5714.7674999999999,1.47713994979858,0.90126269097052247,{"$f":"+B1914/Spectre!B$2701","v":1.4103264574811674}]
[5715.7674999999999,1.4762445688247701,0.90071638290674705,{"$f":"+B1915/Spectre!B$2701","v":1.4094715760753387}]
[5716.7674999999999,1.4771493673324601,0.9012684369879721,{"$f":"+B1916/Spectre!B$2701","v":1.4103354490443547}]
[5717.7674999999999,1.47802793979645,0.90180448950162595,{"$f":"+B1917/Spectre!B$2701","v":1.4111742822171685}]
[5718.7674999999999,1.48090708255768,0.90356117068341124,{"$f":"+B1918/Spectre!B$2701","v":1.4139231965712766}]
[5719.7674999999999,1.48489093780518,0.9059918815319592,{"$f":"+B1919/Spectre!B$2701","v":1.4177268554318272}]
[5720.7674999999999,1.48791599273682,0.9078375896169617,{"$f":"+B1920/Spectre!B$2701","v":1.4206150821066303}]
[5721.7674999999999,1.4849885702133201,0.90605145100396367,{"$f":"+B1921/Spectre!B$2701","v":1.417820071764055}]
[5722.7674999999999,1.4817535877227801,{"$f":"+B1922/F$1","v":0.9040776576439884},{"$f":"+B1922/Spectre!B$2701","v":1.4147314129023683}]
[5723.7674999999999,1.4806100130081199,0.9033799165634625,{"$f":"+B1923/Spectre!B$2701","v":1.4136395639706461}]
[5724.7674999999999,1.4814310073852499,0.90388083836285249,{"$f":"+B1924/Spectre!B$2701","v":1.4144234234090614}]
[5725.7674999999999,1.48193264007568,0.90418690470986141,{"$f":"+B1925/Spectre!B$2701","v":1.414902366420079}]
[5726.7674999999999,1.47851574420929,0.90210211865845935,{"$f":"+B1926/Spectre!B$2701","v":1.4116400224265495}]
[5727.7674999999999,1.4745402336120601,0.89967649921777615,{"$f":"+B1927/Spectre!B$2701","v":1.4078443307738833}]
[5728.7674999999999,1.46968829631805,0.89671613648260262,{"$f":"+B1928/Spectre!B$2701","v":1.403211854659}]
[5729.7674999999999,1.46338510513306,0.89287030518553401,{"$f":"+B1929/Spectre!B$2701","v":1.3971937672760368}]
[5730.7674999999999,1.45710349082947,0.88903763881450781,{"$f":"+B1930/Spectre!B$2701","v":1.3911962808163056}]
[5731.7674999999999,1.4574003219604501,0.88921874746565988,{"$f":"+B1931/Spectre!B$2701","v":1.3914796857824243}]
[5732.7674999999999,1.4599848985671999,0.89079570194985513,{"$f":"+B1932/Spectre!B$2701","v":1.3939473576982664}]
[5733.7674999999999,1.46210205554962,0.89208746485928236,{"$f":"+B1933/Spectre!B$2701","v":1.3959687521554098}]
[5734.7674999999999,1.46220374107361,0.89214950730082376,{"$f":"+B1934/Spectre!B$2701","v":1.3960658382743285}]
[5735.7674999999999,1.4621872901916499,0.89213946995389126,{"$f":"+B1935/Spectre!B$2701","v":1.3960501314930718}]
[5736.7674999999999,1.46579194068909,0.89433881268223192,{"$f":"+B1936/Spectre!B$2701","v":1.3994917376639737}]
[5737.7674999999999,1.4715209007263199,0.89783428238388108,{"$f":"+B1937/Spectre!B$2701","v":1.4049615673273439}]
[5738.7674999999999,1.4754989147186299,0.90026142924692309,{"$f":"+B1938/Spectre!B$2701","v":1.4087596491423746}]
[5739.7674999999999,1.46907842159271,0.89634402730216256,{"$f":"+B1939/Spectre!B$2701","v":1.4026295655800176}]
[5740.7674999999999,1.46141445636749,0.89166793285130974,{"$f":"+B1940/Spectre!B$2701","v":1.3953122542258585}]
[5741.7674999999999,1.4563571214675901,0.88858224874829395,{"$f":"+B1941/Spectre!B$2701","v":1.3904836709798063}]
[5742.7674999999999,1.4550542831420901,0.88778733451196867,{"$f":"+B1942/Spectre!B$2701","v":1.3892397621947763}]
[5743.7674999999999,1.45335161685944,0.88674846910457439,{"$f":"+B1943/Spectre!B$2701","v":1.3876141103349036}]
[5744.7674999999999,1.45477247238159,0.88761539039496928,{"$f":"+B1944/Spectre!B$2701","v":1.3889706982028436}]
[5745.7674999999999,1.4566469192504901,0.88875906606996302,{"$f":"+B1945/Spectre!B$2701","v":1.3907603607278556}]
[5746.7674999999999,1.4571845531463601,0.88908709820518139,{"$f":"+B1946/Spectre!B$2701","v":1.3912736765500209}]
[5747.7674999999999,1.4550021886825599,0.88775554958002156,{"$f":"+B1947/Spectre!B$2701","v":1.3891900240541395}]
[5748.7674999999999,1.4528117179870601,0.88641905501578788,{"$f":"+B1948/Spectre!B$2701","v":1.3870986319848762}]
[5749.7674999999999,1.4565795660018901,0.88871797113506057,{"$f":"+B1949/Spectre!B$2701","v":1.3906960539785114}]
[5750.7674999999999,1.4632328748703001,0.89277742335921773,{"$f":"+B1950/Spectre!B$2701","v":1.3970484226407984}]
[5751.7674999999999,1.4677752256393399,0.89554889486264233,{"$f":"+B1951/Spectre!B$2701","v":1.4013853153432201}]
[5752.7674999999999,1.46022689342499,0.89094335277790482,{"$f":"+B1952/Spectre!B$2701","v":1.3941784067268721}]
[5753.7674999999999,1.45220386981964,0.88604818232011318,{"$f":"+B1953/Spectre!B$2701","v":1.3865182777992346}]
[5754.7674999999999,1.4514634609222401,0.88559642897380353,{"$f":"+B1954/Spectre!B$2701","v":1.3858113588255112}]
[5755.7674999999999,1.45618867874146,0.88847947504384761,{"$f":"+B1955/Spectre!B$2701","v":1.3903228471978322}]
[5756.7674999999999,1.46008932590485,0.89085941728255214,{"$f":"+B1956/Spectre!B$2701","v":1.3940470616140614}]
[5757.7674999999999,1.45717060565948,0.88907858828060748,{"$f":"+B1957/Spectre!B$2701","v":1.3912603599311284}]
[5758.7674999999999,1.4533874988555899,0.88677036215838545,{"$f":"+B1958/Spectre!B$2701","v":1.3876483693287953}]
[5759.7674999999999,1.44662833213806,0.88264632178875757,{"$f":"+B1959/Spectre!B$2701","v":1.3811949309436522}]
[5760.7674999999999,1.43519115447998,0.87566803817071948,{"$f":"+B1960/Spectre!B$2701","v":1.3702750758193614}]
[5761.7674999999999,1.42374444007874,0.86868393580083947,{"$f":"+B1961/Spectre!B$2701","v":1.3593461153146369}]
[5762.7674999999999,1.4280587434768699,0.87131626640078841,{"$f":"+B1962/Spectre!B$2701","v":1.3634652756073451}]
[5763.7674999999999,1.4365981817245499,0.87652652227094485,{"$f":"+B1963/Spectre!B$2701","v":1.3716184608856743}]
[5764.7674999999999,1.4413472414016699,0.87942411522059361,{"$f":"+B1964/Spectre!B$2701","v":1.3761527127090798}]
[5765.7674999999999,1.43277227878571,0.87419218449982106,{"$f":"+B1965/Spectre!B$2701","v":1.3679656098886266}]
[5766.7674999999999,1.4243402481079099,0.86904746232230745,{"$f":"+B1966/Spectre!B$2701","v":1.3599149739574707}]
[5767.7674999999999,1.42124783992767,0.86716065930240238,{"$f":"+B1967/Spectre!B$2701","v":1.3569624405333234}]
[5768.7674999999999,1.42115807533264,0.86710589030066931,{"$f":"+B1968/Spectre!B$2701","v":1.3568767361399563}]
[5769.7674999999999,1.4219337701797501,0.86757917302880461,{"$f":"+B1969/Spectre!B$2701","v":1.3576173450213018}]
[5770.7674999999999,1.4284459352493299,0.87155250772566528,{"$f":"+B1970/Spectre!B$2701","v":1.3638349540531105}]
[5771.7674999999999,1.4355770349502599,0.8759034794172208,{"$f":"+B1971/Spectre!B$2701","v":1.3706435022753212}]
[5772.7674999999999,1.43874335289001,0.87783537776391196,{"$f":"+B1972/Spectre!B$2701","v":1.373666602397849}]
[5773.7674999999999,1.4370419979095499,0.87679731243489922,{"$f":"+B1973/Spectre!B$2701","v":1.3720422025277912}]
[5774.7674999999999,1.4356489181518599,0.87594733825924753,{"$f":"+B1974/Spectre!B$2701","v":1.3707121340803705}]
[5775.7674999999999,1.4418246746063199,0.8797154164847969,{"$f":"+B1975/Spectre!B$2701","v":1.3766085508172359}]
[5776.7674999999999,1.4492061138153101,0.88421913041226663,{"$f":"+B1976/Spectre!B$2701","v":1.3836561152759368}]
[5777.7674999999999,1.45308589935303,0.88658634413131254,{"$f":"+B1977/Spectre!B$2701","v":1.38736041167246}]
[5778.7674999999999,1.45037293434143,0.88493105470041133,{"$f":"+B1978/Spectre!B$2701","v":1.384770158572473}]
[5779.7674999999999,1.44774270057678,0.88332624294176032,{"$f":"+B1979/Spectre!B$2701","v":1.3822588946477841}]
[5780.7674999999999,1.4547096490860001,0.88757705936719711,{"$f":"+B1980/Spectre!B$2701","v":1.3889107165092143}]
[5781.7674999999999,1.4659051895141599,0.89440791036038059,{"$f":"+B1981/Spectre!B$2701","v":1.3995998640566669}]
[5782.7674999999999,1.47387671470642,0.89927165955821076,{"$f":"+B1982/Spectre!B$2701","v":1.4072108239299375}]
[5783.7674999999999,1.4604415893554701,0.89107434742879843,{"$f":"+B1983/Spectre!B$2701","v":1.3943833916039725}]
[5784.7674999999999,1.44731020927429,0.88306236254562276,{"$f":"+B1984/Spectre!B$2701","v":1.3818459656449396}]
[5785.7674999999999,1.44040203094482,0.87884740417842711,{"$f":"+B1985/Spectre!B$2701","v":1.3752502556904576}]
[5786.7674999999999,1.43798840045929,{"$f":"+B1986/F$1","v":0.87737475082104288},{"$f":"+B1986/Spectre!B$2701","v":1.3729457977189632}]
[5787.7674999999999,1.43533134460449,0.87575357382282915,{"$f":"+B1987/Spectre!B$2701","v":1.3704089249117923}]
[5788.7674999999999,1.43151772022247,0.87342672769470253,{"$f":"+B1988/Spectre!B$2701","v":1.3667677970920542}]
[5789.7674999999999,1.42740094661713,0.87091491799233067,{"$f":"+B1989/Spectre!B$2701","v":1.3628372319916635}]
[5790.7674999999999,1.4277485609054601,0.87112701149705429,{"$f":"+B1990/Spectre!B$2701","v":1.3631691231086138}]
[5791.7674999999999,1.4355450868606601,0.87588398659854227,{"$f":"+B1991/Spectre!B$2701","v":1.3706129992508551}]
[5792.7674999999999,1.4432402849197401,0.88057913746168381,{"$f":"+B1992/Spectre!B$2701","v":1.3779601307259453}]
[5793.7674999999999,1.4444619417190601,0.88132451957293712,{"$f":"+B1993/Spectre!B$2701","v":1.3791265299600042}]
[5794.7674999999999,1.4444285631179801,0.88130415394147865,{"$f":"+B1994/Spectre!B$2701","v":1.3790946611284669}]
[5795.7674999999999,1.44340443611145,0.88067929272780243,{"$f":"+B1995/Spectre!B$2701","v":1.3781168570867259}]
[5796.7674999999999,1.4398013353347801,0.87848089554663999,{"$f":"+B1996/Spectre!B$2701","v":1.3746767305401508}]
[5797.7674999999999,1.4360947608947801,0.87621936490796737,{"$f":"+B1997/Spectre!B$2701","v":1.3711378106158281}]
[5798.7674999999999,1.4360599517822299,0.87619812646373496,{"$f":"+B1998/Spectre!B$2701","v":1.3711045759772296}]
[5799.7674999999999,1.43827748298645,0.87755113173632204,{"$f":"+B1999/Spectre!B$2701","v":1.373221804563477}]
[5800.7674999999999,1.44028007984161,0.87877299688921884,{"$f":"+B2000/Spectre!B$2701","v":1.3751338206381123}]
[5801.7674999999999,1.4415434598922701,0.87954383603978925,{"$f":"+B2001/Spectre!B$2701","v":1.3763400559115828}]
[5802.7674999999999,1.4428236484527599,0.88032493074048701,{"$f":"+B2002/Spectre!B$2701","v":1.3775623394180778}]
[5803.7674999999999,1.4433672428131099,0.8806565995956096,{"$f":"+B2003/Spectre!B$2701","v":1.378081346103019}]
[5804.7674999999999,1.44306528568268,0.88047236336534174,{"$f":"+B2004/Spectre!B$2701","v":1.377793046994916}]
[5805.7674999999999,1.4428024291992201,0.88031198401763366,{"$f":"+B2005/Spectre!B$2701","v":1.3775420799466045}]
[5806.7674999999999,1.4414204359054601,0.879468774141002,{"$f":"+B2006/Spectre!B$2701","v":1.3762225965039441}]
[5807.7674999999999,1.4397214651107799,0.87843216349994357,{"$f":"+B2007/Spectre!B$2701","v":1.3746004729789849}]
[5808.7674999999999,1.4401781558990501,0.87871080897888676,{"$f":"+B2008/Spectre!B$2701","v":1.3750365068846913}]
[5809.7674999999999,1.4450042247772199,0.88165538834967805,{"$f":"+B2009/Spectre!B$2701","v":1.3796442846551302}]
[5810.7674999999999,1.4498763084411599,0.88462804319811994,{"$f":"+B2010/Spectre!B$2701","v":1.384295995886184}]
[5811.7674999999999,1.44647240638733,0.8825511851961052,{"$f":"+B2011/Spectre!B$2701","v":1.3810460579735}]
[5812.7674999999999,1.43953585624695,0.87831891604217482,{"$f":"+B2012/Spectre!B$2701","v":1.374423259512219}]
[5813.7674999999999,1.4346406459808401,0.87533215072051229,{"$f":"+B2013/Spectre!B$2701","v":1.3697494677336068}]
[5814.7674999999999,1.44368100166321,0.88084803653128763,{"$f":"+B2014/Spectre!B$2701","v":1.378380913119418}]
[5815.7674999999999,1.4530330896377599,0.88655412279297541,{"$f":"+B2015/Spectre!B$2701","v":1.3873099906282875}]
[5816.7674999999999,1.4518883228302,0.88585565436846636,{"$f":"+B2016/Spectre!B$2701","v":1.3862170035240067}]
[5817.7674999999999,1.44267177581787,0.88023226711736569,{"$f":"+B2017/Spectre!B$2701","v":1.3774173362346072}]
[5818.7674999999999,1.4338518381118801,0.87485086720859151,{"$f":"+B2018/Spectre!B$2701","v":1.3689963389541602}]
[5819.7674999999999,1.42658567428589,0.87041748744404213,{"$f":"+B2019/Spectre!B$2701","v":1.3620588357815029}]
[5820.7674999999999,1.4195035696029701,0.86609640959008949,{"$f":"+B2020/Spectre!B$2701","v":1.3552970664512949}]
[5821.7674999999999,1.41602158546448,0.86397191055734701,{"$f":"+B2021/Spectre!B$2701","v":1.3519725782362737}]
[5822.7674999999999,1.4195579290389999,0.86612957647559852,{"$f":"+B2022/Spectre!B$2701","v":1.355348967119784}]
[5823.7674999999999,1.4223651885986299,0.86784239881535719,{"$f":"+B2023/Spectre!B$2701","v":1.3580292496688431}]
[5824.7674999999999,1.4293137788772601,0.87208201414349429,{"$f":"+B2024/Spectre!B$2701","v":1.3646635436729317}]
[5825.7674999999999,1.43742704391479,0.87703224454060624,{"$f":"+B2025/Spectre!B$2701","v":1.3724098322629503}]
[5826.7674999999999,1.4405101537704501,0.87891337427746619,{"$f":"+B2026/Spectre!B$2701","v":1.375353487941176}]
[5827.7674999999999,1.4293138980865501,0.87208208687789268,{"$f":"+B2027/Spectre!B$2701","v":1.3646636574901876}]
[5828.7674999999999,1.4174889326095601,0.86486719826298597,{"$f":"+B2028/Spectre!B$2701","v":1.3533735548338521}]
[5829.7674999999999,1.41786801815033,0.86509849364879488,{"$f":"+B2029/Spectre!B$2701","v":1.3537354937062447}]
[5830.7674999999999,1.4268978834152199,0.87060797883254182,{"$f":"+B2030/Spectre!B$2701","v":1.3623569231735753}]
[5831.7674999999999,1.43455994129181,0.87528290953302756,{"$f":"+B2031/Spectre!B$2701","v":1.3696724134516496}]
[5832.7674999999999,1.42796087265015,0.87125655145998737,{"$f":"+B2032/Spectre!B$2701","v":1.3633718316406056}]
[5833.7674999999999,1.4209625720977801,0.86698660588786369,{"$f":"+B2033/Spectre!B$2701","v":1.3566900758409888}]
[5834.7674999999999,1.41604888439178,0.86398856673449698,{"$f":"+B2034/Spectre!B$2701","v":1.3519986423877695}]
[5835.7674999999999,1.41382312774658,0.86263054278844364,{"$f":"+B2035/Spectre!B$2701","v":1.3498735604108938}]
[5836.7674999999999,1.4115749597549401,0.86125884477555359,{"$f":"+B2036/Spectre!B$2701","v":1.3477270807899855}]
[5837.7674999999999,1.4106301069259599,0.86068235193658194,{"$f":"+B2037/Spectre!B$2701","v":1.3468249652231306}]
[5838.7674999999999,1.4100322723388701,0.86031758893034871,{"$f":"+B2038/Spectre!B$2701","v":1.346254171686956}]
[5839.7674999999999,1.4095268249511701,0.86000919508259943,{"$f":"+B2039/Spectre!B$2701","v":1.3457715865237592}]
[5840.7674999999999,1.409308552742,0.85987601839976202,{"$f":"+B2040/Spectre!B$2701","v":1.3455631871289913}]
[5841.7674999999999,1.40928065776825,0.85985899855062053,{"$f":"+B2041/Spectre!B$2701","v":1.3455365538912161}]
[5842.7674999999999,1.4063345193862899,0.85806144063712775,{"$f":"+B2042/Spectre!B$2701","v":1.3427236742395314}]
[5843.7674999999999,1.40224432945251,0.85556585070551583,{"$f":"+B2043/Spectre!B$2701","v":1.3388184903871012}]
[5844.7674999999999,1.3997724056243901,0.85405763022748371,{"$f":"+B2044/Spectre!B$2701","v":1.3364583757776825}]
[5845.7674999999999,1.40636146068573,0.85807787861108875,{"$f":"+B2045/Spectre!B$2701","v":1.342749396939269}]
[5846.7674999999999,1.4136880636215201,0.86254813471544978,{"$f":"+B2046/Spectre!B$2701","v":1.3497446054604474}]
[5847.7674999999999,1.41442883014679,0.86300010626495438,{"$f":"+B2047/Spectre!B$2701","v":1.3504518658859386}]
[5848.7674999999999,1.40870845317841,0.85950987343996654,{"$f":"+B2048/Spectre!B$2701","v":1.3449902310649642}]
[5849.7674999999999,1.40359723567963,0.85639131338902874,{"$f":"+B2049/Spectre!B$2701","v":1.3401102024194367}]
[5850.7674999999999,1.4045886993408201,{"$f":"+B2050/F$1","v":0.85699624537763652},{"$f":"+B2050/Spectre!B$2701","v":1.3410568205331761}]
[5851.7674999999999,1.4066518545150799,0.85825505960474935,{"$f":"+B2051/Spectre!B$2701","v":1.3430266557735977}]
[5852.7674999999999,1.4049530029296899,0.85721852169808932,{"$f":"+B2052/Spectre!B$2701","v":1.3414046460658946}]
[5853.7674999999999,1.3949848413467401,0.85113654406726069,{"$f":"+B2053/Spectre!B$2701","v":1.3318873609807553}]
[5854.7674999999999,1.3852796554565401,0.84521501851853831,{"$f":"+B2054/Spectre!B$2701","v":1.3226211567611832}]
[5855.7674999999999,1.38559198379517,0.84540558264144239,{"$f":"+B2055/Spectre!B$2701","v":1.322919357970521}]
[5856.7674999999999,1.3895003795623799,0.8477902526160197,{"$f":"+B2056/Spectre!B$2701","v":1.3266509705083547}]
[5857.7674999999999,1.39275646209717,0.84977691996445015,{"$f":"+B2057/Spectre!B$2701","v":1.3297597750242591}]
[5858.7674999999999,1.3938641548156701,0.85045276799115876,{"$f":"+B2058/Spectre!B$2701","v":1.3308173649620798}]
[5859.7674999999999,1.39470756053925,0.85096736385739158,{"$f":"+B2059/Spectre!B$2701","v":1.3316226220445373}]
[5860.7674999999999,1.40161693096161,0.85518304956856428,{"$f":"+B2060/Spectre!B$2701","v":1.3382194701715686}]
[5861.7674999999999,1.41333615779877,0.86233342277239855,{"$f":"+B2061/Spectre!B$2701","v":1.3494086169223038}]
[5862.7674999999999,1.42425000667572,0.86899240238298103,{"$f":"+B2062/Spectre!B$2701","v":1.3598288142950801}]
[5863.7674999999999,1.41860640048981,0.86554901051033906,{"$f":"+B2063/Spectre!B$2701","v":1.3544404777866277}]
[5864.7674999999999,1.4118444919586199,0.86142329724955569,{"$f":"+B2064/Spectre!B$2701","v":1.3479844216046082}]
[5865.7674999999999,1.4069736003875699,0.85845136974509084,{"$f":"+B2065/Spectre!B$2701","v":1.3433338485461037}]
[5866.7674999999999,1.4049533605575599,0.85721873990128428,{"$f":"+B2066/Spectre!B$2701","v":1.3414049875176624}]
[5867.7674999999999,1.4027122259139999,0.85585133321787721,{"$f":"+B2067/Spectre!B$2701","v":1.3392652231148234}]
[5868.7674999999999,1.39455223083496,0.85087259093672474,{"$f":"+B2068/Spectre!B$2701","v":1.3314743181606548}]
[5869.7674999999999,1.3842865228653001,0.84460906824836002,{"$f":"+B2069/Spectre!B$2701","v":1.3216729452058709}]
[5870.7674999999999,1.3731379508972199,0.83780687460800762,{"$f":"+B2070/Spectre!B$2701","v":1.3110286416570702}]
[5871.7674999999999,1.3576740026473999,0.82837169575812131,{"$f":"+B2071/Spectre!B$2701","v":1.2962641534602581}]
[5872.7674999999999,1.3420059680938701,0.81881199561876827,{"$f":"+B2072/Spectre!B$2701","v":1.2813048101220825}]
[5873.7674999999999,1.33233082294464,0.81290879913835723,{"$f":"+B2073/Spectre!B$2701","v":1.2720672878508921}]
[5874.7674999999999,1.3258250951767001,0.80893939209899401,{"$f":"+B2074/Spectre!B$2701","v":1.2658558249508827}]
[5875.7674999999999,1.31758916378021,0.80391431800627755,{"$f":"+B2075/Spectre!B$2701","v":1.2579924184049736}]
[5876.7674999999999,1.29922640323639,0.79271045679893071,{"$f":"+B2076/Spectre!B$2701","v":1.2404602360069066}]
[5877.7674999999999,1.27945339679718,0.78064614766260965,{"$f":"+B2077/Spectre!B$2701","v":1.2215815954766263}]
[5878.7674999999999,1.26794910430908,0.77362691457846566,{"$f":"+B2078/Spectre!B$2701","v":1.2105976612375031}]
[5879.7674999999999,1.2680429220199601,0.77368415654973588,{"$f":"+B2079/Spectre!B$2701","v":1.2106872354175615}]
[5880.7674999999999,1.2676328420639,0.77343395022042893,{"$f":"+B2080/Spectre!B$2701","v":1.2102957040587399}]
[5881.7674999999999,1.2618254423141499,0.7698906212848633,{"$f":"+B2081/Spectre!B$2701","v":1.2047509826412746}]
[5882.7674999999999,1.2551589012146001,0.76582309554252237,{"$f":"+B2082/Spectre!B$2701","v":1.1983859802636305}]
[5883.7674999999999,1.25291395187378,0.76445336135838093,{"$f":"+B2083/Spectre!B$2701","v":1.1962425737086217}]
[5884.7674999999999,1.2609660625457799,0.76936627900929733,{"$f":"+B2084/Spectre!B$2701","v":1.2039304740465935}]
[5885.7674999999999,1.26910972595215,0.77433505667791569,{"$f":"+B2085/Spectre!B$2701","v":1.2117057860367615}]
[5886.7674999999999,1.2722597122192401,0.77625699041207874,{"$f":"+B2086/Spectre!B$2701","v":1.214713293195298}]
[5887.7674999999999,1.2726248502731301,0.77647977587331385,{"$f":"+B2087/Spectre!B$2701","v":1.2150619154487983}]
[5888.7674999999999,1.2739067077636701,0.77726188885558223,{"$f":"+B2088/Spectre!B$2701","v":1.2162857923968664}]
[5889.7674999999999,1.2810209989547701,0.78160260499701018,{"$f":"+B2089/Spectre!B$2701","v":1.2230782923860528}]
[5890.7674999999999,1.2883812189102199,0.78609337220162623,{"$f":"+B2090/Spectre!B$2701","v":1.2301055973732797}]
[5891.7674999999999,1.2937985658645601,0.78939871418676133,{"$f":"+B2091/Spectre!B$2701","v":1.2352779087308481}]
[5892.7674999999999,1.2972719669342001,0.79151797634284238,{"$f":"+B2092/Spectre!B$2701","v":1.238594202103473}]
[5893.7674999999999,1.3008626699447601,0.79370880914660924,{"$f":"+B2093/Spectre!B$2701","v":1.2420224916554823}]
[5894.7674999999999,1.3049784898757899,0.79622003697380039,{"$f":"+B2094/Spectre!B$2701","v":1.2459521462178351}]
[5895.7674999999999,1.3091847896575901,0.79878647020911497,{"$f":"+B2095/Spectre!B$2701","v":1.249968188077091}]
[5896.7674999999999,1.31375408172607,0.80157437968650069,{"$f":"+B2096/Spectre!B$2701","v":1.2543308034792502}]
[5897.7674999999999,1.319091796875,0.80483113509374204,{"$f":"+B2097/Spectre!B$2701","v":1.2594270849101739}]
[5898.7674999999999,1.3245809078216599,0.80818026318651148,{"$f":"+B2098/Spectre!B$2701","v":1.2646679142555448}]
[5899.7674999999999,1.3260253667831401,0.80906158588772048,{"$f":"+B2099/Spectre!B$2701","v":1.266047037940067}]
[5900.7674999999999,1.3259416818618801,0.8090105263402898,{"$f":"+B2100/Spectre!B$2701","v":1.2659671382267317}]
[5901.7674999999999,1.3265308141708401,0.80936997973546965,{"$f":"+B2101/Spectre!B$2701","v":1.2665296231032637}]
[5902.7674999999999,1.3304872512817401,0.81178396167246325,{"$f":"+B2102/Spectre!B$2701","v":1.2703071039950529}]
[5903.7674999999999,1.3347871303558401,0.81440749141025126,{"$f":"+B2103/Spectre!B$2701","v":1.274412492399855}]
[5904.7674999999999,1.3332105875015301,0.81344557899599457,{"$f":"+B2104/Spectre!B$2701","v":1.2729072591962649}]
[5905.7674999999999,1.3266499042511,0.80944264139912425,{"$f":"+B2105/Spectre!B$2701","v":1.2666433265414769}]
[5906.7674999999999,1.3202490806579601,0.80553724063004506,{"$f":"+B2106/Spectre!B$2701","v":1.2605320228262766}]
[5907.7674999999999,1.3132698535919201,0.80127893256161109,{"$f":"+B2107/Spectre!B$2701","v":1.2538684777875366}]
[5908.7674999999999,1.30612909793854,0.79692206938381549,{"$f":"+B2108/Spectre!B$2701","v":1.2470507103676363}]
[5909.7674999999999,1.30095946788788,0.7937678694778314,{"$f":"+B2109/Spectre!B$2701","v":1.2421149112669283}]
[5910.7674999999999,1.2999855279922501,0.79317362944573522,{"$f":"+B2110/Spectre!B$2701","v":1.2411850242897393}]
[5911.7674999999999,1.2985539436340301,0.79230016205950915,{"$f":"+B2111/Spectre!B$2701","v":1.239818192868797}]
[5912.7674999999999,1.30072128772736,0.79362254615052219,{"$f":"+B2112/Spectre!B$2701","v":1.2418875043905018}]
[5913.7674999999999,1.30406653881073,0.79566361882869419,{"$f":"+B2113/Spectre!B$2701","v":1.2450814442134939}]
[5914.7674999999999,1.3064776659011801,{"$f":"+B2114/F$1","v":0.7971347447637197},{"$f":"+B2114/Spectre!B$2701","v":1.247383512022624}]
[5915.7674999999999,1.3057769536971999,0.79670721197196137,{"$f":"+B2115/Spectre!B$2701","v":1.2467144941949715}]
[5916.7674999999999,1.30466437339783,0.79602838183493363,{"$f":"+B2116/Spectre!B$2701","v":1.2456522377496781}]
[5917.7674999999999,1.3145619630813601,0.8020673007021113,{"$f":"+B2117/Spectre!B$2701","v":1.2551021430195739}]
[5918.7674999999999,1.3330249786377,0.81333233153822571,{"$f":"+B2118/Spectre!B$2701","v":1.2727300457294985}]
[5919.7674999999999,1.35034251213074,0.82389845754344104,{"$f":"+B2119/Spectre!B$2701","v":1.2892642784316071}]
[5920.7674999999999,1.3467991352081301,0.82173650029570044,{"$f":"+B2120/Spectre!B$2701","v":1.2858811743300178}]
[5921.7674999999999,1.34210288524628,0.81887112868438883,{"$f":"+B2121/Spectre!B$2701","v":1.2813973435507844}]
[5922.7674999999999,1.3400633335113501,0.81762671586808988,{"$f":"+B2122/Spectre!B$2701","v":1.279450044126945}]
[5923.7674999999999,1.3419928550720199,0.81880399483498267,{"$f":"+B2123/Spectre!B$2701","v":1.2812922902239814}]
[5924.7674999999999,1.3439253568649301,0.81998309216182774,{"$f":"+B2124/Spectre!B$2701","v":1.2831373817524059}]
[5925.7674999999999,1.34809362888336,0.82252632312416107,{"$f":"+B2125/Spectre!B$2701","v":1.2871171159071635}]
[5926.7674999999999,1.3528703451156601,0.82544079045416074,{"$f":"+B2126/Spectre!B$2701","v":1.291677773333842}]
[5927.7674999999999,1.3545122146606401,0.82644256131854843,{"$f":"+B2127/Spectre!B$2701","v":1.2932453783934261}]
[5928.7674999999999,1.3418169021606401,0.81869663886345412,{"$f":"+B2128/Spectre!B$2701","v":1.281124295954905}]
[5929.7674999999999,1.33009588718414,0.81154517464365095,{"$f":"+B2129/Spectre!B$2701","v":1.2699334419453407}]
[5930.7674999999999,1.3155108690261801,0.80264626651061366,{"$f":"+B2130/Spectre!B$2701","v":1.2560081283731102}]
[5931.7674999999999,1.29945433139801,0.7928495249680082,{"$f":"+B2131/Spectre!B$2701","v":1.2406778545993637}]
[5932.7674999999999,1.2850093841552701,0.7840360797526823,{"$f":"+B2132/Spectre!B$2701","v":1.2268862763023083}]
[5933.7674999999999,1.28084468841553,0.78149503082229255,{"$f":"+B2133/Spectre!B$2701","v":1.2229099566652182}]
[5934.7674999999999,1.2778563499450699,0.77967172493188941,{"$f":"+B2134/Spectre!B$2701","v":1.2200567857050979}]
[5935.7674999999999,1.2779012918472299,0.77969914579995514,{"$f":"+B2135/Spectre!B$2701","v":1.2200996948104095}]
[5936.7674999999999,1.2824361324310301,0.78246603503630363,{"$f":"+B2136/Spectre!B$2701","v":1.2244294170257384}]
[5937.7674999999999,1.2866748571395901,0.78505225202788986,{"$f":"+B2137/Spectre!B$2701","v":1.2284764171784839}]
[5938.7674999999999,1.2906574010848999,0.78748216279805605,{"$f":"+B2138/Spectre!B$2701","v":1.2322788240492193}]
[5939.7674999999999,1.29461169242859,0.78989483551588591,{"$f":"+B2139/Spectre!B$2701","v":1.236054256230412}]
[5940.7674999999999,1.29855000972748,0.7922977618243765,{"$f":"+B2140/Spectre!B$2701","v":1.2398144368993713}]
[5941.7674999999999,1.302450299263,0.79467748585988596,{"$f":"+B2141/Spectre!B$2701","v":1.2435383098638328}]
[5942.7674999999999,1.3063701391220099,0.79706913833667836,{"$f":"+B2142/Spectre!B$2701","v":1.2472808488581946}]
[5943.7674999999999,1.3091064691543599,0.79873868370959678,{"$f":"+B2143/Spectre!B$2701","v":1.2498934101402517}]
[5944.7674999999999,1.31106758117676,0.79993523729197336,{"$f":"+B2144/Spectre!B$2701","v":1.2517658178099871}]
[5945.7674999999999,1.31279850006104,0.80099134075171019,{"$f":"+B2145/Spectre!B$2701","v":1.2534184443594123}]
[5946.7674999999999,1.31152892112732,0.80021671941243899,{"$f":"+B2146/Spectre!B$2701","v":1.252206290588654}]
[5947.7674999999999,1.30994701385498,0.79925153395026982,{"$f":"+B2147/Spectre!B$2701","v":1.2506959356085676}]
[5948.7674999999999,1.3117415904998799,0.80034647757856703,{"$f":"+B2148/Spectre!B$2701","v":1.2524093405724135}]
[5949.7674999999999,1.31714975833893,0.80364621901505529,{"$f":"+B2149/Spectre!B$2701","v":1.2575728880013157}]
[5950.7674999999999,1.3222359418869001,0.80674950484239927,{"$f":"+B2150/Spectre!B$2701","v":1.2624290150231905}]
[5951.7674999999999,1.32285356521606,0.80712634175871223,{"$f":"+B2151/Spectre!B$2701","v":1.2630187022237773}]
[5952.7674999999999,1.32236039638519,0.80682543955396635,{"$f":"+B2152/Spectre!B$2701","v":1.2625478402379}]
[5953.7674999999999,1.3217846155166599,0.80647413241136856,{"$f":"+B2153/Spectre!B$2701","v":1.2619981028939806}]
[5954.7674999999999,1.3209400177002,0.80595880920116469,{"$f":"+B2154/Spectre!B$2701","v":1.2611917076389834}]
[5955.7674999999999,1.3204307556152299,0.80564808785267505,{"$f":"+B2155/Spectre!B$2701","v":1.2607054803236075}]
[5956.7674999999999,1.31499040126801,0.80232870812871782,{"$f":"+B2156/Spectre!B$2701","v":1.2555112022357369}]
[5957.7674999999999,1.30751287937164,0.79776637027641584,{"$f":"+B2157/Spectre!B$2701","v":1.2483719010691254}]
[5958.7674999999999,1.3019659519195601,0.79438196600059796,{"$f":"+B2158/Spectre!B$2701","v":1.2430758703548632}]
[5959.7674999999999,1.30789470672607,0.79799933855338023,{"$f":"+B2159/Spectre!B$2701","v":1.2487364577383944}]
[5960.7674999999999,1.3146047592163099,0.80209341235101306,{"$f":"+B2160/Spectre!B$2701","v":1.2551430034142887}]
[5961.7674999999999,1.3180944919586199,0.80422263911962844,{"$f":"+B2161/Spectre!B$2701","v":1.2584748897509146}]
[5962.7674999999999,1.3181190490722701,0.80423762240562902,{"$f":"+B2162/Spectre!B$2701","v":1.258498336105544}]
[5963.7674999999999,1.3184351921081501,0.80443051402926136,{"$f":"+B2163/Spectre!B$2701","v":1.2588001794670418}]
[5964.7674999999999,1.32315874099731,0.80731254181772893,{"$f":"+B2164/Spectre!B$2701","v":1.2633100743977803}]
[5965.7674999999999,1.32878088951111,0.81074284149872677,{"$f":"+B2165/Spectre!B$2701","v":1.2686779238002568}]
[5966.7674999999999,1.32966697216034,0.81128347627945718,{"$f":"+B2166/Spectre!B$2701","v":1.2695239274601635}]
[5967.7674999999999,1.3189234733581501,0.80472843412368811,{"$f":"+B2167/Spectre!B$2701","v":1.2592663749454465}]
[5968.7674999999999,1.3084915876388601,0.7983635196844393,{"$f":"+B2168/Spectre!B$2701","v":1.249306340736541}]
[5969.7674999999999,1.3060564994812001,0.79687777413539873,{"$f":"+B2169/Spectre!B$2701","v":1.2469813956590516}]
[5970.7674999999999,1.30720746517181,0.79758002474860257,{"$f":"+B2170/Spectre!B$2701","v":1.2480803012606108}]
[5971.7674999999999,1.30794429779053,0.79802959606297463,{"$f":"+B2171/Spectre!B$2701","v":1.2487838057166765}]
[5972.7674999999999,1.30722427368164,0.79759028029873014,{"$f":"+B2172/Spectre!B$2701","v":1.2480963494936352}]
[5973.7674999999999,1.3062434196472199,0.79699182167154903,{"$f":"+B2173/Spectre!B$2701","v":1.2471598611156325}]
[5974.7674999999999,1.3093167543411299,0.7988669871877645,{"$f":"+B2174/Spectre!B$2701","v":1.250094183778903}]
[5975.7674999999999,1.3163825273513801,0.80317810042918292,{"$f":"+B2175/Spectre!B$2701","v":1.2568403601451104}]
[5976.7674999999999,1.32291531562805,0.80716401817690553,{"$f":"+B2176/Spectre!B$2701","v":1.2630776595621134}]
[5977.7674999999999,1.3168805837631199,0.80348198474424803,{"$f":"+B2177/Spectre!B$2701","v":1.2573158886384603}]
[5978.7674999999999,1.3089406490325901,{"$f":"+B2178/F$1","v":0.79863751016190165},{"$f":"+B2178/Spectre!B$2701","v":1.2497350903378885}]
[5979.7674999999999,1.30333292484283,0.79521601134307085,{"$f":"+B2179/Spectre!B$2701","v":1.2443810128233281}]
[5980.7674999999999,1.30225133895874,0.79455609214953493,{"$f":"+B2180/Spectre!B$2701","v":1.2433483488644537}]
[5981.7674999999999,1.3010610342025799,0.79382983918497452,{"$f":"+B2181/Spectre!B$2701","v":1.2422118835685911}]
[5982.7674999999999,1.30731105804443,0.79764323094051126,{"$f":"+B2182/Spectre!B$2701","v":1.2481792084556145}]
[5983.7674999999999,1.3166700601577801,0.80335353579728996,{"$f":"+B2183/Spectre!B$2701","v":1.2571148873653071}]
[5984.7674999999999,1.3239729404449501,0.80780931775643861,{"$f":"+B2184/Spectre!B$2701","v":1.2640874462526475}]
[5985.7674999999999,1.3157097101211499,0.80276758748656618,{"$f":"+B2185/Spectre!B$2701","v":1.256197975555233}]
[5986.7674999999999,1.3073537349700901,0.79766926985501485,{"$f":"+B2186/Spectre!B$2701","v":1.2482199550330735}]
[5987.7674999999999,1.3067924976348899,0.79732683630898249,{"$f":"+B2187/Spectre!B$2701","v":1.247684103394326}]
[5988.7674999999999,1.31275987625122,0.80096777480673753,{"$f":"+B2188/Spectre!B$2701","v":1.2533815675686348}]
[5989.7674999999999,1.3182072639465301,0.80429144586018397,{"$f":"+B2189/Spectre!B$2701","v":1.2585825608745844}]
[5990.7674999999999,1.3198983669280999,0.80532325603097088,{"$f":"+B2190/Spectre!B$2701","v":1.2601971724606824}]
[5991.7674999999999,1.3209035396575901,0.80593655247535589,{"$f":"+B2191/Spectre!B$2701","v":1.2611568795588026}]
[5992.7674999999999,1.3175512552261399,0.80389118846770091,{"$f":"+B2192/Spectre!B$2701","v":1.2579562245177409}]
[5993.7674999999999,1.3039454221725499,0.79558972068027412,{"$f":"+B2193/Spectre!B$2701","v":1.2449658058819399}]
[5994.7674999999999,1.29035449028015,0.7872973446926016,{"$f":"+B2194/Spectre!B$2701","v":1.2319896144030691}]
[5995.7674999999999,1.2907794713973999,0.78755664282166282,{"$f":"+B2195/Spectre!B$2701","v":1.2323953729188204}]
[5996.7674999999999,1.2957453727722199,0.79058653964137493,{"$f":"+B2196/Spectre!B$2701","v":1.2371366583299324}]
[5997.7674999999999,1.3001117706298799,0.79325065517327098,{"$f":"+B2197/Spectre!B$2701","v":1.2413055567632778}]
[5998.7674999999999,1.30216312408447,0.79450226869497398,{"$f":"+B2198/Spectre!B$2701","v":1.2432641240954037}]
[5999.7674999999999,1.3042135238647501,0.79575330034149638,{"$f":"+B2199/Spectre!B$2701","v":1.2452217808894921}]
[6000.7674999999999,1.3007842302322401,0.79366094991269276,{"$f":"+B2200/Spectre!B$2701","v":1.2419475999013874}]
[6001.7674999999999,1.2922003269195601,0.78842356411206393,{"$f":"+B2201/Spectre!B$2701","v":1.2337519607867702}]
[6002.7674999999999,1.28385782241821,0.78333346546748672,{"$f":"+B2202/Spectre!B$2701","v":1.2257868016144697}]
[6003.7674999999999,1.2841644287109399,0.78352053833928337,{"$f":"+B2203/Spectre!B$2701","v":1.2260795395955433}]
[6004.7674999999999,1.28471827507019,0.78385846235263767,{"$f":"+B2204/Spectre!B$2701","v":1.2266083345644536}]
[6005.7674999999999,1.28863036632538,0.78624538709355718,{"$f":"+B2205/Spectre!B$2701","v":1.2303434754372109}]
[6006.7674999999999,1.29763436317444,0.7917390889129281,{"$f":"+B2206/Spectre!B$2701","v":1.2389402065601067}]
[6007.7674999999999,1.30652320384979,0.79716252930377696,{"$f":"+B2207/Spectre!B$2701","v":1.247426990214215}]
[6008.7674999999999,1.30944728851318,0.79894663135362809,{"$f":"+B2208/Spectre!B$2701","v":1.2502188136736347}]
[6009.7674999999999,1.3096505403518699,0.79907064350231261,{"$f":"+B2209/Spectre!B$2701","v":1.2504128720942165}]
[6010.7674999999999,1.3087903261184699,0.79854579208595833,{"$f":"+B2210/Spectre!B$2701","v":1.2495915667787443}]
[6011.7674999999999,1.30023276805878,0.79332448058729887,{"$f":"+B2211/Spectre!B$2701","v":1.2414210812775854}]
[6012.7674999999999,1.2913359403610201,0.78789616699177423,{"$f":"+B2212/Spectre!B$2701","v":1.2329266718673511}]
[6013.7674999999999,1.2897595167160001,0.78693432731191593,{"$f":"+B2213/Spectre!B$2701","v":1.2314215524810168}]
[6014.7674999999999,1.29348587989807,0.78920793186066818,{"$f":"+B2214/Spectre!B$2701","v":1.2349793660697519}]
[6015.7674999999999,1.2963353395462001,0.79094650217733709,{"$f":"+B2215/Spectre!B$2701","v":1.2376999399272466}]
[6016.7674999999999,1.2917914390564,0.78817408512674025,{"$f":"+B2216/Spectre!B$2701","v":1.2333615676005076}]
[6017.7674999999999,1.28586065769196,0.7845554760891863,{"$f":"+B2217/Spectre!B$2701","v":1.2276990453236263}]
[6018.7674999999999,1.2833883762359599,0.78304703740795301,{"$f":"+B2218/Spectre!B$2701","v":1.22533858926243}]
[6019.7674999999999,1.28785741329193,0.78577377725657727,{"$f":"+B2219/Spectre!B$2701","v":1.2296054843527415}]
[6020.7674999999999,1.2921954393386801,0.78842058200173859,{"$f":"+B2220/Spectre!B$2701","v":1.233747294279288}]
[6021.7674999999999,1.29285132884979,0.78882076665982925,{"$f":"+B2221/Spectre!B$2701","v":1.2343735168188847}]
[6022.7674999999999,1.29255163669586,0.78863791238312342,{"$f":"+B2222/Spectre!B$2701","v":1.2340873802386341}]
[6023.7674999999999,1.2916908264160201,0.78811269729478373,{"$f":"+B2223/Spectre!B$2701","v":1.233265505836892}]
[6024.7674999999999,1.28889513015747,0.78640693019163233,{"$f":"+B2224/Spectre!B$2701","v":1.2305962635616072}]
[6025.7674999999999,1.2858958244323699,0.78457693273660745,{"$f":"+B2225/Spectre!B$2701","v":1.2277326214139825}]
[6026.7674999999999,1.2871515750885001,0.78534311688570324,{"$f":"+B2226/Spectre!B$2701","v":1.2289315723831045}]
[6027.7674999999999,1.29216456413269,0.78840174379264494,{"$f":"+B2227/Spectre!B$2701","v":1.2337178156101245}]
[6028.7674999999999,1.29688692092896,0.79128304423713536,{"$f":"+B2228/Spectre!B$2701","v":1.2382265723683137}]
[6029.7674999999999,1.2995363473892201,0.79289956623386837,{"$f":"+B2229/Spectre!B$2701","v":1.2407561608711262}]
[6030.7674999999999,1.3022276163101201,0.79454161800432277,{"$f":"+B2230/Spectre!B$2701","v":1.2433256992306159}]
[6031.7674999999999,1.30140721797943,0.79404105987691831,{"$f":"+B2231/Spectre!B$2701","v":1.2425424088784707}]
[6032.7674999999999,1.2949734926223799,0.79011558441398,{"$f":"+B2232/Spectre!B$2701","v":1.2363996916007662}]
[6033.7674999999999,1.2887158393859901,0.78629753765696275,{"$f":"+B2233/Spectre!B$2701","v":1.2304250824093848}]
[6034.7674999999999,1.2923489809036299,0.78851426390643653,{"$f":"+B2234/Spectre!B$2701","v":1.2338938909043411}]
[6035.7674999999999,1.2999229431152299,0.7931354438867535,{"$f":"+B2235/Spectre!B$2701","v":1.2411252702306119}]
[6036.7674999999999,1.3053402900695801,0.79644078587189471,{"$f":"+B2236/Spectre!B$2701","v":1.2462975815881896}]
[6037.7674999999999,1.3016434907913199,0.79418521945386034,{"$f":"+B2237/Spectre!B$2701","v":1.2427679946788122}]
[6038.7674999999999,1.2980638742446899,0.7920011509491135,{"$f":"+B2238/Spectre!B$2701","v":1.2393502901315634}]
[6039.7674999999999,1.293084025383,0.7889627442048337,{"$f":"+B2239/Spectre!B$2701","v":1.2345956881015685}]
[6040.7674999999999,1.2872742414474501,0.78541796058130153,{"$f":"+B2240/Spectre!B$2701","v":1.2290486903389852}]
[6041.7674999999999,1.28204357624054,0.78222652066351417,{"$f":"+B2241/Spectre!B$2701","v":1.2240546168034767}]
[6042.7674999999999,1.2837849855423,{"$f":"+B2242/F$1","v":0.78328902475027951},{"$f":"+B2242/Spectre!B$2701","v":1.2257172592713828}]
[6043.7674999999999,1.28662753105164,0.78502337647186371,{"$f":"+B2243/Spectre!B$2701","v":1.2284312317280637}]
[6044.7674999999999,1.2879947423934901,0.78585756728313327,{"$f":"+B2244/Spectre!B$2701","v":1.2297366018310405}]
[6045.7674999999999,1.28669941425323,0.78506723531388434,{"$f":"+B2245/Spectre!B$2701","v":1.2284998635331035}]
[6046.7674999999999,1.28558397293091,0.78438665955130271,{"$f":"+B2246/Spectre!B$2701","v":1.2274348754736781}]
[6047.7674999999999,1.28229284286499,0.7823786082898434,{"$f":"+B2247/Spectre!B$2701","v":1.2242926086846635}]
[6048.7674999999999,1.27833139896393,0.77996157150813228,{"$f":"+B2248/Spectre!B$2701","v":1.2205103474681456}]
[6049.7674999999999,1.2759493589401201,0.77850819276622552,{"$f":"+B2249/Spectre!B$2701","v":1.2182360510693404}]
[6050.7674999999999,1.28057265281677,0.78132905092593163,{"$f":"+B2250/Spectre!B$2701","v":1.222650225688231}]
[6051.7674999999999,1.28550112247467,0.78433610914465435,{"$f":"+B2251/Spectre!B$2701","v":1.2273557724811244}]
[6052.7674999999999,1.2854855060577399,0.78432658093850993,{"$f":"+B2252/Spectre!B$2701","v":1.2273408624206588}]
[6053.7674999999999,1.2813690900802599,0.78181498943932703,{"$f":"+B2253/Spectre!B$2701","v":1.2234106387720263}]
[6054.7674999999999,1.2776731252670299,0.77955993216208108,{"$f":"+B2254/Spectre!B$2701","v":1.2198818485834404}]
[6055.7674999999999,1.27741527557373,0.77940260765909064,{"$f":"+B2255/Spectre!B$2701","v":1.2196356618598574}]
[6056.7674999999999,1.27760982513428,0.77952131019671567,{"$f":"+B2256/Spectre!B$2701","v":1.2198214116207873}]
[6057.7674999999999,1.2775262594223,0.77947032338367717,{"$f":"+B2257/Spectre!B$2701","v":1.2197416257246982}]
[6058.7674999999999,1.27682662010193,0.77904344520150404,{"$f":"+B2258/Spectre!B$2701","v":1.2190736322523488}]
[6059.7674999999999,1.2761429548263601,0.77862631342867006,{"$f":"+B2259/Spectre!B$2701","v":1.2184208902922327}]
[6060.7674999999999,1.2763746976852399,0.7787677090984817,{"$f":"+B2260/Spectre!B$2701","v":1.2186421510368595}]
[6061.7674999999999,1.2769929170608501,0.77914490968678651,{"$f":"+B2261/Spectre!B$2701","v":1.2192324073237262}]
[6062.7674999999999,1.2755253314971899,0.77824947651235088,{"$f":"+B2262/Spectre!B$2701","v":1.2178312030916361}]
[6063.7674999999999,1.2655292749404901,0.77215047903238065,{"$f":"+B2263/Spectre!B$2701","v":1.2082872847687214}]
[6064.7674999999999,1.2545819282531701,0.76547106105594132,{"$f":"+B2264/Spectre!B$2701","v":1.1978351047471523}]
[6065.7674999999999,1.2573184967041,0.7671407518976564,{"$f":"+B2265/Spectre!B$2701","v":1.2004478936637211}]
[6066.7674999999999,1.2718522548675499,0.77600838423952889,{"$f":"+B2266/Spectre!B$2701","v":1.2143242658160966}]
[6067.7674999999999,1.28481686115265,0.78391861369982874,{"$f":"+B2267/Spectre!B$2701","v":1.2267024614347286}]
[6068.7674999999999,1.2777944803237899,0.77963397577929772,{"$f":"+B2268/Spectre!B$2701","v":1.219997714549506}]
[6069.7674999999999,1.26795673370361,0.77363156957994028,{"$f":"+B2269/Spectre!B$2701","v":1.2106049455418519}]
[6070.7674999999999,1.2649295330047601,0.77178455227577403,{"$f":"+B2270/Spectre!B$2701","v":1.2077146701564523}]
[6071.7674999999999,1.2739726305007899,0.77730211097770474,{"$f":"+B2271/Spectre!B$2701","v":1.2163487333391396}]
[6072.7674999999999,1.2829060554504399,0.78275275403343048,{"$f":"+B2272/Spectre!B$2701","v":1.2248780846468013}]
[6073.7674999999999,1.2795271873474099,0.78069117025500345,{"$f":"+B2273/Spectre!B$2701","v":1.2216520483577602}]
[6074.7674999999999,1.2711992263793901,0.77560994520699189,{"$f":"+B2274/Spectre!B$2701","v":1.2137007748906319}]
[6075.7674999999999,1.2646523714065601,0.77161544480030331,{"$f":"+B2275/Spectre!B$2701","v":1.2074500450374901}]
[6076.7674999999999,1.2684363126754801,0.77392418006331354,{"$f":"+B2276/Spectre!B$2701","v":1.2110628323606143}]
[6077.7674999999999,1.2725311517715501,0.77642260663644813,{"$f":"+B2277/Spectre!B$2701","v":1.2149724550860057}]
[6078.7674999999999,1.2686342000961299,0.77404491916407947,{"$f":"+B2278/Spectre!B$2701","v":1.2112517690046902}]
[6079.7674999999999,1.2580623626709,0.76759461454151157,{"$f":"+B2279/Spectre!B$2701","v":1.2011581133378562}]
[6080.7674999999999,1.2483060359954801,0.76164188593602256,{"$f":"+B2280/Spectre!B$2701","v":1.1918430815156851}]
[6081.7674999999999,1.2460720539093,0.76027884331650297,{"$f":"+B2281/Spectre!B$2701","v":1.1897101461481809}]
[6082.7674999999999,1.24514377117157,0.75971246055886232,{"$f":"+B2282/Spectre!B$2701","v":1.1888238511798388}]
[6083.7674999999999,1.2473497390747099,0.76105841059484203,{"$f":"+B2283/Spectre!B$2701","v":1.1909300394923115}]
[6084.7674999999999,1.25710225105286,0.76700881169959068,{"$f":"+B2284/Spectre!B$2701","v":1.2002414291623036}]
[6085.7674999999999,1.2667704820632899,0.7729077895849108,{"$f":"+B2285/Spectre!B$2701","v":1.209472350032671}]
[6086.7674999999999,1.2641463279724099,0.77130668728056229,{"$f":"+B2286/Spectre!B$2701","v":1.2069668907880136}]
[6087.7674999999999,1.25693464279175,0.76690654713592665,{"$f":"+B2287/Spectre!B$2701","v":1.2000814021011115}]
[6088.7674999999999,1.2512959241867101,0.76346613737360403,{"$f":"+B2288/Spectre!B$2701","v":1.1946977321001317}]
[6089.7674999999999,1.2519665956497199,0.76387534109705069,{"$f":"+B2289/Spectre!B$2701","v":1.1953380679794026}]
[6090.7674999999999,1.25303471088409,0.76452704130360605,{"$f":"+B2290/Spectre!B$2701","v":1.1963578705884081}]
[6091.7674999999999,1.25294661521912,0.76447329058344948,{"$f":"+B2291/Spectre!B$2701","v":1.1962737596366235}]
[6092.7674999999999,1.2515720129013099,0.76363459023949576,{"$f":"+B2292/Spectre!B$2701","v":1.1949613328638002}]
[6093.7674999999999,1.25029516220093,0.7628555321019449,{"$f":"+B2293/Spectre!B$2701","v":1.1937422362404608}]
[6094.7674999999999,1.2492662668228101,0.76222776151234173,{"$f":"+B2294/Spectre!B$2701","v":1.1927598795084935}]
[6095.7674999999999,1.2481321096420299,0.76153576644926546,{"$f":"+B2295/Spectre!B$2701","v":1.1916770221399586}]
[6096.7674999999999,1.24932396411896,0.7622629649610041,{"$f":"+B2296/Spectre!B$2701","v":1.192814967060148}]
[6097.7674999999999,1.25486171245575,0.76564176868817524,{"$f":"+B2297/Spectre!B$2701","v":1.1981022338457441}]
[6098.7674999999999,1.26041388511658,0.76902937327751364,{"$f":"+B2298/Spectre!B$2701","v":1.2034032725192563}]
[6099.7674999999999,1.2594295740127599,0.76842880535278713,{"$f":"+B2299/Spectre!B$2701","v":1.2024634834408421}]
[6100.7674999999999,1.25517225265503,0.76583124179510442,{"$f":"+B2300/Spectre!B$2701","v":1.1983987277962433}]
[6101.7674999999999,1.2512785196304299,0.76345551815148471,{"$f":"+B2301/Spectre!B$2701","v":1.1946811147808276}]
[6102.7674999999999,1.2495532035827599,0.76240283320845692,{"$f":"+B2302/Spectre!B$2701","v":1.1930338376424106}]
[6103.7674999999999,1.2476439476013199,0.76123791908923699,{"$f":"+B2303/Spectre!B$2701","v":1.19121094047881}]
[6104.7674999999999,1.2474110126495399,0.76109579607544209,{"$f":"+B2304/Spectre!B$2701","v":1.1909885415616239}]
[6105.7674999999999,1.24868559837341,0.7618734722594247,{"$f":"+B2305/Spectre!B$2701","v":1.1922054756571014}]
[6106.7674999999999,1.25001752376556,{"$f":"+B2306/F$1","v":0.76268613368887483},{"$f":"+B2306/Spectre!B$2701","v":1.1934771558524655}]
[6107.7674999999999,1.2527221441268901,0.7643363317119114,{"$f":"+B2307/Spectre!B$2701","v":1.1960594417445682}]
[6108.7674999999999,1.25571441650391,0.76616203783745318,{"$f":"+B2308/Spectre!B$2701","v":1.1989163686741233}]
[6109.7674999999999,1.25461757183075,0.76549280864096192,{"$f":"+B2309/Spectre!B$2701","v":1.1978691361065417}]
[6110.7674999999999,1.24127304553986,0.75735077465407097,{"$f":"+B2310/Spectre!B$2701","v":1.1851282048947351}]
[6111.7674999999999,1.22795403003693,0.74922430582836119,{"$f":"+B2311/Spectre!B$2701","v":1.1724116305755954}]
[6112.7674999999999,1.22813200950623,0.74933289828465521,{"$f":"+B2312/Spectre!B$2701","v":1.1725815597380127}]
[6113.7674999999999,1.23399686813354,0.75291128520008044,{"$f":"+B2313/Spectre!B$2701","v":1.1781811410726113}]
[6114.7674999999999,1.2376234531402599,0.75512401105766447,{"$f":"+B2314/Spectre!B$2701","v":1.1816436896185218}]
[6115.7674999999999,1.2304716110229501,0.75076038358084907,{"$f":"+B2315/Spectre!B$2701","v":1.1748153371938612}]
[6116.7674999999999,1.22213590145111,0.74567443079696427,{"$f":"+B2316/Spectre!B$2701","v":1.1668566656051278}]
[6117.7674999999999,1.22286629676819,0.74612007445383899,{"$f":"+B2317/Spectre!B$2701","v":1.167554023929394}]
[6118.7674999999999,1.2351338863372801,0.75360502588871658,{"$f":"+B2318/Spectre!B$2701","v":1.1792667300552875}]
[6119.7674999999999,1.24695265293121,0.7608161323149224,{"$f":"+B2319/Spectre!B$2701","v":1.1905509142143353}]
[6120.7674999999999,1.2462412118911701,0.76038205342733922,{"$f":"+B2320/Spectre!B$2701","v":1.1898716528336903}]
[6121.7674999999999,1.24383628368378,0.75891470968101449,{"$f":"+B2321/Spectre!B$2701","v":1.1875755035218478}]
[6122.7674999999999,1.24131107330322,0.75737397692704589,{"$f":"+B2322/Spectre!B$2701","v":1.1851645125992236}]
[6123.7674999999999,1.23893046379089,0.75592147099791906,{"$f":"+B2323/Spectre!B$2701","v":1.1828915820074892}]
[6124.7674999999999,1.2365479469299301,0.75446780131842517,{"$f":"+B2324/Spectre!B$2701","v":1.18061683033967}]
[6125.7674999999999,1.2347989082336399,0.7534006422301851,{"$f":"+B2325/Spectre!B$2701","v":1.1789469035674147}]
[6126.7674999999999,1.23349916934967,0.75260761908821028,{"$f":"+B2326/Spectre!B$2701","v":1.1777059540310286}]
[6127.7674999999999,1.23226773738861,0.75185627275631839,{"$f":"+B2327/Spectre!B$2701","v":1.1765302217820244}]
[6128.7674999999999,1.23361551761627,0.75267860786070939,{"$f":"+B2328/Spectre!B$2701","v":1.1778170396723657}]
[6129.7674999999999,1.2353388071060201,0.75373005631897172,{"$f":"+B2329/Spectre!B$2701","v":1.1794623819174423}]
[6130.7674999999999,1.2312693595886199,0.75124712217261991,{"$f":"+B2330/Spectre!B$2701","v":1.1755770022674619}]
[6131.7674999999999,1.2208272218704199,0.74487595257513317,{"$f":"+B2331/Spectre!B$2701","v":1.165607179774578}]
[6132.7674999999999,1.21109819412231,0.73893988014680034,{"$f":"+B2332/Spectre!B$2701","v":1.1563182121039122}]
[6133.7674999999999,1.2144420146942101,0.74098008001219839,{"$f":"+B2333/Spectre!B$2701","v":1.159510786119843}]
[6134.7674999999999,1.22171175479889,0.74541564180869146,{"$f":"+B2334/Spectre!B$2701","v":1.1664517038101676}]
[6135.7674999999999,1.2270913124084499,0.7486979269896481,{"$f":"+B2335/Spectre!B$2701","v":1.1715879350977589}]
[6136.7674999999999,1.22553706169128,0.74774961590782374,{"$f":"+B2336/Spectre!B$2701","v":1.1701039857209359}]
[6137.7674999999999,1.22405421733856,0.74684487273043887,{"$f":"+B2337/Spectre!B$2701","v":1.1686882128801481}]
[6138.7674999999999,1.22675037384033,0.74848990661121251,{"$f":"+B2338/Spectre!B$2701","v":1.1712624177471105}]
[6139.7674999999999,1.2316650152206401,0.75148852763975982,{"$f":"+B2339/Spectre!B$2701","v":1.1759547617383674}]
[6140.7674999999999,1.2350202798843399,0.75353571000737285,{"$f":"+B2340/Spectre!B$2701","v":1.1791582622108263}]
[6141.7674999999999,1.2282075881957999,0.74937901189301792,{"$f":"+B2341/Spectre!B$2701","v":1.1726537198779754}]
[6142.7674999999999,1.22007691860199,0.74441816227378677,{"$f":"+B2342/Spectre!B$2701","v":1.1648908139686529}]
[6143.7674999999999,1.2124546766281099,0.73976752486225084,{"$f":"+B2343/Spectre!B$2701","v":1.1576133386539054}]
[6144.7674999999999,1.20584261417389,0.73573323873982355,{"$f":"+B2344/Spectre!B$2701","v":1.1513003507620163}]
[6145.7674999999999,1.1984905004501301,0.73124741747427535,{"$f":"+B2345/Spectre!B$2701","v":1.1442807853481616}]
[6146.7674999999999,1.20309209823608,0.73405503797353455,{"$f":"+B2346/Spectre!B$2701","v":1.148674245226555}]
[6147.7674999999999,1.2102026939392101,0.73839349934862653,{"$f":"+B2347/Spectre!B$2701","v":1.1554632168808276}]
[6148.7674999999999,1.2143243551254299,0.74090829116132362,{"$f":"+B2348/Spectre!B$2701","v":1.1593984484887003}]
[6149.7674999999999,1.20921730995178,0.73779227681431514,{"$f":"+B2349/Spectre!B$2701","v":1.1545224034471104}]
[6150.7674999999999,1.20379185676575,0.73448198889011218,{"$f":"+B2350/Spectre!B$2701","v":1.1493423525161697}]
[6151.7674999999999,1.19925224781036,0.73171219027783685,{"$f":"+B2351/Spectre!B$2701","v":1.1450080776106146}]
[6152.7674999999999,1.19555127620697,0.72945407815587326,{"$f":"+B2352/Spectre!B$2701","v":1.1414745070973}]
[6153.7674999999999,1.1918283700943,0.72718258290466631,{"$f":"+B2353/Spectre!B$2701","v":1.1379199942089762}]
[6154.7674999999999,1.1927026510238601,0.72771601697998667,{"$f":"+B2354/Spectre!B$2701","v":1.1387547299605874}]
[6155.7674999999999,1.19361472129822,0.72827250785949738,{"$f":"+B2355/Spectre!B$2701","v":1.139625545782194}]
[6156.7674999999999,1.1960861682891799,0.72978043739993614,{"$f":"+B2356/Spectre!B$2701","v":1.1419852051225892}]
[6157.7674999999999,1.2006765604019201,0.73258122086578326,{"$f":"+B2357/Spectre!B$2701","v":1.1463679661789759}]
[6158.7674999999999,1.2052377462387101,0.73536418440410101,{"$f":"+B2358/Spectre!B$2701","v":1.1507228420077626}]
[6159.7674999999999,1.2096909284591699,0.73808125057778418,{"$f":"+B2359/Spectre!B$2701","v":1.1549745994030967}]
[6160.7674999999999,1.2140257358551001,0.74072609149419677,{"$f":"+B2360/Spectre!B$2701","v":1.1591133362637436}]
[6161.7674999999999,1.21716284751892,0.7426401699133709,{"$f":"+B2361/Spectre!B$2701","v":1.1621085511586904}]
[6162.7674999999999,1.2131540775299099,0.74019425757563351,{"$f":"+B2362/Spectre!B$2701","v":1.1582811044917525}]
[6163.7674999999999,1.2087253332138099,0.73749210195355253,{"$f":"+B2363/Spectre!B$2701","v":1.1540526796337918}]
[6164.7674999999999,1.2125761508941699,0.73984164121387197,{"$f":"+B2364/Spectre!B$2701","v":1.1577293184372366}]
[6165.7674999999999,1.2224204540252701,0.74584804780511926,{"$f":"+B2365/Spectre!B$2701","v":1.1671283473939367}]
[6166.7674999999999,1.2309938669204701,0.7510790329787197,{"$f":"+B2366/Spectre!B$2701","v":1.1753139705900728}]
[6167.7674999999999,1.2276463508605999,0.74903657834698556,{"$f":"+B2367/Spectre!B$2701","v":1.1721178682392281}]
[6168.7674999999999,1.2220331430435201,0.74561173374584411,{"$f":"+B2368/Spectre!B$2701","v":1.1667585551309154}]
[6169.7674999999999,1.2175320386886599,0.74286542834414293,{"$f":"+B2369/Spectre!B$2701","v":1.1624610431988818}]
[6170.7674999999999,1.21548295021057,{"$f":"+B2370/F$1","v":0.74161519677600218},{"$f":"+B2370/Spectre!B$2701","v":1.1605046383946085}]
[6171.7674999999999,1.2131829261779801,0.74021185929996169,{"$f":"+B2371/Spectre!B$2701","v":1.1583086482675753}]
[6172.7674999999999,1.21234655380249,0.73970155476321797,{"$f":"+B2372/Spectre!B$2701","v":1.1575101064031967}]
[6173.7674999999999,1.21196484565735,0.73946865922065197,{"$f":"+B2373/Spectre!B$2701","v":1.1571456635511836}]
[6174.7674999999999,1.2120599746704099,0.73952670127029763,{"$f":"+B2374/Spectre!B$2701","v":1.1572364897210472}]
[6175.7674999999999,1.2141578197479199,0.74080668120723847,{"$f":"+B2375/Spectre!B$2701","v":1.1592394457828017}]
[6176.7674999999999,1.2164597511291499,0.74221118243365225,{"$f":"+B2376/Spectre!B$2701","v":1.1614372569859295}]
[6177.7674999999999,1.2161184549331701,0.74200294385202781,{"$f":"+B2377/Spectre!B$2701","v":1.161111398183523}]
[6178.7674999999999,1.2130275964736901,0.74011708637929485,{"$f":"+B2378/Spectre!B$2701","v":1.1581603443836928}]
[6179.7674999999999,1.2097096443176301,0.73809266987827893,{"$f":"+B2379/Spectre!B$2701","v":1.1549924687122062}]
[6180.7674999999999,1.21818315982819,0.74326270362631286,{"$f":"+B2380/Spectre!B$2701","v":1.1630827130482619}]
[6181.7674999999999,1.2281084060668901,0.74931849687383523,{"$f":"+B2381/Spectre!B$2701","v":1.1725590239214212}]
[6182.7674999999999,1.23086810112,0.75100229818877706,{"$f":"+B2382/Spectre!B$2701","v":1.1751938933855579}]
[6183.7674999999999,1.21835112571716,0.74336518639316573,{"$f":"+B2383/Spectre!B$2701","v":1.1632430815612123}]
[6184.7674999999999,1.2057689428329501,0.73568828888182802,{"$f":"+B2384/Spectre!B$2701","v":1.1512300116981382}]
[6185.7674999999999,1.20000553131104,0.73217179893914153,{"$f":"+B2385/Spectre!B$2701","v":1.1457272888479371}]
[6186.7674999999999,1.1981291770935101,0.73102695951378072,{"$f":"+B2386/Spectre!B$2701","v":1.1439358052468405}]
[6187.7674999999999,1.19582259654999,0.72961962164584426,{"$f":"+B2387/Spectre!B$2701","v":1.1417335551707517}]
[6188.7674999999999,1.1910358667373699,0.72669904462640955,{"$f":"+B2388/Spectre!B$2701","v":1.1371633370946159}]
[6189.7674999999999,1.1856926679611199,0.72343894343685733,{"$f":"+B2389/Spectre!B$2701","v":1.1320618200699399}]
[6190.7674999999999,1.1878744363784799,0.72477012839003141,{"$f":"+B2390/Spectre!B$2701","v":1.1341449034795512}]
[6191.7674999999999,1.1980049610137899,0.73095117027100398,{"$f":"+B2391/Spectre!B$2701","v":1.1438172076666331}]
[6192.7674999999999,1.20771372318268,0.73687487785167016,{"$f":"+B2392/Spectre!B$2701","v":1.1530868264038725}]
[6193.7674999999999,1.2126930952072099,0.73991299365835661,{"$f":"+B2393/Spectre!B$2701","v":1.1578409731648438}]
[6194.7674999999999,1.2163000106811499,0.74211371834025941,{"$f":"+B2394/Spectre!B$2701","v":1.1612847418635979}]
[6195.7674999999999,1.2172707319259599,0.74270599454360697,{"$f":"+B2395/Spectre!B$2701","v":1.1622115557748873}]
[6196.7674999999999,1.20882928371429,0.73755552634865007,{"$f":"+B2396/Spectre!B$2701","v":1.1541519282805537}]
[6197.7674999999999,1.2000048160553001,0.7321713625327515,{"$f":"+B2397/Spectre!B$2701","v":1.1457266059444018}]
[6198.7674999999999,1.20103347301483,0.732798987653552,{"$f":"+B2398/Spectre!B$2701","v":1.1467087350418479}]
[6199.7674999999999,1.2071446180343599,0.7365276438353604,{"$f":"+B2399/Spectre!B$2701","v":1.1525434628262547}]
[6200.7674999999999,1.21176946163177,0.73934944754223864,{"$f":"+B2400/Spectre!B$2701","v":1.1569591170694626}]
[6201.7674999999999,1.2066453695297199,0.73622303217631202,{"$f":"+B2401/Spectre!B$2701","v":1.1520667961603457}]
[6202.7674999999999,1.20018470287323,0.73228111873941282,{"$f":"+B2402/Spectre!B$2701","v":1.1458983561829037}]
[6203.7674999999999,1.19813096523285,0.7310280505297494,{"$f":"+B2403/Spectre!B$2701","v":1.1439375125056694}]
[6204.7674999999999,1.2032042741775499,0.73412348104210445,{"$f":"+B2404/Spectre!B$2701","v":1.1487813472639548}]
[6205.7674999999999,1.20825207233429,0.73720334639327845,{"$f":"+B2405/Spectre!B$2701","v":1.1536008251295733}]
[6206.7674999999999,1.20695817470551,0.73641388723680945,{"$f":"+B2406/Spectre!B$2701","v":1.152365452638707}]
[6207.7674999999999,1.2044140100479099,0.73486158971354953,{"$f":"+B2407/Spectre!B$2701","v":1.1499363647724619}]
[6208.7674999999999,1.2011014223098799,0.73284044626044609,{"$f":"+B2408/Spectre!B$2701","v":1.1467736108774713}]
[6209.7674999999999,1.1956312656402599,0.72950288293696797,{"$f":"+B2409/Spectre!B$2701","v":1.1415508784757216}]
[6210.7674999999999,1.1900449991226201,0.72609447630978741,{"$f":"+B2410/Spectre!B$2701","v":1.1362172880671466}]
[6211.7674999999999,1.1861203908920299,0.72369991445707393,{"$f":"+B2411/Spectre!B$2701","v":1.1324701963825676}]
[6212.7674999999999,1.18367183208466,0.72220594992105913,{"$f":"+B2412/Spectre!B$2701","v":1.1301323899552191}]
[6213.7674999999999,1.1811455488205,0.72066456255751177,{"$f":"+B2413/Spectre!B$2701","v":1.1277203746773015}]
[6214.7674999999999,1.18250012397766,0.72149104352258908,{"$f":"+B2414/Spectre!B$2701","v":1.1290136801512005}]
[6215.7674999999999,1.1842906475067101,0.72258351418134936,{"$f":"+B2415/Spectre!B$2701","v":1.1307232153283557}]
[6216.7674999999999,1.18237829208374,0.72141670896777899,{"$f":"+B2416/Spectre!B$2701","v":1.1288973589161111}]
[6217.7674999999999,1.17443931102753,0.71657281626061908,{"$f":"+B2417/Spectre!B$2701","v":1.1213174711535863}]
[6218.7674999999999,1.1666555404663099,0.71182362373972163,{"$f":"+B2418/Spectre!B$2701","v":1.1138857734576784}]
[6219.7674999999999,1.1703305244445801,0.71406587976291092,{"$f":"+B2419/Spectre!B$2701","v":1.1173945318093028}]
[6220.7674999999999,1.1790397167205799,0.71937970941589513,{"$f":"+B2420/Spectre!B$2701","v":1.1257097928594206}]
[6221.7674999999999,1.18559682369232,0.72338046498082165,{"$f":"+B2421/Spectre!B$2701","v":1.1319703109965411}]
[6222.7674999999999,1.1789702177047701,0.71933730526182893,{"$f":"+B2422/Spectre!B$2701","v":1.1256434373994799}]
[6223.7674999999999,1.1721010208129901,0.715146131042801,{"$f":"+B2423/Spectre!B$2701","v":1.1190849456875431}]
[6224.7674999999999,1.1710962057113601,0.71453305280160495,{"$f":"+B2424/Spectre!B$2701","v":1.1181255800411813}]
[6225.7674999999999,1.17516577243805,0.71701605968235504,{"$f":"+B2425/Spectre!B$2701","v":1.1220110735084174}]
[6226.7674999999999,1.17866206169128,0.71914928684286006,{"$f":"+B2426/Spectre!B$2701","v":1.1253492197940891}]
[6227.7674999999999,1.17606544494629,0.71756498618446418,{"$f":"+B2427/Spectre!B$2701","v":1.1228700523354489}]
[6228.7674999999999,1.1720942258834799,0.71514198518210847,{"$f":"+B2428/Spectre!B$2701","v":1.1190784581039759}]
[6229.7674999999999,1.1674615144729601,0.71231538100495906,{"$f":"+B2429/Spectre!B$2701","v":1.1146552919219077}]
[6230.7674999999999,1.16096007823944,0.70834859240392323,{"$f":"+B2430/Spectre!B$2701","v":1.1084479264430915}]
[6231.7674999999999,1.1543802022934,0.70433394456897103,{"$f":"+B2431/Spectre!B$2701","v":1.1021656692101802}]
[6232.7674999999999,1.1498951911926301,0.70159745831100762,{"$f":"+B2432/Spectre!B$2701","v":1.097883522607636}]
[6233.7674999999999,1.1462693214416499,0.69938516885981339,{"$f":"+B2433/Spectre!B$2701","v":1.0944216569652605}]
[6234.7674999999999,1.1442121267318699,{"$f":"+B2434/F$1","v":0.69812999135260467},{"$f":"+B2434/Spectre!B$2701","v":1.0924575125876146}]
[6235.7674999999999,1.1507157087326101,0.70209808917281036,{"$f":"+B2435/Spectre!B$2701","v":1.098666926777037}]
[6236.7674999999999,1.1580609083175699,0.70657969184326763,{"$f":"+B2436/Spectre!B$2701","v":1.1056798907900685}]
[6237.7674999999999,1.16442918777466,0.71046523612167667,{"$f":"+B2437/Spectre!B$2701","v":1.1117601223945233}]
[6238.7674999999999,1.16932189464569,0.71345047402098061,{"$f":"+B2438/Spectre!B$2701","v":1.1164315240107712}]
[6239.7674999999999,1.1747893095016499,0.71678636445330324,{"$f":"+B2439/Spectre!B$2701","v":1.1216516386156448}]
[6240.7674999999999,1.1717777252197299,0.71494887535528118,{"$f":"+B2440/Spectre!B$2701","v":1.1187762732907103}]
[6241.7674999999999,1.1674556732177701,0.71231181701945323,{"$f":"+B2441/Spectre!B$2701","v":1.1146497148763879}]
[6242.7674999999999,1.1645923852920499,0.7105648095126087,{"$f":"+B2442/Spectre!B$2701","v":1.1119159382172565}]
[6243.7674999999999,1.1659855842590301,0.71141485642265889,{"$f":"+B2443/Spectre!B$2701","v":1.1132461204819333}]
[6244.7674999999999,1.16744613647461,0.71230599826761132,{"$f":"+B2444/Spectre!B$2701","v":1.114640609495954}]
[6245.7674999999999,1.16996014118195,0.71383989398816161,{"$f":"+B2445/Spectre!B$2701","v":1.1170409015965619}]
[6246.7674999999999,1.17316198348999,0.71579346718547499,{"$f":"+B2446/Spectre!B$2701","v":1.1200979192612233}]
[6247.7674999999999,1.1762114763259901,0.71765408582207979,{"$f":"+B2447/Spectre!B$2701","v":1.1230094784733999}]
[6248.7674999999999,1.1747736930847199,0.71677683624715893,{"$f":"+B2448/Spectre!B$2701","v":1.1216367285551794}]
[6249.7674999999999,1.1732164621353101,0.71582670680538252,{"$f":"+B2449/Spectre!B$2701","v":1.1201499337469685}]
[6250.7674999999999,1.17160928249359,0.71484610165082885,{"$f":"+B2450/Spectre!B$2701","v":1.118615449508727}]
[6251.7674999999999,1.1700867414474501,0.71391713791889255,{"$f":"+B2451/Spectre!B$2701","v":1.1171617755218681}]
[6252.7674999999999,1.16860020160675,0.7130101399751656,{"$f":"+B2452/Spectre!B$2701","v":1.1157424743461568}]
[6253.7674999999999,1.1691468954086299,0.71334369992463842,{"$f":"+B2453/Spectre!B$2701","v":1.1162644402797419}]
[6254.7674999999999,1.17039346694946,0.71410428352508126,{"$f":"+B2454/Spectre!B$2701","v":1.1174546273201882}]
[6255.7674999999999,1.1700077056884799,0.71386891501298433,{"$f":"+B2455/Spectre!B$2701","v":1.1170863146814936}]
[6256.7674999999999,1.15991771221161,0.7077126028273456,{"$f":"+B2456/Spectre!B$2701","v":1.1074527083612646}]
[6257.7674999999999,1.14901435375214,0.70106002384379151,{"$f":"+B2457/Spectre!B$2701","v":1.0970425269069695}]
[6258.7674999999999,1.1526753902435301,0.70329376994240689,{"$f":"+B2458/Spectre!B$2701","v":1.1005379686397014}]
[6259.7674999999999,1.16720795631409,0.71216067494030222,{"$f":"+B2459/Spectre!B$2701","v":1.1144132026195275}]
[6260.7674999999999,1.1800068616867101,0.71996980358730511,{"$f":"+B2460/Spectre!B$2701","v":1.1266331922530524}]
[6261.7674999999999,1.1762213706970199,0.71766012277711644,{"$f":"+B2461/Spectre!B$2701","v":1.1230189253056011}]
[6262.7674999999999,1.1690788269043,0.71330216858335216,{"$f":"+B2462/Spectre!B$2701","v":1.116199450626872}]
[6263.7674999999999,1.1619192361831701,0.70893381337066363,{"$f":"+B2463/Spectre!B$2701","v":1.1093637000806065}]
[6264.7674999999999,1.1546003818512001,0.70446828500217551,{"$f":"+B2464/Spectre!B$2701","v":1.1023758896810329}]
[6265.7674999999999,1.14743793010712,0.70009818416393321,{"$f":"+B2465/Spectre!B$2701","v":1.0955374075206354}]
[6266.7674999999999,1.1379487514495901,0.69430845334448599,{"$f":"+B2466/Spectre!B$2701","v":1.0864774401679786}]
[6267.7674999999999,1.1275840997695901,0.68798456110572914,{"$f":"+B2467/Spectre!B$2701","v":1.0765815988911425}]
[6268.7674999999999,1.11802077293396,0.68214958949069304,{"$f":"+B2468/Spectre!B$2701","v":1.0674508372055838}]
[6269.7674999999999,1.1123697757720901,0.67870168808536702,{"$f":"+B2469/Spectre!B$2701","v":1.0620554440272849}]
[6270.7674999999999,1.10691046714783,0.67537074359211835,{"$f":"+B2470/Spectre!B$2701","v":1.0568430689957931}]
[6271.7674999999999,1.1065660715103101,0.67516061391613735,{"$f":"+B2471/Spectre!B$2701","v":1.0565142509447332}]
[6272.7674999999999,1.1127673387527499,0.67894425730287999,{"$f":"+B2472/Spectre!B$2701","v":1.0624350245742846}]
[6273.7674999999999,1.1186659336090099,0.68254322805295864,{"$f":"+B2473/Spectre!B$2701","v":1.0680668161921878}]
[6274.7674999999999,1.12082135677338,0.68385833870416357,{"$f":"+B2474/Spectre!B$2701","v":1.0701247459883412}]
[6275.7674999999999,1.1224112510681199,0.68482839737100232,{"$f":"+B2475/Spectre!B$2701","v":1.0716427267245441}]
[6276.7674999999999,1.1250793933868399,0.68645633866823008,{"$f":"+B2476/Spectre!B$2701","v":1.0741901845364659}]
[6277.7674999999999,1.13053774833679,0.68978670128629826,{"$f":"+B2477/Spectre!B$2701","v":1.0794016490299199}]
[6278.7674999999999,1.1361095905303999,0.69318630705131778,{"$f":"+B2478/Spectre!B$2701","v":1.0847214675505885}]
[6279.7674999999999,1.1378363370895399,0.6942398648071193,{"$f":"+B2479/Spectre!B$2701","v":1.086370110496067}]
[6280.7674999999999,1.13682305812836,0.69362162242366654,{"$f":"+B2480/Spectre!B$2701","v":1.0854026638245746}]
[6281.7674999999999,1.1359878778457599,0.69311204523089998,{"$f":"+B2481/Spectre!B$2701","v":1.0846052601327456}]
[6282.7674999999999,1.1357980966568,0.69299625206920201,{"$f":"+B2482/Spectre!B$2701","v":1.0844240630620421}]
[6283.7674999999999,1.1357237100601201,0.69295086580481657,{"$f":"+B2483/Spectre!B$2701","v":1.0843530410946287}]
[6284.7674999999999,1.1337876319885301,0.69176958644603392,{"$f":"+B2484/Spectre!B$2701","v":1.0825045350485463}]
[6285.7674999999999,1.1293650865554801,0.68907121301264762,{"$f":"+B2485/Spectre!B$2701","v":1.0782820286878638}]
[6286.7674999999999,1.12515592575073,0.68650303415177938,{"$f":"+B2486/Spectre!B$2701","v":1.074263255214476}]
[6287.7674999999999,1.1294093132019001,0.68909819747432344,{"$f":"+B2487/Spectre!B$2701","v":1.0783242548896399}]
[6288.7674999999999,1.1367818117141699,0.69359645632193667,{"$f":"+B2488/Spectre!B$2701","v":1.0853632830541766}]
[6289.7674999999999,1.14205574989319,0.69681429882621937,{"$f":"+B2489/Spectre!B$2701","v":1.0903986722534238}]
[6290.7674999999999,1.13422310352325,0.69203528520211743,{"$f":"+B2490/Spectre!B$2701","v":1.0829203094827691}]
[6291.7674999999999,1.12654232978821,0.68734893520114304,{"$f":"+B2491/Spectre!B$2701","v":1.075586949895595}]
[6292.7674999999999,1.1248806715011599,0.68633509042667573,{"$f":"+B2492/Spectre!B$2701","v":1.0740004511715986}]
[6293.7674999999999,1.12790155410767,0.68817825280774914,{"$f":"+B2493/Spectre!B$2701","v":1.0768846942424646}]
[6294.7674999999999,1.13117671012878,0.69017655765986308,{"$f":"+B2494/Spectre!B$2701","v":1.0800117095192365}]
[6295.7674999999999,1.1386407613754299,0.6947306765251845,{"$f":"+B2495/Spectre!B$2701","v":1.0871381493359791}]
[6296.7674999999999,1.1469600200653101,0.69980659196213657,{"$f":"+B2496/Spectre!B$2701","v":1.0950811141434558}]
[6297.7674999999999,1.1525464057922401,0.70321507132371552,{"$f":"+B2497/Spectre!B$2701","v":1.1004148183692868}]
[6298.7674999999999,1.15083932876587,{"$f":"+B2498/F$1","v":0.70217351474358924},{"$f":"+B2498/Spectre!B$2701","v":1.0987849552709552}]
[6299.7674999999999,1.1496875286102299,0.70147075498959699,{"$f":"+B2499/Spectre!B$2701","v":1.0976852529486048}]
[6300.7674999999999,1.14770412445068,0.70026060007478219,{"$f":"+B2500/Spectre!B$2701","v":1.095791561452093}]
[6301.7674999999999,1.1453900337219201,0.69884867993976962,{"$f":"+B2501/Spectre!B$2701","v":1.0935821408889115}]
[6302.7674999999999,1.1434633731842001,0.69767314659843049,{"$f":"+B2502/Spectre!B$2701","v":1.0917426264060068}]
[6303.7674999999999,1.1434785127639799,0.69768238386698744,{"$f":"+B2503/Spectre!B$2701","v":1.0917570811974582}]
[6304.7674999999999,1.1437133550643901,0.69782567063114964,{"$f":"+B2504/Spectre!B$2701","v":1.0919813011907291}]
[6305.7674999999999,1.1420369148254399,0.69680280679132622,{"$f":"+B2505/Spectre!B$2701","v":1.0903806891270584}]
[6306.7674999999999,1.13777351379395,0.69420153377934724,{"$f":"+B2506/Spectre!B$2701","v":1.0863101288024375}]
[6307.7674999999999,1.13365077972412,0.69168608735706516,{"$f":"+B2507/Spectre!B$2701","v":1.0823738728392613}]
[6308.7674999999999,1.1314182281494101,0.69032391755031941,{"$f":"+B2508/Spectre!B$2701","v":1.0802423032788186}]
[6309.7674999999999,1.12931644916534,0.68904153737823981,{"$f":"+B2509/Spectre!B$2701","v":1.0782355912476289}]
[6310.7674999999999,1.1316101551055899,0.69044101993118723,{"$f":"+B2510/Spectre!B$2701","v":1.0804255490601282}]
[6311.7674999999999,1.1453942060470601,0.69885122564370494,{"$f":"+B2511/Spectre!B$2701","v":1.0935861244928584}]
[6312.7674999999999,1.1597441434860201,0.70760670154377736,{"$f":"+B2512/Spectre!B$2701","v":1.1072869904372968}]
[6313.7674999999999,1.1596106290817301,0.70752523901796183,{"$f":"+B2513/Spectre!B$2701","v":1.1071595151111771}]
[6314.7674999999999,1.1488217115402199,0.70094248505653356,{"$f":"+B2514/Spectre!B$2701","v":1.0968585982221244}]
[6315.7674999999999,1.13908851146698,0.69500386692427141,{"$f":"+B2515/Spectre!B$2701","v":1.0875656469475214}]
[6316.7674999999999,1.1417719125747701,0.69664111822445451,{"$f":"+B2516/Spectre!B$2701","v":1.0901276733681504}]
[6317.7674999999999,1.1449904441833501,0.69860487423749718,{"$f":"+B2517/Spectre!B$2701","v":1.0932006254485804}]
[6318.7674999999999,1.14908051490784,0.70110039143471081,{"$f":"+B2518/Spectre!B$2701","v":1.0971056954837548}]
[6319.7674999999999,1.1541788578033401,0.70421109617065358,{"$f":"+B2519/Spectre!B$2701","v":1.1019734318656833}]
[6320.7674999999999,1.1591817140579199,0.70726354065376174,{"$f":"+B2520/Spectre!B$2701","v":1.1067500006259903}]
[6321.7674999999999,1.1511600017547601,0.70236917027435186,{"$f":"+B2521/Spectre!B$2701","v":1.0990911236881677}]
[6322.7674999999999,1.1380181312561,0.6943507847641478,{"$f":"+B2522/Spectre!B$2701","v":1.0865436818106537}]
[6323.7674999999999,1.1270345449447601,0.68764925553070244,{"$f":"+B2523/Spectre!B$2701","v":1.0760569013434254}]
[6324.7674999999999,1.1310248374939,0.69008389403674775,{"$f":"+B2524/Spectre!B$2701","v":1.0798667063357752}]
[6325.7674999999999,1.1347348690032999,0.69234753397296578,{"$f":"+B2525/Spectre!B$2701","v":1.0834089269605094}]
[6326.7674999999999,1.1352337598800699,0.6926519274288192,{"$f":"+B2526/Spectre!B$2701","v":1.0838852521746509}]
[6327.7674999999999,1.13279557228088,0.6911642907854284,{"$f":"+B2527/Spectre!B$2701","v":1.0815573478485179}]
[6328.7674999999999,1.1307011842727701,0.68988642014603307,{"$f":"+B2528/Spectre!B$2701","v":1.0795576924871748}]
[6329.7674999999999,1.13277471065521,0.6911515622657699,{"$f":"+B2529/Spectre!B$2701","v":1.0815374298288118}]
[6330.7674999999999,1.1357216835021999,0.692949629320051,{"$f":"+B2530/Spectre!B$2701","v":1.0843511062012878}]
[6331.7674999999999,1.1363284587860101,0.69331984740614072,{"$f":"+B2531/Spectre!B$2701","v":1.0849304360316265}]
[6332.7674999999999,1.12934398651123,0.68905833902419245,{"$f":"+B2532/Spectre!B$2701","v":1.0782618830336459}]
[6333.7674999999999,1.12260746955872,0.68494811819019796,{"$f":"+B2533/Spectre!B$2701","v":1.0718300699270471}]
[6334.7674999999999,1.12305843830109,0.6852232724180336,{"$f":"+B2534/Spectre!B$2701","v":1.0722606406044892}]
[6335.7674999999999,1.12714219093323,0.68771493469214806,{"$f":"+B2535/Spectre!B$2701","v":1.0761596783251199}]
[6336.7674999999999,1.1308228969573999,0.68996068196644467,{"$f":"+B2536/Spectre!B$2701","v":1.0796738999050082}]
[6337.7674999999999,1.1325709819793699,0.69102725917949803,{"$f":"+B2537/Spectre!B$2701","v":1.0813429161392161}]
[6338.7674999999999,1.13423407077789,0.69204197676673918,{"$f":"+B2538/Spectre!B$2701","v":1.0829307806702737}]
[6339.7674999999999,1.13357746601105,0.69164135570226459,{"$f":"+B2539/Spectre!B$2701","v":1.082303875227151}]
[6340.7674999999999,1.1294593811035201,0.68912874592151119,{"$f":"+B2540/Spectre!B$2701","v":1.0783720581369456}]
[6341.7674999999999,1.1255156993866,0.68672254656510801,{"$f":"+B2541/Spectre!B$2701","v":1.0746067556914898}]
[6342.7674999999999,1.1284145116805999,0.68849122892256853,{"$f":"+B2542/Spectre!B$2701","v":1.0773744498927447}]
[6343.7674999999999,1.1332256793975799,0.69142671649360543,{"$f":"+B2543/Spectre!B$2701","v":1.081968000506254}]
[6344.7674999999999,1.13691782951355,0.69367944627011724,{"$f":"+B2544/Spectre!B$2701","v":1.0854931485426704}]
[6345.7674999999999,1.13690257072449,0.69367013626716789,{"$f":"+B2545/Spectre!B$2701","v":1.0854785799339726}]
[6346.7674999999999,1.13691937923431,0.69368039181728935,{"$f":"+B2546/Spectre!B$2701","v":1.0854946281669875}]
[6347.7674999999999,1.1348619461059599,0.69242506884129007,{"$f":"+B2547/Spectre!B$2701","v":1.0835302561548392}]
[6348.7674999999999,1.13114249706268,0.69015568288762241,{"$f":"+B2548/Spectre!B$2701","v":1.0799790439669177}]
[6349.7674999999999,1.1275495290756199,0.68796346813029341,{"$f":"+B2549/Spectre!B$2701","v":1.0765485918870557}]
[6350.7674999999999,1.1243270635604901,0.68599731188211821,{"$f":"+B2550/Spectre!B$2701","v":1.0734718838372004}]
[6351.7674999999999,1.1210805177688601,0.68401646328552956,{"$f":"+B2551/Spectre!B$2701","v":1.0703721847017296}]
[6352.7674999999999,1.1192482709884599,0.68289853558744606,{"$f":"+B2552/Spectre!B$2701","v":1.068622813485153}]
[6353.7674999999999,1.1201541423797601,0.6834512442782561,{"$f":"+B2553/Spectre!B$2701","v":1.0694877108094722}]
[6354.7674999999999,1.1209306716918901,0.6839250361471737,{"$f":"+B2554/Spectre!B$2701","v":1.0702291164115996}]
[6355.7674999999999,1.1236771345138601,0.68560076394393166,{"$f":"+B2555/Spectre!B$2701","v":1.0728513521603793}]
[6356.7674999999999,1.12719702720642,0.68774839251525055,{"$f":"+B2556/Spectre!B$2701","v":1.0762120342626329}]
[6357.7674999999999,1.12958431243896,0.6892049715706654,{"$f":"+B2557/Spectre!B$2701","v":1.0784913386206691}]
[6358.7674999999999,1.1242880821228001,0.68597352773395059,{"$f":"+B2558/Spectre!B$2701","v":1.0734346655946549}]
[6359.7674999999999,1.1184617280960101,0.68241863402909364,{"$f":"+B2559/Spectre!B$2701","v":1.0678718472335686}]
[6360.7674999999999,1.11687588691711,0.6814510483317856,{"$f":"+B2560/Spectre!B$2701","v":1.0663577362840471}]
[6361.7674999999999,1.12026715278625,0.6835201964876082,{"$f":"+B2561/Spectre!B$2701","v":1.0695956095676538}]
[6362.7674999999999,1.1234384775161701,{"$f":"+B2562/F$1","v":0.6854551496790231},{"$f":"+B2562/Spectre!B$2701","v":1.0726234900149196}]
[6363.7674999999999,1.12075984477997,0.68382080775476695,{"$f":"+B2563/Spectre!B$2701","v":1.070066016284517}]
[6364.7674999999999,1.1167342662811299,0.68136463986690199,{"$f":"+B2564/Spectre!B$2701","v":1.0662225213845546}]
[6365.7674999999999,1.11540746688843,0.68055510601656788,{"$f":"+B2565/Spectre!B$2701","v":1.0649557353311752}]
[6366.7674999999999,1.1229039430618299,0.68512900863815507,{"$f":"+B2566/Spectre!B$2701","v":1.072113133441398}]
[6367.7674999999999,1.13060486316681,0.68982765075240404,{"$f":"+B2567/Spectre!B$2701","v":1.0794657281447522}]
[6368.7674999999999,1.12975406646729,0.68930854535349939,{"$f":"+B2568/Spectre!B$2701","v":1.0786534143924675}]
[6369.7674999999999,1.1227943897247299,0.68506216572634215,{"$f":"+B2569/Spectre!B$2701","v":1.0720085353836184}]
[6370.7674999999999,1.1163415908813501,0.68112505275971436,{"$f":"+B2570/Spectre!B$2701","v":1.0658476073450374}]
[6371.7674999999999,1.11289167404175,0.67902011928004891,{"$f":"+B2571/Spectre!B$2701","v":1.0625537359717383}]
[6372.7674999999999,1.1095244884491,0.67696566347263354,{"$f":"+B2572/Spectre!B$2701","v":1.0593388537737372}]
[6373.7674999999999,1.1096386909484901,0.67703534302596891,{"$f":"+B2573/Spectre!B$2701","v":1.0594478907044778}]
[6374.7674999999999,1.11566245555878,0.68071068489400455,{"$f":"+B2574/Spectre!B$2701","v":1.0651991904406259}]
[6375.7674999999999,1.12148189544678,0.68426136000377691,{"$f":"+B2575/Spectre!B$2701","v":1.0707554074008989}]
[6376.7674999999999,1.12415134906769,0.68589010137938611,{"$f":"+B2576/Spectre!B$2701","v":1.0733041172026356}]
[6377.7674999999999,1.1254638433456401,0.68669090710195158,{"$f":"+B2577/Spectre!B$2701","v":1.0745572451853551}]
[6378.7674999999999,1.12682044506073,0.68751862455180046,{"$f":"+B2578/Spectre!B$2701","v":1.0758524855526044}]
[6379.7674999999999,1.12815821170807,0.68833484996675631,{"$f":"+B2579/Spectre!B$2701","v":1.0771297427934885}]
[6380.7674999999999,1.12989354133606,0.68939364459921915,{"$f":"+B2580/Spectre!B$2701","v":1.078786580581363}]
[6381.7674999999999,1.12622058391571,0.68715262506079544,{"$f":"+B2581/Spectre!B$2701","v":1.0752797571230794}]
[6382.7674999999999,1.11746001243591,0.68180744688224793,{"$f":"+B2582/Spectre!B$2701","v":1.0669154408358505}]
[6383.7674999999999,1.10934066772461,0.67685350703083358,{"$f":"+B2583/Spectre!B$2701","v":1.0591633475658002}]
[6384.7674999999999,1.1107929944992101,0.67773963020231975,{"$f":"+B2584/Spectre!B$2701","v":1.0605499831891925}]
[6385.7674999999999,1.11464726924896,0.6800912787601785,{"$f":"+B2585/Spectre!B$2701","v":1.0642299226930392}]
[6386.7674999999999,1.1189544200897199,0.68271924529624606,{"$f":"+B2586/Spectre!B$2701","v":1.0683422539504221}]
[6387.7674999999999,1.12490510940552,0.68635000097827803,{"$f":"+B2587/Spectre!B$2701","v":1.0740237837089721}]
[6388.7674999999999,1.1311950683593801,0.69018775875716898,{"$f":"+B2588/Spectre!B$2701","v":1.0800292373765876}]
[6389.7674999999999,1.1327167749404901,0.69111621334831708,{"$f":"+B2589/Spectre!B$2701","v":1.0814821146426552}]
[6390.7674999999999,1.13171875476837,0.69050728096781344,{"$f":"+B2590/Spectre!B$2701","v":1.0805292365798604}]
[6391.7674999999999,1.1306729316711399,0.68986918209369041,{"$f":"+B2591/Spectre!B$2701","v":1.0795307177976221}]
[6392.7674999999999,1.12876236438751,0.68870346789608883,{"$f":"+B2592/Spectre!B$2701","v":1.0777065686442067}]
[6393.7674999999999,1.1267274618148799,0.68746189172131855,{"$f":"+B2593/Spectre!B$2701","v":1.0757637080933375}]
[6394.7674999999999,1.12485539913177,0.68631967073428524,{"$f":"+B2594/Spectre!B$2701","v":1.0739763219134342}]
[6395.7674999999999,1.1232726573944101,0.68535397613133386,{"$f":"+B2595/Spectre!B$2701","v":1.072465170212566}]
[6396.7674999999999,1.1217576265335101,0.6844295946664738,{"$f":"+B2596/Spectre!B$2701","v":1.0710186667128001}]
[6397.7674999999999,1.11897969245911,0.68273466498863666,{"$f":"+B2597/Spectre!B$2701","v":1.068366383208587}]
[6398.7674999999999,1.1158367395401001,0.68081702258395671,{"$f":"+B2598/Spectre!B$2701","v":1.0653655912681199}]
[6399.7674999999999,1.1144152879714999,0.67994973762157007,{"$f":"+B2599/Spectre!B$2701","v":1.0640084343139002}]
[6400.7674999999999,1.119784116745,0.68322547670670175,{"$f":"+B2600/Spectre!B$2701","v":1.0691344220484991}]
[6401.7674999999999,1.12568843364716,0.68682793870788794,{"$f":"+B2601/Spectre!B$2701","v":1.0747716768946665}]
[6402.7674999999999,1.12623131275177,0.68715917115662051,{"$f":"+B2602/Spectre!B$2701","v":1.0752900006760722}]
[6403.7674999999999,1.1208868026733401,0.68389826988869284,{"$f":"+B2603/Spectre!B$2701","v":1.070187231661591}]
[6404.7674999999999,1.11592841148376,0.68087295533605696,{"$f":"+B2604/Spectre!B$2701","v":1.0654531167375718}]
[6405.7674999999999,1.11142730712891,0.678126649934362,{"$f":"+B2605/Spectre!B$2701","v":1.0611556048055479}]
[6406.7674999999999,1.10677754878998,0.67528964473828834,{"$f":"+B2606/Spectre!B$2701","v":1.0567161627559434}]
[6407.7674999999999,1.10560750961304,0.6745757566213948,{"$f":"+B2607/Spectre!B$2701","v":1.0555990463935072}]
[6408.7674999999999,1.1121898889541599,0.6785919318787057,{"$f":"+B2608/Spectre!B$2701","v":1.0618836937887828}]
[6409.7674999999999,1.1189147233962999,0.68269502474169463,{"$f":"+B2609/Spectre!B$2701","v":1.0683043528043512}]
[6410.7674999999999,1.1215914487838701,0.68432820291558361,{"$f":"+B2610/Spectre!B$2701","v":1.070860005458669}]
[6411.7674999999999,1.1212916374206501,0.68414527590447949,{"$f":"+B2611/Spectre!B$2701","v":1.0705737550611625}]
[6412.7674999999999,1.12104868888855,0.68399704320124932,{"$f":"+B2612/Spectre!B$2701","v":1.0703417954945191}]
[6413.7674999999999,1.10990166664124,0.67719579510807526,{"$f":"+B2613/Spectre!B$2701","v":1.0596989715700453}]
[6414.7674999999999,1.09814929962158,0.6700252017415792,{"$f":"+B2614/Spectre!B$2701","v":1.0484781836222847}]
[6415.7674999999999,1.0953732728958101,0.66833143581410925,{"$f":"+B2615/Spectre!B$2701","v":1.0458277211941565}]
[6416.7674999999999,1.1050060987472501,0.67420881158321155,{"$f":"+B2616/Spectre!B$2701","v":1.0550248383396559}]
[6417.7674999999999,1.1141618490219101,0.67979510429130563,{"$f":"+B2617/Spectre!B$2701","v":1.0637664588287665}]
[6418.7674999999999,1.1071084737777701,0.67549155542728279,{"$f":"+B2618/Spectre!B$2701","v":1.0570321194571251}]
[6419.7674999999999,1.0939311981201201,0.6674515678008609,{"$f":"+B2619/Spectre!B$2701","v":1.0444508738547429}]
[6420.7674999999999,1.08372366428375,0.66122353949873958,{"$f":"+B2620/Spectre!B$2701","v":1.0347050437206178}]
[6421.7674999999999,1.09599828720093,0.66871278226310638,{"$f":"+B2621/Spectre!B$2701","v":1.04642446506459}]
[6422.7674999999999,1.10775470733643,0.67588584859913337,{"$f":"+B2622/Spectre!B$2701","v":1.0576491227990321}]
[6423.7674999999999,1.11088979244232,0.67779869053353592,{"$f":"+B2623/Spectre!B$2701","v":1.0606424028006289}]
[6424.7674999999999,1.1065101623535201,0.67512650148345599,{"$f":"+B2624/Spectre!B$2701","v":1.0564608706519267}]
[6425.7674999999999,1.1026593446731601,0.67277696222313654,{"$f":"+B2625/Spectre!B$2701","v":1.0527842318484819}]
[6426.7674999999999,1.1037682294845601,{"$f":"+B2626/F$1","v":0.67345353759382842},{"$f":"+B2626/Spectre!B$2701","v":1.0538429599588615}]
[6427.7674999999999,1.1059650182723999,0.67479388708115517,{"$f":"+B2627/Spectre!B$2701","v":1.0559403843426587}]
[6428.7674999999999,1.10574150085449,0.67465751008480368,{"$f":"+B2628/Spectre!B$2701","v":1.0557269769886506}]
[6429.7674999999999,1.0972915887832599,0.66950187774758363,{"$f":"+B2629/Spectre!B$2701","v":1.0476592684691768}]
[6430.7674999999999,1.08905577659607,0.66447687638927178,{"$f":"+B2630/Spectre!B$2701","v":1.0397959757405333}]
[6431.7674999999999,1.0880033969879199,0.663834777123259,{"$f":"+B2631/Spectre!B$2701","v":1.0387911970092492}]
[6432.7674999999999,1.09073030948639,0.66549857647872801,{"$f":"+B2632/Spectre!B$2701","v":1.0413947667281191}]
[6433.7674999999999,1.0933495759964,0.66709669667275728,{"$f":"+B2633/Spectre!B$2701","v":1.0438955594653037}]
[6434.7674999999999,1.0959707498550399,0.66869598061715374,{"$f":"+B2634/Spectre!B$2701","v":1.046398173278573}]
[6435.7674999999999,1.09882771968842,0.67043913320090498,{"$f":"+B2635/Spectre!B$2701","v":1.04912591762317}]
[6436.7674999999999,1.0945743322372401,0.66784396987835504,{"$f":"+B2636/Spectre!B$2701","v":1.0450649179479967}]
[6437.7674999999999,1.0779448747634901,0.65769766681870556,{"$f":"+B2637/Spectre!B$2701","v":1.0291876384444631}]
[6438.7674999999999,1.0618700981140099,0.64788979691319248,{"$f":"+B2638/Spectre!B$2701","v":1.0138399506306215}]
[6439.7674999999999,1.0633474588394201,0.64879119430827259,{"$f":"+B2639/Spectre!B$2701","v":1.0152504878776669}]
[6440.7674999999999,1.0704216957092301,0.65310747169195404,{"$f":"+B2640/Spectre!B$2701","v":1.0220047452690144}]
[6441.7674999999999,1.0763399600982699,0.65671844361771392,{"$f":"+B2641/Spectre!B$2701","v":1.0276553167340741}]
[6442.7674999999999,1.0778734683990501,0.65765409891427207,{"$f":"+B2642/Spectre!B$2701","v":1.0291194619084376}]
[6443.7674999999999,1.0791779756546001,0.65845003143216785,{"$f":"+B2643/Spectre!B$2701","v":1.0303649641350405}]
[6444.7674999999999,1.08209276199341,0.66022846019897363,{"$f":"+B2644/Spectre!B$2701","v":1.0331479098485383}]
[6445.7674999999999,1.0864677429199201,0.66289781260753111,{"$f":"+B2645/Spectre!B$2701","v":1.0373250031242798}]
[6446.7674999999999,1.09046578407288,0.66533717884944932,{"$f":"+B2646/Spectre!B$2701","v":1.0411422062382343}]
[6447.7674999999999,1.08295917510986,0.66075709380402259,{"$f":"+B2647/Spectre!B$2701","v":1.0339751336612886}]
[6448.7674999999999,1.0732049942016599,0.65480567441770354,{"$f":"+B2648/Spectre!B$2701","v":1.0246621505497235}]
[6449.7674999999999,1.0664638280868499,0.65069261694218039,{"$f":"+B2649/Spectre!B$2701","v":1.0182258985701542}]
[6450.7674999999999,1.06723845005035,0.65116524506073081,{"$f":"+B2650/Spectre!B$2701","v":1.0189654830961967}]
[6451.7674999999999,1.06801497936249,0.65163903692965441,{"$f":"+B2651/Spectre!B$2701","v":1.0197068886983334}]
[6452.7674999999999,1.0670429468154901,0.6510459606479253,{"$f":"+B2652/Spectre!B$2701","v":1.0187788227972292}]
[6453.7674999999999,1.0650444030761701,0.64982656846455944,{"$f":"+B2653/Spectre!B$2701","v":1.0168706765092757}]
[6454.7674999999999,1.06313371658325,0.64866078153255946,{"$f":"+B2654/Spectre!B$2701","v":1.0150464135386039}]
[6455.7674999999999,1.06164658069611,0.6477534199168471,{"$f":"+B2655/Spectre!B$2701","v":1.0136265432766229}]
[6456.7674999999999,1.0601936578750599,0.64686693307336918,{"$f":"+B2656/Spectre!B$2701","v":1.012239338566951}]
[6457.7674999999999,1.05880355834961,0.64601877725766965,{"$f":"+B2657/Spectre!B$2701","v":1.0109121155509184}]
[6458.7674999999999,1.0575083494186399,0.64522851802281889,{"$f":"+B2658/Spectre!B$2701","v":1.0096754910702372}]
[6459.7674999999999,1.05629003047943,0.64448517247471271,{"$f":"+B2659/Spectre!B$2701","v":1.0085122787193341}]
[6460.7674999999999,1.05331254005432,0.64266848541453292,{"$f":"+B2660/Spectre!B$2701","v":1.0056694651294626}]
[6461.7674999999999,1.0498046875,0.64052820301741453,{"$f":"+B2661/Spectre!B$2701","v":1.0023202785700069}]
[6462.7674999999999,1.0462110042571999,0.63833555185369562,{"$f":"+B2662/Spectre!B$2701","v":0.99888914358660963}]
[6463.7674999999999,1.0422450304031401,0.63591575116486032,{"$f":"+B2663/Spectre!B$2701","v":0.9951025573143869}]
[6464.7674999999999,1.0384879112243699,0.63362338114141259,{"$f":"+B2664/Spectre!B$2701","v":0.99151537887374419}]
[6465.7674999999999,1.02819383144379,0.62734254766630693,{"$f":"+B2665/Spectre!B$2701","v":0.98168691741215186}]
[6466.7674999999999,1.0112709999084499,0.61701724525304469,{"$f":"+B2666/Spectre!B$2701","v":0.96552953364290162}]
[6467.7674999999999,0.99424970149993896,0.60663186422698911,{"$f":"+B2667/Spectre!B$2701","v":0.94927813682063134}]
[6468.7674999999999,1.00367450714111,0.6123823184714865,{"$f":"+B2668/Spectre!B$2701","v":0.95827664285533287}]
[6469.7674999999999,1.0168172121048,0.62040121312247887,{"$f":"+B2669/Spectre!B$2701","v":0.9708248814536381}]
[6470.7674999999999,1.0284297466278101,0.62748648904005411,{"$f":"+B2670/Spectre!B$2701","v":0.98191216176072582}]
[6471.7674999999999,1.03515732288361,0.63159125479419831,{"$f":"+B2671/Spectre!B$2701","v":0.98833543857317041}]
[6472.7674999999999,1.0419501066207899,0.63573580626407522,{"$f":"+B2672/Spectre!B$2701","v":0.99482097342435294}]
[6473.7674999999999,1.04408860206604,0.6370405886307543,{"$f":"+B2673/Spectre!B$2701","v":0.99686274117022589}]
[6474.7674999999999,1.04299008846283,0.63637034115269253,{"$f":"+B2674/Spectre!B$2701","v":0.99581391516107132}]
[6475.7674999999999,1.04207646846771,0.6358129047260096,{"$f":"+B2675/Spectre!B$2701","v":0.99494161971514739}]
[6476.7674999999999,1.0410957336425799,0.63521451883322688,{"$f":"+B2676/Spectre!B$2701","v":0.9940052451544007}]
[6477.7674999999999,1.04041767120361,0.63480080557709606,{"$f":"+B2677/Spectre!B$2701","v":0.99335785260528309}]
[6478.7674999999999,1.0347981452941899,0.63137210605286131,{"$f":"+B2678/Spectre!B$2701","v":0.98799250718243625}]
[6479.7674999999999,1.0218876600265501,0.62349489800928015,{"$f":"+B2679/Spectre!B$2701","v":0.97566598459779141}]
[6480.7674999999999,1.0092146396637001,0.61576257688662428,{"$f":"+B2680/Spectre!B$2701","v":0.96356618598604715}]
[6481.7674999999999,1.0113341808319101,0.61705579448401193,{"$f":"+B2681/Spectre!B$2701","v":0.96558985678829889}]
[6482.7674999999999,1.02017390727997,0.62244926830286584,{"$f":"+B2682/Spectre!B$2701","v":0.97402974773315831}]
[6483.7674999999999,1.0288326740264899,0.62773233130547346,{"$f":"+B2683/Spectre!B$2701","v":0.98229686408421235}]
[6484.7674999999999,1.0390757322311399,0.63398203445821089,{"$f":"+B2684/Spectre!B$2701","v":0.99207661176046158}]
[6485.7674999999999,1.0496842861175499,0.64045474127537827,{"$f":"+B2685/Spectre!B$2701","v":1.0022053231419787}]
[6486.7674999999999,1.0550132989883401,0.64370618707156013,{"$f":"+B2686/Spectre!B$2701","v":1.0072932959132506}]
[6487.7674999999999,1.0553168058395399,0.64389136884900633,{"$f":"+B2687/Spectre!B$2701","v":1.0075830746456804}]
[6488.7674999999999,1.0558041334152199,0.64418870706824638,{"$f":"+B2688/Spectre!B$2701","v":1.0080483595860379}]
[6489.7674999999999,1.0574021339416499,0.64516371167415321,{"$f":"+B2689/Spectre!B$2701","v":1.0095740798956134}]
[6490.7674999999999,1.0592969655990601,{"$f":"+B2690/F$1","v":0.64631982493121221},{"$f":"+B2690/Spectre!B$2701","v":1.0113832051713076}]
[6491.7674999999999,1.0608118772506701,0.64724413366167388,{"$f":"+B2691/Spectre!B$2701","v":1.0128295948538177}]
[6492.7674999999999,1.0607507228851301,0.64720682091547233,{"$f":"+B2692/Spectre!B$2701","v":1.0127712066017611}]
[6493.7674999999999,1.0610668659210201,0.64739971253911066,{"$f":"+B2693/Spectre!B$2701","v":1.0130730499632685}]
[6494.7674999999999,1.0570532083511399,0.64495081809105403,{"$f":"+B2694/Spectre!B$2701","v":1.009240936788858}]
[6495.7674999999999,1.0504252910614,0.64090685829367966,{"$f":"+B2695/Spectre!B$2701","v":1.0029128112019818}]
[6496.7674999999999,1.04522156715393,0.6377318563498533,{"$f":"+B2696/Spectre!B$2701","v":0.99794446036621109}]
[6497.7674999999999,1.0523036718368499,0.64205293420380594,{"$f":"+B2697/Spectre!B$2701","v":1.0047062296964193}]
[6498.7674999999999,1.06141197681427,0.64761027862147558,{"$f":"+B2698/Spectre!B$2701","v":1.0134025509178544}]
[6499.7674999999999,1.06504011154175,0.64982395002623183,{"$f":"+B2699/Spectre!B$2701","v":1.0168665790880822}]
[6500.7674999999999,1.0558272600173999,0.64420281754147313,{"$f":"+B2700/Spectre!B$2701","v":1.0080704401336058}]
[6501.7674999999999,1.04737448692322,0.63904543957869941,{"$f":"+B2701/Spectre!B$2701","v":1}]
[6502.7674999999999,1.04403877258301,0.63701018565236933,{"$f":"+B2702/Spectre!B$2701","v":0.99681516555744165}]
[6503.7674999999999,1.0427318811416599,0.63621279844650702,{"$f":"+B2703/Spectre!B$2701","v":0.99556738698572056}]
[6504.7674999999999,1.04023885726929,0.63469170398001973,{"$f":"+B2704/Spectre!B$2701","v":0.9931871267220842}]
[6505.7674999999999,1.0318422317504901,0.62956858391873016,{"$f":"+B2705/Spectre!B$2701","v":0.98517029451580618}]
[6506.7674999999999,1.0230448246002199,0.62420093081118477,{"$f":"+B2706/Spectre!B$2701","v":0.97677080869663802}]
[6507.7674999999999,1.01312720775604,0.61814979256513103,{"$f":"+B2707/Spectre!B$2701","v":0.96730178212781837}]
[6508.7674999999999,1.00207555294037,0.61140673199039919,{"$f":"+B2708/Spectre!B$2701","v":0.9567500120077197}]
[6509.7674999999999,0.99096816778182995,0.6046296680845743,{"$f":"+B2709/Spectre!B$2701","v":0.94614503232068414}]
[6510.7674999999999,0.998082876205444,0.60897063879639579,{"$f":"+B2710/Spectre!B$2701","v":0.95293793067026522}]
[6511.7674999999999,1.0097891092300399,0.61611308395084041,{"$f":"+B2711/Spectre!B$2701","v":0.96411467134015139}]
[6512.7674999999999,1.0216939449310301,0.62337670461244343,{"$f":"+B2712/Spectre!B$2701","v":0.97548103155765287}]
[6513.7674999999999,1.034423828125,0.63114372004297337,{"$f":"+B2713/Spectre!B$2701","v":0.98763512100026041}]
[6514.7674999999999,1.04800260066986,0.63942867712204088,{"$f":"+B2714/Spectre!B$2701","v":1.0005997031190679}]
[6515.7674999999999,1.04774630069733,0.63927229816622866,{"$f":"+B2715/Spectre!B$2701","v":1.0003549960198117}]
[6516.7674999999999,1.03663778305054,0.63249454328362276,{"$f":"+B2716/Spectre!B$2701","v":0.98974893506884987}]
[6517.7674999999999,1.02685642242432,0.62652654045454603,{"$f":"+B2717/Spectre!B$2701","v":0.98041000162303538}]
[6518.7674999999999,1.02972435951233,0.62827638460291302,{"$f":"+B2718/Spectre!B$2701","v":0.98314821715512735}]
[6519.7674999999999,1.0345935821533201,0.63124729382580125,{"$f":"+B2719/Spectre!B$2701","v":0.98779719677204925}]
[6520.7674999999999,1.0380140542984,0.63333426190914688,{"$f":"+B2720/Spectre!B$2701","v":0.99106295528324606}]
[6521.7674999999999,1.03822016716003,0.63346001968337917,{"$f":"+B2721/Spectre!B$2701","v":0.99125974531795036}]
[6522.7674999999999,1.03899657726288,0.63393373881790449,{"$f":"+B2722/Spectre!B$2701","v":0.99200103710283127}]
[6523.7674999999999,1.0324056148529099,0.62991232668393227,{"$f":"+B2723/Spectre!B$2701","v":0.98570819486515959}]
[6524.7674999999999,1.0226075649261499,0.62393414103912626,{"$f":"+B2724/Spectre!B$2701","v":0.97635332700357658}]
[6525.7674999999999,1.0151103734970099,0.61935980201114915,{"$f":"+B2725/Spectre!B$2701","v":0.96919524598981832}]
[6526.7674999999999,1.02360892295837,0.62454510998277091,{"$f":"+B2726/Spectre!B$2701","v":0.97730939194951749}]
[6527.7674999999999,1.03374648094177,0.63073044319323246,{"$f":"+B2727/Spectre!B$2701","v":0.98698841135467819}]
[6528.7674999999999,1.0385005474090601,0.63363109098760484,{"$f":"+B2728/Spectre!B$2701","v":0.99152744350282185}]
[6529.7674999999999,1.0349380970001201,0.63145749623617453,{"$f":"+B2729/Spectre!B$2701","v":0.98812612864035554}]
[6530.7674999999999,1.0324859619140601,0.62996134966821593,{"$f":"+B2730/Spectre!B$2701","v":0.98578490769533955}]
[6531.7674999999999,1.01886475086212,0.62165049914344139,{"$f":"+B2731/Spectre!B$2701","v":0.97277980663358476}]
[6532.7674999999999,1.0024946928024301,0.61166246613395459,{"$f":"+B2732/Spectre!B$2701","v":0.95715019347795138}]
[6533.7674999999999,0.99138534069061302,0.60488420211056226,{"$f":"+B2733/Spectre!B$2701","v":0.94654333580620109}]
[6534.7674999999999,1.0008726119995099,0.61067276917964042,{"$f":"+B2734/Spectre!B$2701","v":0.95560148208277007}]
[6535.7674999999999,1.01146876811981,0.61713791161941245,{"$f":"+B2735/Spectre!B$2701","v":0.96571835646972171}]
[6536.7674999999999,1.0152114629745499,0.61942148078069892,{"$f":"+B2736/Spectre!B$2701","v":0.96929176302245768}]
[6537.7674999999999,1.0118603706359901,0.61737684411702132,{"$f":"+B2737/Spectre!B$2701","v":0.96609224615394573}]
[6538.7674999999999,1.00843405723572,0.61528631204816975,{"$f":"+B2738/Spectre!B$2701","v":0.96282091059722885}]
[6539.7674999999999,1.0175539255142201,0.62085071170244654,{"$f":"+B2739/Spectre!B$2701","v":0.97152827209243831}]
[6540.7674999999999,1.0279061794280999,0.62716703956380171,{"$f":"+B2740/Spectre!B$2701","v":0.98141227637469919}]
[6541.7674999999999,1.0381158590316799,0.63339637708508667,{"$f":"+B2741/Spectre!B$2701","v":0.9911601552194208}]
[6542.7674999999999,1.0473989248275799,0.6390603501303016,{"$f":"+B2742/Spectre!B$2701","v":1.0000233325373733}]
[6543.7674999999999,1.05656325817108,0.64465187971505078,{"$f":"+B2743/Spectre!B$2701","v":1.0087731478688706}]
[6544.7674999999999,1.07195389270782,0.65404232691013053,{"$f":"+B2744/Spectre!B$2701","v":1.0234676384535628}]
[6545.7674999999999,1.0921096801757799,0.66634018619860247,{"$f":"+B2745/Spectre!B$2701","v":1.042711746191159}]
[6546.7674999999999,1.1119842529296899,0.67846646504206665,{"$f":"+B2746/Spectre!B$2701","v":1.061687359023102}]
[6547.7674999999999,1.1451932191848799,0.69872859544858845,{"$f":"+B2747/Spectre!B$2701","v":1.0933942286001384}]
[6548.7674999999999,1.1790955066680899,0.71941374911418421,{"$f":"+B2748/Spectre!B$2701","v":1.1257630593349808}]
[6549.7674999999999,1.2065284252166699,0.73615167973182116,{"$f":"+B2749/Spectre!B$2701","v":1.1519551414327291}]
[6550.7674999999999,1.2234575748443599,0.74648083706818258,{"$f":"+B2750/Spectre!B$2701","v":1.1681185575165227}]
[6551.7674999999999,1.24051082134247,0.75688571091291623,{"$f":"+B2751/Spectre!B$2701","v":1.1844004573632585}]
[6552.7674999999999,1.24959969520569,0.76243119962370098,{"$f":"+B2752/Spectre!B$2701","v":1.193078226372049}]
[6553.7674999999999,1.2545248270034799,0.76543622127927657,{"$f":"+B2753/Spectre!B$2701","v":1.1977805862817865}]
[6554.7674999999999,1.2580535411834699,{"$f":"+B2754/F$1","v":0.76758923219605357},{"$f":"+B2754/Spectre!B$2701","v":1.2011496908609482}]
[6555.7674999999999,1.2418866157531701,0.757725138600847,{"$f":"+B2755/Spectre!B$2701","v":1.1857140223086313}]
[6556.7674999999999,1.2257665395736701,0.74788962962407946,{"$f":"+B2756/Spectre!B$2701","v":1.1703230839377201}]
[6557.7674999999999,1.2155786752700799,0.74167360249763947,{"$f":"+B2757/Spectre!B$2701","v":1.1605960336507515}]
[6558.7674999999999,1.2120379209518399,0.73951324540665586,{"$f":"+B2758/Spectre!B$2701","v":1.1572154335287823}]
[6559.7674999999999,1.2080662250518801,0.73708995346671313,{"$f":"+B2759/Spectre!B$2701","v":1.1534233840282955}]
[6560.7674999999999,1.19532930850983,0.72931864670669999,{"$f":"+B2760/Spectre!B$2701","v":1.1412625793676183}]
[6561.7674999999999,1.1800175905227701,0.71997634968313018,{"$f":"+B2761/Spectre!B$2701","v":1.1266434358060451}]
[6562.7674999999999,1.16530454158783,0.71099932480658201,{"$f":"+B2762/Spectre!B$2701","v":1.1125958825014373}]
[6563.7674999999999,1.1532559394836399,0.70364798646092541,{"$f":"+B2763/Spectre!B$2701","v":1.1010922586738374}]
[6564.7674999999999,1.1417222023010301,0.69661078798046783,{"$f":"+B2764/Spectre!B$2701","v":1.090080211572622}]
[6565.7674999999999,1.1179900169372601,0.68213082401599778,{"$f":"+B2765/Spectre!B$2701","v":1.0674214723536766}]
[6566.7674999999999,1.0850168466568,0.66201256224882477,{"$f":"+B2766/Spectre!B$2701","v":1.0359397333079581}]
[6567.7674999999999,1.0539085865020801,0.64303215740480368,{"$f":"+B2767/Spectre!B$2701","v":1.0062385514068179}]
[6568.7674999999999,1.0478224754333501,0.639318775446583,{"$f":"+B2768/Spectre!B$2701","v":1.0004277252460541}]
[6569.7674999999999,1.04584980010986,0.63811516662759316,{"$f":"+B2769/Spectre!B$2701","v":0.99854427730253481}]
[6570.7674999999999,1.0415847301483201,0.63551287533404366,{"$f":"+B2770/Spectre!B$2701","v":0.99447212353634085}]
[6571.7674999999999,1.0311206579208401,0.62912832260731344,{"$f":"+B2771/Spectre!B$2701","v":0.98448135866844788}]
[6572.7674999999999,1.0207875967025799,0.62282370498404616,{"$f":"+B2772/Spectre!B$2701","v":0.97461567896431955}]
[6573.7674999999999,1.01517999172211,0.61940227889961386,{"$f":"+B2773/Spectre!B$2701","v":0.9692617152670151}]
[6574.7674999999999,1.01217889785767,0.61757119042862019,{"$f":"+B2774/Spectre!B$2701","v":0.96639636586056155}]
[6575.7674999999999,1.00921058654785,0.61576010391708724,{"$f":"+B2775/Spectre!B$2701","v":0.96356231619935606}]
[6576.7674999999999,1.0075824260711701,0.61476669750847679,{"$f":"+B2776/Spectre!B$2701","v":0.96200780012415277}]
[6577.7674999999999,1.0058680772781401,0.61372070413007085,{"$f":"+B2777/Spectre!B$2701","v":0.96037099417324012}]
[6578.7674999999999,1.00712323188782,0.6144865246071749,{"$f":"+B2778/Spectre!B$2701","v":0.96156937605608239}]
[6579.7674999999999,1.0127485990524301,0.61791878811691547,{"$f":"+B2779/Spectre!B$2701","v":0.96694029852444918}]
[6580.7674999999999,1.0181843042373699,0.62123533119935614,{"$f":"+B2780/Spectre!B$2701","v":0.97213013773936818}]
[6581.7674999999999,1.02336025238037,0.62439338602843319,{"$f":"+B2781/Spectre!B$2701","v":0.97707196915461014}]
[6582.7674999999999,1.02839851379395,0.62746743262776539,{"$f":"+B2782/Spectre!B$2701","v":0.98188234163979493}]
[6583.7674999999999,1.0321896076202399,0.629780531954657,{"$f":"+B2783/Spectre!B$2701","v":0.98550195799824436}]
[6584.7674999999999,1.02844130992889,0.62749354427666126,{"$f":"+B2784/Spectre!B$2701","v":0.98192320203450034}]
[6585.7674999999999,1.0245348215103101,0.62511003805245102,{"$f":"+B2785/Spectre!B$2701","v":0.97819341057275133}]
[6586.7674999999999,1.02256560325623,0.62390853853101269,{"$f":"+B2786/Spectre!B$2701","v":0.97631326332965318}]
[6587.7674999999999,1.02262163162231,0.62394272369809234,{"$f":"+B2787/Spectre!B$2701","v":0.97636675743971546}]
[6588.7674999999999,1.02300977706909,0.6241795468981558,{"$f":"+B2788/Spectre!B$2701","v":0.97673734642352794}]
[6589.7674999999999,1.03171598911285,0.62949155819118807,{"$f":"+B2789/Spectre!B$2701","v":0.98504976204225814}]
[6590.7674999999999,1.04267382621765,0.6361773767946558,{"$f":"+B2790/Spectre!B$2701","v":0.99551195798230807}]
[6591.7674999999999,1.0507009029388401,0.64107502022197838,{"$f":"+B2791/Spectre!B$2701","v":1.003175956696627}]
[6592.7674999999999,1.04754555225372,0.63914981343990274,{"$f":"+B2792/Spectre!B$2701","v":1.0001633277615942}]
[6593.7674999999999,1.04529356956482,0.63777578792627843,{"$f":"+B2793/Spectre!B$2701","v":0.99801320598851617}]
[6594.7674999999999,1.0372998714446999,0.63289851013040821,{"$f":"+B2794/Spectre!B$2701","v":0.99038107610572468}]
[6595.7674999999999,1.02589535713196,0.62594015573743866,{"$f":"+B2795/Spectre!B$2701","v":0.97949240690943562}]
[6596.7674999999999,1.0160961151123,0.61996124274864939,{"$f":"+B2796/Spectre!B$2701","v":0.97013640087529374}]
[6597.7674999999999,1.02106261253357,0.62299150324035324,{"$f":"+B2797/Spectre!B$2701","v":0.97487825537268524}]
[6598.7674999999999,1.0287115573883101,0.6276584331570535,{"$f":"+B2798/Spectre!B$2701","v":0.98218122575265865}]
[6599.7674999999999,1.0323112010955799,0.62985472104067042,{"$f":"+B2799/Spectre!B$2701","v":0.98561805159882199}]
[6600.7674999999999,1.0255937576293901,0.62575613771035965,{"$f":"+B2800/Spectre!B$2701","v":0.97920444925309069}]
[6601.7674999999999,1.0191407203674301,0.62181887927493507,{"$f":"+B2801/Spectre!B$2701","v":0.97304329357999753}]
[6602.7674999999999,1.0200778245925901,0.6223906443780336,{"$f":"+B2802/Spectre!B$2701","v":0.97393801102524757}]
[6603.7674999999999,1.0241657495498699,0.62488485235608326,{"$f":"+B2803/Spectre!B$2701","v":0.97784103234982522}]
[6604.7674999999999,1.02762567996979,0.62699589552518387,{"$f":"+B2804/Spectre!B$2701","v":0.98114446437258152}]
[6605.7674999999999,1.02762067317963,0.62699284068046635,{"$f":"+B2805/Spectre!B$2701","v":0.98113968404785279}]
[6606.7674999999999,1.0272924900054901,0.62679260288262129,{"$f":"+B2806/Spectre!B$2701","v":0.98082634514353784}]
[6607.7674999999999,1.0257351398468,0.62584240070645258,{"$f":"+B2807/Spectre!B$2701","v":0.97933943651808053}]
[6608.7674999999999,1.02224373817444,0.62371215565626681,{"$f":"+B2808/Spectre!B$2701","v":0.97600595673988166}]
[6609.7674999999999,1.0187460184097299,0.62157805568298174,{"$f":"+B2809/Spectre!B$2701","v":0.97266644464713914}]
[6610.7674999999999,1.0206557512283301,0.62274326073979502,{"$f":"+B2810/Spectre!B$2701","v":0.97448979707976346}]
[6611.7674999999999,1.0241953134536701,0.62490289048679537,{"$f":"+B2811/Spectre!B$2701","v":0.97786925902917365}]
[6612.7674999999999,1.0268256664276101,0.62650777497984478,{"$f":"+B2812/Spectre!B$2701","v":0.98038063677111864}]
[6613.7674999999999,1.0258430242538501,0.62590822533669499,{"$f":"+B2813/Spectre!B$2701","v":0.97944244113428713}]
[6614.7674999999999,1.0247563123703001,0.62524517856403705,{"$f":"+B2814/Spectre!B$2701","v":0.97840488303341877}]
[6615.7674999999999,1.0228644609451301,0.62409088366693022,{"$f":"+B2815/Spectre!B$2701","v":0.97659860318911251}]
[6616.7674999999999,1.02016937732697,0.62244650439574156,{"$f":"+B2816/Spectre!B$2701","v":0.97402542267745318}]
[6617.7674999999999,1.01753449440002,0.62083885599556177,{"$f":"+B2817/Spectre!B$2701","v":0.97150971987979362}]
[6618.7674999999999,1.0148786306381199,{"$f":"+B2818/F$1","v":0.6192184063413313},{"$f":"+B2818/Spectre!B$2701","v":0.96897398524518163}]
[6619.7674999999999,1.01214683055878,0.61755162487554327,{"$f":"+B2819/Spectre!B$2701","v":0.96636574901883932}]
[6620.7674999999999,1.01166820526123,0.61725959626735671,{"$f":"+B2820/Spectre!B$2701","v":0.96590877273812425}]
[6621.7674999999999,1.01781225204468,0.62100832714303034,{"$f":"+B2821/Spectre!B$2701","v":0.97177491408504479}]
[6622.7674999999999,1.02413725852966,0.62486746883494404,{"$f":"+B2822/Spectre!B$2701","v":0.97781383002576094}]
[6623.7674999999999,1.02750432491302,0.62692185190796113,{"$f":"+B2823/Spectre!B$2701","v":0.98102859840650614}]
[6624.7674999999999,1.0288989543914799,0.62777277163079104,{"$f":"+B2824/Spectre!B$2701","v":0.98236014647825343}]
[6625.7674999999999,1.0304083824157699,0.62869373457894184,{"$f":"+B2825/Spectre!B$2701","v":0.98380130056701121}]
[6626.7674999999999,1.03210544586182,0.62972918146963308,{"$f":"+B2826/Spectre!B$2701","v":0.98542160301588544}]
[6627.7674999999999,1.0338940620422401,0.6308204883780264,{"$f":"+B2827/Spectre!B$2701","v":0.98712931711695584}]
[6628.7674999999999,1.0330944061279299,0.63033258603588205,{"$f":"+B2828/Spectre!B$2701","v":0.98636583096726038}]
[6629.7674999999999,1.02664506435394,0.62639758236679344,{"$f":"+B2829/Spectre!B$2701","v":0.98020820362908112}]
[6630.7674999999999,1.02038538455963,0.62257829912501061,{"$f":"+B2830/Spectre!B$2701","v":0.97423165954435886}]
[6631.7674999999999,1.0145518779754601,0.61901904135626629,{"$f":"+B2831/Spectre!B$2701","v":0.96866201214793768}]
[6632.7674999999999,1.0089319944381701,0.61559012362883658,{"$f":"+B2832/Spectre!B$2701","v":0.9632963252733231}]
[6633.7674999999999,1.00476515293121,0.61304776547927697,{"$f":"+B2833/Spectre!B$2701","v":0.95931795692562682}]
[6634.7674999999999,1.00952160358429,0.61594986796160978,{"$f":"+B2834/Spectre!B$2701","v":0.9638592654188789}]
[6635.7674999999999,1.01522076129913,0.61942715406374416,{"$f":"+B2835/Spectre!B$2701","v":0.96930064076837963}]
[6636.7674999999999,1.02001297473907,0.62235107686548985,{"$f":"+B2836/Spectre!B$2701","v":0.97387609443826773}]
[6637.7674999999999,1.0232733488082899,0.62434036265225379,{"$f":"+B2837/Spectre!B$2701","v":0.97698899637537484}]
[6638.7674999999999,1.02683770656586,0.62651512115405139,{"$f":"+B2838/Spectre!B$2701","v":0.98039213231392619}]
[6639.7674999999999,1.0271314382553101,0.62669433871085301,{"$f":"+B2839/Spectre!B$2701","v":0.98067257803140107}]
[6640.7674999999999,1.0266475677490201,0.62639910978915225,{"$f":"+B2840/Spectre!B$2701","v":0.98021059379144559}]
[6641.7674999999999,1.0252742767334,0.62556120952358019,{"$f":"+B2841/Spectre!B$2701","v":0.97889941900843713}]
[6642.7674999999999,1.02061760425568,0.62271998573242182,{"$f":"+B2842/Spectre!B$2701","v":0.97445337555801914}]
[6643.7674999999999,1.0156555175781301,0.61969241641345008,{"$f":"+B2843/Spectre!B$2701","v":0.96971573229908636}]
[6644.7674999999999,1.0149861574173,0.61928401276837874,{"$f":"+B2844/Spectre!B$2701","v":0.9690766484096206}]
[6645.7674999999999,1.0191184282302901,0.62180527794250273,{"$f":"+B2845/Spectre!B$2701","v":0.97302200975323039}]
[6646.7674999999999,1.02329909801483,0.62435607328223153,{"$f":"+B2846/Spectre!B$2701","v":0.97701358090255364}]
[6647.7674999999999,1.0127692222595199,0.61793137116777719,{"$f":"+B2847/Spectre!B$2701","v":0.96695998890964308}]
[6648.7674999999999,0.99971067905426003,0.60996382700181495,{"$f":"+B2848/Spectre!B$2701","v":0.95449210529370665}]
[6649.7674999999999,0.990836381912231,0.60454926020752597,{"$f":"+B2849/Spectre!B$2701","v":0.94601920734476164}]
[6650.7674999999999,0.99364024400711104,0.60626000961694138,{"$f":"+B2850/Spectre!B$2701","v":0.94869624610204195}]
[6651.7674999999999,0.99666011333465598,0.60810255375562883,{"$f":"+B2851/Spectre!B$2701","v":0.95157952172623261}]
[6652.7674999999999,1.00090539455414,0.61069277113910736,{"$f":"+B2852/Spectre!B$2701","v":0.95563278182802769}]
[6653.7674999999999,1.00566422939301,0.61359632830940058,{"$f":"+B2853/Spectre!B$2701","v":0.96017636666638828}]
[6654.7674999999999,1.0098505020141599,0.61615054216583864,{"$f":"+B2854/Spectre!B$2701","v":0.96417328722671969}]
[6655.7674999999999,0.99378353357315097,0.60634743636340149,{"$f":"+B2855/Spectre!B$2701","v":0.94883305444311661}]
[6656.7674999999999,0.974917352199554,0.59483641779307272,{"$f":"+B2856/Spectre!B$2701","v":0.93082022177519619}]
[6657.7674999999999,0.96757555007934604,0.59035688805295983,{"$f":"+B2857/Spectre!B$2701","v":0.9238105015539454}]
[6658.7674999999999,0.98383092880249001,0.60027495057152036,{"$f":"+B2858/Spectre!B$2701","v":0.93933062250981847}]
[6659.7674999999999,0.99997872114181496,0.61012737029583808,{"$f":"+B2859/Spectre!B$2701","v":0.95474802339263065}]
[6660.7674999999999,1.01145792007446,0.61713129278918899,{"$f":"+B2860/Spectre!B$2701","v":0.96570799909947302}]
[6661.7674999999999,1.0201214551925699,0.62241726516772367,{"$f":"+B2861/Spectre!B$2701","v":0.97397966814075365}]
[6662.7674999999999,1.02722835540771,0.62675347177646745,{"$f":"+B2862/Spectre!B$2701","v":0.98076511146009338}]
[6663.7674999999999,1.01827132701874,0.62128842730993394,{"$f":"+B2863/Spectre!B$2701","v":0.97221322433585933}]
[6664.7674999999999,1.00782442092896,0.61491434833652625,{"$f":"+B2864/Spectre!B$2701","v":0.96223884915275837}]
[6665.7674999999999,1.00249099731445,0.61166021136761251,{"$f":"+B2865/Spectre!B$2701","v":0.95714666514302804}]
[6666.7674999999999,1.00532209873199,0.61338758058698162,{"$f":"+B2866/Spectre!B$2701","v":0.95984971114318085}]
[6667.7674999999999,1.0076700448989899,0.61482015729104611,{"$f":"+B2867/Spectre!B$2701","v":0.96209145580692312}]
[6668.7674999999999,1.0129868984222401,0.61806418417862297,{"$f":"+B2868/Spectre!B$2701","v":0.96716781921813155}]
[6669.7674999999999,1.01921045780182,0.62186142889779783,{"$f":"+B2869/Spectre!B$2701","v":0.97310987667445004}]
[6670.7674999999999,1.02464079856873,0.62517469893232624,{"$f":"+B2870/Spectre!B$2701","v":0.9782945941128729}]
[6671.7674999999999,1.0262264013290401,0.62614213916083139,{"$f":"+B2871/Spectre!B$2701","v":0.97980847742787325}]
[6672.7674999999999,1.02767145633698,0.6270238255340379,{"$f":"+B2872/Spectre!B$2701","v":0.98118817019868421}]
[6673.7674999999999,1.02705466747284,0.62664749775850703,{"$f":"+B2873/Spectre!B$2701","v":0.98059927971887906}]
[6674.7674999999999,1.0240352153778101,0.62480520819021368,{"$f":"+B2874/Spectre!B$2701","v":0.97771640245508395}]
[6675.7674999999999,1.0205596685409499,0.62268463681496267,{"$f":"+B2875/Spectre!B$2701","v":0.97439806037185261}]
[6676.7674999999999,1.02746093273163,0.62689537658707362,{"$f":"+B2876/Spectre!B$2701","v":0.98098716892552129}]
[6677.7674999999999,1.0361199378967301,0.63217858505847802,{"$f":"+B2877/Spectre!B$2701","v":0.98925451291108735}]
[6678.7674999999999,1.04097008705139,0.63513785677767653,{"$f":"+B2878/Spectre!B$2701","v":0.9938852817671322}]
[6679.7674999999999,1.0336894989013701,0.63069567615096622,{"$f":"+B2879/Spectre!B$2701","v":0.98693400670656861}]
[6680.7674999999999,1.0260162353515601,0.62601390841706206,{"$f":"+B2880/Spectre!B$2701","v":0.97960781760647786}]
[6681.7674999999999,1.0179185867309599,0.6210732062260943,{"$f":"+B2881/Spectre!B$2701","v":0.97187643907692456}]
[6682.7674999999999,1.0096783638000499,{"$f":"+B2882/F$1","v":0.61604551369505034},{"$f":"+B2882/Spectre!B$2701","v":0.96400893510982244}]
[6683.7674999999999,1.0011783838272099,0.61085933291064876,{"$f":"+B2883/Spectre!B$2701","v":0.9558934233430525}]
[6684.7674999999999,1.00382220745087,0.61247243639067872,{"$f":"+B2884/Spectre!B$2701","v":0.95841766243486637}]
[6685.7674999999999,1.00733578205109,0.61461621003890465,{"$f":"+B2885/Spectre!B$2701","v":0.96177231222258597}]
[6686.7674999999999,1.01267313957214,0.61787274724294494,{"$f":"+B2886/Spectre!B$2701","v":0.96686825220173245}]
[6687.7674999999999,1.02150630950928,0.62326222066990911,{"$f":"+B2887/Spectre!B$2701","v":0.97530188319754607}]
[6688.7674999999999,1.0306856632232699,0.62886291478881706,{"$f":"+B2888/Spectre!B$2701","v":0.9840660395032389}]
[6689.7674999999999,1.02266597747803,0.62396978089417254,{"$f":"+B2889/Spectre!B$2701","v":0.97640909745875704}]
[6690.7674999999999,1.0032155513763401,0.61210229103898139,{"$f":"+B2890/Spectre!B$2701","v":0.9578384464217744}]
[6691.7674999999999,0.98507827520370495,0.60103600694555226,{"$f":"+B2891/Spectre!B$2701","v":0.94052154936242804}]
[6692.7674999999999,0.98332190513610795,0.59996437469183217,{"$f":"+B2892/Spectre!B$2701","v":0.93884462282896186}]
[6693.7674999999999,0.982341408729553,0.59936613426784313,{"$f":"+B2893/Spectre!B$2701","v":0.93790847590272231}]
[6694.7674999999999,0.98352026939392101,0.60008540473019334,{"$f":"+B2894/Spectre!B$2701","v":0.93903401474206427}]
[6695.7674999999999,0.98794591426849399,0.60278566925792576,{"$f":"+B2895/Spectre!B$2701","v":0.94325948035138407}]
[6696.7674999999999,0.99238675832748402,0.60549520742140961,{"$f":"+B2896/Spectre!B$2701","v":0.94749945766077559}]
[6697.7674999999999,0.99368488788604703,0.60628724864901196,{"$f":"+B2897/Spectre!B$2701","v":0.9487388706642147}]
[6698.7674999999999,0.99343979358673096,0.60613770672661438,{"$f":"+B2898/Spectre!B$2701","v":0.94850486238696896}]
[6699.7674999999999,0.99260044097900402,0.60562558382992049,{"$f":"+B2899/Spectre!B$2701","v":0.94770347509120556}]
[6700.7674999999999,0.98628628253936801,0.60177306096822647,{"$f":"+B2900/Spectre!B$2701","v":0.94167491652073232}]
[6701.7674999999999,0.97938847541809104,0.59756443049366281,{"$f":"+B2901/Spectre!B$2701","v":0.93508910866747819}]
[6702.7674999999999,0.97978460788726796,0.59780612689839407,{"$f":"+B2902/Spectre!B$2701","v":0.93546732340740424}]
[6703.7674999999999,0.98990237712860096,0.60397938619877789,{"$f":"+B2903/Spectre!B$2701","v":0.94512744914815539}]
[6704.7674999999999,0.999877989292145,0.61006590972948316,{"$f":"+B2904/Spectre!B$2701","v":0.95465184781175905}]
[6705.7674999999999,1.0016171932220499,0.6111270682298855,{"$f":"+B2905/Spectre!B$2701","v":0.95631238466044055}]
[6706.7674999999999,1.0010230541229199,0.61076455998998191,{"$f":"+B2906/Spectre!B$2701","v":0.95574511945917018}]
[6707.7674999999999,0.999214887619019,0.60966132464031131,{"$f":"+B2907/Spectre!B$2701","v":0.95401873932820802}]
[6708.7674999999999,0.99225181341171298,0.60541287208281347,{"$f":"+B2908/Spectre!B$2701","v":0.94737061652758403}]
[6709.7674999999999,0.98499673604965199,0.60098625661728355,{"$f":"+B2909/Spectre!B$2701","v":0.94044369835968633}]
[6710.7674999999999,0.98138535022735596,0.59878280439545506,{"$f":"+B2910/Spectre!B$2701","v":0.93699566151385405}]
[6711.7674999999999,0.98178559541702304,0.5990270101369195,{"$f":"+B2911/Spectre!B$2701","v":0.93737780294909445}]
[6712.7674999999999,0.98171275854110696,0.59898256941970862,{"$f":"+B2912/Spectre!B$2701","v":0.93730826060600181}]
[6713.7674999999999,0.98816120624542203,0.60291702758080978,{"$f":"+B2913/Spectre!B$2701","v":0.94346503431476203}]
[6714.7674999999999,0.995597064495087,0.6074539447609878,{"$f":"+B2914/Spectre!B$2701","v":0.95056455635058001}]
[6715.7674999999999,1.00166451931,0.61115594378591176,{"$f":"+B2915/Spectre!B$2701","v":0.95635757011086053}]
[6716.7674999999999,1.00363481044769,0.61235809791693496,{"$f":"+B2916/Spectre!B$2701","v":0.95823874170926182}]
[6717.7674999999999,1.0056449174880999,0.6135845453369142,{"$f":"+B2917/Spectre!B$2701","v":0.96015792827099944}]
[6718.7674999999999,1.00194764137268,0.6113286879812867,{"$f":"+B2918/Spectre!B$2701","v":0.95662788609259863}]
[6719.7674999999999,0.99352002143859897,0.60618665697650453,{"$f":"+B2919/Spectre!B$2701","v":0.94858146139990052}]
[6720.7674999999999,0.98528337478637695,0.60116114647740304,{"$f":"+B2920/Spectre!B$2701","v":0.94071737195046379}]
[6721.7674999999999,0.98307168483734098,0.59981170519031823,{"$f":"+B2921/Spectre!B$2701","v":0.93860572040973067}]
[6722.7674999999999,0.98116219043731701,0.59864664560229919,{"$f":"+B2922/Spectre!B$2701","v":0.93678259561161448}]
[6723.7674999999999,0.98020184040069602,0.59806069729158107,{"$f":"+B2923/Spectre!B$2701","v":0.93586568380154922}]
[6724.7674999999999,0.98089450597763095,0.59848332051147046,{"$f":"+B2924/Spectre!B$2701","v":0.93652701896445711}]
[6725.7674999999999,0.98157656192779497,0.59889947036993241,{"$f":"+B2925/Spectre!B$2701","v":0.93717822439162723}]
[6726.7674999999999,0.98302948474884,0.59978595721340733,{"$f":"+B2926/Spectre!B$2701","v":0.93856542910129437}]
[6727.7674999999999,0.984993577003479,0.60098432915573519,{"$f":"+B2927/Spectre!B$2701","v":0.9404406822024165}]
[6728.7674999999999,0.98697292804717995,0.60219201110101361,{"$f":"+B2928/Spectre!B$2701","v":0.94233050391223827}]
[6729.7674999999999,0.99017155170440696,0.60414362046958259,{"$f":"+B2929/Spectre!B$2701","v":0.94538444851100678}]
[6730.7674999999999,0.99362993240356401,0.60625371809150919,{"$f":"+B2930/Spectre!B$2701","v":0.94868640090944301}]
[6731.7674999999999,0.99356180429458596,0.6062121503830219,{"$f":"+B2931/Spectre!B$2701","v":0.94862135434794215}]
[6732.7674999999999,0.98791861534118697,0.60276901308077169,{"$f":"+B2932/Spectre!B$2701","v":0.94323341619988155}]
[6733.7674999999999,0.98234105110168501,0.5993659160646494,{"$f":"+B2933/Spectre!B$2701","v":0.93790813445095655}]
[6734.7674999999999,0.97856944799423196,0.59706470881183671,{"$f":"+B2934/Spectre!B$2701","v":0.93430712721377185}]
[6735.7674999999999,0.97572219371795699,0.5953274840815308,{"$f":"+B2935/Spectre!B$2701","v":0.93158865897550203}]
[6736.7674999999999,0.97387725114822399,0.59420181017005724,{"$f":"+B2936/Spectre!B$2701","v":0.92982716622122197}]
[6737.7674999999999,0.98005396127700795,0.59797047027079564,{"$f":"+B2937/Spectre!B$2701","v":0.93572449349613851}]
[6738.7674999999999,0.98668855428695701,0.6020185031944576,{"$f":"+B2938/Spectre!B$2701","v":0.94205899284931527}]
[6739.7674999999999,0.99005573987960804,0.60407295900187352,{"$f":"+B2939/Spectre!B$2701","v":0.94527387504731741}]
[6740.7674999999999,0.98910498619079601,0.60349286581019879,{"$f":"+B2940/Spectre!B$2701","v":0.9443661255263176}]
[6741.7674999999999,0.98836386203765902,0.603040676057501,{"$f":"+B2941/Spectre!B$2701","v":0.94365852364906144}]
[6742.7674999999999,0.98672896623611495,0.60204316015539783,{"$f":"+B2942/Spectre!B$2701","v":0.94209757689891982}]
[6743.7674999999999,0.98485523462295499,0.600899920886794,{"$f":"+B2943/Spectre!B$2701","v":0.94030859727744343}]
[6744.7674999999999,0.98260462284088101,0.59952673181874494,{"$f":"+B2944/Spectre!B$2701","v":0.93815978440279968}]
[6745.7674999999999,0.97879958152770996,0.59720512256727887,{"$f":"+B2945/Spectre!B$2701","v":0.93452685142545666}]
[6746.7674999999999,0.97478377819061302,{"$f":"+B2946/F$1","v":0.59475491890005427},{"$f":"+B2946/Spectre!B$2701","v":0.93069268954044282}]
[6747.7674999999999,0.97553157806396495,0.5952111817790432,{"$f":"+B2947/Spectre!B$2701","v":0.93140666518400539}]
[6748.7674999999999,0.98140811920166005,0.59879669666548319,{"$f":"+B2948/Spectre!B$2701","v":0.93701740060964867}]
[6749.7674999999999,0.98707288503646895,0.60225299889378181,{"$f":"+B2949/Spectre!B$2701","v":0.94242593968095045}]
[6750.7674999999999,0.99065172672271695,0.60443659462494137,{"$f":"+B2950/Spectre!B$2701","v":0.94584290441603891}]
[6751.7674999999999,0.99409842491149902,0.60653956427585931,{"$f":"+B2951/Spectre!B$2701","v":0.94913370272344}]
[6752.7674999999999,0.99407076835632302,0.60652268989551084,{"$f":"+B2952/Spectre!B$2701","v":0.94910729712017083}]
[6753.7674999999999,0.98453938961029097,0.60070721109915204,{"$f":"+B2953/Spectre!B$2701","v":0.94000703845907674}]
[6754.7674999999999,0.974603831768036,0.59464512632619271,{"$f":"+B2954/Spectre!B$2701","v":0.93052088239331099}]
[6755.7674999999999,0.97323989868164096,0.59381293571086491,{"$f":"+B2955/Spectre!B$2701","v":0.92921864226485251}]
[6756.7674999999999,0.97896462678909302,0.59730582334138382,{"$f":"+B2956/Spectre!B$2701","v":0.93468443141565472}]
[6757.7674999999999,0.98461693525314298,0.60075452482508529,{"$f":"+B2957/Spectre!B$2701","v":0.94008107658375906}]
[6758.7674999999999,0.96741926670074496,0.59026153325711173,{"$f":"+B2958/Spectre!B$2701","v":0.92366128713202433}]
[6759.7674999999999,0.94797003269195601,0.5783947707459044,{"$f":"+B2959/Spectre!B$2701","v":0.90509177426760157}]
[6760.7674999999999,0.93791204690933205,0.572257987746144,{"$f":"+B2960/Spectre!B$2701","v":0.89548872788046796}]
[6761.7674999999999,0.94832289218902599,0.57861006456414221,{"$f":"+B2961/Spectre!B$2701","v":0.90542867334379207}]
[6762.7674999999999,0.95890432596206698,0.58506622430575483,{"$f":"+B2962/Spectre!B$2701","v":0.91553149129969358}]
[6763.7674999999999,0.96687960624694802,0.58993226463712367,{"$f":"+B2963/Spectre!B$2701","v":0.92314603641651161}]
[6764.7674999999999,0.97283607721328702,0.59356654793745856,{"$f":"+B2964/Spectre!B$2701","v":0.92883308631194761}]
[6765.7674999999999,0.97849172353744496,0.59701728598430592,{"$f":"+B2965/Spectre!B$2701","v":0.93423291836320566}]
[6766.7674999999999,0.97448480129241899,0.59457250102973602,{"$f":"+B2966/Spectre!B$2701","v":0.93040723586372376}]
[6767.7674999999999,0.96982342004776001,0.5917284042298534,{"$f":"+B2967/Spectre!B$2701","v":0.92595669663171298}]
[6768.7674999999999,0.96560263633728005,0.58915313376517575,{"$f":"+B2968/Spectre!B$2701","v":0.92192682597591824}]
[6769.7674999999999,0.96231395006179798,0.58714657355887778,{"$f":"+B2969/Spectre!B$2701","v":0.91878689244064282}]
[6770.7674999999999,0.95878368616104104,0.58499261709492445,{"$f":"+B2970/Spectre!B$2701","v":0.91541630823715747}]
[6771.7674999999999,0.96228778362274203,0.58713060835850539,{"$f":"+B2971/Spectre!B$2701","v":0.91876190955306758}]
[6772.7674999999999,0.96887356042861905,0.59114885654616378,{"$f":"+B2972/Spectre!B$2701","v":0.92504980074012855}]
[6773.7674999999999,0.97395980358123802,0.59425217874070924,{"$f":"+B2973/Spectre!B$2701","v":0.92990598467063501}]
[6774.7674999999999,0.96822398900985696,0.59075252681117085,{"$f":"+B2974/Spectre!B$2701","v":0.92442961051507322}]
[6775.7674999999999,0.96170938014984098,0.58677770105914984,{"$f":"+B2975/Spectre!B$2701","v":0.9182096682295271}]
[6776.7674999999999,0.95784837007522605,0.58442194300779782,{"$f":"+B2976/Spectre!B$2701","v":0.91452329805074117}]
[6777.7674999999999,0.95793664455413796,0.58447580282955613,{"$f":"+B2977/Spectre!B$2701","v":0.91460757972841622}]
[6778.7674999999999,0.95787286758422896,0.58443688992659792,{"$f":"+B2978/Spectre!B$2701","v":0.91454668749674051}]
[6779.7674999999999,0.957311570644379,0.58409442001336342,{"$f":"+B2979/Spectre!B$2701","v":0.91401077894936045}]
[6780.7674999999999,0.95660692453384399,0.58366448698646967,{"$f":"+B2980/Spectre!B$2701","v":0.91333800515227759}]
[6781.7674999999999,0.95605272054672197,0.58332634476991918,{"$f":"+B2981/Spectre!B$2701","v":0.91280886873159761}]
[6782.7674999999999,0.95618450641632102,0.58340675264696762,{"$f":"+B2982/Spectre!B$2701","v":0.91293469370752023}]
[6783.7674999999999,0.95623970031738303,0.58344042867326629,{"$f":"+B2983/Spectre!B$2701","v":0.91298739109680282}]
[6784.7674999999999,0.96028685569763195,0.58590976148717899,{"$f":"+B2984/Spectre!B$2701","v":0.9168514869200054}]
[6785.7674999999999,0.96912908554077104,0.59130476272839116,{"$f":"+B2985/Spectre!B$2701","v":0.92529376802722818}]
[6786.7674999999999,0.97837430238723799,0.59694564260222371,{"$f":"+B2986/Spectre!B$2701","v":0.9341208083665683}]
[6787.7674999999999,0.974970042705536,0.59486856639701269,{"$f":"+B2987/Spectre!B$2701","v":0.93087052900211442}]
[6788.7674999999999,0.96943873167037997,0.59149369032733534,{"$f":"+B2988/Spectre!B$2701","v":0.92558940834831194}]
[6789.7674999999999,0.96505379676818803,0.58881826459653774,{"$f":"+B2989/Spectre!B$2701","v":0.92140281133173463}]
[6790.7674999999999,0.96487176418304399,0.58870719917071024,{"$f":"+B2990/Spectre!B$2701","v":0.92122901238263211}]
[6791.7674999999999,0.96486657857894897,0.58870403522439518,{"$f":"+B2991/Spectre!B$2701","v":0.92122406133201962}]
[6792.7674999999999,0.96469330787658703,0.58859831577682464,{"$f":"+B2992/Spectre!B$2701","v":0.9210586279511942}]
[6793.7674999999999,0.96419751644134499,0.58829581341532045,{"$f":"+B2993/Spectre!B$2701","v":0.92058526198569468}]
[6794.7674999999999,0.96383130550384499,0.58807237334450035,{"$f":"+B2994/Spectre!B$2701","v":0.92023561537689114}]
[6795.7674999999999,0.95637184381484996,0.58352105475350846,{"$f":"+B2995/Spectre!B$2701","v":0.91311355752449108}]
[6796.7674999999999,0.94776809215545699,0.57827155867560198,{"$f":"+B2996/Spectre!B$2701","v":0.90489896783683554}]
[6797.7674999999999,0.94304943084716797,0.5753925129974542,{"$f":"+B2997/Spectre!B$2701","v":0.90039373941357059}]
[6798.7674999999999,0.94829106330871604,0.57859064447986208,{"$f":"+B2998/Spectre!B$2701","v":0.90539828413658174}]
[6799.7674999999999,0.95393627882003795,0.58203501826687953,{"$f":"+B2999/Spectre!B$2701","v":0.91078815717798578}]
[6800.7674999999999,0.951640665531158,0.58063437196356493,{"$f":"+B3000/Spectre!B$2701","v":0.90859637828940165}]
[6801.7674999999999,0.94352108240127597,0.57568028664335258,{"$f":"+B3001/Spectre!B$2701","v":0.90084405738483753}]
[6802.7674999999999,0.93633121252059903,0.57129345689355782,{"$f":"+B3002/Spectre!B$2701","v":0.89397939725568165}]
[6803.7674999999999,0.94218647480010997,0.57486598868994565,{"$f":"+B3003/Spectre!B$2701","v":0.89956981630122423}]
[6804.7674999999999,0.94965952634811401,0.57942559900231583,{"$f":"+B3004/Spectre!B$2701","v":0.90670484932074813}]
[6805.7674999999999,0.95704734325408902,0.58393320422007766,{"$f":"+B3005/Spectre!B$2701","v":0.91375850300261074}]
[6806.7674999999999,0.96415060758590698,0.5882671924296865,{"$f":"+B3006/Spectre!B$2701","v":0.92054047489566748}]
[6807.7674999999999,0.97212296724319502,0.59313145076830365,{"$f":"+B3007/Spectre!B$2701","v":0.92815223148972748}]
[6808.7674999999999,0.96689176559448198,0.58993968354572501,{"$f":"+B3008/Spectre!B$2701","v":0.92315764577656934}]
[6809.7674999999999,0.95513439178466797,0.5827660353345151,{"$f":"+B3009/Spectre!B$2701","v":0.91193207750408578}]
[6810.7674999999999,0.94555902481079102,{"$f":"+B3010/F$1","v":0.57692371754527427},{"$f":"+B3010/Spectre!B$2701","v":0.90278982027572263}]
[6811.7674999999999,0.953052818775177,0.58149598364290578,{"$f":"+B3011/Spectre!B$2701","v":0.90994465749769837}]
[6812.7674999999999,0.962665855884552,0.58736128550193145,{"$f":"+B3012/Spectre!B$2701","v":0.91912288097879002}]
[6813.7674999999999,0.96750396490097001,0.59031321104692824,{"$f":"+B3013/Spectre!B$2701","v":0.92374215429203499}]
[6814.7674999999999,0.96316039562225297,0.58766302415225569,{"$f":"+B3014/Spectre!B$2701","v":0.91959505186310642}]
[6815.7674999999999,0.95948779582977295,0.58542222281702705,{"$f":"+B3015/Spectre!B$2701","v":0.9160885698565906}]
[6816.7674999999999,0.95294481515884399,0.58143008627826942,{"$f":"+B3016/Spectre!B$2701","v":0.9098415390642427}]
[6817.7674999999999,0.94543898105621305,0.5768504740064343,{"$f":"+B3017/Spectre!B$2701","v":0.90267520629946418}]
[6818.7674999999999,0.93935734033584595,0.57313981958814342,{"$f":"+B3018/Spectre!B$2701","v":0.89686864828578505}]
[6819.7674999999999,0.94107347726821899,0.57418690398252015,{"$f":"+B3019/Spectre!B$2701","v":0.89850716149552956}]
[6820.7674999999999,0.94354587793350198,0.57569541539814739,{"$f":"+B3020/Spectre!B$2701","v":0.9008677313739748}]
[6821.7674999999999,0.94632577896118197,0.57739154519355385,{"$f":"+B3021/Spectre!B$2701","v":0.9035218928629053}]
[6822.7674999999999,0.94952100515365601,0.57934108163177778,{"$f":"+B3022/Spectre!B$2701","v":0.90657259366989207}]
[6823.7674999999999,0.95291095972061202,0.58140942970922249,{"$f":"+B3023/Spectre!B$2701","v":0.90980921496368961}]
[6824.7674999999999,0.95194941759109497,0.58082275405452355,{"$f":"+B3024/Spectre!B$2701","v":0.90889116498106914}]
[6825.7674999999999,0.94972467422485396,0.57946534835085228,{"$f":"+B3025/Spectre!B$2701","v":0.90676705045086281}]
[6826.7674999999999,0.94996327161788896,0.57961092624855559,{"$f":"+B3026/Spectre!B$2701","v":0.9069948556876849}]
[6827.7674999999999,0.96065700054168701,0.58613560179313473,{"$f":"+B3027/Spectre!B$2701","v":0.9172048894982392}]
[6828.7674999999999,0.97247409820556596,0.59334568993776937,{"$f":"+B3028/Spectre!B$2701","v":0.92848748021571315}]
[6829.7674999999999,0.971485435962677,0.59274246720751389,{"$f":"+B3029/Spectre!B$2701","v":0.92754353680747414}]
[6830.7674999999999,0.95409154891967796,0.58212975482034413,{"$f":"+B3030/Spectre!B$2701","v":0.91093640415323551}]
[6831.7674999999999,0.93774646520614602,0.57215695966724778,{"$f":"+B3031/Spectre!B$2701","v":0.89533063571262028}]
[6832.7674999999999,0.93766188621520996,0.5721053546118291,{"$f":"+B3032/Spectre!B$2701","v":0.89524988236986458}]
[6833.7674999999999,0.94156819581985496,0.5744887517344418,{"$f":"+B3033/Spectre!B$2701","v":0.89897950310572972}]
[6834.7674999999999,0.94485008716583296,0.57649116608005091,{"$f":"+B3034/Spectre!B$2701","v":0.90211294905744366}]
[6835.7674999999999,0.94589573144912698,0.57712915585257585,{"$f":"+B3035/Spectre!B$2701","v":0.90311129711379712}]
[6836.7674999999999,0.94715338945388805,0.57789650375203938,{"$f":"+B3036/Spectre!B$2701","v":0.90431206915900475}]
[6837.7674999999999,0.94468009471893299,0.57638744682842646,{"$f":"+B3037/Spectre!B$2701","v":0.90195064565114313}]
[6838.7674999999999,0.93895804882049605,0.5728961957218639,{"$f":"+B3038/Spectre!B$2701","v":0.89648741738858906}]
[6839.7674999999999,0.93384188413619995,0.56977461719340705,{"$f":"+B3039/Spectre!B$2701","v":0.89160266532695975}]
[6840.7674999999999,0.93995839357376099,0.5735065464231287,{"$f":"+B3040/Spectre!B$2701","v":0.8974425148878642}]
[6841.7674999999999,0.94867122173309304,0.57882259447525408,{"$f":"+B3041/Spectre!B$2701","v":0.90576124736427477}]
[6842.7674999999999,0.956853747367859,0.58381508355763923,{"$f":"+B3042/Spectre!B$2701","v":0.91357366377972804}]
[6843.7674999999999,0.96349591016769398,0.58786773511557722,{"$f":"+B3043/Spectre!B$2701","v":0.9199153905286267}]
[6844.7674999999999,0.97120177745819103,0.5925693957073459,{"$f":"+B3044/Spectre!B$2701","v":0.92727270864808364}]
[6845.7674999999999,0.96605944633483898,0.58943185197851655,{"$f":"+B3045/Spectre!B$2701","v":0.9223629736988791}]
[6846.7674999999999,0.95253741741180398,0.58118151647292171,{"$f":"+B3046/Spectre!B$2701","v":0.90945256859367418}]
[6847.7674999999999,0.94041508436203003,0.57378519190207122,{"$f":"+B3047/Spectre!B$2701","v":0.89787854879356932}]
[6848.7674999999999,0.94211202859878496,0.57482056605836107,{"$f":"+B3048/Spectre!B$2701","v":0.89949873742518272}]
[6849.7674999999999,0.94660556316375699,0.57756225282578477,{"$f":"+B3049/Spectre!B$2701","v":0.90378902196149247}]
[6850.7674999999999,0.94859695434570301,0.57877728094526681,{"$f":"+B3050/Spectre!B$2701","v":0.90569033921411712}]
[6851.7674999999999,0.94308829307556197,0.57541622441121987,{"$f":"+B3051/Spectre!B$2701","v":0.90043084383885419}]
[6852.7674999999999,0.93806743621826205,0.57235279703400688,{"$f":"+B3052/Spectre!B$2701","v":0.89563708867297342}]
[6853.7674999999999,0.93210828304290805,0.56871687720971575,{"$f":"+B3053/Spectre!B$2701","v":0.8899474778892893}]
[6854.7674999999999,0.92563635110855103,0.56476809037219777,{"$f":"+B3054/Spectre!B$2701","v":0.88376828218120107}]
[6855.7674999999999,0.91649103164672896,0.55918816192393472,{"$f":"+B3055/Spectre!B$2701","v":0.87503662070194599}]
[6856.7674999999999,0.88447856903076205,0.53965606667067612,{"$f":"+B3056/Spectre!B$2701","v":0.84447213491806261}]
[6857.7674999999999,0.84885370731353804,0.5179199009532055,{"$f":"+B3057/Spectre!B$2701","v":0.81045864484167551}]
[6858.7674999999999,0.81115537881851196,0.49491862948319293,{"$f":"+B3058/Spectre!B$2701","v":0.77446547433227231}]
[6859.7674999999999,0.76855659484863303,0.46892739237800179,{"$f":"+B3059/Spectre!B$2701","v":0.73379350408501376}]
[6860.7674999999999,0.72561395168304399,0.4427263529016251,{"$f":"+B3060/Spectre!B$2701","v":0.6927932279643515}]
[6861.7674999999999,0.69776862859725997,0.42573679763392053,{"$f":"+B3061/Spectre!B$2701","v":0.66620739507130211}]
[6862.7674999999999,0.67713713645935103,0.41314869173001856,{"$f":"+B3062/Spectre!B$2701","v":0.64650909957575664}]
[6863.7674999999999,0.65895098447799705,0.40205258653338571,{"$f":"+B3063/Spectre!B$2701","v":0.62914553744166468}]
[6864.7674999999999,0.66110128164291404,0.40336456960547284,{"$f":"+B3064/Spectre!B$2701","v":0.6311985730958305}]
[6865.7674999999999,0.66487455368042003,0.40566679513985782,{"$f":"+B3065/Spectre!B$2701","v":0.634801173774591}]
[6866.7674999999999,0.67490279674529996,0.4117854309073033,{"$f":"+B3066/Spectre!B$2701","v":0.64437582275648375}]
[6867.7674999999999,0.69553464651107799,0.42437375501439972,{"$f":"+B3067/Spectre!B$2701","v":0.66407445970379608}]
[6868.7674999999999,0.71547442674636796,0.4365398195735965,{"$f":"+B3068/Spectre!B$2701","v":0.68311233057447707}]
[6869.7674999999999,0.73894947767257702,0.45086289544146552,{"$f":"+B3069/Spectre!B$2701","v":0.70552556597337401}]
[6870.7674999999999,0.76402616500854503,0.46616319431438052,{"$f":"+B3070/Spectre!B$2701","v":0.72946799310813615}]
[6871.7674999999999,0.78885036706924405,0.48130944173221818,{"$f":"+B3071/Spectre!B$2701","v":0.75316935529581253}]
[6872.7674999999999,0.81205368041992199,0.49546671953972438,{"$f":"+B3072/Spectre!B$2701","v":0.77532314426086579}]
[6873.7674999999999,0.83560621738433805,0.50983707276632739,{"$f":"+B3073/Spectre!B$2701","v":0.79781036087581725}]
[6874.7674999999999,0.85393977165222201,{"$f":"+B3074/F$1","v":0.52102311404615353},{"$f":"+B3074/Spectre!B$2701","v":0.8153146580462981}]
[6875.7674999999999,0.86556953191757202,0.52811890008424744,{"$f":"+B3075/Spectre!B$2701","v":0.8264183849468012}]
[6876.7674999999999,0.87712955474853505,0.53517213649948014,{"$f":"+B3076/Spectre!B$2701","v":0.83745552875285467}]
[6877.7674999999999,0.86970239877700795,0.53064052893036051,{"$f":"+B3077/Spectre!B$2701","v":0.83036431537668653}]
[6878.7674999999999,0.85467350482940696,0.52147079426617216,{"$f":"+B3078/Spectre!B$2701","v":0.81601520325371513}]
[6879.7674999999999,0.84035605192184404,0.51273513848956587,{"$f":"+B3079/Spectre!B$2701","v":0.80234535251138694}]
[6880.7674999999999,0.82905960083007801,0.50584271782842927,{"$f":"+B3080/Spectre!B$2701","v":0.79155985865717771}]
[6881.7674999999999,0.81734353303909302,0.49869427208614464,{"$f":"+B3081/Spectre!B$2701","v":0.78037372806371419}]
[6882.7674999999999,0.81011146306991599,0.49428169435943947,{"$f":"+B3082/Spectre!B$2701","v":0.77346877662612279}]
[6883.7674999999999,0.80742710828781095,0.49264386118407283,{"$f":"+B3083/Spectre!B$2701","v":0.7709058396674513}]
[6884.7674999999999,0.80476176738739003,0.49101762914519614,{"$f":"+B3084/Spectre!B$2701","v":0.76836105656102816}]
[6885.7674999999999,0.80645710229873702,0.49205202138711279,{"$f":"+B3085/Spectre!B$2701","v":0.76997970865969367}]
[6886.7674999999999,0.80958586931228604,0.49396100839842172,{"$f":"+B3086/Spectre!B$2701","v":0.7729669563467555}]
[6887.7674999999999,0.81266754865646396,0.49584126532250045,{"$f":"+B3087/Spectre!B$2701","v":0.77590924621790813}]
[6888.7674999999999,0.815757155418396,0.49772635908404911,{"$f":"+B3088/Spectre!B$2701","v":0.77885910493654864}]
[6889.7674999999999,0.81894135475158703,0.49966916759045338,{"$f":"+B3089/Spectre!B$2701","v":0.78189927764740486}]
[6890.7674999999999,0.82053655385971103,0.50064246293800507,{"$f":"+B3090/Spectre!B$2701","v":0.78342232325147543}]
[6891.7674999999999,0.82070904970169101,0.50074770961198833,{"$f":"+B3091/Spectre!B$2701","v":0.78358701682014031}]
[6892.7674999999999,0.82116562128067005,0.50102628235653257,{"$f":"+B3092/Spectre!B$2701","v":0.7840229369085896}]
[6893.7674999999999,0.83145827054977395,0.50730624301886063,{"$f":"+B3093/Spectre!B$2701","v":0.79385003256311493}]
[6894.7674999999999,0.84402281045913696,0.51497237583929045,{"$f":"+B3094/Spectre!B$2701","v":0.8058462574723857}]
[6895.7674999999999,0.853154838085175,0.52054419440217103,{"$f":"+B3095/Spectre!B$2701","v":0.81456522832765677}]
[6896.7674999999999,0.84991580247878995,0.51856792807266183,{"$f":"+B3096/Spectre!B$2701","v":0.8114726996792837}]
[6897.7674999999999,0.84669941663742099,0.51660548127878358,{"$f":"+B3097/Spectre!B$2701","v":0.8084017963094513}]
[6898.7674999999999,0.84666460752487205,0.51658424283455184,{"$f":"+B3098/Spectre!B$2701","v":0.80836856167085402}]
[6899.7674999999999,0.84935832023620605,0.51822778566016525,{"$f":"+B3099/Spectre!B$2701","v":0.81094043328407905}]
[6900.7674999999999,0.85191875696182295,0.51979001142875536,{"$f":"+B3100/Spectre!B$2701","v":0.81338505720568943}]
[6901.7674999999999,0.84970170259475697,0.51843729709375796,{"$f":"+B3101/Spectre!B$2701","v":0.81126828388845995}]
[6902.7674999999999,0.846846222877502,0.51669505368998581,{"$f":"+B3102/Spectre!B$2701","v":0.80854196225956176}]
[6903.7674999999999,0.84491407871246305,0.51551617456633647,{"$f":"+B3103/Spectre!B$2701","v":0.80669721218290591}]
[6904.7674999999999,0.84548372030258201,0.51586373588743495,{"$f":"+B3104/Spectre!B$2701","v":0.80724108793816929}]
[6905.7674999999999,0.84600490331649802,0.51618173067572437,{"$f":"+B3105/Spectre!B$2701","v":0.80773869697908363}]
[6906.7674999999999,0.85013443231582597,0.51870132295869165,{"$f":"+B3106/Spectre!B$2701","v":0.81168144052581537}]
[6907.7674999999999,0.85697597265243497,0.5228756227973741,{"$f":"+B3107/Spectre!B$2701","v":0.81821352663448776}]
[6908.7674999999999,0.86377632617950395,0.52702479290152893,{"$f":"+B3108/Spectre!B$2701","v":0.82470628888139497}]
[6909.7674999999999,0.86345171928405795,0.52682673713563,{"$f":"+B3109/Spectre!B$2701","v":0.82439636449475129}]
[6910.7674999999999,0.86259442567825295,0.52630366771202874,{"$f":"+B3110/Spectre!B$2701","v":0.82357784770203901}]
[6911.7674999999999,0.86441224813461304,0.52741279454794499,{"$f":"+B3111/Spectre!B$2701","v":0.82531344703069953}]
[6912.7674999999999,0.87194740772247303,0.53201029948170098,{"$f":"+B3112/Spectre!B$2701","v":0.83250777884032323}]
[6913.7674999999999,0.87971168756484996,0.53674759992851584,{"$f":"+B3113/Spectre!B$2701","v":0.8399208674149603}]
[6914.7674999999999,0.87803727388382002,0.535725972573458,{"$f":"+B3114/Spectre!B$2701","v":0.83832219024463062}]
[6915.7674999999999,0.86992383003234897,0.53077563307474496,{"$f":"+B3115/Spectre!B$2701","v":0.83057573092872228}]
[6916.7674999999999,0.86194622516632102,0.52590817442261362,{"$f":"+B3116/Spectre!B$2701","v":0.82295896637542199}]
[6917.7674999999999,0.84769344329833995,0.51721197705695166,{"$f":"+B3117/Spectre!B$2701","v":0.80935086149418678}]
[6918.7674999999999,0.83267837762832597,0.50805067958293693,{"$f":"+B3118/Spectre!B$2701","v":0.79501495217284901}]
[6919.7674999999999,0.82276725769043002,0.50200350536157923,{"$f":"+B3119/Spectre!B$2701","v":0.78555212864445567}]
[6920.7674999999999,0.822482049465179,0.50182948831423591,{"$f":"+B3120/Spectre!B$2701","v":0.78527982086074322}]
[6921.7674999999999,0.82168614864349399,0.50134387710563288,{"$f":"+B3121/Spectre!B$2701","v":0.78451991995459924}]
[6922.7674999999999,0.82777088880538896,0.50505642261827288,{"$f":"+B3122/Spectre!B$2701","v":0.79032943721692017}]
[6923.7674999999999,0.83706033229827903,0.51072428695378302,{"$f":"+B3123/Spectre!B$2701","v":0.79919870375803947}]
[6924.7674999999999,0.84482103586196899,0.51545940536865598,{"$f":"+B3124/Spectre!B$2701","v":0.80660837781501205}]
[6925.7674999999999,0.84034335613250699,0.51272739227617325,{"$f":"+B3125/Spectre!B$2701","v":0.80233323097367959}]
[6926.7674999999999,0.834597527980804,0.50922163065719861,{"$f":"+B3126/Spectre!B$2701","v":0.79684729616865868}]
[6927.7674999999999,0.83111697435378995,0.50709800443723363,{"$f":"+B3127/Spectre!B$2701","v":0.7935241737607045}]
[6928.7674999999999,0.83179855346679699,0.50751386335810422,{"$f":"+B3128/Spectre!B$2701","v":0.79417492391885403}]
[6929.7674999999999,0.83237785100936901,0.50786731616544467,{"$f":"+B3129/Spectre!B$2701","v":0.79472801887180988}]
[6930.7674999999999,0.83177721500396695,0.50750084390085237,{"$f":"+B3130/Spectre!B$2701","v":0.79415455063012452}]
[6931.7674999999999,0.83076196908950795,0.50688140139983073,{"$f":"+B3131/Spectre!B$2701","v":0.79318522597391539}]
[6932.7674999999999,0.82821899652481101,0.50532983122055597,{"$f":"+B3132/Spectre!B$2701","v":0.79075727628023207}]
[6933.7674999999999,0.81711471080779996,0.49855465840908098,{"$f":"+B3133/Spectre!B$2701","v":0.78015525584183942}]
[6934.7674999999999,0.805006504058838,0.49116695286439988,{"$f":"+B3134/Spectre!B$2701","v":0.76859472338650803}]
[6935.7674999999999,0.79921495914459195,0.48763329760377155,{"$f":"+B3135/Spectre!B$2701","v":0.76306513966401412}]
[6936.7674999999999,0.80431687831878695,0.49074618437166112,{"$f":"+B3136/Spectre!B$2701","v":0.7679362905636149}]
[6937.7674999999999,0.80851376056671098,0.49330687158952846,{"$f":"+B3137/Spectre!B$2701","v":0.77194334085968697}]
[6938.7674999999999,0.81540644168853804,{"$f":"+B3138/F$1","v":0.49751237448497626},{"$f":"+B3138/Spectre!B$2701","v":0.77852425457095664}]
[6939.7674999999999,0.82315713167190596,0.5022413832104129,{"$f":"+B3139/Spectre!B$2701","v":0.78592436797846998}]
[6940.7674999999999,0.829534471035004,0.50613245530307527,{"$f":"+B3140/Spectre!B$2701","v":0.79201324969434239}]
[6941.7674999999999,0.82940793037414595,0.50605524773954169,{"$f":"+B3141/Spectre!B$2701","v":0.79189243267766118}]
[6942.7674999999999,0.82877355813980103,0.50566819164030019,{"$f":"+B3142/Spectre!B$2701","v":0.7912867541526778}]
[6943.7674999999999,0.82870090007782005,0.50562386002468684,{"$f":"+B3143/Spectre!B$2701","v":0.79121738253546914}]
[6944.7674999999999,0.82952272891998302,0.5061252909648668,{"$f":"+B3144/Spectre!B$2701","v":0.79200203869467845}]
[6945.7674999999999,0.83029019832611095,0.50659355501953462,{"$f":"+B3145/Spectre!B$2701","v":0.7927347941853935}]
[6946.7674999999999,0.83030116558074996,0.5066002465841557,{"$f":"+B3146/Spectre!B$2701","v":0.79274526537289713}]
[6947.7674999999999,0.83006900548934903,0.5064585963439463,{"$f":"+B3147/Spectre!B$2701","v":0.79252360626786877}]
[6948.7674999999999,0.83063489198684703,0.506803866531506,{"$f":"+B3148/Spectre!B$2701","v":0.79306389677958466}]
[6949.7674999999999,0.83507680892944303,0.50951405930457228,{"$f":"+B3149/Spectre!B$2701","v":0.79730489844427543}]
[6950.7674999999999,0.84023386240005504,0.51266058573156148,{"$f":"+B3150/Spectre!B$2701","v":0.80222868982453088}]
[6951.7674999999999,0.83666932582855202,0.51048571812816768,{"$f":"+B3151/Spectre!B$2701","v":0.79882538316009777}]
[6952.7674999999999,0.82384318113327004,0.50265996967120974,{"$f":"+B3152/Spectre!B$2701","v":0.7865793862836985}]
[6953.7674999999999,0.81207400560378995,0.49547912075459216,{"$f":"+B3153/Spectre!B$2701","v":0.77534255010292297}]
[6954.7674999999999,0.82564365863800004,0.50375851365220903,{"$f":"+B3154/Spectre!B$2701","v":0.7882984252016878}]
[6955.7674999999999,0.84713023900985696,0.5168683433933482,{"$f":"+B3155/Spectre!B$2701","v":0.80881313187071902}]
[6956.7674999999999,0.86669677495956399,0.52880667655224012,{"$f":"+B3156/Spectre!B$2701","v":0.82749464091452418}]
[6957.7674999999999,0.87784683704376198,0.53560977937256737,{"$f":"+B3157/Spectre!B$2701","v":0.83814036717901685}]
[6958.7674999999999,0.89006775617599498,0.54306625529060837,{"$f":"+B3158/Spectre!B$2701","v":0.84980851384939582}]
[6959.7674999999999,0.89042168855667103,0.54328220371842872,{"$f":"+B3159/Spectre!B$2701","v":0.85014643728088568}]
[6960.7674999999999,0.88061207532882702,0.53729696283701311,{"$f":"+B3160/Spectre!B$2701","v":0.84078052914552437}]
[6961.7674999999999,0.87179702520370495,0.53191854503855684,{"$f":"+B3161/Spectre!B$2701","v":0.83236419837254816}]
[6962.7674999999999,0.87783759832382202,0.53560414245671839,{"$f":"+B3162/Spectre!B$2701","v":0.83813154634171816}]
[6963.7674999999999,0.88819807767867998,0.54192548899153858,{"$f":"+B3163/Spectre!B$2701","v":0.84802340401460552}]
[6964.7674999999999,0.89843410253524802,0.54817090081479181,{"$f":"+B3164/Spectre!B$2701","v":0.85779643647278347}]
[6965.7674999999999,0.90877652168273904,0.55448122808830691,{"$f":"+B3165/Spectre!B$2701","v":0.86767105083146712}]
[6966.7674999999999,0.91973841190338101,0.56116951966130679,{"$f":"+B3166/Spectre!B$2701","v":0.87813711655820048}]
[6967.7674999999999,0.92102926969528198,0.56195712409062815,{"$f":"+B3167/Spectre!B$2701","v":0.87936958670905641}]
[6968.7674999999999,0.91455280780792203,0.55800557334598411,{"$f":"+B3168/Spectre!B$2701","v":0.87318606594526038}]
[6969.7674999999999,0.90834987163543701,0.55422091167767396,{"$f":"+B3169/Spectre!B$2701","v":0.86726369887414068}]
[6970.7674999999999,0.903162121772766,0.5510556561431863,{"$f":"+B3170/Spectre!B$2701","v":0.86231059955060196}]
[6971.7674999999999,0.89820832014083896,0.54803314186487873,{"$f":"+B3171/Spectre!B$2701","v":0.85758086659092359}]
[6972.7674999999999,0.89434856176376298,0.54567814752470545,{"$f":"+B3172/Spectre!B$2701","v":0.8538956914933189}]
[6973.7674999999999,0.894414722919464,0.5457185151156253,{"$f":"+B3173/Spectre!B$2701","v":0.85395886007010491}]
[6974.7674999999999,0.89487051963806197,0.54599661508658281,{"$f":"+B3174/Spectre!B$2701","v":0.85439404034639455}]
[6975.7674999999999,0.88257795572280895,0.53849642579531165,{"$f":"+B3175/Spectre!B$2701","v":0.84265748950547825}]
[6976.7674999999999,0.86030799150466897,0.52490862195736454,{"$f":"+B3176/Spectre!B$2701","v":0.82139483274212666}]
[6977.7674999999999,0.83891373872757002,0.5118551250075184,{"$f":"+B3177/Spectre!B$2701","v":0.8009682775374577}]
[6978.7674999999999,0.84418261051178001,0.51506987629988121,{"$f":"+B3178/Spectre!B$2701","v":0.80599882950334323}]
[6979.7674999999999,0.853254854679108,0.52060521856213782,{"$f":"+B3179/Spectre!B$2701","v":0.81466072100499587}]
[6980.7674999999999,0.85731011629104603,0.52307949731511783,{"$f":"+B3180/Spectre!B$2701","v":0.81853255640156997}]
[6981.7674999999999,0.84786409139633201,0.5173160963477651,{"$f":"+B3181/Spectre!B$2701","v":0.80951379089539199}]
[6982.7674999999999,0.83825391530990601,0.51145254011429253,{"$f":"+B3182/Spectre!B$2701","v":0.80033829902843145}]
[6983.7674999999999,0.83450776338577304,0.50916686165546488,{"$f":"+B3183/Spectre!B$2701","v":0.7967615917752906}]
[6984.7674999999999,0.83546161651611295,0.50974884594148862,{"$f":"+B3184/Spectre!B$2701","v":0.79767230054493221}]
[6985.7674999999999,0.83602136373519897,0.51009037030754856,{"$f":"+B3185/Spectre!B$2701","v":0.79820672946799143}]
[6986.7674999999999,0.84032475948333696,0.51271604571007678,{"$f":"+B3186/Spectre!B$2701","v":0.80231547548182613}]
[6987.7674999999999,0.84474694728851296,0.51541420094026569,{"$f":"+B3187/Spectre!B$2701","v":0.80653764039073728}]
[6988.7674999999999,0.85076731443405196,0.51908746987795762,{"$f":"+B3188/Spectre!B$2701","v":0.81228569633510583}]
[6989.7674999999999,0.85995835065841697,0.52469529196787423,{"$f":"+B3189/Spectre!B$2701","v":0.82106100673183391}]
[6990.7674999999999,0.869395732879639,0.53045341969136839,{"$f":"+B3190/Spectre!B$2701","v":0.83007152048699073}]
[6991.7674999999999,0.86833930015563998,0.52980884745581924,{"$f":"+B3191/Spectre!B$2701","v":0.82906287196901662}]
[6992.7674999999999,0.85993647575378396,0.52468194520583122,{"$f":"+B3192/Spectre!B$2701","v":0.82104012126545467}]
[6993.7674999999999,0.85213285684585605,0.51992064240765923,{"$f":"+B3193/Spectre!B$2701","v":0.8135894729965133}]
[6994.7674999999999,0.84838169813156095,0.51763190910411261,{"$f":"+B3194/Spectre!B$2701","v":0.81000798541864172}]
[6995.7674999999999,0.84500873088836703,0.51557392567839133,{"$f":"+B3195/Spectre!B$2701","v":0.80678758308374965}]
[6996.7674999999999,0.84072166681289695,0.51295821488839599,{"$f":"+B3196/Spectre!B$2701","v":0.80269443003391383}]
[6997.7674999999999,0.83447176218032804,0.50914489586725231,{"$f":"+B3197/Spectre!B$2701","v":0.79672721896413801}]
[6998.7674999999999,0.82770019769668601,0.50501329112022764,{"$f":"+B3198/Spectre!B$2701","v":0.79026194358442714}]
[6999.7674999999999,0.83091145753860496,0.50697261033498997,{"$f":"+B3199/Spectre!B$2701","v":0.79332795281227497}]
[7000.7674999999999,0.83965390920639005,0.51230673288503137,{"$f":"+B3200/Spectre!B$2701","v":0.80167496887666945}]
[7001.7674999999999,0.84850037097930897,0.51770431619737489,{"$f":"+B3201/Spectre!B$2701","v":0.8101212904964622}]
[7002.7674999999999,0.86108183860778797,{"$f":"+B3202/F$1","v":0.52538077730232824},{"$f":"+B3202/Spectre!B$2701","v":0.82213367745600952}]
[7003.7674999999999,0.87444764375686601,0.53353579437927368,{"$f":"+B3203/Spectre!B$2701","v":0.83489492504792051}]
[7004.7674999999999,0.87659406661987305,0.53484541358342441,{"$f":"+B3204/Spectre!B$2701","v":0.83694426164128399}]
[7005.7674999999999,0.85501486063003496,0.52167906921499763,{"$f":"+B3205/Spectre!B$2701","v":0.81634111896475248}]
[7006.7674999999999,0.83260583877563499,0.50800642070172186,{"$f":"+B3206/Spectre!B$2701","v":0.79494569437289619}]
[7007.7674999999999,0.83432912826538097,0.50905786915998164,{"$f":"+B3207/Spectre!B$2701","v":0.79659103661796871}]
[7008.7674999999999,0.84611630439758301,0.51624970097070522,{"$f":"+B3208/Spectre!B$2701","v":0.80784505920432004}]
[7009.7674999999999,0.85537910461425803,0.52190130916825017,{"$f":"+B3209/Spectre!B$2701","v":0.81668888758884139}]
[7010.7674999999999,0.84782135486602805,0.51729002106606303,{"$f":"+B3210/Spectre!B$2701","v":0.80947298740930607}]
[7011.7674999999999,0.83803474903106701,0.51131881792347145,{"$f":"+B3211/Spectre!B$2701","v":0.80012904600425017}]
[7012.7674999999999,0.83010715246200595,0.50648187135132372,{"$f":"+B3212/Spectre!B$2701","v":0.79256002778961976}]
[7013.7674999999999,0.82624483108520497,0.50412531322159249,{"$f":"+B3213/Spectre!B$2701","v":0.78887240562102268}]
[7014.7674999999999,0.82190012931823697,0.50147443535013836,{"$f":"+B3214/Spectre!B$2701","v":0.78472422192816704}]
[7015.7674999999999,0.82104635238647505,0.50095351159128043,{"$f":"+B3215/Spectre!B$2701","v":0.78390906274449246}]
[7016.7674999999999,0.82160371541976895,0.50129358126937862,{"$f":"+B3216/Spectre!B$2701","v":0.78444121532244115}]
[7017.7674999999999,0.82191807031631503,0.50148538187704583,{"$f":"+B3217/Spectre!B$2701","v":0.78474135142511592}]
[7018.7674999999999,0.82068747282028198,0.50073454468594047,{"$f":"+B3218/Spectre!B$2701","v":0.7835664158968999}]
[7019.7674999999999,0.819136142730713,0.49978801559687264,{"$f":"+B3219/Spectre!B$2701","v":0.78208525504284265}]
[7020.7674999999999,0.82177591323852495,0.50139864610736662,{"$f":"+B3220/Spectre!B$2701","v":0.78460562434796732}]
[7021.7674999999999,0.83244782686233498,0.50791001125710178,{"$f":"+B3221/Spectre!B$2701","v":0.79479482960077041}]
[7022.7674999999999,0.84236478805542003,0.51396074946396486,{"$f":"+B3222/Spectre!B$2701","v":0.80426323017468282}]
[7023.7674999999999,0.85683631896972701,0.52279041445005503,{"$f":"+B3223/Spectre!B$2701","v":0.81808018971970553}]
[7024.7674999999999,0.87324762344360396,0.53280361356126971,{"$f":"+B3224/Spectre!B$2701","v":0.8337491836457338}]
[7025.7674999999999,0.88791847229003895,0.54175489046090453,{"$f":"+B3225/Spectre!B$2701","v":0.84775644564190122}]
[7026.7674999999999,0.88937366008758501,0.54264275925794214,{"$f":"+B3226/Spectre!B$2701","v":0.84914581287942181}]
[7027.7674999999999,0.89034050703048695,0.54323267159335442,{"$f":"+B3227/Spectre!B$2701","v":0.85006892772991061}]
[7028.7674999999999,0.88929724693298295,0.54259613650878991,{"$f":"+B3228/Spectre!B$2701","v":0.84907285601866567}]
[7029.7674999999999,0.88579267263412498,0.54045785430761761,{"$f":"+B3229/Spectre!B$2701","v":0.84572679943373485}]
[7030.7674999999999,0.88239198923110995,0.5383829601343485,{"$f":"+B3230/Spectre!B$2701","v":0.84247993458694548}]
[7031.7674999999999,0.88249874114990201,0.53844809378780489,{"$f":"+B3231/Spectre!B$2701","v":0.84258185793921814}]
[7032.7674999999999,0.88428384065628096,0.53953725503145589,{"$f":"+B3232/Spectre!B$2701","v":0.84428621443125262}]
[7033.7674999999999,0.88647288084030196,0.54087287678291041,{"$f":"+B3233/Spectre!B$2701","v":0.84637624069344619}]
[7034.7674999999999,0.89493566751480103,0.54603636443511872,{"$f":"+B3234/Spectre!B$2701","v":0.85445624147650845}]
[7035.7674999999999,0.904058158397675,0.55160236424615494,{"$f":"+B3235/Spectre!B$2701","v":0.86316610695134199}]
[7036.7674999999999,0.90272969007492099,0.55079181211424788,{"$f":"+B3236/Spectre!B$2701","v":0.86189772745638538}]
[7037.7674999999999,0.888449966907501,0.54207917677462558,{"$f":"+B3237/Spectre!B$2701","v":0.84826389987541362}]
[7038.7674999999999,0.87453770637512196,0.53359074521700323,{"$f":"+B3238/Spectre!B$2701","v":0.83498091398442842}]
[7039.7674999999999,0.87270396947860696,0.53247190833894686,{"$f":"+B3239/Spectre!B$2701","v":0.83323012005216279}]
[7040.7674999999999,0.87569105625152599,0.53429445051816993,{"$f":"+B3240/Spectre!B$2701","v":0.83608209593109972}]
[7041.7674999999999,0.87734675407409701,0.53530465857273368,{"$f":"+B3241/Spectre!B$2701","v":0.83766290379232122}]
[7042.7674999999999,0.86885112524032604,0.53012113259386129,{"$f":"+B3242/Spectre!B$2701","v":0.82955154635537631}]
[7043.7674999999999,0.860060155391693,0.52475740714381169,{"$f":"+B3243/Spectre!B$2701","v":0.82115820666800488}]
[7044.7674999999999,0.85725027322769198,0.52304298464729537,{"$f":"+B3244/Spectre!B$2701","v":0.81847542013932462}]
[7045.7674999999999,0.86194336414337203,0.52590642879706051,{"$f":"+B3245/Spectre!B$2701","v":0.82295623476129087}]
[7046.7674999999999,0.86647862195968595,0.52867357260380243,{"$f":"+B3246/Spectre!B$2701","v":0.82728635533701422}]
[7047.7674999999999,0.86650437116622903,0.52868928323378195,{"$f":"+B3247/Spectre!B$2701","v":0.82731093986419579}]
[7048.7674999999999,0.86513870954513605,0.52785603796968272,{"$f":"+B3248/Spectre!B$2701","v":0.8260070493855336}]
[7049.7674999999999,0.86523675918579102,0.52791586201208129,{"$f":"+B3249/Spectre!B$2701","v":0.82610066407815697}]
[7050.7674999999999,0.87263667583465598,0.532430849771246,{"$f":"+B3250/Spectre!B$2701","v":0.83316587021145039}]
[7051.7674999999999,0.88042795658111594,0.53718462455921967,{"$f":"+B3251/Spectre!B$2701","v":0.84060473839445127}]
[7052.7674999999999,0.88633513450622603,0.54078883218595974,{"$f":"+B3252/Spectre!B$2701","v":0.84624472485475077}]
[7053.7674999999999,0.88966029882430997,0.54281764911806163,{"$f":"+B3253/Spectre!B$2701","v":0.84941948647019927}]
[7054.7674999999999,0.89372640848159801,0.5452985467012651,{"$f":"+B3254/Spectre!B$2701","v":0.85330167923702205}]
[7055.7674999999999,0.88886559009552002,0.54233276525343888,{"$f":"+B3255/Spectre!B$2701","v":0.84866072373660961}]
[7056.7674999999999,0.88209539651870705,0.53820199695199133,{"$f":"+B3256/Spectre!B$2701","v":0.84219675725533583}]
[7057.7674999999999,0.877555072307587,0.53543176193333197,{"$f":"+B3257/Spectre!B$2701","v":0.83786179944625483}]
[7058.7674999999999,0.882152318954468,0.53823672762706209,{"$f":"+B3258/Spectre!B$2701","v":0.84225110499482314}]
[7059.7674999999999,0.88739222288131703,0.54143380446069789,{"$f":"+B3259/Spectre!B$2701","v":0.84725399936762946}]
[7060.7674999999999,0.88978183269500699,0.54289180183687702,{"$f":"+B3260/Spectre!B$2701","v":0.84953552316215086}]
[7061.7674999999999,0.88831031322479204,0.54199396842730585,{"$f":"+B3261/Spectre!B$2701","v":0.84813056296063039}]
[7062.7674999999999,0.88726347684860196,0.54135525131080009,{"$f":"+B3262/Spectre!B$2701","v":0.84713107673172172}]
[7063.7674999999999,0.88181251287460305,0.53802939822541063,{"$f":"+B3263/Spectre!B$2701","v":0.84192666890810586}]
[7064.7674999999999,0.87522423267364502,0.53400962261539275,{"$f":"+B3264/Spectre!B$2701","v":0.83563638755867953}]
[7065.7674999999999,0.87140220403671298,0.53167764871220413,{"$f":"+B3265/Spectre!B$2701","v":0.83198723562243215}]
[7066.7674999999999,0.87837779521942105,{"$f":"+B3266/F$1","v":0.53593373838149705},{"$f":"+B3266/Spectre!B$2701","v":0.83864730923487962}]
[7067.7674999999999,0.88594841957092296,0.54055288179867433,{"$f":"+B3267/Spectre!B$2701","v":0.84587550167800607}]
[7068.7674999999999,0.89096295833587602,0.54361245425279003,{"$f":"+B3268/Spectre!B$2701","v":0.8506632245293464}]
[7069.7674999999999,0.89272892475128196,0.5446899416255534,{"$f":"+B3269/Spectre!B$2701","v":0.85234931335187791}]
[7070.7674999999999,0.89460092782974199,0.54583212624538446,{"$f":"+B3270/Spectre!B$2701","v":0.85413664262314859}]
[7071.7674999999999,0.88378477096557595,0.53923275247400504,{"$f":"+B3271/Spectre!B$2701","v":0.84380971849122732}]
[7072.7674999999999,0.869329333305359,0.53041290663165253,{"$f":"+B3272/Spectre!B$2701","v":0.83000812427569381}]
[7073.7674999999999,0.85701203346252397,0.52289762495278513,{"$f":"+B3273/Spectre!B$2701","v":0.81824795635426728}]
[7074.7674999999999,0.85404717922210704,0.52108864773879948,{"$f":"+B3274/Spectre!B$2701","v":0.81541720739347623}]
[7075.7674999999999,0.85017073154449496,0.51872347058289936,{"$f":"+B3275/Spectre!B$2701","v":0.81171609788010668}]
[7076.7674999999999,0.85796988010406505,0.52348204584114455,{"$f":"+B3276/Spectre!B$2701","v":0.81916247800196829}]
[7077.7674999999999,0.87621843814849898,0.53461622749515836,{"$f":"+B3277/Spectre!B$2701","v":0.83658562346929888}]
[7078.7674999999999,0.89351326227188099,0.54516849759754549,{"$f":"+B3278/Spectre!B$2701","v":0.8530981739842417}]
[7079.7674999999999,0.89567059278488204,0.54648477199911816,{"$f":"+B3279/Spectre!B$2701","v":0.85515792485648079}]
[7080.7674999999999,0.893083095550537,0.54490603552216987,{"$f":"+B3280/Spectre!B$2701","v":0.85268746441787857}]
[7081.7674999999999,0.88960736989974998,0.54278535504532621,{"$f":"+B3281/Spectre!B$2701","v":0.84936895160877113}]
[7082.7674999999999,0.87966340780258201,0.53671814249730432,{"$f":"+B3282/Spectre!B$2701","v":0.83987477142649514}]
[7083.7674999999999,0.86959385871887196,0.53057430426093288,{"$f":"+B3283/Spectre!B$2701","v":0.83026068476558124}]
[7084.7674999999999,0.86551356315612804,0.52808475128436139,{"$f":"+B3284/Spectre!B$2701","v":0.82636494774535818}]
[7085.7674999999999,0.86679005622863803,0.52886359121871729,{"$f":"+B3285/Spectre!B$2701","v":0.82758370291692995}]
[7086.7674999999999,0.86807423830032304,0.52964712252174695,{"$f":"+B3286/Spectre!B$2701","v":0.82880979930147858}]
[7087.7674999999999,0.87348842620849598,0.53295053704533724,{"$f":"+B3287/Spectre!B$2701","v":0.83397909450178243}]
[7088.7674999999999,0.87996309995651201,0.53690099677401015,{"$f":"+B3288/Spectre!B$2701","v":0.84016090800674581}]
[7089.7674999999999,0.88454067707061801,0.53969396129206193,{"$f":"+B3289/Spectre!B$2701","v":0.84453143370816242}]
[7090.7674999999999,0.88036817312240601,0.5371481482585958,{"$f":"+B3290/Spectre!B$2701","v":0.84054765904083284}]
[7091.7674999999999,0.87630432844161998,0.5346686326289557,{"$f":"+B3291/Spectre!B$2701","v":0.83666762880186452}]
[7092.7674999999999,0.87460583448410001,0.53363231292549063,{"$f":"+B3292/Spectre!B$2701","v":0.83504596054592917}]
[7093.7674999999999,0.87517124414444003,0.53397729217545831,{"$f":"+B3293/Spectre!B$2701","v":0.83558579578862346}]
[7094.7674999999999,0.87565422058105502,0.53427197558917161,{"$f":"+B3294/Spectre!B$2701","v":0.83604692639915978}]
[7095.7674999999999,0.87369275093078602,0.53307520380360074,{"$f":"+B3295/Spectre!B$2701","v":0.83417417727765786}]
[7096.7674999999999,0.871204853057861,0.53155723691622625,{"$f":"+B3296/Spectre!B$2701","v":0.83179881115600107}]
[7097.7674999999999,0.87160724401473999,0.53180275187685577,{"$f":"+B3297/Spectre!B$2701","v":0.83218300130183998}]
[7098.7674999999999,0.88138800859451305,0.53777039103394264,{"$f":"+B3298/Spectre!B$2701","v":0.84152136566137792}]
[7099.7674999999999,0.89169692993164096,0.54406027994160522,{"$f":"+B3299/Spectre!B$2701","v":0.85136399737127522}]
[7100.7674999999999,0.89034295082092296,0.54323416264851465,{"$f":"+B3300/Spectre!B$2701","v":0.85007126098364805}]
[7101.7674999999999,0.87728965282440197,0.53526981879606594,{"$f":"+B3301/Spectre!B$2701","v":0.83760838532695092}]
[7102.7674999999999,0.86458939313888605,0.5275208778634527,{"$f":"+B3302/Spectre!B$2701","v":0.82548257947232828}]
[7103.7674999999999,0.86223971843719505,0.52608724651062111,{"$f":"+B3303/Spectre!B$2701","v":0.82323918445838884}]
[7104.7674999999999,0.86117857694625899,0.52543980126634893,{"$f":"+B3304/Spectre!B$2701","v":0.82222604015882383}]
[7105.7674999999999,0.86118346452713002,0.52544278337666883,{"$f":"+B3305/Spectre!B$2701","v":0.82223070666629761}]
[7106.7674999999999,0.86378180980682395,0.5270281386838398,{"$f":"+B3306/Spectre!B$2701","v":0.82471152447514728}]
[7107.7674999999999,0.86650437116622903,0.52868928323378195,{"$f":"+B3307/Spectre!B$2701","v":0.82731093986419579}]
[7108.7674999999999,0.86779075860977195,0.52947416012317639,{"$f":"+B3308/Spectre!B$2701","v":0.82853914186797184}]
[7109.7674999999999,0.86767959594726596,0.52940633529699166,{"$f":"+B3309/Spectre!B$2701","v":0.82843300727724623}]
[7110.7674999999999,0.86767983436584495,0.52940648076578778,{"$f":"+B3310/Spectre!B$2701","v":0.82843323491175702}]
[7111.7674999999999,0.86954772472381603,0.53054615604888633,{"$f":"+B3311/Spectre!B$2701","v":0.83021663748771457}]
[7112.7674999999999,0.87183386087417603,0.53194101996755527,{"$f":"+B3312/Spectre!B$2701","v":0.83239936790448821}]
[7113.7674999999999,0.87197577953338601,0.5320276102684377,{"$f":"+B3313/Spectre!B$2701","v":0.8325348673471249}]
[7114.7674999999999,0.86517572402954102,0.52787862200027802,{"$f":"+B3314/Spectre!B$2701","v":0.82604238964335641}]
[7115.7674999999999,0.85777825117111195,0.52336512529627355,{"$f":"+B3315/Spectre!B$2701","v":0.81897951676380032}]
[7116.7674999999999,0.85771375894546498,0.52332577598692664,{"$f":"+B3316/Spectre!B$2701","v":0.81891794162859111}]
[7117.7674999999999,0.86361277103424094,0.52692500130740005,{"$f":"+B3317/Spectre!B$2701","v":0.82455013160689095}]
[7118.7674999999999,0.86917030811309803,0.53031587894464916,{"$f":"+B3318/Spectre!B$2701","v":0.8298562920568967}]
[7119.7674999999999,0.87415683269500699,0.53335835881522253,{"$f":"+B3319/Spectre!B$2701","v":0.83461726785320189}]
[7120.7674999999999,0.87899202108383201,0.53630850236746752,{"$f":"+B3320/Spectre!B$2701","v":0.83923375264368871}]
[7121.7674999999999,0.88163548707962003,0.5379213876443012,{"$f":"+B3321/Spectre!B$2701","v":0.84175765028373295}]
[7122.7674999999999,0.87541222572326705,0.53412432476112326,{"$f":"+B3322/Spectre!B$2701","v":0.83581587737055596}]
[7123.7674999999999,0.86903470754623402,0.53023314356686335,{"$f":"+B3323/Spectre!B$2701","v":0.82972682492879979}]
[7124.7674999999999,0.86899501085281405,0.53020892301231193,{"$f":"+B3324/Spectre!B$2701","v":0.82968892378272874}]
[7125.7674999999999,0.87368005514144897,0.53306745759020813,{"$f":"+B3325/Spectre!B$2701","v":0.83416205573995039}]
[7126.7674999999999,0.87793016433715798,0.53566062071680665,{"$f":"+B3326/Spectre!B$2701","v":0.83821992544059032}]
[7127.7674999999999,0.87713718414306596,0.53517679150095532,{"$f":"+B3327/Spectre!B$2701","v":0.83746281305720438}]
[7128.7674999999999,0.87528121471404996,0.5340443896576621,{"$f":"+B3328/Spectre!B$2701","v":0.83569079220679388}]
[7129.7674999999999,0.87655985355377197,0.53482453881118308,{"$f":"+B3329/Spectre!B$2701","v":0.83691159608896415}]
[7130.7674999999999,0.892927765846252,{"$f":"+B3330/F$1","v":0.54481126260150603},{"$f":"+B3330/Spectre!B$2701","v":0.85253916053400103}]
[7131.7674999999999,0.90921628475189198,0.55474954528272602,{"$f":"+B3331/Spectre!B$2701","v":0.86809092268689569}]
[7132.7674999999999,0.90801805257797197,0.55401845548069206,{"$f":"+B3332/Spectre!B$2701","v":0.86694688854353974}]
[7133.7674999999999,0.89293712377548196,0.54481697225175341,{"$f":"+B3333/Spectre!B$2701","v":0.85254809518855557}]
[7134.7674999999999,0.87845069169998202,0.53597821546590718,{"$f":"+B3334/Spectre!B$2701","v":0.83871690848660008}]
[7135.7674999999999,0.86727917194366499,0.52916202045393046,{"$f":"+B3335/Spectre!B$2701","v":0.82805069511612295}]
[7136.7674999999999,0.85664862394332897,0.52267589414031967,{"$f":"+B3336/Spectre!B$2701","v":0.81790098445096782}]
[7137.7674999999999,0.85045754909515403,0.51889846954461583,{"$f":"+B3337/Spectre!B$2701","v":0.81198994219676712}]
[7138.7674999999999,0.85808134078979503,0.52355005250332443,{"$f":"+B3338/Spectre!B$2701","v":0.81926889713583262}]
[7139.7674999999999,0.86588382720947299,0.52831066432471541,{"$f":"+B3339/Spectre!B$2701","v":0.82671846414084782}]
[7140.7674999999999,0.86566489934921298,0.52817708760269033,{"$f":"+B3340/Spectre!B$2701","v":0.82650943875117744}]
[7141.7674999999999,0.85825800895690896,0.52365784488123934,{"$f":"+B3341/Spectre!B$2701","v":0.81943757430843867}]
[7142.7674999999999,0.85133916139602706,0.51943637678541976,{"$f":"+B3342/Spectre!B$2701","v":0.81283167770959486}]
[7143.7674999999999,0.84266537427902199,0.51414414924865637,{"$f":"+B3343/Spectre!B$2701","v":0.80455022038434987}]
[7144.7674999999999,0.83366370201110795,0.50865186575004728,{"$f":"+B3344/Spectre!B$2701","v":0.7959557086979353}]
[7145.7674999999999,0.82747364044189498,0.50487505939672728,{"$f":"+B3345/Spectre!B$2701","v":0.79004563389040683}]
[7146.7674999999999,0.82882851362228405,0.50570172219780296,{"$f":"+B3346/Spectre!B$2701","v":0.79133922390744948}]
[7147.7674999999999,0.83034574985504195,0.50662744924902769,{"$f":"+B3347/Spectre!B$2701","v":0.79278783302644285}]
[7148.7674999999999,0.83252024650573697,0.50795419740391923,{"$f":"+B3348/Spectre!B$2701","v":0.79486397358346828}]
[7149.7674999999999,0.83524459600448597,0.50961643296983261,{"$f":"+B3349/Spectre!B$2701","v":0.79746509623134954}]
[7150.7674999999999,0.83793395757675204,0.51125732098991739,{"$f":"+B3350/Spectre!B$2701","v":0.80003281351475064}]
[7151.7674999999999,0.83956921100616499,0.51225505509521496,{"$f":"+B3351/Spectre!B$2701","v":0.8015941017166589}]
[7152.7674999999999,0.84111797809600797,0.51320002039472412,{"$f":"+B3352/Spectre!B$2701","v":0.80307281549972287}]
[7153.7674999999999,0.84086942672729503,0.51304836917478314,{"$f":"+B3353/Spectre!B$2701","v":0.80283550652206859}]
[7154.7674999999999,0.83568888902664196,0.50988751407137767,{"$f":"+B3354/Spectre!B$2701","v":0.79788929314248602}]
[7155.7674999999999,0.83110511302947998,0.50709076736462755,{"$f":"+B3355/Spectre!B$2701","v":0.7935128489437856}]
[7156.7674999999999,0.81655794382095304,0.49821495240297259,{"$f":"+B3356/Spectre!B$2701","v":0.77962367235016727}]
[7157.7674999999999,0.79409486055374101,0.48450931884017912,{"$f":"+B3357/Spectre!B$2701","v":0.75817663163295457}]
[7158.7674999999999,0.77245014905929599,0.4713030069200228,{"$f":"+B3358/Spectre!B$2701","v":0.73751094637454362}]
[7159.7674999999999,0.75863021612167403,0.46287090815369281,{"$f":"+B3359/Spectre!B$2701","v":0.72431611194791978}]
[7160.7674999999999,0.746468245983124,0.45545039939548926,{"$f":"+B3360/Spectre!B$2701","v":0.71270424791037079}]
[7161.7674999999999,0.73204308748245195,0.44664902809024176,{"$f":"+B3361/Spectre!B$2701","v":0.69893156327772565}]
[7162.7674999999999,0.70968520641326904,0.43300758263373074,{"$f":"+B3362/Spectre!B$2701","v":0.67758496628846565}]
[7163.7674999999999,0.68709576129913297,0.41922485060900061,{"$f":"+B3363/Spectre!B$2701","v":0.65601727928045472}]
[7164.7674999999999,0.66991716623306297,0.40874349654471553,{"$f":"+B3364/Spectre!B$2701","v":0.63961570058959505}]
[7165.7674999999999,0.65670597553253196,0.40068281598204514,{"$f":"+B3365/Spectre!B$2701","v":0.6270020739780281}]
[7166.7674999999999,0.64369010925293002,0.39274131073058532,{"$f":"+B3366/Spectre!B$2701","v":0.61457493693954868}]
[7167.7674999999999,0.63560748100280795,0.38780977307376907,{"$f":"+B3367/Spectre!B$2701","v":0.60685789938417944}]
[7168.7674999999999,0.62889742851257302,0.38371569927613924,{"$f":"+B3368/Spectre!B$2701","v":0.60045135370828995}]
[7169.7674999999999,0.62519848346710205,0.38145882363894057,{"$f":"+B3369/Spectre!B$2701","v":0.59691971808831501}]
[7170.7674999999999,0.63560593128204301,0.3878088275265939,{"$f":"+B3370/Spectre!B$2701","v":0.60685641975985749}]
[7171.7674999999999,0.64539897441864003,0.39378395832668045,{"$f":"+B3371/Spectre!B$2701","v":0.61620650729670901}]
[7172.7674999999999,0.65061634778976396,0.39696728835908413,{"$f":"+B3372/Spectre!B$2701","v":0.62118789020823151}]
[7173.7674999999999,0.65218120813369795,0.39792207280233161,{"$f":"+B3373/Spectre!B$2701","v":0.62268196932078557}]
[7174.7674999999999,0.65358984470367398,0.39878153881692907,{"$f":"+B3374/Spectre!B$2701","v":0.62402689092004471}]
[7175.7674999999999,0.64792293310165405,0.39532392736946603,{"$f":"+B3375/Spectre!B$2701","v":0.61861630313814531}]
[7176.7674999999999,0.64079082012176503,0.39097233743552845,{"$f":"+B3376/Spectre!B$2701","v":0.61180678746926509}]
[7177.7674999999999,0.63158828020095803,0.38535749647619949,{"$f":"+B3377/Spectre!B$2701","v":0.60302049370738386}]
[7178.7674999999999,0.61553883552551303,0.37556508263027616,{"$f":"+B3378/Spectre!B$2701","v":0.58769699206033499}]
[7179.7674999999999,0.599226593971252,0.36561232580384334,{"$f":"+B3379/Spectre!B$2701","v":0.57212258027360141}]
[7180.7674999999999,0.59266543388366699,0.36160909726938284,{"$f":"+B3380/Spectre!B$2701","v":0.56585819234979473}]
[7181.7674999999999,0.59481209516525302,0.36291886194232953,{"$f":"+B3381/Spectre!B$2701","v":0.56790775657766901}]
[7182.7674999999999,0.59654319286346402,0.36397507450366151,{"$f":"+B3382/Spectre!B$2701","v":0.56956055385297433}]
[7183.7674999999999,0.59575760364532504,0.36349575482049001,{"$f":"+B3383/Spectre!B$2701","v":0.56881049813942841}]
[7184.7674999999999,0.59465831518173196,0.3628250345688403,{"$f":"+B3384/Spectre!B$2701","v":0.56776093231811231}]
[7185.7674999999999,0.59392029047012296,0.36237473591049169,{"$f":"+B3385/Spectre!B$2701","v":0.56705628968949817}]
[7186.7674999999999,0.59431403875350997,0.36261497762726252,{"$f":"+B3386/Spectre!B$2701","v":0.56743222808431593}]
[7187.7674999999999,0.59456968307495095,0.36277095654388763,{"$f":"+B3387/Spectre!B$2701","v":0.56767630918867051}]
[7188.7674999999999,0.60213541984558105,0.36738711785074452,{"$f":"+B3388/Spectre!B$2701","v":0.57489983512432252}]
[7189.7674999999999,0.61637926101684604,0.37607786013655259,{"$f":"+B3389/Spectre!B$2701","v":0.58849940371139764}]
[7190.7674999999999,0.63054722547531095,0.38472230697799914,{"$f":"+B3390/Spectre!B$2701","v":0.60202652761536524}]
[7191.7674999999999,0.61832004785537698,0.37726201250406055,{"$f":"+B3391/Spectre!B$2701","v":0.59035240553907464}]
[7192.7674999999999,0.60168921947479204,0.36711487299883039,{"$f":"+B3392/Spectre!B$2701","v":0.57447381713709833}]
[7193.7674999999999,0.59213137626647905,0.36128324716610333,{"$f":"+B3393/Spectre!B$2701","v":0.56534829104528928}]
[7194.7674999999999,0.60451096296310403,{"$f":"+B3394/F$1","v":0.3688365325679534},{"$f":"+B3394/Spectre!B$2701","v":0.57716792848269849}]
[7195.7674999999999,0.61734122037887595,0.37666479036164441,{"$f":"+B3395/Spectre!B$2701","v":0.58941785205441177}]
[7196.7674999999999,0.62929695844650302,0.38395946861121555,{"$f":"+B3396/Spectre!B$2701","v":0.60083281223999774}]
[7197.7674999999999,0.64028620719909701,0.3906644527285687,{"$f":"+B3397/Spectre!B$2701","v":0.61132499902686144}]
[7198.7674999999999,0.65148401260375999,0.39749668567531621,{"$f":"+B3398/Spectre!B$2701","v":0.62201630910216965}]
[7199.7674999999999,0.66695898771286,0.40693859245702035,{"$f":"+B3399/Spectre!B$2701","v":0.63679132539510941}]
[7200.7674999999999,0.68347603082656905,0.41701630697930875,{"$f":"+B3400/Spectre!B$2701","v":0.65256127522674012}]
[7201.7674999999999,0.70225363969802901,0.42847328389188338,{"$f":"+B3401/Spectre!B$2701","v":0.67048954167384567}]
[7202.7674999999999,0.730113744735718]
[7203.7674999999999,0.75902956724166903]
[7204.7674999999999,0.77249825000762895]
[7205.7674999999999,0.77354472875595104]
[7206.7674999999999,0.77514612674713101]
[7207.7674999999999,0.78024393320083596]
[7208.7674999999999,0.78622812032699596]
[7209.7674999999999,0.79128593206405595]
[7210.7674999999999,0.79113668203353904]
[7211.7674999999999,0.79085171222686801]
[7212.7674999999999,0.797768354415894]
[7213.7674999999999,0.81097114086151101]
[7214.7674999999999,0.823752701282501]
[7215.7674999999999,0.82566535472869895]
[7216.7674999999999,0.82487732172012296]
[7217.7674999999999,0.82021099328994795]
[7218.7674999999999,0.80010378360748302]
[7219.7674999999999,0.779466032981873]
[7220.7674999999999,0.77216041088104204]
[7221.7674999999999,0.77855122089385997]
[7222.7674999999999,0.78519624471664395]
[7223.7674999999999,0.77228045463562001]
[7224.7674999999999,0.75643348693847701]
[7225.7674999999999,0.73761343955993697]
[7226.7674999999999,0.70992803573608398]
[7227.7674999999999,0.68138504028320301]
[7228.7674999999999,0.66925281286239602]
[7229.7674999999999,0.67630803585052501]
[7230.7674999999999,0.68211591243743896]
[7231.7674999999999,0.68054920434951804]
[7232.7674999999999,0.67740762233734098]
[7233.7674999999999,0.67460256814956698]
[7234.7674999999999,0.67324757575988803]
[7235.7674999999999,0.67203706502914395]
[7236.7674999999999,0.66928476095199596]
[7237.7674999999999,0.66495198011398304]
[7238.7674999999999,0.66088503599166903]
[7239.7674999999999,0.66696709394455]
[7240.7674999999999,0.67611062526702903]
[7241.7674999999999,0.68241643905639604]
[7242.7674999999999,0.67301774024963401]
[7243.7674999999999,0.66347324848175004]
[7244.7674999999999,0.65775841474533103]
[7245.7674999999999,0.65624612569809004]
[7246.7674999999999,0.65494561195373502]
[7247.7674999999999,0.66519522666931197]
[7248.7674999999999,0.67955380678176902]
[7249.7674999999999,0.69342458248138406]
[7250.7674999999999,0.70442491769790605]
[7251.7674999999999,0.71596509218215898]
[7252.7674999999999,0.72028803825378396]
[7253.7674999999999,0.716452836990356]
[7254.7674999999999,0.71287846565246604]
[7255.7674999999999,0.70906221866607699]
[7256.7674999999999,0.70520931482315097]
[7257.7674999999999,0.70258003473281905]
[7258.7674999999999,0.70632880926132202]
[7259.7674999999999,0.71036380529403698]
[7260.7674999999999,0.71470963954925504]
[7261.7674999999999,0.719479739665985]
[7262.7674999999999,0.72403800487518299]
[7263.7674999999999,0.73165571689605702]
[7264.7674999999999,0.74020534753799405]
[7265.7674999999999,0.74094575643539395]
[7266.7674999999999,0.70532333850860596]
[7267.7674999999999,0.66632890701293901]
[7268.7674999999999,0.64040231704711903]
[7269.7674999999999,0.63622015714645397]
[7270.7674999999999,0.62984275817871105]
[7271.7674999999999,0.63879650831222501]
[7272.7674999999999,0.65318888425827004]
[7273.7674999999999,0.670387923717499]
[7274.7674999999999,0.70548057556152299]
[7275.7674999999999,0.74243217706680298]
[7276.7674999999999,0.76668339967727706]
[7277.7674999999999,0.77174562215805098]
[7278.7674999999999,0.77773869037628196]
[7279.7674999999999,0.76925784349441495]
[7280.7674999999999,0.75399380922317505]
[7281.7674999999999,0.73914456367492698]
[7282.7674999999999,0.725788533687592]
[7283.7674999999999,0.71243381500244096]
[7284.7674999999999,0.69862401485443104]
[7285.7674999999999,0.68416744470596302]
[7286.7674999999999,0.66957288980483998]
[7287.7674999999999,0.67430633306503296]
[7288.7674999999999,0.68896263837814298]
[7289.7674999999999,0.70352554321289096]
[7290.7674999999999,0.72374469041824296]
[7291.7674999999999,0.74474519491195701]
[7292.7674999999999,0.75559872388839699]
[7293.7674999999999,0.74885243177413896]
[7294.7674999999999,0.74320250749588002]
[7295.7674999999999,0.72898191213607799]
[7296.7674999999999,0.71135151386260997]
[7297.7674999999999,0.69747233390808105]
[7298.7674999999999,0.71226131916046098]
[7299.7674999999999,0.73083043098449696]
[7300.7674999999999,0.73948723077774003]
[7301.7674999999999,0.72560095787048295]
[7302.7674999999999,0.71146690845489502]
[7303.7674999999999,0.72171264886856101]
[7304.7674999999999,0.74330401420593295]
[7305.7674999999999,0.761233270168304]
[7306.7674999999999,0.74937969446182295]
[7307.7674999999999,0.73310327529907204]
[7308.7674999999999,0.72324514389038097]
[7309.7674999999999,0.73075562715530396]
[7310.7674999999999,0.736896932125092]
[7311.7674999999999,0.74598753452301003]
[7312.7674999999999,0.75699359178543102]
[7313.7674999999999,0.768562912940979]
[7314.7674999999999,0.795021772384644]
[7315.7674999999999,0.82347482442855802]
[7316.7674999999999,0.84128743410110496]
[7317.7674999999999,0.835529744625092]
[7318.7674999999999,0.82987481355667103]
[7319.7674999999999,0.82229107618331898]
[7320.7674999999999,0.813493311405182]
[7321.7674999999999,0.80466073751449596]
[7322.7674999999999,0.80706822872161899]
[7323.7674999999999,0.81060826778411899]
[7324.7674999999999,0.80964618921279896]
[7325.7674999999999,0.79746949672698997]
[7326.7674999999999,0.78425067663192705]
[7327.7674999999999,0.79089593887329102]
[7328.7674999999999,0.81288176774978604]
[7329.7674999999999,0.83352184295654297]
[7330.7674999999999,0.84557330608367898]
[7331.7674999999999,0.85707437992095903]
[7332.7674999999999,0.87290167808532704]
[7333.7674999999999,0.866496562957764]
[7334.7674999999999,0.53843319416046098]
[7335.7674999999999,-0.28462165594101002]
[7336.7674999999999,-0.23483727872371701]
[7337.7674999999999,-0.23104600608348799]
[7338.7674999999999,-0.231314867734909]
[7339.7674999999999,-0.231389909982681]
[7340.7674999999999,-0.23139443993568401]
[7341.7674999999999,-0.23139388859272]
[7342.7674999999999,-0.23139376938343001]

{"sheet":"Abaque","index":6,"n_rows":16,"n_cols":12,"rows_kept":16,"cut":false,"hidden":false,"merged":[]}
[null,null,"AOD = 0.13"]
[null,null,0.01,0.02,0.03,0.05,null,null,0.01,0.02,0.03,0.05]
[null,90,76.5,71,67.3,61.5,null,90,{"$f":"+$B3-C3","v":13.5},{"$f":"+$B3-D3","v":19},22.700000000000003,28.5]
[null,80,73.5,69,65.5,60,null,80,{"$f":"+$B4-C4","v":6.5},{"$f":"+$B4-D4","v":11},{"$f":"+$B4-E4","v":14.5},{"$f":"+$B4-F4","v":20}]
[null,70,66.2,63.2,60.5,56.2,null,70,3.7999999999999972,6.7999999999999972,9.5,13.799999999999997]
[null,60,57.6,55.6,53.9,50.6,null,60,2.3999999999999986,4.3999999999999986,6.1000000000000014,9.3999999999999986]
[null,55,53.1,51.5,50,47.4,null,55,1.8999999999999986,3.5,5,7.6000000000000014]
[null,50,48.6,47.3,46,43.8,null,50,1.3999999999999986,2.7000000000000028,4,6.2000000000000028]
[null,45,43.9,42.8,41.9,40.1,null,45,1.1000000000000014,2.2000000000000028,3.1000000000000014,4.8999999999999986]
[null,40,39.15,38.299999999999997,37.6,36.15,null,40,0.85000000000000142,1.7000000000000028,2.3999999999999986,3.8500000000000014]
[null,35,34.35,33.75,33.200000000000003,32.1,null,35,0.64999999999999858,1.25,1.7999999999999972,2.8999999999999986]
[null,30,29.55,29.1,28.68,27.87,null,30,0.44999999999999929,0.89999999999999858,1.3200000000000003,2.129999999999999]
[null,25,null,24.38,24.08,23.52,null,25,null,0.62000000000000099,0.92000000000000171,1.4800000000000004]
[null,20,null,19.600000000000001,19.420000000000002,19.05,null,20,null,0.39999999999999858,0.57999999999999829,0.94999999999999929]
[null,15,null,null,null,14.45,null,15,null,null,null,0.55000000000000071]
[null,10,null,null,null,9.84,null,10]